{"text_format":"1","workbook":"xlsx","n_sheets":33,"sheets":["INTRODUCTION","INSTRUCTIONS","ELECTRONICS PRODUCTS","ELECTRONICS PHASE 1","ELECTRONICS PHASE 2","ELECTRONICS PHASE 3","ELECTRONICS PHASE 4","ELECTRONICS PHASE 5","ELECTRONICS RESULT","GARMENT&TEXTILE PRODUCTS","GARMENT&TEXTILE PHASE 1","GARMENT&TEXTILE PHASE 2","GARMENT&TEXTILE PHASE 3","GARMENT&TEXTILE PHASE 4","GARMENT&TEXTILE PHASE 5","GARMENT&TEXTILE RESULT","TÍNH TOÁN PHÂN ĐẠM","IRON & STEEL PRODUCTS","IRON & STEEL PHASE 1","IRON & STEEL PHASE 2","IRON & STEEL PHASE 3","IRON & STEEL PHASE 4","IRON & STEEL PHASE 5","IRON & STEEL RESULT","SOLAR PV PRODUCTS","SOLAR PV PHASE 1","SOLAR PV PHASE 2","SOLAR PV PHASE 3","SOLAR PV PHASE 4","SOLAR PV PHASE 5","SOLAR PV RESULT","EF","unit conversion"],"not_rendered":{"charts":16,"images":4,"macros":1,"external_links":0,"defined_names":238,"comments":8,"pivot_tables":0},"unopened":[],"bounds":{"document_bytes":16777216,"sheet_cells":100000,"rows_first":2000,"rows_last":500,"rows_between":2000,"halvings":0,"cell_chars":16384,"cell_head_chars":4096},"cells_cut":0,"cells_raw":0,"read":"whole","date_system":"1900"}

{"sheet":"INTRODUCTION","index":0,"n_rows":46,"n_cols":11,"rows_kept":46,"cut":false,"hidden":false,"merged":[[45,0,45,15],[40,0,40,3],[0,0,1,15],[3,0,4,15],[33,0,33,3],[34,0,34,3],[32,0,32,3],[35,0,35,3],[36,0,36,3],[38,0,38,3],[39,0,39,3],[37,0,37,3]]}
["PRODUCT CARBON FOOTPRINT PROCESS"]
[]
[]
["GENERAL INTRODUCTION"]
[]
[]
["INTRODUCTION"]
[]
[]
[]
[null,null,{"$f":"IF(AND(A11<>\"\",B11<>\"\"),VLOOKUP(A11&B11,'unit conversion'!$A$2:$F$267,5,0)*VLOOKUP(A11&B11,'unit conversion'!$A$2:$F$267,6,0),\"\")","v":""}]
[]
[]
[null,null,null,null,null,null,null,null,null,null,{"$f":"IF(A13<>\"\",K13*C13*(D13+E13*EF!$M$4+F13*EF!$M$5)/1000,\"\")","v":""}]
[]
[]
[]
[]
[]
[]
[]
[]
["FUNCTIONALITY"]
[]
[]
[]
[]
[]
[]
[]
[]
[]
["GHG emission sources",null,null,null,"GHGs"]
["Stationary fossil fuel combustion",null,null,null,"CO2, CH4, N2O"]
["Mobile fossil fuel combustion",null,null,null,"CO2, CH4, N2O"]
["Industrial production process",null,null,null,"CO2, CH4, N2O"]
["Leaking refrigerant",null,null,null,"HFCs, HCFCs"]
["Wastewater treatment",null,null,null,"CH4"]
["Electricity purchased from the grid",null,null,null,"CO2"]
["Purchased heat, cooling, and steam",null,null,null,"CO2, CH4, N2O"]
["Other",null,null,null,"CO2, CH4, N2O"]
["*GHG: Green house gas"]
[]
[]
[]
["The life cycle of a product comprises the following stages for carbon footprint calculation:\n\nProduction and transportation of raw materials: This stage involves extracting and processing natural resources such as iron ore, crude oil, wood, and other resources to produce components of the product.\nProduct manufacturing: In this stage, materials from the extraction stage are transported to manufacturing plants to be processed into the final product through manufacturing and processing processes.\nDistribution and retail: The product is transported from manufacturing plants to retail outlets or distribution centers using various modes of transportation such as trucks, trains, ships, or airplanes.\nProduct use: This stage involves the product being used by consumers, including energy consumption to operate the product (e.g., using electricity to power electronic devices).\nProcessing and recycling: When the product is no longer usable, it can be recycled or disposed of to minimize waste and resource consumption."]

{"sheet":"INSTRUCTIONS","index":1,"n_rows":29,"n_cols":1,"rows_kept":29,"cut":false,"hidden":true,"merged":[[0,0,1,15],[3,0,4,15],[8,0,19,15]]}
["PRODUCT CARBON FOOTPRINT PROCESS"]
[]
[]
["INSTRUCTIONS"]
[]
[]
["STRUCTURE"]
[]
["The structure of the tool includes 9 main worksheets"]
[]
[]
[]
[]
[]
[]
[]
[]
[]
[]
[]
[]
[]
[]
[]
[]
[]
[]
[]
["STEPS TO USING THE TOOL"]

{"sheet":"ELECTRONICS PRODUCTS","index":2,"n_rows":62,"n_cols":15,"rows_kept":62,"cut":false,"hidden":true,"merged":[[61,0,61,1],[55,0,55,3],[55,4,55,7],[60,0,60,1],[27,0,28,0],[27,1,28,1],[27,2,27,13],[57,0,57,1],[27,14,28,14],[44,0,45,0],[44,1,44,12],[12,2,12,14],[14,2,14,14],[17,0,17,2],[19,0,19,5],[21,0,21,3],[21,4,21,8],[22,0,25,14],[10,2,10,14],[1,0,1,15],[3,0,3,2],[4,2,4,14],[6,2,6,14],[8,2,8,14]]}
[]
["PRODUCT DATA FOR ELECTRONICS MANUFACTURING"]
[]
["A. COMPANY INFORMATION"]
[null,"Company name:"]
[]
[null,"Sector:"]
[]
[null,"Address:"]
[]
[null,"Phone number:"]
[]
[null,"Email:"]
[]
[null,"Year:",2022]
[]
[]
["B. PRODUCT DATA"]
[]
["Company products"]
[]
["Choose a allocation co-products method"]
["Economic allocation: Inputs and emissions are allocated to the product and co-product(s) based on the market value of each when they exit the common process\n\nPhysical allocation: Inputs and emissions are allocated to the product and by-product(s) based on quantity/volume of products\n\nOther relationships: Inputs and emissions are allocated to products and by-product(s) based on established relationships and detailed calculations according to parameters. The enterprise's production inputs have been identified rather than its physical or economic relationships. Therefore, users can manually fill in the emission allocation rate of this product type."]
[]
[]
[]
[]
["Product","Unit","Output/Revenue of products",null,null,null,null,null,null,null,null,null,null,null,"Total"]
[null,null,"Jan","Feb","March","April","May","June","July","Aug","Sep","Oct","Nov","Dec"]
[null,{"$f":"IF(AND($E$22=\"Economic allocation\",A30<>\"\"),\"Million VND\",\"\")","v":""},null,null,null,null,null,null,null,null,null,null,null,null,{"$f":"SUM(C30:N30)","v":0}]
[null,"",null,null,null,null,null,null,null,null,null,null,null,null,0]
[null,"",null,null,null,null,null,null,null,null,null,null,null,null,0]
[null,"",null,null,null,null,null,null,null,null,null,null,null,null,0]
[null,"",null,null,null,null,null,null,null,null,null,null,null,null,{"$f":"SUM(C34:N34)","v":0}]
[null,"",null,null,null,null,null,null,null,null,null,null,null,null,{"$f":"SUM(C35:N35)","v":0}]
[null,"",null,null,null,null,null,null,null,null,null,null,null,null,0]
["Total","",{"$f":"SUM(C30:C36)","v":0},0,0,0,0,0,0,0,0,0,0,0,{"$f":"SUM(C37:N37)","v":0}]
["Total","",1,1,1,1,1,1,1,1,1,1,1,1,1]
[]
[]
[]
[]
[]
[]
["Product","Rate"]
[null,"Jan","Feb","March","April","May","June","July","Aug","Sep","Oct","Nov","Dec"]
[{"$f":"IF(A30<>\"\",A30,\"\")","v":""},{"$f":"IF(AND($C$37<>0,$C$38=1),C30/$C$37,0)","v":0},{"$f":"IF(AND($D$37<>0,$D$38=1),D30/$D$37,0)","v":0},{"$f":"IF(AND($E$37<>0,$E$38=1),E30/$E$37,0)","v":0},{"$f":"IF(AND($F$37<>0,$F$38=1),F30/$F$37,0)","v":0},{"$f":"IF(AND($G$37<>0,$G$38=1),G30/$G$37,0)","v":0},{"$f":"IF(AND($H$37<>0,$H$38=1),H30/$H$37,0)","v":0},{"$f":"IF(AND($I$37<>0,$I$38=1),I30/$I$37,0)","v":0},{"$f":"IF(AND($J$37<>0,$J$38=1),J30/$J$37,0)","v":0},{"$f":"IF(AND($K$37<>0,$K$38=1),K30/$K$37,0)","v":0},{"$f":"IF(AND($L$37<>0,$L$38=1),L30/$L$37,0)","v":0},{"$f":"IF(AND($M$37<>0,$M$38=1),M30/$M$37,0)","v":0},{"$f":"IF(AND($N$37<>0,$N$38=1),N30/$N$37,0)","v":0}]
[{"$f":"IF(A31<>\"\",A31,\"\")","v":""},0,{"$f":"IF(AND($D$37<>0,$D$38=1),D31/$D$37,0)","v":0},{"$f":"IF(AND($E$37<>0,$E$38=1),E31/$E$37,0)","v":0},{"$f":"IF(AND($F$37<>0,$F$38=1),F31/$F$37,0)","v":0},{"$f":"IF(AND($G$37<>0,$G$38=1),G31/$G$37,0)","v":0},{"$f":"IF(AND($H$37<>0,$H$38=1),H31/$H$37,0)","v":0},{"$f":"IF(AND($I$37<>0,$I$38=1),I31/$I$37,0)","v":0},{"$f":"IF(AND($J$37<>0,$J$38=1),J31/$J$37,0)","v":0},{"$f":"IF(AND($K$37<>0,$K$38=1),K31/$K$37,0)","v":0},{"$f":"IF(AND($L$37<>0,$L$38=1),L31/$L$37,0)","v":0},{"$f":"IF(AND($M$37<>0,$M$38=1),M31/$M$37,0)","v":0},{"$f":"IF(AND($N$37<>0,$N$38=1),N31/$N$37,0)","v":0}]
["",0,0,0,0,0,0,0,0,0,0,0,0]
["",0,0,0,0,0,0,0,0,0,0,0,0]
["",0,0,0,0,0,0,0,0,0,0,0,0]
["",0,0,0,0,0,0,0,0,0,0,0,0]
["",0,0,0,0,0,0,0,0,0,0,0,0]
["Total",{"$f":"SUM(B47:B53)","v":0},{"$f":"SUM(C47:C53)","v":0},0,0,0,0,0,0,0,0,0,0]
[]
["Select a product for life cycle GHG calculations"]
[]
[null,null,"Tháng 1","Tháng 2","Tháng 3","Tháng 4","Tháng 5","Tháng 6","Tháng 7","Tháng 8","Tháng 9","Tháng 10","Tháng 11","Tháng 12"]
["Tỷ lệ phát thải từ sản phẩm",null,0,0,0,0,0,0,0,0,0,0,0,0]
[]
[null,null,"Jan","Feb","March","April","May","June","July","Aug","Sep","Oct","Nov","Dec"]
["GHG emission rate",null,{"$f":"IF($E$56<>0,VLOOKUP($E$56,$A$47:$M$54,2,0),0)","v":0},{"$f":"IF($E$56<>0,VLOOKUP($E$56,$A$47:$M$54,3,0),0)","v":0},{"$f":"IF($E$56<>0,VLOOKUP($E$56,$A$47:$M$54,4,0),0)","v":0},{"$f":"IF($E$56<>0,VLOOKUP($E$56,$A$47:$M$54,5,0),0)","v":0},{"$f":"IF($E$56<>0,VLOOKUP($E$56,$A$47:$M$54,6,0),0)","v":0},{"$f":"IF($E$56<>0,VLOOKUP($E$56,$A$47:$M$54,7,0),0)","v":0},{"$f":"IF($E$56<>0,VLOOKUP($E$56,$A$47:$M$54,8,0),0)","v":0},{"$f":"IF($E$56<>0,VLOOKUP($E$56,$A$47:$M$54,9,0),0)","v":0},{"$f":"IF($E$56<>0,VLOOKUP($E$56,$A$47:$M$54,10,0),0)","v":0},{"$f":"IF($E$56<>0,VLOOKUP($E$56,$A$47:$M$54,11,0),0)","v":0},{"$f":"IF($E$56<>0,VLOOKUP($E$56,$A$47:$M$54,12,0),0)","v":0},{"$f":"IF($E$56<>0,VLOOKUP($E$56,$A$47:$M$54,13,0),0)","v":0}]

{"sheet":"ELECTRONICS PHASE 1","index":3,"n_rows":33,"n_cols":18,"rows_kept":33,"cut":false,"hidden":true,"merged":[[1,0,1,17],[11,17,12,17],[19,1,19,3],[24,2,24,13],[24,1,25,1],[24,14,25,14],[11,1,12,1],[11,3,12,3],[11,4,12,4],[11,5,11,16],[11,2,12,2]]}
[]
["INPUT DATA PHASE 1: PRODUCTION AND TRANSPORTATION OF RAW MATERIALS"]
[]
[]
[]
[]
[]
[]
[]
[]
[]
[null,"Fuel","Describe","Unit","Emission Factor (tCO2eq/unit)","Fuel quantity",null,null,null,null,null,null,null,null,null,null,null,"Total"]
[null,null,null,null,null,"Jan","Feb","March","April","May","June","July","Aug","Sep","Oct","Nov","Dec"]
[null,null,null,null,null,null,null,null,null,null,null,null,null,null,null,null,null,{"$f":"SUM(F14:Q14)","v":0}]
[null,null,null,null,null,null,null,null,null,null,null,null,null,null,null,null,null,{"$f":"SUM(F15:Q15)","v":0}]
[null,null,null,null,null,null,null,null,null,null,null,null,null,null,null,null,null,{"$f":"SUM(F16:Q16)","v":0}]
[null,null,null,null,null,null,null,null,null,null,null,null,null,null,null,null,null,{"$f":"SUM(F17:Q17)","v":0}]
[null,null,null,null,null,null,null,null,null,null,null,null,null,null,null,null,null,{"$f":"SUM(F18:Q18)","v":0}]
[]
[null,"Total",null,null,null,{"$f":"SUM(F14:F19)","v":0},{"$f":"SUM(G14:G19)","v":0},0,0,0,0,0,0,0,0,0,0,0]
[]
[]
[]
[]
[null,"Fuel","Emissions from phase 1: Production and transportation of raw materials to produce products (tons CO2eq)",null,null,null,null,null,null,null,null,null,null,null,"Total"]
[null,null,"Jan","Feb","March","April","May","June","July","Aug","Sep","Oct","Nov","Dec"]
[null,{"$f":"IF(B14<>\"\",B14,\"\")","v":""},{"$f":"IF('ELECTRONICS PRODUCTS'!C38=1,F14*E14*'ELECTRONICS PRODUCTS'!$C$62,F14*E14*'ELECTRONICS PRODUCTS'!$C$59)","v":0},{"$f":"IF('ELECTRONICS PRODUCTS'!$D$38=1,G14*E14*'ELECTRONICS PRODUCTS'!$D$62,G14*E14*'ELECTRONICS PRODUCTS'!$D$59)","v":0},{"$f":"IF('ELECTRONICS PRODUCTS'!$E$38=1,H14*E14*'ELECTRONICS PRODUCTS'!$E$62,H14*E14*'ELECTRONICS PRODUCTS'!$E$59)","v":0},{"$f":"IF('ELECTRONICS PRODUCTS'!$F$38=1,I14*E14*'ELECTRONICS PRODUCTS'!$F$62,I14*E14*'ELECTRONICS PRODUCTS'!$F$59)","v":0},{"$f":"IF('ELECTRONICS PRODUCTS'!$G$38=1,J14*E14*'ELECTRONICS PRODUCTS'!$G$62,J14*E14*'ELECTRONICS PRODUCTS'!$G$59)","v":0},{"$f":"IF('ELECTRONICS PRODUCTS'!$H$38=1,K14*E14*'ELECTRONICS PRODUCTS'!$H$62,K14*E14*'ELECTRONICS PRODUCTS'!$H$59)","v":0},{"$f":"IF('ELECTRONICS PRODUCTS'!$I$38=1,L14*E14*'ELECTRONICS PRODUCTS'!$I$62,L14*E14*'ELECTRONICS PRODUCTS'!$I$59)","v":0},{"$f":"IF('ELECTRONICS PRODUCTS'!$J$38=1,M14*E14*'ELECTRONICS PRODUCTS'!$J$62,M14*E14*'ELECTRONICS PRODUCTS'!$J$59)","v":0},{"$f":"IF('ELECTRONICS PRODUCTS'!$K$38=1,N14*E14*'ELECTRONICS PRODUCTS'!$K$62,N14*E14*'ELECTRONICS PRODUCTS'!$K$59)","v":0},{"$f":"IF('ELECTRONICS PRODUCTS'!$L$38=1,O14*E14*'ELECTRONICS PRODUCTS'!$L$62,O14*E14*'ELECTRONICS PRODUCTS'!$L$59)","v":0},{"$f":"IF('ELECTRONICS PRODUCTS'!$M$38=1,P14*E14*'ELECTRONICS PRODUCTS'!$M$62,P14*E14*'ELECTRONICS PRODUCTS'!$M$59)","v":0},{"$f":"IF('ELECTRONICS PRODUCTS'!$N$38=1,Q14*E14*'ELECTRONICS PRODUCTS'!$N$62,Q14*E14*'ELECTRONICS PRODUCTS'!$N$59)","v":0},{"$f":"SUM(C27:N27)","v":0}]
[null,{"$f":"IF(B15<>\"\",B15,\"\")","v":""},{"$f":"IF('ELECTRONICS PRODUCTS'!C39=1,F15*E15*'ELECTRONICS PRODUCTS'!$C$62,F15*E15*'ELECTRONICS PRODUCTS'!$C$59)","v":0},{"$f":"IF('ELECTRONICS PRODUCTS'!$D$38=1,G15*E15*'ELECTRONICS PRODUCTS'!$D$62,G15*E15*'ELECTRONICS PRODUCTS'!$D$59)","v":0},{"$f":"IF('ELECTRONICS PRODUCTS'!$E$38=1,H15*E15*'ELECTRONICS PRODUCTS'!$E$62,H15*E15*'ELECTRONICS PRODUCTS'!$E$59)","v":0},{"$f":"IF('ELECTRONICS PRODUCTS'!$F$38=1,I15*E15*'ELECTRONICS PRODUCTS'!$F$62,I15*E15*'ELECTRONICS PRODUCTS'!$F$59)","v":0},{"$f":"IF('ELECTRONICS PRODUCTS'!$G$38=1,J15*E15*'ELECTRONICS PRODUCTS'!$G$62,J15*E15*'ELECTRONICS PRODUCTS'!$G$59)","v":0},{"$f":"IF('ELECTRONICS PRODUCTS'!$H$38=1,K15*E15*'ELECTRONICS PRODUCTS'!$H$62,K15*E15*'ELECTRONICS PRODUCTS'!$H$59)","v":0},{"$f":"IF('ELECTRONICS PRODUCTS'!$I$38=1,L15*E15*'ELECTRONICS PRODUCTS'!$I$62,L15*E15*'ELECTRONICS PRODUCTS'!$I$59)","v":0},{"$f":"IF('ELECTRONICS PRODUCTS'!$J$38=1,M15*E15*'ELECTRONICS PRODUCTS'!$J$62,M15*E15*'ELECTRONICS PRODUCTS'!$J$59)","v":0},{"$f":"IF('ELECTRONICS PRODUCTS'!$K$38=1,N15*E15*'ELECTRONICS PRODUCTS'!$K$62,N15*E15*'ELECTRONICS PRODUCTS'!$K$59)","v":0},{"$f":"IF('ELECTRONICS PRODUCTS'!$L$38=1,O15*E15*'ELECTRONICS PRODUCTS'!$L$62,O15*E15*'ELECTRONICS PRODUCTS'!$L$59)","v":0},{"$f":"IF('ELECTRONICS PRODUCTS'!$M$38=1,P15*E15*'ELECTRONICS PRODUCTS'!$M$62,P15*E15*'ELECTRONICS PRODUCTS'!$M$59)","v":0},{"$f":"IF('ELECTRONICS PRODUCTS'!$N$38=1,Q15*E15*'ELECTRONICS PRODUCTS'!$N$62,Q15*E15*'ELECTRONICS PRODUCTS'!$N$59)","v":0},{"$f":"SUM(C28:N28)","v":0}]
[null,{"$f":"IF(B16<>\"\",B16,\"\")","v":""},{"$f":"IF('ELECTRONICS PRODUCTS'!C40=1,F16*E16*'ELECTRONICS PRODUCTS'!$C$62,F16*E16*'ELECTRONICS PRODUCTS'!$C$59)","v":0},{"$f":"IF('ELECTRONICS PRODUCTS'!$D$38=1,G16*E16*'ELECTRONICS PRODUCTS'!$D$62,G16*E16*'ELECTRONICS PRODUCTS'!$D$59)","v":0},{"$f":"IF('ELECTRONICS PRODUCTS'!$E$38=1,H16*E16*'ELECTRONICS PRODUCTS'!$E$62,H16*E16*'ELECTRONICS PRODUCTS'!$E$59)","v":0},{"$f":"IF('ELECTRONICS PRODUCTS'!$F$38=1,I16*E16*'ELECTRONICS PRODUCTS'!$F$62,I16*E16*'ELECTRONICS PRODUCTS'!$F$59)","v":0},{"$f":"IF('ELECTRONICS PRODUCTS'!$G$38=1,J16*E16*'ELECTRONICS PRODUCTS'!$G$62,J16*E16*'ELECTRONICS PRODUCTS'!$G$59)","v":0},{"$f":"IF('ELECTRONICS PRODUCTS'!$H$38=1,K16*E16*'ELECTRONICS PRODUCTS'!$H$62,K16*E16*'ELECTRONICS PRODUCTS'!$H$59)","v":0},{"$f":"IF('ELECTRONICS PRODUCTS'!$I$38=1,L16*E16*'ELECTRONICS PRODUCTS'!$I$62,L16*E16*'ELECTRONICS PRODUCTS'!$I$59)","v":0},{"$f":"IF('ELECTRONICS PRODUCTS'!$J$38=1,M16*E16*'ELECTRONICS PRODUCTS'!$J$62,M16*E16*'ELECTRONICS PRODUCTS'!$J$59)","v":0},{"$f":"IF('ELECTRONICS PRODUCTS'!$K$38=1,N16*E16*'ELECTRONICS PRODUCTS'!$K$62,N16*E16*'ELECTRONICS PRODUCTS'!$K$59)","v":0},{"$f":"IF('ELECTRONICS PRODUCTS'!$L$38=1,O16*E16*'ELECTRONICS PRODUCTS'!$L$62,O16*E16*'ELECTRONICS PRODUCTS'!$L$59)","v":0},{"$f":"IF('ELECTRONICS PRODUCTS'!$M$38=1,P16*E16*'ELECTRONICS PRODUCTS'!$M$62,P16*E16*'ELECTRONICS PRODUCTS'!$M$59)","v":0},{"$f":"IF('ELECTRONICS PRODUCTS'!$N$38=1,Q16*E16*'ELECTRONICS PRODUCTS'!$N$62,Q16*E16*'ELECTRONICS PRODUCTS'!$N$59)","v":0},{"$f":"SUM(C29:N29)","v":0}]
[null,{"$f":"IF(B17<>\"\",B17,\"\")","v":""},{"$f":"IF('ELECTRONICS PRODUCTS'!C41=1,F17*E17*'ELECTRONICS PRODUCTS'!$C$62,F17*E17*'ELECTRONICS PRODUCTS'!$C$59)","v":0},{"$f":"IF('ELECTRONICS PRODUCTS'!$D$38=1,G17*E17*'ELECTRONICS PRODUCTS'!$D$62,G17*E17*'ELECTRONICS PRODUCTS'!$D$59)","v":0},{"$f":"IF('ELECTRONICS PRODUCTS'!$E$38=1,H17*E17*'ELECTRONICS PRODUCTS'!$E$62,H17*E17*'ELECTRONICS PRODUCTS'!$E$59)","v":0},{"$f":"IF('ELECTRONICS PRODUCTS'!$F$38=1,I17*E17*'ELECTRONICS PRODUCTS'!$F$62,I17*E17*'ELECTRONICS PRODUCTS'!$F$59)","v":0},{"$f":"IF('ELECTRONICS PRODUCTS'!$G$38=1,J17*E17*'ELECTRONICS PRODUCTS'!$G$62,J17*E17*'ELECTRONICS PRODUCTS'!$G$59)","v":0},{"$f":"IF('ELECTRONICS PRODUCTS'!$H$38=1,K17*E17*'ELECTRONICS PRODUCTS'!$H$62,K17*E17*'ELECTRONICS PRODUCTS'!$H$59)","v":0},{"$f":"IF('ELECTRONICS PRODUCTS'!$I$38=1,L17*E17*'ELECTRONICS PRODUCTS'!$I$62,L17*E17*'ELECTRONICS PRODUCTS'!$I$59)","v":0},{"$f":"IF('ELECTRONICS PRODUCTS'!$J$38=1,M17*E17*'ELECTRONICS PRODUCTS'!$J$62,M17*E17*'ELECTRONICS PRODUCTS'!$J$59)","v":0},{"$f":"IF('ELECTRONICS PRODUCTS'!$K$38=1,N17*E17*'ELECTRONICS PRODUCTS'!$K$62,N17*E17*'ELECTRONICS PRODUCTS'!$K$59)","v":0},{"$f":"IF('ELECTRONICS PRODUCTS'!$L$38=1,O17*E17*'ELECTRONICS PRODUCTS'!$L$62,O17*E17*'ELECTRONICS PRODUCTS'!$L$59)","v":0},{"$f":"IF('ELECTRONICS PRODUCTS'!$M$38=1,P17*E17*'ELECTRONICS PRODUCTS'!$M$62,P17*E17*'ELECTRONICS PRODUCTS'!$M$59)","v":0},{"$f":"IF('ELECTRONICS PRODUCTS'!$N$38=1,Q17*E17*'ELECTRONICS PRODUCTS'!$N$62,Q17*E17*'ELECTRONICS PRODUCTS'!$N$59)","v":0},{"$f":"SUM(C30:N30)","v":0}]
[null,{"$f":"IF(B18<>\"\",B18,\"\")","v":""},{"$f":"IF('ELECTRONICS PRODUCTS'!C42=1,F18*E18*'ELECTRONICS PRODUCTS'!$C$62,F18*E18*'ELECTRONICS PRODUCTS'!$C$59)","v":0},{"$f":"IF('ELECTRONICS PRODUCTS'!$D$38=1,G18*E18*'ELECTRONICS PRODUCTS'!$D$62,G18*E18*'ELECTRONICS PRODUCTS'!$D$59)","v":0},{"$f":"IF('ELECTRONICS PRODUCTS'!$E$38=1,H18*E18*'ELECTRONICS PRODUCTS'!$E$62,H18*E18*'ELECTRONICS PRODUCTS'!$E$59)","v":0},{"$f":"IF('ELECTRONICS PRODUCTS'!$F$38=1,I18*E18*'ELECTRONICS PRODUCTS'!$F$62,I18*E18*'ELECTRONICS PRODUCTS'!$F$59)","v":0},{"$f":"IF('ELECTRONICS PRODUCTS'!$G$38=1,J18*E18*'ELECTRONICS PRODUCTS'!$G$62,J18*E18*'ELECTRONICS PRODUCTS'!$G$59)","v":0},{"$f":"IF('ELECTRONICS PRODUCTS'!$H$38=1,K18*E18*'ELECTRONICS PRODUCTS'!$H$62,K18*E18*'ELECTRONICS PRODUCTS'!$H$59)","v":0},{"$f":"IF('ELECTRONICS PRODUCTS'!$I$38=1,L18*E18*'ELECTRONICS PRODUCTS'!$I$62,L18*E18*'ELECTRONICS PRODUCTS'!$I$59)","v":0},{"$f":"IF('ELECTRONICS PRODUCTS'!$J$38=1,M18*E18*'ELECTRONICS PRODUCTS'!$J$62,M18*E18*'ELECTRONICS PRODUCTS'!$J$59)","v":0},{"$f":"IF('ELECTRONICS PRODUCTS'!$K$38=1,N18*E18*'ELECTRONICS PRODUCTS'!$K$62,N18*E18*'ELECTRONICS PRODUCTS'!$K$59)","v":0},{"$f":"IF('ELECTRONICS PRODUCTS'!$L$38=1,O18*E18*'ELECTRONICS PRODUCTS'!$L$62,O18*E18*'ELECTRONICS PRODUCTS'!$L$59)","v":0},{"$f":"IF('ELECTRONICS PRODUCTS'!$M$38=1,P18*E18*'ELECTRONICS PRODUCTS'!$M$62,P18*E18*'ELECTRONICS PRODUCTS'!$M$59)","v":0},{"$f":"IF('ELECTRONICS PRODUCTS'!$N$38=1,Q18*E18*'ELECTRONICS PRODUCTS'!$N$62,Q18*E18*'ELECTRONICS PRODUCTS'!$N$59)","v":0},{"$f":"SUM(C31:N31)","v":0}]
[]
[null,"Total",{"$f":"SUM(C27:C32)","v":0},{"$f":"SUM(D27:D32)","v":0},0,0,0,0,0,0,0,0,0,0,0]

{"sheet":"ELECTRONICS PHASE 2","index":4,"n_rows":138,"n_cols":20,"rows_kept":138,"cut":false,"hidden":true,"merged":[[124,18,125,18],[81,0,81,5],[76,0,77,0],[76,1,77,1],[76,2,77,2],[76,3,77,3],[76,4,77,4],[78,0,79,0],[78,1,79,1],[78,2,79,2],[78,3,79,3],[78,4,79,4],[124,6,124,17],[124,5,125,5],[124,0,125,0],[124,1,125,1],[124,4,125,4],[124,2,125,2],[124,3,125,3],[109,2,109,3],[110,0,110,1],[111,0,111,1],[110,2,110,3],[111,2,111,3],[72,0,73,0],[72,1,73,1],[72,2,73,2],[72,3,73,3],[72,4,73,4],[74,0,75,0],[74,1,75,1],[74,2,75,2],[74,3,75,3],[74,4,75,4],[68,0,69,0],[68,1,69,1],[68,2,69,2],[68,3,69,3],[68,4,69,4],[70,0,71,0],[70,1,71,1],[70,2,71,2],[70,3,71,3],[70,4,71,4],[64,0,64,4],[66,0,67,0],[66,1,67,1],[66,2,67,2],[66,3,67,3],[66,4,67,4],[66,5,67,5],[66,6,66,17],[66,18,67,18],[134,0,135,0],[134,1,135,1],[134,2,135,2],[134,3,135,3],[134,4,135,4],[137,0,137,4],[130,4,131,4],[128,0,129,0],[128,1,129,1],[128,2,129,2],[128,3,129,3],[128,4,129,4],[132,0,133,0],[132,1,133,1],[132,2,133,2],[132,3,133,3],[132,4,133,4],[130,0,131,0],[130,1,131,1],[130,2,131,2],[130,3,131,3],[126,0,127,0],[126,1,127,1],[126,2,127,2],[126,3,127,3],[126,4,127,4],[12,0,13,0],[12,1,13,1],[12,2,13,2],[12,3,13,3],[12,4,13,4],[35,0,36,0],[35,1,36,1],[35,2,36,2],[35,3,36,3],[35,4,36,4],[29,4,30,4],[113,0,113,1],[113,2,113,3],[114,0,114,1],[114,2,114,3],[86,0,86,4],[88,3,88,8],[89,0,89,2],[109,0,109,1],[31,5,32,5],[12,5,13,5],[10,0,11,0],[10,1,11,1],[10,2,11,2],[10,3,11,3],[10,4,11,4],[10,5,11,5],[16,1,17,1],[16,2,17,2],[16,3,17,3],[16,4,17,4],[16,5,17,5],[14,4,15,4],[18,2,19,2],[18,3,19,3],[18,4,19,4],[18,5,19,5],[27,5,28,5],[21,0,21,6],[112,0,112,1],[112,2,112,3],[29,5,30,5],[56,0,57,0],[56,1,57,1],[56,2,57,2],[48,16,49,16],[54,0,55,0],[54,1,55,1],[54,2,55,2],[48,1,49,1],[48,2,49,2],[48,4,48,15],[52,0,53,0],[52,1,53,1],[52,2,53,2],[50,0,51,0],[50,1,51,1],[50,2,51,2],[35,5,36,5],[33,0,34,0],[33,1,34,1],[33,2,34,2],[33,3,34,3],[27,7,27,18],[27,19,28,19],[27,0,28,0],[27,1,28,1],[27,2,28,2],[27,3,28,3],[27,4,28,4],[1,0,1,19],[4,0,4,5],[8,0,9,0],[8,1,9,1],[8,2,9,2],[8,3,9,3],[8,4,9,4],[8,5,9,5],[8,6,9,6],[8,7,8,18],[8,19,9,19],[14,5,15,5],[14,0,15,0],[14,1,15,1],[14,2,15,2],[14,3,15,3],[16,0,17,0],[59,0,59,3],[18,0,19,0],[18,1,19,1],[40,0,40,6],[46,0,46,4],[48,0,49,0],[27,6,28,6],[37,0,38,0],[37,1,38,1],[37,2,38,2],[37,3,38,3],[37,4,38,4],[37,5,38,5],[29,0,30,0],[29,1,30,1],[29,2,30,2],[29,3,30,3],[33,4,34,4],[33,5,34,5],[31,0,32,0],[31,1,32,1],[31,2,32,2],[31,3,32,3],[31,4,32,4]]}
[]
["INPUT DATA PHASE 2: PRODUCT PRODUCTION"]
[]
[]
["I. Direct fossil fuel combustion activities"]
[]
["1.1 Fuel used in the combustion process comes from a stationary source. For example: Boiler firing, heating, etc."]
[]
["Fuel","Unit","NCV (GJ/unit)","EF CO2 \n(kg CO2/GJ)","EF CH4 \n(kg CO4/GJ)","EF N2O (kg N2O/GJ)",null,"Fuel consumption and GHG emissions from stationary combustion",null,null,null,null,null,null,null,null,null,null,null,"Total"]
[null,null,null,null,null,null,null,"Jan","Feb","March","April","May","June","July","Aug","Sep","Oct","Nov","Dec"]
[null,null,{"$f":"IF(AND(A11<>\"\",B11<>\"\"),VLOOKUP(A11&B11,'unit conversion'!$A$2:$F$267,5,0)*VLOOKUP(A11&B11,'unit conversion'!$A$2:$F$267,6,0),\"\")","v":""},{"$f":"IF(AND(A11<>\"\",B11<>\"\"),VLOOKUP(A11,EF!$B$4:$E$55,2,0),\"\")","v":""},{"$f":"IF(AND(A11<>\"\",B11<>\"\"),VLOOKUP(A11,EF!$B$4:$E$55,3,0),\"\")","v":""},{"$f":"IF(AND(A11<>\"\",B11<>\"\"),VLOOKUP(A11,EF!$B$4:$E$55,4,0),\"\")","v":""},"Fuel consumption",null,null,null,null,null,null,null,null,null,null,null,null,{"$f":"SUM(H11:S11)","v":0}]
[null,null,null,null,null,null,"Emission (tons CO2eq)",{"$f":"IF(A11<>\"\",IF('ELECTRONICS PRODUCTS'!$C$38=1,H11*C11*(D11+E11*EF!$M$4+F11*EF!$M$5)*'ELECTRONICS PRODUCTS'!$C$62/1000,H11*C11*(D11+E11*EF!$M$4+F11*EF!$M$5)*'ELECTRONICS PRODUCTS'!$C$59/1000),\"\")","v":""},{"$f":"IF(A11<>\"\",IF('ELECTRONICS PRODUCTS'!$D$38=1,I11*C11*(D11+E11*EF!$M$4+F11*EF!$M$5)*'ELECTRONICS PRODUCTS'!$D$62/1000,I11*C11*(D11+E11*EF!$M$4+F11*EF!$M$5)*'ELECTRONICS PRODUCTS'!$D$59/1000),\"\")","v":""},{"$f":"IF(A11<>\"\",IF('ELECTRONICS PRODUCTS'!$E$38,J11*C11*(D11+E11*EF!$M$4+F11*EF!$M$5)*'ELECTRONICS PRODUCTS'!$E$62/1000,J11*C11*(D11+E11*EF!$M$4+F11*EF!$M$5)*'ELECTRONICS PRODUCTS'!$E$59/1000),\"\")","v":""},{"$f":"IF(A11<>\"\",IF('ELECTRONICS PRODUCTS'!$F$38=1,K11*C11*(D11+E11*EF!$M$4+F11*EF!$M$5)*'ELECTRONICS PRODUCTS'!$F$62/1000,K11*C11*(D11+E11*EF!$M$4+F11*EF!$M$5)*'ELECTRONICS PRODUCTS'!$F$59/1000),\"\")","v":""},{"$f":"IF(A11<>\"\",IF('ELECTRONICS PRODUCTS'!$G$38=1,L11*C11*(D11+E11*EF!$M$4+F11*EF!$M$5)*'ELECTRONICS PRODUCTS'!$G$62/1000,L11*C11*(D11+E11*EF!$M$4+F11*EF!$M$5)*'ELECTRONICS PRODUCTS'!$G$59/1000),\"\")","v":""},{"$f":"IF(A11<>\"\",IF('ELECTRONICS PRODUCTS'!$H$38=1,M11*C11*(D11+E11*EF!$M$4+F11*EF!$M$5)*'ELECTRONICS PRODUCTS'!$H$62/1000,M11*C11*(D11+E11*EF!$M$4+F11*EF!$M$5)*'ELECTRONICS PRODUCTS'!$H$59/1000),\"\")","v":""},{"$f":"IF(A11<>\"\",IF('ELECTRONICS PRODUCTS'!$I$38=1,N11*C11*(D11+E11*EF!$M$4+F11*EF!$M$5)*'ELECTRONICS PRODUCTS'!$I$62/1000,N11*C11*(D11+E11*EF!$M$4+F11*EF!$M$5)*'ELECTRONICS PRODUCTS'!$I$59/1000),\"\")","v":""},{"$f":"IF(A11<>\"\",IF('ELECTRONICS PRODUCTS'!$J$38=1,O11*C11*(D11+E11*EF!$M$4+F11*EF!$M$5)*'ELECTRONICS PRODUCTS'!$J$62/1000,O11*C11*(D11+E11*EF!$M$4+F11*EF!$M$5)*'ELECTRONICS PRODUCTS'!$J$59/1000),\"\")","v":""},{"$f":"IF(A11<>\"\",IF('ELECTRONICS PRODUCTS'!$K$38=1,P11*C11*(D11+E11*EF!$M$4+F11*EF!$M$5)*'ELECTRONICS PRODUCTS'!$K$62/1000,P11*C11*(D11+E11*EF!$M$4+F11*EF!$M$5)*'ELECTRONICS PRODUCTS'!$K$59/1000),\"\")","v":""},{"$f":"IF(A11<>\"\",IF('ELECTRONICS PRODUCTS'!$L$38=1,Q11*C11*(D11+E11*EF!$M$4+F11*EF!$M$5)*'ELECTRONICS PRODUCTS'!$L$62/1000,Q11*C11*(D11+E11*EF!$M$4+F11*EF!$M$5)*'ELECTRONICS PRODUCTS'!$L$59/1000),\"\")","v":""},{"$f":"IF(A11<>\"\",IF('ELECTRONICS PRODUCTS'!$M$38=1,R11*C11*(D11+E11*EF!$M$4+F11*EF!$M$5)*'ELECTRONICS PRODUCTS'!$M$62/1000,R11*C11*(D11+E11*EF!$M$4+F11*EF!$M$5)*'ELECTRONICS PRODUCTS'!$M$59/1000),\"\")","v":""},{"$f":"IF(A11<>\"\",IF('ELECTRONICS PRODUCTS'!$N$38=1,S11*C11*(D11+E11*EF!$M$4+F11*EF!$M$5)*'ELECTRONICS PRODUCTS'!$N$62/1000,S11*C11*(D11+E11*EF!$M$4+F11*EF!$M$5)*'ELECTRONICS PRODUCTS'!$N$59/1000),\"\")","v":""},0]
[null,null,{"$f":"IF(AND(A13<>\"\",B13<>\"\"),VLOOKUP(A13&B13,'unit conversion'!$A$2:$F$267,5,0)*VLOOKUP(A13&B13,'unit conversion'!$A$2:$F$267,6,0),\"\")","v":""},{"$f":"IF(AND(A13<>\"\",B13<>\"\"),VLOOKUP(A13,EF!$B$4:$E$55,2,0),\"\")","v":""},{"$f":"IF(AND(A13<>\"\",B13<>\"\"),VLOOKUP(A13,EF!$B$4:$E$55,3,0),\"\")","v":""},{"$f":"IF(AND(A13<>\"\",B13<>\"\"),VLOOKUP(A13,EF!$B$4:$E$55,4,0),\"\")","v":""},"Fuel consumption",null,null,null,null,null,null,null,null,null,null,null,null,0]
[null,null,null,null,null,null,"Emission (tons CO2eq)",{"$f":"IF(A13<>\"\",IF('ELECTRONICS PRODUCTS'!$C$38=1,H13*C13*(D13+E13*EF!$M$4+F13*EF!$M$5)*'ELECTRONICS PRODUCTS'!$C$62/1000,H13*C13*(D13+E13*EF!$M$4+F13*EF!$M$5)*'ELECTRONICS PRODUCTS'!$C$59/1000),\"\")","v":""},{"$f":"IF(A13<>\"\",IF('ELECTRONICS PRODUCTS'!$D$38=1,I13*C13*(D13+E13*EF!$M$4+F13*EF!$M$5)*'ELECTRONICS PRODUCTS'!$D$62/1000,I13*C13*(D13+E13*EF!$M$4+F13*EF!$M$5)*'ELECTRONICS PRODUCTS'!$D$59/1000),\"\")","v":""},{"$f":"IF(A13<>\"\",IF('ELECTRONICS PRODUCTS'!$E$38,J13*C13*(D13+E13*EF!$M$4+F13*EF!$M$5)*'ELECTRONICS PRODUCTS'!$E$62/1000,J13*C13*(D13+E13*EF!$M$4+F13*EF!$M$5)*'ELECTRONICS PRODUCTS'!$E$59/1000),\"\")","v":""},{"$f":"IF(A13<>\"\",IF('ELECTRONICS PRODUCTS'!$F$38=1,K13*C13*(D13+E13*EF!$M$4+F13*EF!$M$5)*'ELECTRONICS PRODUCTS'!$F$62/1000,K13*C13*(D13+E13*EF!$M$4+F13*EF!$M$5)*'ELECTRONICS PRODUCTS'!$F$59/1000),\"\")","v":""},{"$f":"IF(A13<>\"\",IF('ELECTRONICS PRODUCTS'!$G$38=1,L13*C13*(D13+E13*EF!$M$4+F13*EF!$M$5)*'ELECTRONICS PRODUCTS'!$G$62/1000,L13*C13*(D13+E13*EF!$M$4+F13*EF!$M$5)*'ELECTRONICS PRODUCTS'!$G$59/1000),\"\")","v":""},{"$f":"IF(A13<>\"\",IF('ELECTRONICS PRODUCTS'!$H$38=1,M13*C13*(D13+E13*EF!$M$4+F13*EF!$M$5)*'ELECTRONICS PRODUCTS'!$H$62/1000,M13*C13*(D13+E13*EF!$M$4+F13*EF!$M$5)*'ELECTRONICS PRODUCTS'!$H$59/1000),\"\")","v":""},{"$f":"IF(A13<>\"\",IF('ELECTRONICS PRODUCTS'!$I$38=1,N13*C13*(D13+E13*EF!$M$4+F13*EF!$M$5)*'ELECTRONICS PRODUCTS'!$I$62/1000,N13*C13*(D13+E13*EF!$M$4+F13*EF!$M$5)*'ELECTRONICS PRODUCTS'!$I$59/1000),\"\")","v":""},{"$f":"IF(A13<>\"\",IF('ELECTRONICS PRODUCTS'!$J$38=1,O13*C13*(D13+E13*EF!$M$4+F13*EF!$M$5)*'ELECTRONICS PRODUCTS'!$J$62/1000,O13*C13*(D13+E13*EF!$M$4+F13*EF!$M$5)*'ELECTRONICS PRODUCTS'!$J$59/1000),\"\")","v":""},{"$f":"IF(A13<>\"\",IF('ELECTRONICS PRODUCTS'!$K$38=1,P13*C13*(D13+E13*EF!$M$4+F13*EF!$M$5)*'ELECTRONICS PRODUCTS'!$K$62/1000,P13*C13*(D13+E13*EF!$M$4+F13*EF!$M$5)*'ELECTRONICS PRODUCTS'!$K$59/1000),\"\")","v":""},{"$f":"IF(A13<>\"\",IF('ELECTRONICS PRODUCTS'!$L$38=1,Q13*C13*(D13+E13*EF!$M$4+F13*EF!$M$5)*'ELECTRONICS PRODUCTS'!$L$62/1000,Q13*C13*(D13+E13*EF!$M$4+F13*EF!$M$5)*'ELECTRONICS PRODUCTS'!$L$59/1000),\"\")","v":""},{"$f":"IF(A13<>\"\",IF('ELECTRONICS PRODUCTS'!$M$38=1,R13*C13*(D13+E13*EF!$M$4+F13*EF!$M$5)*'ELECTRONICS PRODUCTS'!$M$62/1000,R13*C13*(D13+E13*EF!$M$4+F13*EF!$M$5)*'ELECTRONICS PRODUCTS'!$M$59/1000),\"\")","v":""},{"$f":"IF(A13<>\"\",IF('ELECTRONICS PRODUCTS'!$N$38=1,S13*C13*(D13+E13*EF!$M$4+F13*EF!$M$5)*'ELECTRONICS PRODUCTS'!$N$62/1000,S13*C13*(D13+E13*EF!$M$4+F13*EF!$M$5)*'ELECTRONICS PRODUCTS'!$N$59/1000),\"\")","v":""},0]
[null,null,{"$f":"IF(AND(A15<>\"\",B15<>\"\"),VLOOKUP(A15&B15,'unit conversion'!$A$2:$F$267,5,0)*VLOOKUP(A15&B15,'unit conversion'!$A$2:$F$267,6,0),\"\")","v":""},{"$f":"IF(AND(A15<>\"\",B15<>\"\"),VLOOKUP(A15,EF!$B$4:$E$55,2,0),\"\")","v":""},{"$f":"IF(AND(A15<>\"\",B15<>\"\"),VLOOKUP(A15,EF!$B$4:$E$55,3,0),\"\")","v":""},{"$f":"IF(AND(A15<>\"\",B15<>\"\"),VLOOKUP(A15,EF!$B$4:$E$55,4,0),\"\")","v":""},"Fuel consumption",null,null,null,null,null,null,null,null,null,null,null,null,0]
[null,null,null,null,null,null,"Emission (tons CO2eq)",{"$f":"IF(A15<>\"\",IF('ELECTRONICS PRODUCTS'!$C$38=1,H15*C15*(D15+E15*EF!$M$4+F15*EF!$M$5)*'ELECTRONICS PRODUCTS'!$C$62/1000,H15*C15*(D15+E15*EF!$M$4+F15*EF!$M$5)*'ELECTRONICS PRODUCTS'!$C$59/1000),\"\")","v":""},{"$f":"IF(A15<>\"\",IF('ELECTRONICS PRODUCTS'!$D$38=1,I15*C15*(D15+E15*EF!$M$4+F15*EF!$M$5)*'ELECTRONICS PRODUCTS'!$D$62/1000,I15*C15*(D15+E15*EF!$M$4+F15*EF!$M$5)*'ELECTRONICS PRODUCTS'!$D$59/1000),\"\")","v":""},{"$f":"IF(A15<>\"\",IF('ELECTRONICS PRODUCTS'!$E$38,J15*C15*(D15+E15*EF!$M$4+F15*EF!$M$5)*'ELECTRONICS PRODUCTS'!$E$62/1000,J15*C15*(D15+E15*EF!$M$4+F15*EF!$M$5)*'ELECTRONICS PRODUCTS'!$E$59/1000),\"\")","v":""},{"$f":"IF(A15<>\"\",IF('ELECTRONICS PRODUCTS'!$F$38=1,K15*C15*(D15+E15*EF!$M$4+F15*EF!$M$5)*'ELECTRONICS PRODUCTS'!$F$62/1000,K15*C15*(D15+E15*EF!$M$4+F15*EF!$M$5)*'ELECTRONICS PRODUCTS'!$F$59/1000),\"\")","v":""},{"$f":"IF(A15<>\"\",IF('ELECTRONICS PRODUCTS'!$G$38=1,L15*C15*(D15+E15*EF!$M$4+F15*EF!$M$5)*'ELECTRONICS PRODUCTS'!$G$62/1000,L15*C15*(D15+E15*EF!$M$4+F15*EF!$M$5)*'ELECTRONICS PRODUCTS'!$G$59/1000),\"\")","v":""},{"$f":"IF(A15<>\"\",IF('ELECTRONICS PRODUCTS'!$H$38=1,M15*C15*(D15+E15*EF!$M$4+F15*EF!$M$5)*'ELECTRONICS PRODUCTS'!$H$62/1000,M15*C15*(D15+E15*EF!$M$4+F15*EF!$M$5)*'ELECTRONICS PRODUCTS'!$H$59/1000),\"\")","v":""},{"$f":"IF(A15<>\"\",IF('ELECTRONICS PRODUCTS'!$I$38=1,N15*C15*(D15+E15*EF!$M$4+F15*EF!$M$5)*'ELECTRONICS PRODUCTS'!$I$62/1000,N15*C15*(D15+E15*EF!$M$4+F15*EF!$M$5)*'ELECTRONICS PRODUCTS'!$I$59/1000),\"\")","v":""},{"$f":"IF(A15<>\"\",IF('ELECTRONICS PRODUCTS'!$J$38=1,O15*C15*(D15+E15*EF!$M$4+F15*EF!$M$5)*'ELECTRONICS PRODUCTS'!$J$62/1000,O15*C15*(D15+E15*EF!$M$4+F15*EF!$M$5)*'ELECTRONICS PRODUCTS'!$J$59/1000),\"\")","v":""},{"$f":"IF(A15<>\"\",IF('ELECTRONICS PRODUCTS'!$K$38=1,P15*C15*(D15+E15*EF!$M$4+F15*EF!$M$5)*'ELECTRONICS PRODUCTS'!$K$62/1000,P15*C15*(D15+E15*EF!$M$4+F15*EF!$M$5)*'ELECTRONICS PRODUCTS'!$K$59/1000),\"\")","v":""},{"$f":"IF(A15<>\"\",IF('ELECTRONICS PRODUCTS'!$L$38=1,Q15*C15*(D15+E15*EF!$M$4+F15*EF!$M$5)*'ELECTRONICS PRODUCTS'!$L$62/1000,Q15*C15*(D15+E15*EF!$M$4+F15*EF!$M$5)*'ELECTRONICS PRODUCTS'!$L$59/1000),\"\")","v":""},{"$f":"IF(A15<>\"\",IF('ELECTRONICS PRODUCTS'!$M$38=1,R15*C15*(D15+E15*EF!$M$4+F15*EF!$M$5)*'ELECTRONICS PRODUCTS'!$M$62/1000,R15*C15*(D15+E15*EF!$M$4+F15*EF!$M$5)*'ELECTRONICS PRODUCTS'!$M$59/1000),\"\")","v":""},{"$f":"IF(A15<>\"\",IF('ELECTRONICS PRODUCTS'!$N$38=1,S15*C15*(D15+E15*EF!$M$4+F15*EF!$M$5)*'ELECTRONICS PRODUCTS'!$N$62/1000,S15*C15*(D15+E15*EF!$M$4+F15*EF!$M$5)*'ELECTRONICS PRODUCTS'!$N$59/1000),\"\")","v":""},0]
[null,null,{"$f":"IF(AND(A17<>\"\",B17<>\"\"),VLOOKUP(A17&B17,'unit conversion'!$A$2:$F$267,5,0)*VLOOKUP(A17&B17,'unit conversion'!$A$2:$F$267,6,0),\"\")","v":""},{"$f":"IF(AND(A17<>\"\",B17<>\"\"),VLOOKUP(A17,EF!$B$4:$E$55,2,0),\"\")","v":""},{"$f":"IF(AND(A17<>\"\",B17<>\"\"),VLOOKUP(A17,EF!$B$4:$E$55,3,0),\"\")","v":""},{"$f":"IF(AND(A17<>\"\",B17<>\"\"),VLOOKUP(A17,EF!$B$4:$E$55,4,0),\"\")","v":""},"Fuel consumption",null,null,null,null,null,null,null,null,null,null,null,null,0]
[null,null,null,null,null,null,"Emission (tons CO2eq)",{"$f":"IF(A17<>\"\",IF('ELECTRONICS PRODUCTS'!$C$38=1,H17*C17*(D17+E17*EF!$M$4+F17*EF!$M$5)*'ELECTRONICS PRODUCTS'!$C$62/1000,H17*C17*(D17+E17*EF!$M$4+F17*EF!$M$5)*'ELECTRONICS PRODUCTS'!$C$59/1000),\"\")","v":""},{"$f":"IF(A17<>\"\",IF('ELECTRONICS PRODUCTS'!$D$38=1,I17*C17*(D17+E17*EF!$M$4+F17*EF!$M$5)*'ELECTRONICS PRODUCTS'!$D$62/1000,I17*C17*(D17+E17*EF!$M$4+F17*EF!$M$5)*'ELECTRONICS PRODUCTS'!$D$59/1000),\"\")","v":""},{"$f":"IF(A17<>\"\",IF('ELECTRONICS PRODUCTS'!$E$38,J17*C17*(D17+E17*EF!$M$4+F17*EF!$M$5)*'ELECTRONICS PRODUCTS'!$E$62/1000,J17*C17*(D17+E17*EF!$M$4+F17*EF!$M$5)*'ELECTRONICS PRODUCTS'!$E$59/1000),\"\")","v":""},{"$f":"IF(A17<>\"\",IF('ELECTRONICS PRODUCTS'!$F$38=1,K17*C17*(D17+E17*EF!$M$4+F17*EF!$M$5)*'ELECTRONICS PRODUCTS'!$F$62/1000,K17*C17*(D17+E17*EF!$M$4+F17*EF!$M$5)*'ELECTRONICS PRODUCTS'!$F$59/1000),\"\")","v":""},{"$f":"IF(A17<>\"\",IF('ELECTRONICS PRODUCTS'!$G$38=1,L17*C17*(D17+E17*EF!$M$4+F17*EF!$M$5)*'ELECTRONICS PRODUCTS'!$G$62/1000,L17*C17*(D17+E17*EF!$M$4+F17*EF!$M$5)*'ELECTRONICS PRODUCTS'!$G$59/1000),\"\")","v":""},{"$f":"IF(A17<>\"\",IF('ELECTRONICS PRODUCTS'!$H$38=1,M17*C17*(D17+E17*EF!$M$4+F17*EF!$M$5)*'ELECTRONICS PRODUCTS'!$H$62/1000,M17*C17*(D17+E17*EF!$M$4+F17*EF!$M$5)*'ELECTRONICS PRODUCTS'!$H$59/1000),\"\")","v":""},{"$f":"IF(A17<>\"\",IF('ELECTRONICS PRODUCTS'!$I$38=1,N17*C17*(D17+E17*EF!$M$4+F17*EF!$M$5)*'ELECTRONICS PRODUCTS'!$I$62/1000,N17*C17*(D17+E17*EF!$M$4+F17*EF!$M$5)*'ELECTRONICS PRODUCTS'!$I$59/1000),\"\")","v":""},{"$f":"IF(A17<>\"\",IF('ELECTRONICS PRODUCTS'!$J$38=1,O17*C17*(D17+E17*EF!$M$4+F17*EF!$M$5)*'ELECTRONICS PRODUCTS'!$J$62/1000,O17*C17*(D17+E17*EF!$M$4+F17*EF!$M$5)*'ELECTRONICS PRODUCTS'!$J$59/1000),\"\")","v":""},{"$f":"IF(A17<>\"\",IF('ELECTRONICS PRODUCTS'!$K$38=1,P17*C17*(D17+E17*EF!$M$4+F17*EF!$M$5)*'ELECTRONICS PRODUCTS'!$K$62/1000,P17*C17*(D17+E17*EF!$M$4+F17*EF!$M$5)*'ELECTRONICS PRODUCTS'!$K$59/1000),\"\")","v":""},{"$f":"IF(A17<>\"\",IF('ELECTRONICS PRODUCTS'!$L$38=1,Q17*C17*(D17+E17*EF!$M$4+F17*EF!$M$5)*'ELECTRONICS PRODUCTS'!$L$62/1000,Q17*C17*(D17+E17*EF!$M$4+F17*EF!$M$5)*'ELECTRONICS PRODUCTS'!$L$59/1000),\"\")","v":""},{"$f":"IF(A17<>\"\",IF('ELECTRONICS PRODUCTS'!$M$38=1,R17*C17*(D17+E17*EF!$M$4+F17*EF!$M$5)*'ELECTRONICS PRODUCTS'!$M$62/1000,R17*C17*(D17+E17*EF!$M$4+F17*EF!$M$5)*'ELECTRONICS PRODUCTS'!$M$59/1000),\"\")","v":""},{"$f":"IF(A17<>\"\",IF('ELECTRONICS PRODUCTS'!$N$38=1,S17*C17*(D17+E17*EF!$M$4+F17*EF!$M$5)*'ELECTRONICS PRODUCTS'!$N$62/1000,S17*C17*(D17+E17*EF!$M$4+F17*EF!$M$5)*'ELECTRONICS PRODUCTS'!$N$59/1000),\"\")","v":""},0]
[null,null,{"$f":"IF(AND(A19<>\"\",B19<>\"\"),VLOOKUP(A19&B19,'unit conversion'!$A$2:$F$267,5,0)*VLOOKUP(A19&B19,'unit conversion'!$A$2:$F$267,6,0),\"\")","v":""},{"$f":"IF(AND(A19<>\"\",B19<>\"\"),VLOOKUP(A19,EF!$B$4:$E$55,2,0),\"\")","v":""},{"$f":"IF(AND(A19<>\"\",B19<>\"\"),VLOOKUP(A19,EF!$B$4:$E$55,3,0),\"\")","v":""},{"$f":"IF(AND(A19<>\"\",B19<>\"\"),VLOOKUP(A19,EF!$B$4:$E$55,4,0),\"\")","v":""},"Fuel consumption",null,null,null,null,null,null,null,null,null,null,null,null,0]
[null,null,null,null,null,null,"Emission (tons CO2eq)",{"$f":"IF(A19<>\"\",IF('ELECTRONICS PRODUCTS'!$C$38=1,H19*C19*(D19+E19*EF!$M$4+F19*EF!$M$5)*'ELECTRONICS PRODUCTS'!$C$62/1000,H19*C19*(D19+E19*EF!$M$4+F19*EF!$M$5)*'ELECTRONICS PRODUCTS'!$C$59/1000),\"\")","v":""},{"$f":"IF(A19<>\"\",IF('ELECTRONICS PRODUCTS'!$D$38=1,I19*C19*(D19+E19*EF!$M$4+F19*EF!$M$5)*'ELECTRONICS PRODUCTS'!$D$62/1000,I19*C19*(D19+E19*EF!$M$4+F19*EF!$M$5)*'ELECTRONICS PRODUCTS'!$D$59/1000),\"\")","v":""},{"$f":"IF(A19<>\"\",IF('ELECTRONICS PRODUCTS'!$E$38,J19*C19*(D19+E19*EF!$M$4+F19*EF!$M$5)*'ELECTRONICS PRODUCTS'!$E$62/1000,J19*C19*(D19+E19*EF!$M$4+F19*EF!$M$5)*'ELECTRONICS PRODUCTS'!$E$59/1000),\"\")","v":""},{"$f":"IF(A19<>\"\",IF('ELECTRONICS PRODUCTS'!$F$38=1,K19*C19*(D19+E19*EF!$M$4+F19*EF!$M$5)*'ELECTRONICS PRODUCTS'!$F$62/1000,K19*C19*(D19+E19*EF!$M$4+F19*EF!$M$5)*'ELECTRONICS PRODUCTS'!$F$59/1000),\"\")","v":""},{"$f":"IF(A19<>\"\",IF('ELECTRONICS PRODUCTS'!$G$38=1,L19*C19*(D19+E19*EF!$M$4+F19*EF!$M$5)*'ELECTRONICS PRODUCTS'!$G$62/1000,L19*C19*(D19+E19*EF!$M$4+F19*EF!$M$5)*'ELECTRONICS PRODUCTS'!$G$59/1000),\"\")","v":""},{"$f":"IF(A19<>\"\",IF('ELECTRONICS PRODUCTS'!$H$38=1,M19*C19*(D19+E19*EF!$M$4+F19*EF!$M$5)*'ELECTRONICS PRODUCTS'!$H$62/1000,M19*C19*(D19+E19*EF!$M$4+F19*EF!$M$5)*'ELECTRONICS PRODUCTS'!$H$59/1000),\"\")","v":""},{"$f":"IF(A19<>\"\",IF('ELECTRONICS PRODUCTS'!$I$38=1,N19*C19*(D19+E19*EF!$M$4+F19*EF!$M$5)*'ELECTRONICS PRODUCTS'!$I$62/1000,N19*C19*(D19+E19*EF!$M$4+F19*EF!$M$5)*'ELECTRONICS PRODUCTS'!$I$59/1000),\"\")","v":""},{"$f":"IF(A19<>\"\",IF('ELECTRONICS PRODUCTS'!$J$38=1,O19*C19*(D19+E19*EF!$M$4+F19*EF!$M$5)*'ELECTRONICS PRODUCTS'!$J$62/1000,O19*C19*(D19+E19*EF!$M$4+F19*EF!$M$5)*'ELECTRONICS PRODUCTS'!$J$59/1000),\"\")","v":""},{"$f":"IF(A19<>\"\",IF('ELECTRONICS PRODUCTS'!$K$38=1,P19*C19*(D19+E19*EF!$M$4+F19*EF!$M$5)*'ELECTRONICS PRODUCTS'!$K$62/1000,P19*C19*(D19+E19*EF!$M$4+F19*EF!$M$5)*'ELECTRONICS PRODUCTS'!$K$59/1000),\"\")","v":""},{"$f":"IF(A19<>\"\",IF('ELECTRONICS PRODUCTS'!$L$38=1,Q19*C19*(D19+E19*EF!$M$4+F19*EF!$M$5)*'ELECTRONICS PRODUCTS'!$L$62/1000,Q19*C19*(D19+E19*EF!$M$4+F19*EF!$M$5)*'ELECTRONICS PRODUCTS'!$L$59/1000),\"\")","v":""},{"$f":"IF(A19<>\"\",IF('ELECTRONICS PRODUCTS'!$M$38=1,R19*C19*(D19+E19*EF!$M$4+F19*EF!$M$5)*'ELECTRONICS PRODUCTS'!$M$62/1000,R19*C19*(D19+E19*EF!$M$4+F19*EF!$M$5)*'ELECTRONICS PRODUCTS'!$M$59/1000),\"\")","v":""},{"$f":"IF(A19<>\"\",IF('ELECTRONICS PRODUCTS'!$N$38=1,S19*C19*(D19+E19*EF!$M$4+F19*EF!$M$5)*'ELECTRONICS PRODUCTS'!$N$62/1000,S19*C19*(D19+E19*EF!$M$4+F19*EF!$M$5)*'ELECTRONICS PRODUCTS'!$N$59/1000),\"\")","v":""},0]
[]
["Total (tons CO2eq)",null,null,null,null,null,null,{"$f":"SUMIF($G$11:$G$21,$G$20,H11:H21)","v":0},{"$f":"SUMIF($G$11:$G$21,$G$20,I11:I21)","v":0},0,0,0,0,0,0,0,0,0,0,0]
[]
[]
[]
["1.2 Fuel consumption for means of transportation (mobile fossil fuel combustion)"]
[]
["Fuel","Unit","NCV (GJ/unit)","EF CO2 \n(kg CO2/GJ)","EF CH4 \n(kg CO4/GJ)","EF N2O (kg N2O/GJ)",null,"Fuel consumption and GHG emissions from stationary combustion",null,null,null,null,null,null,null,null,null,null,null,"Total"]
[null,null,null,null,null,null,null,"Jan","Feb","March","April","May","June","July","Aug","Sep","Oct","Nov","Dec"]
[null,null,{"$f":"IF(AND(A30<>\"\",B30<>\"\"),VLOOKUP(A30&B30,'unit conversion'!$A$2:$F$267,5,0)*VLOOKUP(A30&B30,'unit conversion'!$A$2:$F$267,6,0),\"\")","v":""},{"$f":"IF(AND(A30<>\"\",B30<>\"\"),VLOOKUP(A30,EF!$B$4:$E$55,2,0),\"\")","v":""},{"$f":"IF(AND(A30<>\"\",C30<>\"\"),VLOOKUP(A30,EF!$B$4:$E$55,3,0),\"\")","v":""},{"$f":"IF(AND(A30<>\"\",B30<>\"\"),VLOOKUP(A30,EF!$B$4:$E$55,4,0),\"\")","v":""},"Fuel consumption",null,null,null,null,null,null,null,null,null,null,null,null,{"$f":"SUM(H30:S30)","v":0}]
[null,null,null,null,null,null,"Emission (tons CO2eq)",{"$f":"IF(A30<>\"\",IF('ELECTRONICS PRODUCTS'!$C$38=1,H30*C30*(D30+E30*EF!$M$4+F30*EF!$M$5)*'ELECTRONICS PRODUCTS'!$C$62/1000,H30*C30*(D30+E30*EF!$M$4+F30*EF!$M$5)*'ELECTRONICS PRODUCTS'!$C$59/1000),\"\")","v":""},{"$f":"IF(A30<>\"\",IF('ELECTRONICS PRODUCTS'!$D$38=1,I30*C30*(D30+E30*EF!$M$4+F30*EF!$M$5)*'ELECTRONICS PRODUCTS'!$D$62/1000,I30*C30*(D30+E30*EF!$M$4+F30*EF!$M$5)*'ELECTRONICS PRODUCTS'!$D$59/1000),\"\")","v":""},{"$f":"IF(A30<>\"\",IF('ELECTRONICS PRODUCTS'!$E$38,J30*C30*(D30+E30*EF!$M$4+F30*EF!$M$5)*'ELECTRONICS PRODUCTS'!$E$62/1000,J30*C30*(D30+E30*EF!$M$4+F30*EF!$M$5)*'ELECTRONICS PRODUCTS'!$E$59/1000),\"\")","v":""},{"$f":"IF(A30<>\"\",IF('ELECTRONICS PRODUCTS'!$F$38=1,K30*C30*(D30+E30*EF!$M$4+F30*EF!$M$5)*'ELECTRONICS PRODUCTS'!$F$62/1000,K30*C30*(D30+E30*EF!$M$4+F30*EF!$M$5)*'ELECTRONICS PRODUCTS'!$F$59/1000),\"\")","v":""},{"$f":"IF(A30<>\"\",IF('ELECTRONICS PRODUCTS'!$G$38=1,L30*C30*(D30+E30*EF!$M$4+F30*EF!$M$5)*'ELECTRONICS PRODUCTS'!$G$62/1000,L30*C30*(D30+E30*EF!$M$4+F30*EF!$M$5)*'ELECTRONICS PRODUCTS'!$G$59/1000),\"\")","v":""},{"$f":"IF(A30<>\"\",IF('ELECTRONICS PRODUCTS'!$H$38=1,M30*C30*(D30+E30*EF!$M$4+F30*EF!$M$5)*'ELECTRONICS PRODUCTS'!$H$62/1000,M30*C30*(D30+E30*EF!$M$4+F30*EF!$M$5)*'ELECTRONICS PRODUCTS'!$H$59/1000),\"\")","v":""},{"$f":"IF(A30<>\"\",IF('ELECTRONICS PRODUCTS'!$I$38=1,N30*C30*(D30+E30*EF!$M$4+F30*EF!$M$5)*'ELECTRONICS PRODUCTS'!$I$62/1000,N30*C30*(D30+E30*EF!$M$4+F30*EF!$M$5)*'ELECTRONICS PRODUCTS'!$I$59/1000),\"\")","v":""},{"$f":"IF(A30<>\"\",IF('ELECTRONICS PRODUCTS'!$J$38=1,O30*C30*(D30+E30*EF!$M$4+F30*EF!$M$5)*'ELECTRONICS PRODUCTS'!$J$62/1000,O30*C30*(D30+E30*EF!$M$4+F30*EF!$M$5)*'ELECTRONICS PRODUCTS'!$J$59/1000),\"\")","v":""},{"$f":"IF(A30<>\"\",IF('ELECTRONICS PRODUCTS'!$K$38=1,P30*C30*(D30+E30*EF!$M$4+F30*EF!$M$5)*'ELECTRONICS PRODUCTS'!$K$62/1000,P30*C30*(D30+E30*EF!$M$4+F30*EF!$M$5)*'ELECTRONICS PRODUCTS'!$K$59/1000),\"\")","v":""},{"$f":"IF(A30<>\"\",IF('ELECTRONICS PRODUCTS'!$L$38=1,Q30*C30*(D30+E30*EF!$M$4+F30*EF!$M$5)*'ELECTRONICS PRODUCTS'!$L$62/1000,Q30*C30*(D30+E30*EF!$M$4+F30*EF!$M$5)*'ELECTRONICS PRODUCTS'!$L$59/1000),\"\")","v":""},{"$f":"IF(A30<>\"\",IF('ELECTRONICS PRODUCTS'!$M$38=1,R30*C30*(D30+E30*EF!$M$4+F30*EF!$M$5)*'ELECTRONICS PRODUCTS'!$M$62/1000,R30*C30*(D30+E30*EF!$M$4+F30*EF!$M$5)*'ELECTRONICS PRODUCTS'!$M$59/1000),\"\")","v":""},{"$f":"IF(A30<>\"\",IF('ELECTRONICS PRODUCTS'!$N$38=1,S30*C30*(D30+E30*EF!$M$4+F30*EF!$M$5)*'ELECTRONICS PRODUCTS'!$N$62/1000,S30*C30*(D30+E30*EF!$M$4+F30*EF!$M$5)*'ELECTRONICS PRODUCTS'!$N$59/1000),\"\")","v":""},0]
[null,null,{"$f":"IF(AND(A32<>\"\",B32<>\"\"),VLOOKUP(A32&B32,'unit conversion'!$A$2:$F$267,5,0)*VLOOKUP(A32&B32,'unit conversion'!$A$2:$F$267,6,0),\"\")","v":""},{"$f":"IF(AND(A32<>\"\",B32<>\"\"),VLOOKUP(A32,EF!$B$4:$E$55,2,0),\"\")","v":""},{"$f":"IF(AND(A32<>\"\",C32<>\"\"),VLOOKUP(A32,EF!$B$4:$E$55,3,0),\"\")","v":""},{"$f":"IF(AND(A32<>\"\",B32<>\"\"),VLOOKUP(A32,EF!$B$4:$E$55,4,0),\"\")","v":""},"Fuel consumption",null,null,null,null,null,null,null,null,null,null,null,null,0]
[null,null,null,null,null,null,"Emission (tons CO2eq)",{"$f":"IF(A32<>\"\",IF('ELECTRONICS PRODUCTS'!$C$38=1,H32*C32*(D32+E32*EF!$M$4+F32*EF!$M$5)*'ELECTRONICS PRODUCTS'!$C$62/1000,H32*C32*(D32+E32*EF!$M$4+F32*EF!$M$5)*'ELECTRONICS PRODUCTS'!$C$59/1000),\"\")","v":""},{"$f":"IF(A32<>\"\",IF('ELECTRONICS PRODUCTS'!$D$38=1,I32*C32*(D32+E32*EF!$M$4+F32*EF!$M$5)*'ELECTRONICS PRODUCTS'!$D$62/1000,I32*C32*(D32+E32*EF!$M$4+F32*EF!$M$5)*'ELECTRONICS PRODUCTS'!$D$59/1000),\"\")","v":""},{"$f":"IF(A32<>\"\",IF('ELECTRONICS PRODUCTS'!$E$38,J32*C32*(D32+E32*EF!$M$4+F32*EF!$M$5)*'ELECTRONICS PRODUCTS'!$E$62/1000,J32*C32*(D32+E32*EF!$M$4+F32*EF!$M$5)*'ELECTRONICS PRODUCTS'!$E$59/1000),\"\")","v":""},{"$f":"IF(A32<>\"\",IF('ELECTRONICS PRODUCTS'!$F$38=1,K32*C32*(D32+E32*EF!$M$4+F32*EF!$M$5)*'ELECTRONICS PRODUCTS'!$F$62/1000,K32*C32*(D32+E32*EF!$M$4+F32*EF!$M$5)*'ELECTRONICS PRODUCTS'!$F$59/1000),\"\")","v":""},{"$f":"IF(A32<>\"\",IF('ELECTRONICS PRODUCTS'!$G$38=1,L32*C32*(D32+E32*EF!$M$4+F32*EF!$M$5)*'ELECTRONICS PRODUCTS'!$G$62/1000,L32*C32*(D32+E32*EF!$M$4+F32*EF!$M$5)*'ELECTRONICS PRODUCTS'!$G$59/1000),\"\")","v":""},{"$f":"IF(A32<>\"\",IF('ELECTRONICS PRODUCTS'!$H$38=1,M32*C32*(D32+E32*EF!$M$4+F32*EF!$M$5)*'ELECTRONICS PRODUCTS'!$H$62/1000,M32*C32*(D32+E32*EF!$M$4+F32*EF!$M$5)*'ELECTRONICS PRODUCTS'!$H$59/1000),\"\")","v":""},{"$f":"IF(A32<>\"\",IF('ELECTRONICS PRODUCTS'!$I$38=1,N32*C32*(D32+E32*EF!$M$4+F32*EF!$M$5)*'ELECTRONICS PRODUCTS'!$I$62/1000,N32*C32*(D32+E32*EF!$M$4+F32*EF!$M$5)*'ELECTRONICS PRODUCTS'!$I$59/1000),\"\")","v":""},{"$f":"IF(A32<>\"\",IF('ELECTRONICS PRODUCTS'!$J$38=1,O32*C32*(D32+E32*EF!$M$4+F32*EF!$M$5)*'ELECTRONICS PRODUCTS'!$J$62/1000,O32*C32*(D32+E32*EF!$M$4+F32*EF!$M$5)*'ELECTRONICS PRODUCTS'!$J$59/1000),\"\")","v":""},{"$f":"IF(A32<>\"\",IF('ELECTRONICS PRODUCTS'!$K$38=1,P32*C32*(D32+E32*EF!$M$4+F32*EF!$M$5)*'ELECTRONICS PRODUCTS'!$K$62/1000,P32*C32*(D32+E32*EF!$M$4+F32*EF!$M$5)*'ELECTRONICS PRODUCTS'!$K$59/1000),\"\")","v":""},{"$f":"IF(A32<>\"\",IF('ELECTRONICS PRODUCTS'!$L$38=1,Q32*C32*(D32+E32*EF!$M$4+F32*EF!$M$5)*'ELECTRONICS PRODUCTS'!$L$62/1000,Q32*C32*(D32+E32*EF!$M$4+F32*EF!$M$5)*'ELECTRONICS PRODUCTS'!$L$59/1000),\"\")","v":""},{"$f":"IF(A32<>\"\",IF('ELECTRONICS PRODUCTS'!$M$38=1,R32*C32*(D32+E32*EF!$M$4+F32*EF!$M$5)*'ELECTRONICS PRODUCTS'!$M$62/1000,R32*C32*(D32+E32*EF!$M$4+F32*EF!$M$5)*'ELECTRONICS PRODUCTS'!$M$59/1000),\"\")","v":""},{"$f":"IF(A32<>\"\",IF('ELECTRONICS PRODUCTS'!$N$38=1,S32*C32*(D32+E32*EF!$M$4+F32*EF!$M$5)*'ELECTRONICS PRODUCTS'!$N$62/1000,S32*C32*(D32+E32*EF!$M$4+F32*EF!$M$5)*'ELECTRONICS PRODUCTS'!$N$59/1000),\"\")","v":""},0]
[null,null,{"$f":"IF(AND(A34<>\"\",B34<>\"\"),VLOOKUP(A34&B34,'unit conversion'!$A$2:$F$267,5,0)*VLOOKUP(A34&B34,'unit conversion'!$A$2:$F$267,6,0),\"\")","v":""},{"$f":"IF(AND(A34<>\"\",B34<>\"\"),VLOOKUP(A34,EF!$B$4:$E$55,2,0),\"\")","v":""},{"$f":"IF(AND(A34<>\"\",C34<>\"\"),VLOOKUP(A34,EF!$B$4:$E$55,3,0),\"\")","v":""},{"$f":"IF(AND(A34<>\"\",B34<>\"\"),VLOOKUP(A34,EF!$B$4:$E$55,4,0),\"\")","v":""},"Fuel consumption",null,null,null,null,null,null,null,null,null,null,null,null,0]
[null,null,null,null,null,null,"Emission (tons CO2eq)",{"$f":"IF(A34<>\"\",IF('ELECTRONICS PRODUCTS'!$C$38=1,H34*C34*(D34+E34*EF!$M$4+F34*EF!$M$5)*'ELECTRONICS PRODUCTS'!$C$62/1000,H34*C34*(D34+E34*EF!$M$4+F34*EF!$M$5)*'ELECTRONICS PRODUCTS'!$C$59/1000),\"\")","v":""},{"$f":"IF(A34<>\"\",IF('ELECTRONICS PRODUCTS'!$D$38=1,I34*C34*(D34+E34*EF!$M$4+F34*EF!$M$5)*'ELECTRONICS PRODUCTS'!$D$62/1000,I34*C34*(D34+E34*EF!$M$4+F34*EF!$M$5)*'ELECTRONICS PRODUCTS'!$D$59/1000),\"\")","v":""},{"$f":"IF(A34<>\"\",IF('ELECTRONICS PRODUCTS'!$E$38,J34*C34*(D34+E34*EF!$M$4+F34*EF!$M$5)*'ELECTRONICS PRODUCTS'!$E$62/1000,J34*C34*(D34+E34*EF!$M$4+F34*EF!$M$5)*'ELECTRONICS PRODUCTS'!$E$59/1000),\"\")","v":""},{"$f":"IF(A34<>\"\",IF('ELECTRONICS PRODUCTS'!$F$38=1,K34*C34*(D34+E34*EF!$M$4+F34*EF!$M$5)*'ELECTRONICS PRODUCTS'!$F$62/1000,K34*C34*(D34+E34*EF!$M$4+F34*EF!$M$5)*'ELECTRONICS PRODUCTS'!$F$59/1000),\"\")","v":""},{"$f":"IF(A34<>\"\",IF('ELECTRONICS PRODUCTS'!$G$38=1,L34*C34*(D34+E34*EF!$M$4+F34*EF!$M$5)*'ELECTRONICS PRODUCTS'!$G$62/1000,L34*C34*(D34+E34*EF!$M$4+F34*EF!$M$5)*'ELECTRONICS PRODUCTS'!$G$59/1000),\"\")","v":""},{"$f":"IF(A34<>\"\",IF('ELECTRONICS PRODUCTS'!$H$38=1,M34*C34*(D34+E34*EF!$M$4+F34*EF!$M$5)*'ELECTRONICS PRODUCTS'!$H$62/1000,M34*C34*(D34+E34*EF!$M$4+F34*EF!$M$5)*'ELECTRONICS PRODUCTS'!$H$59/1000),\"\")","v":""},{"$f":"IF(A34<>\"\",IF('ELECTRONICS PRODUCTS'!$I$38=1,N34*C34*(D34+E34*EF!$M$4+F34*EF!$M$5)*'ELECTRONICS PRODUCTS'!$I$62/1000,N34*C34*(D34+E34*EF!$M$4+F34*EF!$M$5)*'ELECTRONICS PRODUCTS'!$I$59/1000),\"\")","v":""},{"$f":"IF(A34<>\"\",IF('ELECTRONICS PRODUCTS'!$J$38=1,O34*C34*(D34+E34*EF!$M$4+F34*EF!$M$5)*'ELECTRONICS PRODUCTS'!$J$62/1000,O34*C34*(D34+E34*EF!$M$4+F34*EF!$M$5)*'ELECTRONICS PRODUCTS'!$J$59/1000),\"\")","v":""},{"$f":"IF(A34<>\"\",IF('ELECTRONICS PRODUCTS'!$K$38=1,P34*C34*(D34+E34*EF!$M$4+F34*EF!$M$5)*'ELECTRONICS PRODUCTS'!$K$62/1000,P34*C34*(D34+E34*EF!$M$4+F34*EF!$M$5)*'ELECTRONICS PRODUCTS'!$K$59/1000),\"\")","v":""},{"$f":"IF(A34<>\"\",IF('ELECTRONICS PRODUCTS'!$L$38=1,Q34*C34*(D34+E34*EF!$M$4+F34*EF!$M$5)*'ELECTRONICS PRODUCTS'!$L$62/1000,Q34*C34*(D34+E34*EF!$M$4+F34*EF!$M$5)*'ELECTRONICS PRODUCTS'!$L$59/1000),\"\")","v":""},{"$f":"IF(A34<>\"\",IF('ELECTRONICS PRODUCTS'!$M$38=1,R34*C34*(D34+E34*EF!$M$4+F34*EF!$M$5)*'ELECTRONICS PRODUCTS'!$M$62/1000,R34*C34*(D34+E34*EF!$M$4+F34*EF!$M$5)*'ELECTRONICS PRODUCTS'!$M$59/1000),\"\")","v":""},{"$f":"IF(A34<>\"\",IF('ELECTRONICS PRODUCTS'!$N$38=1,S34*C34*(D34+E34*EF!$M$4+F34*EF!$M$5)*'ELECTRONICS PRODUCTS'!$N$62/1000,S34*C34*(D34+E34*EF!$M$4+F34*EF!$M$5)*'ELECTRONICS PRODUCTS'!$N$59/1000),\"\")","v":""},0]
[null,null,{"$f":"IF(AND(A36<>\"\",B36<>\"\"),VLOOKUP(A36&B36,'unit conversion'!$A$2:$F$267,5,0)*VLOOKUP(A36&B36,'unit conversion'!$A$2:$F$267,6,0),\"\")","v":""},{"$f":"IF(AND(A36<>\"\",B36<>\"\"),VLOOKUP(A36,EF!$B$4:$E$55,2,0),\"\")","v":""},{"$f":"IF(AND(A36<>\"\",C36<>\"\"),VLOOKUP(A36,EF!$B$4:$E$55,3,0),\"\")","v":""},{"$f":"IF(AND(A36<>\"\",B36<>\"\"),VLOOKUP(A36,EF!$B$4:$E$55,4,0),\"\")","v":""},"Fuel consumption",null,null,null,null,null,null,null,null,null,null,null,null,0]
[null,null,null,null,null,null,"Emission (tons CO2eq)",{"$f":"IF(A36<>\"\",IF('ELECTRONICS PRODUCTS'!$C$38=1,H36*C36*(D36+E36*EF!$M$4+F36*EF!$M$5)*'ELECTRONICS PRODUCTS'!$C$62/1000,H36*C36*(D36+E36*EF!$M$4+F36*EF!$M$5)*'ELECTRONICS PRODUCTS'!$C$59/1000),\"\")","v":""},{"$f":"IF(A36<>\"\",IF('ELECTRONICS PRODUCTS'!$D$38=1,I36*C36*(D36+E36*EF!$M$4+F36*EF!$M$5)*'ELECTRONICS PRODUCTS'!$D$62/1000,I36*C36*(D36+E36*EF!$M$4+F36*EF!$M$5)*'ELECTRONICS PRODUCTS'!$D$59/1000),\"\")","v":""},{"$f":"IF(A36<>\"\",IF('ELECTRONICS PRODUCTS'!$E$38,J36*C36*(D36+E36*EF!$M$4+F36*EF!$M$5)*'ELECTRONICS PRODUCTS'!$E$62/1000,J36*C36*(D36+E36*EF!$M$4+F36*EF!$M$5)*'ELECTRONICS PRODUCTS'!$E$59/1000),\"\")","v":""},{"$f":"IF(A36<>\"\",IF('ELECTRONICS PRODUCTS'!$F$38=1,K36*C36*(D36+E36*EF!$M$4+F36*EF!$M$5)*'ELECTRONICS PRODUCTS'!$F$62/1000,K36*C36*(D36+E36*EF!$M$4+F36*EF!$M$5)*'ELECTRONICS PRODUCTS'!$F$59/1000),\"\")","v":""},{"$f":"IF(A36<>\"\",IF('ELECTRONICS PRODUCTS'!$G$38=1,L36*C36*(D36+E36*EF!$M$4+F36*EF!$M$5)*'ELECTRONICS PRODUCTS'!$G$62/1000,L36*C36*(D36+E36*EF!$M$4+F36*EF!$M$5)*'ELECTRONICS PRODUCTS'!$G$59/1000),\"\")","v":""},{"$f":"IF(A36<>\"\",IF('ELECTRONICS PRODUCTS'!$H$38=1,M36*C36*(D36+E36*EF!$M$4+F36*EF!$M$5)*'ELECTRONICS PRODUCTS'!$H$62/1000,M36*C36*(D36+E36*EF!$M$4+F36*EF!$M$5)*'ELECTRONICS PRODUCTS'!$H$59/1000),\"\")","v":""},{"$f":"IF(A36<>\"\",IF('ELECTRONICS PRODUCTS'!$I$38=1,N36*C36*(D36+E36*EF!$M$4+F36*EF!$M$5)*'ELECTRONICS PRODUCTS'!$I$62/1000,N36*C36*(D36+E36*EF!$M$4+F36*EF!$M$5)*'ELECTRONICS PRODUCTS'!$I$59/1000),\"\")","v":""},{"$f":"IF(A36<>\"\",IF('ELECTRONICS PRODUCTS'!$J$38=1,O36*C36*(D36+E36*EF!$M$4+F36*EF!$M$5)*'ELECTRONICS PRODUCTS'!$J$62/1000,O36*C36*(D36+E36*EF!$M$4+F36*EF!$M$5)*'ELECTRONICS PRODUCTS'!$J$59/1000),\"\")","v":""},{"$f":"IF(A36<>\"\",IF('ELECTRONICS PRODUCTS'!$K$38=1,P36*C36*(D36+E36*EF!$M$4+F36*EF!$M$5)*'ELECTRONICS PRODUCTS'!$K$62/1000,P36*C36*(D36+E36*EF!$M$4+F36*EF!$M$5)*'ELECTRONICS PRODUCTS'!$K$59/1000),\"\")","v":""},{"$f":"IF(A36<>\"\",IF('ELECTRONICS PRODUCTS'!$L$38=1,Q36*C36*(D36+E36*EF!$M$4+F36*EF!$M$5)*'ELECTRONICS PRODUCTS'!$L$62/1000,Q36*C36*(D36+E36*EF!$M$4+F36*EF!$M$5)*'ELECTRONICS PRODUCTS'!$L$59/1000),\"\")","v":""},{"$f":"IF(A36<>\"\",IF('ELECTRONICS PRODUCTS'!$M$38=1,R36*C36*(D36+E36*EF!$M$4+F36*EF!$M$5)*'ELECTRONICS PRODUCTS'!$M$62/1000,R36*C36*(D36+E36*EF!$M$4+F36*EF!$M$5)*'ELECTRONICS PRODUCTS'!$M$59/1000),\"\")","v":""},{"$f":"IF(A36<>\"\",IF('ELECTRONICS PRODUCTS'!$N$38=1,S36*C36*(D36+E36*EF!$M$4+F36*EF!$M$5)*'ELECTRONICS PRODUCTS'!$N$62/1000,S36*C36*(D36+E36*EF!$M$4+F36*EF!$M$5)*'ELECTRONICS PRODUCTS'!$N$59/1000),\"\")","v":""},0]
[null,null,{"$f":"IF(AND(A38<>\"\",B38<>\"\"),VLOOKUP(A38&B38,'unit conversion'!$A$2:$F$267,5,0)*VLOOKUP(A38&B38,'unit conversion'!$A$2:$F$267,6,0),\"\")","v":""},{"$f":"IF(AND(A38<>\"\",B38<>\"\"),VLOOKUP(A38,EF!$B$4:$E$55,2,0),\"\")","v":""},{"$f":"IF(AND(A38<>\"\",C38<>\"\"),VLOOKUP(A38,EF!$B$4:$E$55,3,0),\"\")","v":""},{"$f":"IF(AND(A38<>\"\",B38<>\"\"),VLOOKUP(A38,EF!$B$4:$E$55,4,0),\"\")","v":""},"Fuel consumption",null,null,null,null,null,null,null,null,null,null,null,null,0]
[null,null,null,null,null,null,"Emission (tons CO2eq)",{"$f":"IF(A38<>\"\",IF('ELECTRONICS PRODUCTS'!$C$38=1,H38*C38*(D38+E38*EF!$M$4+F38*EF!$M$5)*'ELECTRONICS PRODUCTS'!$C$62/1000,H38*C38*(D38+E38*EF!$M$4+F38*EF!$M$5)*'ELECTRONICS PRODUCTS'!$C$59/1000),\"\")","v":""},{"$f":"IF(A38<>\"\",IF('ELECTRONICS PRODUCTS'!$D$38=1,I38*C38*(D38+E38*EF!$M$4+F38*EF!$M$5)*'ELECTRONICS PRODUCTS'!$D$62/1000,I38*C38*(D38+E38*EF!$M$4+F38*EF!$M$5)*'ELECTRONICS PRODUCTS'!$D$59/1000),\"\")","v":""},{"$f":"IF(A38<>\"\",IF('ELECTRONICS PRODUCTS'!$E$38,J38*C38*(D38+E38*EF!$M$4+F38*EF!$M$5)*'ELECTRONICS PRODUCTS'!$E$62/1000,J38*C38*(D38+E38*EF!$M$4+F38*EF!$M$5)*'ELECTRONICS PRODUCTS'!$E$59/1000),\"\")","v":""},{"$f":"IF(A38<>\"\",IF('ELECTRONICS PRODUCTS'!$F$38=1,K38*C38*(D38+E38*EF!$M$4+F38*EF!$M$5)*'ELECTRONICS PRODUCTS'!$F$62/1000,K38*C38*(D38+E38*EF!$M$4+F38*EF!$M$5)*'ELECTRONICS PRODUCTS'!$F$59/1000),\"\")","v":""},{"$f":"IF(A38<>\"\",IF('ELECTRONICS PRODUCTS'!$G$38=1,L38*C38*(D38+E38*EF!$M$4+F38*EF!$M$5)*'ELECTRONICS PRODUCTS'!$G$62/1000,L38*C38*(D38+E38*EF!$M$4+F38*EF!$M$5)*'ELECTRONICS PRODUCTS'!$G$59/1000),\"\")","v":""},{"$f":"IF(A38<>\"\",IF('ELECTRONICS PRODUCTS'!$H$38=1,M38*C38*(D38+E38*EF!$M$4+F38*EF!$M$5)*'ELECTRONICS PRODUCTS'!$H$62/1000,M38*C38*(D38+E38*EF!$M$4+F38*EF!$M$5)*'ELECTRONICS PRODUCTS'!$H$59/1000),\"\")","v":""},{"$f":"IF(A38<>\"\",IF('ELECTRONICS PRODUCTS'!$I$38=1,N38*C38*(D38+E38*EF!$M$4+F38*EF!$M$5)*'ELECTRONICS PRODUCTS'!$I$62/1000,N38*C38*(D38+E38*EF!$M$4+F38*EF!$M$5)*'ELECTRONICS PRODUCTS'!$I$59/1000),\"\")","v":""},{"$f":"IF(A38<>\"\",IF('ELECTRONICS PRODUCTS'!$J$38=1,O38*C38*(D38+E38*EF!$M$4+F38*EF!$M$5)*'ELECTRONICS PRODUCTS'!$J$62/1000,O38*C38*(D38+E38*EF!$M$4+F38*EF!$M$5)*'ELECTRONICS PRODUCTS'!$J$59/1000),\"\")","v":""},{"$f":"IF(A38<>\"\",IF('ELECTRONICS PRODUCTS'!$K$38=1,P38*C38*(D38+E38*EF!$M$4+F38*EF!$M$5)*'ELECTRONICS PRODUCTS'!$K$62/1000,P38*C38*(D38+E38*EF!$M$4+F38*EF!$M$5)*'ELECTRONICS PRODUCTS'!$K$59/1000),\"\")","v":""},{"$f":"IF(A38<>\"\",IF('ELECTRONICS PRODUCTS'!$L$38=1,Q38*C38*(D38+E38*EF!$M$4+F38*EF!$M$5)*'ELECTRONICS PRODUCTS'!$L$62/1000,Q38*C38*(D38+E38*EF!$M$4+F38*EF!$M$5)*'ELECTRONICS PRODUCTS'!$L$59/1000),\"\")","v":""},{"$f":"IF(A38<>\"\",IF('ELECTRONICS PRODUCTS'!$M$38=1,R38*C38*(D38+E38*EF!$M$4+F38*EF!$M$5)*'ELECTRONICS PRODUCTS'!$M$62/1000,R38*C38*(D38+E38*EF!$M$4+F38*EF!$M$5)*'ELECTRONICS PRODUCTS'!$M$59/1000),\"\")","v":""},{"$f":"IF(A38<>\"\",IF('ELECTRONICS PRODUCTS'!$N$38=1,S38*C38*(D38+E38*EF!$M$4+F38*EF!$M$5)*'ELECTRONICS PRODUCTS'!$N$62/1000,S38*C38*(D38+E38*EF!$M$4+F38*EF!$M$5)*'ELECTRONICS PRODUCTS'!$N$59/1000),\"\")","v":""},0]
[]
["Total (tons CO2eq)",null,null,null,null,null,null,{"$f":"SUMIF($G$30:$G$40,$G$39,H30:H40)","v":0},{"$f":"SUMIF($G$30:$G$40,$G$39,I30:I40)","v":0},{"$f":"SUMIF($G$30:$G$40,$G$39,J30:J40)","v":0},0,0,0,0,0,0,0,0,0,0]
[]
[]
[]
[]
[]
["II. Refrigerants loaded into refrigeration equipment"]
[]
["Refrigerants","Unit","GWP",null,"Quantity of refrigerants loaded into refrigeration equipment and GHG emissions",null,null,null,null,null,null,null,null,null,null,null,"Total"]
[null,null,null,null,"Jan","Feb","March","April","May","June","July","Aug","Sep","Oct","Nov","Dec"]
[null,{"$f":"IF(A51<>\"\",\"kg\",\"\")","v":""},{"$f":"IF(A51<>\"\",VLOOKUP(A51,EF!$K$8:$M$16,3,0),0)","v":0},"Quantity of solvents",null,null,null,null,null,null,null,null,null,null,null,null,{"$f":"SUM(E51:P51)","v":0}]
[null,null,null,"Emission (tons CO2eq)",{"$f":"IF('ELECTRONICS PRODUCTS'!$C$38=1,E51*C51/1000*'ELECTRONICS PRODUCTS'!$C$62,E51*C51/1000*'ELECTRONICS PRODUCTS'!$C$59)","v":0},{"$f":"IF('ELECTRONICS PRODUCTS'!$D$38,F51*C51/1000*'ELECTRONICS PRODUCTS'!$D$62,F51*C51/1000*'ELECTRONICS PRODUCTS'!$D$59)","v":0},{"$f":"IF('ELECTRONICS PRODUCTS'!$E$38=1,G51*C51/1000*'ELECTRONICS PRODUCTS'!$E$62,G51*C51/1000*'ELECTRONICS PRODUCTS'!$E$59)","v":0},{"$f":"IF('ELECTRONICS PRODUCTS'!$F$38=1,H51*C51/1000*'ELECTRONICS PRODUCTS'!$F$62,H51*C51/1000*'ELECTRONICS PRODUCTS'!$F$59)","v":0},{"$f":"IF('ELECTRONICS PRODUCTS'!$G$38=1,I51*C51/1000*'ELECTRONICS PRODUCTS'!$G$62,I51*C51/1000*'ELECTRONICS PRODUCTS'!$G$59)","v":0},{"$f":"IF('ELECTRONICS PRODUCTS'!$H$38=1,J51*C51/1000*'ELECTRONICS PRODUCTS'!$H$62,J51*C51/1000*'ELECTRONICS PRODUCTS'!$H$59)","v":0},{"$f":"IF('ELECTRONICS PRODUCTS'!$I$38=1,K51*C51/1000*'ELECTRONICS PRODUCTS'!$I$62,K51*C51/1000*'ELECTRONICS PRODUCTS'!$I$59)","v":0},{"$f":"IF('ELECTRONICS PRODUCTS'!$J$38=1,L51*C51/1000*'ELECTRONICS PRODUCTS'!$J$62,L51*C51/1000*'ELECTRONICS PRODUCTS'!$J$59)","v":0},{"$f":"IF('ELECTRONICS PRODUCTS'!$K$38=1,M51*C51/1000*'ELECTRONICS PRODUCTS'!$K$62,M51*C51/1000*'ELECTRONICS PRODUCTS'!$K$59)","v":0},{"$f":"IF('ELECTRONICS PRODUCTS'!$L$38=1,N51*C51/1000*'ELECTRONICS PRODUCTS'!$L$62,N51*C51/1000*'ELECTRONICS PRODUCTS'!$L$59)","v":0},{"$f":"IF('ELECTRONICS PRODUCTS'!$M$38=1,O51*C51/1000*'ELECTRONICS PRODUCTS'!$M$62,O51*C51/1000*'ELECTRONICS PRODUCTS'!$M$59)","v":0},{"$f":"IF('ELECTRONICS PRODUCTS'!$N$38=1,P51*C51/1000*'ELECTRONICS PRODUCTS'!$N$62,P51*C51/1000*'ELECTRONICS PRODUCTS'!$N$59)","v":0},0]
[null,{"$f":"IF(A53<>\"\",\"kg\",\"\")","v":""},{"$f":"IF(A53<>\"\",VLOOKUP(A53,EF!$K$8:$M$16,3,0),0)","v":0},"Quantity of solvents",null,null,null,null,null,null,null,null,null,null,null,null,0]
[null,null,null,"Emission (tons CO2eq)",{"$f":"IF('ELECTRONICS PRODUCTS'!$C$38=1,E53*C53/1000*'ELECTRONICS PRODUCTS'!$C$62,E53*C53/1000*'ELECTRONICS PRODUCTS'!$C$59)","v":0},{"$f":"IF('ELECTRONICS PRODUCTS'!$D$38,F53*C53/1000*'ELECTRONICS PRODUCTS'!$D$62,F53*C53/1000*'ELECTRONICS PRODUCTS'!$D$59)","v":0},{"$f":"IF('ELECTRONICS PRODUCTS'!$E$38=1,G53*C53/1000*'ELECTRONICS PRODUCTS'!$E$62,G53*C53/1000*'ELECTRONICS PRODUCTS'!$E$59)","v":0},{"$f":"IF('ELECTRONICS PRODUCTS'!$F$38=1,H53*C53/1000*'ELECTRONICS PRODUCTS'!$F$62,H53*C53/1000*'ELECTRONICS PRODUCTS'!$F$59)","v":0},{"$f":"IF('ELECTRONICS PRODUCTS'!$G$38=1,I53*C53/1000*'ELECTRONICS PRODUCTS'!$G$62,I53*C53/1000*'ELECTRONICS PRODUCTS'!$G$59)","v":0},{"$f":"IF('ELECTRONICS PRODUCTS'!$H$38=1,J53*C53/1000*'ELECTRONICS PRODUCTS'!$H$62,J53*C53/1000*'ELECTRONICS PRODUCTS'!$H$59)","v":0},{"$f":"IF('ELECTRONICS PRODUCTS'!$I$38=1,K53*C53/1000*'ELECTRONICS PRODUCTS'!$I$62,K53*C53/1000*'ELECTRONICS PRODUCTS'!$I$59)","v":0},{"$f":"IF('ELECTRONICS PRODUCTS'!$J$38=1,L53*C53/1000*'ELECTRONICS PRODUCTS'!$J$62,L53*C53/1000*'ELECTRONICS PRODUCTS'!$J$59)","v":0},{"$f":"IF('ELECTRONICS PRODUCTS'!$K$38=1,M53*C53/1000*'ELECTRONICS PRODUCTS'!$K$62,M53*C53/1000*'ELECTRONICS PRODUCTS'!$K$59)","v":0},{"$f":"IF('ELECTRONICS PRODUCTS'!$L$38=1,N53*C53/1000*'ELECTRONICS PRODUCTS'!$L$62,N53*C53/1000*'ELECTRONICS PRODUCTS'!$L$59)","v":0},{"$f":"IF('ELECTRONICS PRODUCTS'!$M$38=1,O53*C53/1000*'ELECTRONICS PRODUCTS'!$M$62,O53*C53/1000*'ELECTRONICS PRODUCTS'!$M$59)","v":0},{"$f":"IF('ELECTRONICS PRODUCTS'!$N$38=1,P53*C53/1000*'ELECTRONICS PRODUCTS'!$N$62,P53*C53/1000*'ELECTRONICS PRODUCTS'!$N$59)","v":0},0]
[null,{"$f":"IF(A55<>\"\",\"kg\",\"\")","v":""},{"$f":"IF(A55<>\"\",VLOOKUP(A55,EF!$K$8:$M$16,3,0),0)","v":0},"Quantity of solvents",null,null,null,null,null,null,null,null,null,null,null,null,0]
[null,null,null,"Emission (tons CO2eq)",{"$f":"IF('ELECTRONICS PRODUCTS'!$C$38=1,E55*C55/1000*'ELECTRONICS PRODUCTS'!$C$62,E55*C55/1000*'ELECTRONICS PRODUCTS'!$C$59)","v":0},{"$f":"IF('ELECTRONICS PRODUCTS'!$D$38,F55*C55/1000*'ELECTRONICS PRODUCTS'!$D$62,F55*C55/1000*'ELECTRONICS PRODUCTS'!$D$59)","v":0},{"$f":"IF('ELECTRONICS PRODUCTS'!$E$38=1,G55*C55/1000*'ELECTRONICS PRODUCTS'!$E$62,G55*C55/1000*'ELECTRONICS PRODUCTS'!$E$59)","v":0},{"$f":"IF('ELECTRONICS PRODUCTS'!$F$38=1,H55*C55/1000*'ELECTRONICS PRODUCTS'!$F$62,H55*C55/1000*'ELECTRONICS PRODUCTS'!$F$59)","v":0},{"$f":"IF('ELECTRONICS PRODUCTS'!$G$38=1,I55*C55/1000*'ELECTRONICS PRODUCTS'!$G$62,I55*C55/1000*'ELECTRONICS PRODUCTS'!$G$59)","v":0},{"$f":"IF('ELECTRONICS PRODUCTS'!$H$38=1,J55*C55/1000*'ELECTRONICS PRODUCTS'!$H$62,J55*C55/1000*'ELECTRONICS PRODUCTS'!$H$59)","v":0},{"$f":"IF('ELECTRONICS PRODUCTS'!$I$38=1,K55*C55/1000*'ELECTRONICS PRODUCTS'!$I$62,K55*C55/1000*'ELECTRONICS PRODUCTS'!$I$59)","v":0},{"$f":"IF('ELECTRONICS PRODUCTS'!$J$38=1,L55*C55/1000*'ELECTRONICS PRODUCTS'!$J$62,L55*C55/1000*'ELECTRONICS PRODUCTS'!$J$59)","v":0},{"$f":"IF('ELECTRONICS PRODUCTS'!$K$38=1,M55*C55/1000*'ELECTRONICS PRODUCTS'!$K$62,M55*C55/1000*'ELECTRONICS PRODUCTS'!$K$59)","v":0},{"$f":"IF('ELECTRONICS PRODUCTS'!$L$38=1,N55*C55/1000*'ELECTRONICS PRODUCTS'!$L$62,N55*C55/1000*'ELECTRONICS PRODUCTS'!$L$59)","v":0},{"$f":"IF('ELECTRONICS PRODUCTS'!$M$38=1,O55*C55/1000*'ELECTRONICS PRODUCTS'!$M$62,O55*C55/1000*'ELECTRONICS PRODUCTS'!$M$59)","v":0},{"$f":"IF('ELECTRONICS PRODUCTS'!$N$38=1,P55*C55/1000*'ELECTRONICS PRODUCTS'!$N$62,P55*C55/1000*'ELECTRONICS PRODUCTS'!$N$59)","v":0},0]
[null,{"$f":"IF(A57<>\"\",\"kg\",\"\")","v":""},{"$f":"IF(A57<>\"\",VLOOKUP(A57,EF!$K$8:$M$16,3,0),0)","v":0},"Quantity of solvents",null,null,null,null,null,null,null,null,null,null,null,null,0]
[null,null,null,"Emission (tons CO2eq)",{"$f":"IF('ELECTRONICS PRODUCTS'!$C$38=1,E57*C57/1000*'ELECTRONICS PRODUCTS'!$C$62,E57*C57/1000*'ELECTRONICS PRODUCTS'!$C$59)","v":0},{"$f":"IF('ELECTRONICS PRODUCTS'!$D$38,F57*C57/1000*'ELECTRONICS PRODUCTS'!$D$62,F57*C57/1000*'ELECTRONICS PRODUCTS'!$D$59)","v":0},{"$f":"IF('ELECTRONICS PRODUCTS'!$E$38=1,G57*C57/1000*'ELECTRONICS PRODUCTS'!$E$62,G57*C57/1000*'ELECTRONICS PRODUCTS'!$E$59)","v":0},{"$f":"IF('ELECTRONICS PRODUCTS'!$F$38=1,H57*C57/1000*'ELECTRONICS PRODUCTS'!$F$62,H57*C57/1000*'ELECTRONICS PRODUCTS'!$F$59)","v":0},{"$f":"IF('ELECTRONICS PRODUCTS'!$G$38=1,I57*C57/1000*'ELECTRONICS PRODUCTS'!$G$62,I57*C57/1000*'ELECTRONICS PRODUCTS'!$G$59)","v":0},{"$f":"IF('ELECTRONICS PRODUCTS'!$H$38=1,J57*C57/1000*'ELECTRONICS PRODUCTS'!$H$62,J57*C57/1000*'ELECTRONICS PRODUCTS'!$H$59)","v":0},{"$f":"IF('ELECTRONICS PRODUCTS'!$I$38=1,K57*C57/1000*'ELECTRONICS PRODUCTS'!$I$62,K57*C57/1000*'ELECTRONICS PRODUCTS'!$I$59)","v":0},{"$f":"IF('ELECTRONICS PRODUCTS'!$J$38=1,L57*C57/1000*'ELECTRONICS PRODUCTS'!$J$62,L57*C57/1000*'ELECTRONICS PRODUCTS'!$J$59)","v":0},{"$f":"IF('ELECTRONICS PRODUCTS'!$K$38=1,M57*C57/1000*'ELECTRONICS PRODUCTS'!$K$62,M57*C57/1000*'ELECTRONICS PRODUCTS'!$K$59)","v":0},{"$f":"IF('ELECTRONICS PRODUCTS'!$L$38=1,N57*C57/1000*'ELECTRONICS PRODUCTS'!$L$62,N57*C57/1000*'ELECTRONICS PRODUCTS'!$L$59)","v":0},{"$f":"IF('ELECTRONICS PRODUCTS'!$M$38=1,O57*C57/1000*'ELECTRONICS PRODUCTS'!$M$62,O57*C57/1000*'ELECTRONICS PRODUCTS'!$M$59)","v":0},{"$f":"IF('ELECTRONICS PRODUCTS'!$N$38=1,P57*C57/1000*'ELECTRONICS PRODUCTS'!$N$62,P57*C57/1000*'ELECTRONICS PRODUCTS'!$N$59)","v":0},0]
[]
["Total (tons CO2eq)",null,null,null,{"$f":"SUMIF($D$51:$D$59,$D$58,E51:E59)","v":0},{"$f":"SUMIF($D$51:$D$59,$D$58,F51:F59)","v":0},{"$f":"SUMIF($D$51:$D$59,$D$58,G51:G59)","v":0},0,0,0,0,0,0,0,0,0,0]
[]
[]
[]
[]
["III. Emissions from industrial production processes"]
[]
["Processes","Unit of output from the process","EF CO2 \n(kg CO2/unit)","EF CH4 \n(kg CO4/unit)","EF N2O (kg N2O/unit)",null,"Output of production processes and GHG emissions from those processes",null,null,null,null,null,null,null,null,null,null,null,"Total"]
[null,null,null,null,null,null,"Jan","Feb","March","April","May","June","July","Aug","Sep","Oct","Nov","Dec"]
[null,{"$f":"IF(A69<>0,VLOOKUP(A69,EF!$A$148:$B$168,2,0),\"\")","v":""},{"$f":"IF(A69<>\"\",VLOOKUP(A69,EF!$A$148:$E$168,3,0),\"\")","v":""},{"$f":"IF(A69<>\"\",VLOOKUP(A69,EF!$A$148:$E$168,4,0),\"\")","v":""},{"$f":"IF(A69<>\"\",VLOOKUP(A69,EF!$A$148:$E$168,5,0),\"\")","v":""},"Quantity of Outputs",null,null,null,null,null,null,null,null,null,null,null,null,{"$f":"SUM(G69:R69)","v":0}]
[null,null,null,null,null,"Emission (tons CO2eq)",{"$f":"IF(A69<>0,IF('ELECTRONICS PRODUCTS'!$C$38=1,G69*(C69+D69*EF!$M$4+E69*EF!$M$5)*'ELECTRONICS PRODUCTS'!$C$62/1000, G69*(C69+D69*EF!$M$4+E69*EF!$M$5)*'ELECTRONICS PRODUCTS'!$C$59/1000),\"\")","v":""},{"$f":"IF(A69<>\"\",IF('ELECTRONICS PRODUCTS'!$D$38=1,H69*(C69+D69*EF!$M$4+E69*EF!$M$5)*'ELECTRONICS PRODUCTS'!$D$62/1000, H69*(C69+D69*EF!$M$4+E69*EF!$M$5)*'ELECTRONICS PRODUCTS'!$D$59/1000),\"\")","v":""},{"$f":"IF(A69<>\"\",IF('ELECTRONICS PRODUCTS'!$E$38=1, I69*(C69+D69*EF!$M$4+E69*EF!$M$5)*'ELECTRONICS PRODUCTS'!$E$62/1000, I69*(C69+D69*EF!$M$4+E69*EF!$M$5)*'ELECTRONICS PRODUCTS'!$E$59/1000),\"\")","v":""},{"$f":"IF(A69<>\"\",IF('ELECTRONICS PRODUCTS'!$F$38=1,J69*(C69+D69*EF!$M$4+E69*EF!$M$5)*'ELECTRONICS PRODUCTS'!$F$62/1000, J69*(C69+D69*EF!$M$4+E69*EF!$M$5)*'ELECTRONICS PRODUCTS'!$F$59/1000),\"\")","v":""},{"$f":"IF(A69<>\"\",IF('ELECTRONICS PRODUCTS'!$G$38=1, K69*(C69+D69*EF!$M$4+E69*EF!$M$5)*'ELECTRONICS PRODUCTS'!$G$62/1000,K69*(C69+D69*EF!$M$4+E69*EF!$M$5)*'ELECTRONICS PRODUCTS'!$G$59/1000),\"\")","v":""},{"$f":"IF(A69<>\"\",IF('ELECTRONICS PRODUCTS'!$H$38=1,L69*(C69+D69*EF!$M$4+E69*EF!$M$5)*'ELECTRONICS PRODUCTS'!$H$62/1000,L69*(C69+D69*EF!$M$4+E69*EF!$M$5)*'ELECTRONICS PRODUCTS'!$H$59/1000),\"\")","v":""},{"$f":"IF(A69<>\"\",IF('ELECTRONICS PRODUCTS'!$I$38=1,M69*(C69+D69*EF!$M$4+E69*EF!$M$5)*'ELECTRONICS PRODUCTS'!$I$62/1000,M69*(C69+D69*EF!$M$4+E69*EF!$M$5)*'ELECTRONICS PRODUCTS'!$I$59/1000),\"\")","v":""},{"$f":"IF(A69<>\"\",IF('ELECTRONICS PRODUCTS'!$J$38=1,N69*(C69+D69*EF!$M$4+E69*EF!$M$5)*'ELECTRONICS PRODUCTS'!$J$62/1000,N69*(C69+D69*EF!$M$4+E69*EF!$M$5)*'ELECTRONICS PRODUCTS'!$J$59/1000),\"\")","v":""},{"$f":"IF(A69<>\"\",IF('ELECTRONICS PRODUCTS'!$K$38=1,O69*(C69+D69*EF!$M$4+E69*EF!$M$5)*'ELECTRONICS PRODUCTS'!$K$62/1000,O69*(C69+D69*EF!$M$4+E69*EF!$M$5)*'ELECTRONICS PRODUCTS'!$K$59/1000),\"\")","v":""},{"$f":"IF(A69<>\"\",IF('ELECTRONICS PRODUCTS'!$L$38=1,P69*(C69+D69*EF!$M$4+E69*EF!$M$5)*'ELECTRONICS PRODUCTS'!$L$62/1000,P69*(C69+D69*EF!$M$4+E69*EF!$M$5)*'ELECTRONICS PRODUCTS'!$L$59/1000),\"\")","v":""},{"$f":"IF(A69<>\"\",IF('ELECTRONICS PRODUCTS'!$M$38=1,Q69*(C69+D69*EF!$M$4+E69*EF!$M$5)*'ELECTRONICS PRODUCTS'!$M$62/1000,Q69*(C69+D69*EF!$M$4+E69*EF!$M$5)*'ELECTRONICS PRODUCTS'!$M$59/1000),\"\")","v":""},{"$f":"IF(A69<>\"\",IF('ELECTRONICS PRODUCTS'!$N$38=1,R69*(C69+D69*EF!$M$4+E69*EF!$M$5)*'ELECTRONICS PRODUCTS'!$N$62/1000,R69*(C69+D69*EF!$M$4+E69*EF!$M$5)*'ELECTRONICS PRODUCTS'!$N$59/1000),\"\")","v":""},0]
[null,{"$f":"IF(A71<>0,VLOOKUP(A71,EF!$A$148:$B$168,2,0),\"\")","v":""},{"$f":"IF(A71<>\"\",VLOOKUP(A71,EF!$A$148:$E$168,3,0),\"\")","v":""},{"$f":"IF(A71<>\"\",VLOOKUP(A71,EF!$A$148:$E$168,4,0),\"\")","v":""},{"$f":"IF(A71<>\"\",VLOOKUP(A71,EF!$A$148:$E$168,5,0),\"\")","v":""},"Quantity of Outputs",null,null,null,null,null,null,null,null,null,null,null,null,0]
[null,null,null,null,null,"Emission (tons CO2eq)",{"$f":"IF(A71<>0,IF('GARMENT&TEXTILE PRODUCTS'!$C$34=1,G71*(C71+D71*EF!$M$4+E71*EF!$M$5)*'GARMENT&TEXTILE PRODUCTS'!$C$57/1000, G71*(C71+D71*EF!$M$4+E71*EF!$M$5)*'GARMENT&TEXTILE PRODUCTS'!$C$54/1000),\"\")","v":""},{"$f":"IF(A71<>\"\",IF('GARMENT&TEXTILE PRODUCTS'!$D$34=1,H71*(C71+D71*EF!$M$4+E71*EF!$M$5)*'GARMENT&TEXTILE PRODUCTS'!$D$57/1000, H71*(C71+D71*EF!$M$4+E71*EF!$M$5)*'GARMENT&TEXTILE PRODUCTS'!$D$54/1000),\"\")","v":""},{"$f":"IF(A71<>\"\",IF('GARMENT&TEXTILE PRODUCTS'!$E$34=1, I71*(C71+D71*EF!$M$4+E71*EF!$M$5)*'GARMENT&TEXTILE PRODUCTS'!$E$57/1000, I71*(C71+D71*EF!$M$4+E71*EF!$M$5)*'GARMENT&TEXTILE PRODUCTS'!$E$54/1000),\"\")","v":""},{"$f":"IF(A71<>\"\",IF('GARMENT&TEXTILE PRODUCTS'!$F$34=1,J71*(C71+D71*EF!$M$4+E71*EF!$M$5)*'GARMENT&TEXTILE PRODUCTS'!$F$57/1000, J71*(C71+D71*EF!$M$4+E71*EF!$M$5)*'GARMENT&TEXTILE PRODUCTS'!$F$54/1000),\"\")","v":""},{"$f":"IF(A71<>\"\",IF('GARMENT&TEXTILE PRODUCTS'!$G$34=1, K71*(C71+D71*EF!$M$4+E71*EF!$M$5)*'GARMENT&TEXTILE PRODUCTS'!$G$57/1000,K71*(C71+D71*EF!$M$4+E71*EF!$M$5)*'GARMENT&TEXTILE PRODUCTS'!$G$54/1000),\"\")","v":""},{"$f":"IF(A71<>\"\",IF('GARMENT&TEXTILE PRODUCTS'!$H$34=1,L71*(C71+D71*EF!$M$4+E71*EF!$M$5)*'GARMENT&TEXTILE PRODUCTS'!$H$57/1000,L71*(C71+D71*EF!$M$4+E71*EF!$M$5)*'GARMENT&TEXTILE PRODUCTS'!$H$54/1000),\"\")","v":""},{"$f":"IF(A71<>\"\",IF('GARMENT&TEXTILE PRODUCTS'!$I$34=1,M71*(C71+D71*EF!$M$4+E71*EF!$M$5)*'GARMENT&TEXTILE PRODUCTS'!$I$57/1000,M71*(C71+D71*EF!$M$4+E71*EF!$M$5)*'GARMENT&TEXTILE PRODUCTS'!$I$54/1000),\"\")","v":""},{"$f":"IF(A71<>\"\",IF('GARMENT&TEXTILE PRODUCTS'!$K$34=1,N71*(C71+D71*EF!$M$4+E71*EF!$M$5)*'GARMENT&TEXTILE PRODUCTS'!$J$57/1000,N71*(C71+D71*EF!$M$4+E71*EF!$M$5)*'GARMENT&TEXTILE PRODUCTS'!$J$54/1000),\"\")","v":""},{"$f":"IF(A71<>\"\",IF('GARMENT&TEXTILE PRODUCTS'!$K$34=1,O71*(C71+D71*EF!$M$4+E71*EF!$M$5)*'GARMENT&TEXTILE PRODUCTS'!$K$57/1000,O71*(C71+D71*EF!$M$4+E71*EF!$M$5)*'GARMENT&TEXTILE PRODUCTS'!$K$54/1000),\"\")","v":""},{"$f":"IF(A71<>\"\",IF('GARMENT&TEXTILE PRODUCTS'!$L$34=1,P71*(C71+D71*EF!$M$4+E71*EF!$M$5)*'GARMENT&TEXTILE PRODUCTS'!$L$57/1000,P71*(C71+D71*EF!$M$4+E71*EF!$M$5)*'GARMENT&TEXTILE PRODUCTS'!$L$54/1000),\"\")","v":""},{"$f":"IF(A71<>\"\",IF('GARMENT&TEXTILE PRODUCTS'!$M$34=1,Q71*(C71+D71*EF!$M$4+E71*EF!$M$5)*'GARMENT&TEXTILE PRODUCTS'!$M$57/1000,Q71*(C71+D71*EF!$M$4+E71*EF!$M$5)*'GARMENT&TEXTILE PRODUCTS'!$M$54/1000),\"\")","v":""},{"$f":"IF(A71<>\"\",IF('GARMENT&TEXTILE PRODUCTS'!$N$34=1,R71*(C71+D71*EF!$M$4+E71*EF!$M$5)*'GARMENT&TEXTILE PRODUCTS'!$N$57/1000,R71*(C71+D71*EF!$M$4+E71*EF!$M$5)*'GARMENT&TEXTILE PRODUCTS'!$N$54/1000),\"\")","v":""},0]
[null,{"$f":"IF(A73<>0,VLOOKUP(A73,EF!$A$148:$B$168,2,0),\"\")","v":""},{"$f":"IF(A73<>\"\",VLOOKUP(A73,EF!$A$148:$E$168,3,0),\"\")","v":""},{"$f":"IF(A73<>\"\",VLOOKUP(A73,EF!$A$148:$E$168,4,0),\"\")","v":""},{"$f":"IF(A73<>\"\",VLOOKUP(A73,EF!$A$148:$E$168,5,0),\"\")","v":""},"Quantity of Outputs",null,null,null,null,null,null,null,null,null,null,null,null,0]
[null,null,null,null,null,"Emission (tons CO2eq)",{"$f":"IF(A73<>0,IF('GARMENT&TEXTILE PRODUCTS'!$C$34=1,G73*(C73+D73*EF!$M$4+E73*EF!$M$5)*'GARMENT&TEXTILE PRODUCTS'!$C$57/1000, G73*(C73+D73*EF!$M$4+E73*EF!$M$5)*'GARMENT&TEXTILE PRODUCTS'!$C$54/1000),\"\")","v":""},{"$f":"IF(A73<>\"\",IF('GARMENT&TEXTILE PRODUCTS'!$D$34=1,H73*(C73+D73*EF!$M$4+E73*EF!$M$5)*'GARMENT&TEXTILE PRODUCTS'!$D$57/1000, H73*(C73+D73*EF!$M$4+E73*EF!$M$5)*'GARMENT&TEXTILE PRODUCTS'!$D$54/1000),\"\")","v":""},{"$f":"IF(A73<>\"\",IF('GARMENT&TEXTILE PRODUCTS'!$E$34=1, I73*(C73+D73*EF!$M$4+E73*EF!$M$5)*'GARMENT&TEXTILE PRODUCTS'!$E$57/1000, I73*(C73+D73*EF!$M$4+E73*EF!$M$5)*'GARMENT&TEXTILE PRODUCTS'!$E$54/1000),\"\")","v":""},{"$f":"IF(A73<>\"\",IF('GARMENT&TEXTILE PRODUCTS'!$F$34=1,J73*(C73+D73*EF!$M$4+E73*EF!$M$5)*'GARMENT&TEXTILE PRODUCTS'!$F$57/1000, J73*(C73+D73*EF!$M$4+E73*EF!$M$5)*'GARMENT&TEXTILE PRODUCTS'!$F$54/1000),\"\")","v":""},{"$f":"IF(A73<>\"\",IF('GARMENT&TEXTILE PRODUCTS'!$G$34=1, K73*(C73+D73*EF!$M$4+E73*EF!$M$5)*'GARMENT&TEXTILE PRODUCTS'!$G$57/1000,K73*(C73+D73*EF!$M$4+E73*EF!$M$5)*'GARMENT&TEXTILE PRODUCTS'!$G$54/1000),\"\")","v":""},{"$f":"IF(A73<>\"\",IF('GARMENT&TEXTILE PRODUCTS'!$H$34=1,L73*(C73+D73*EF!$M$4+E73*EF!$M$5)*'GARMENT&TEXTILE PRODUCTS'!$H$57/1000,L73*(C73+D73*EF!$M$4+E73*EF!$M$5)*'GARMENT&TEXTILE PRODUCTS'!$H$54/1000),\"\")","v":""},{"$f":"IF(A73<>\"\",IF('GARMENT&TEXTILE PRODUCTS'!$I$34=1,M73*(C73+D73*EF!$M$4+E73*EF!$M$5)*'GARMENT&TEXTILE PRODUCTS'!$I$57/1000,M73*(C73+D73*EF!$M$4+E73*EF!$M$5)*'GARMENT&TEXTILE PRODUCTS'!$I$54/1000),\"\")","v":""},{"$f":"IF(A73<>\"\",IF('GARMENT&TEXTILE PRODUCTS'!$K$34=1,N73*(C73+D73*EF!$M$4+E73*EF!$M$5)*'GARMENT&TEXTILE PRODUCTS'!$J$57/1000,N73*(C73+D73*EF!$M$4+E73*EF!$M$5)*'GARMENT&TEXTILE PRODUCTS'!$J$54/1000),\"\")","v":""},{"$f":"IF(A73<>\"\",IF('GARMENT&TEXTILE PRODUCTS'!$K$34=1,O73*(C73+D73*EF!$M$4+E73*EF!$M$5)*'GARMENT&TEXTILE PRODUCTS'!$K$57/1000,O73*(C73+D73*EF!$M$4+E73*EF!$M$5)*'GARMENT&TEXTILE PRODUCTS'!$K$54/1000),\"\")","v":""},{"$f":"IF(A73<>\"\",IF('GARMENT&TEXTILE PRODUCTS'!$L$34=1,P73*(C73+D73*EF!$M$4+E73*EF!$M$5)*'GARMENT&TEXTILE PRODUCTS'!$L$57/1000,P73*(C73+D73*EF!$M$4+E73*EF!$M$5)*'GARMENT&TEXTILE PRODUCTS'!$L$54/1000),\"\")","v":""},{"$f":"IF(A73<>\"\",IF('GARMENT&TEXTILE PRODUCTS'!$M$34=1,Q73*(C73+D73*EF!$M$4+E73*EF!$M$5)*'GARMENT&TEXTILE PRODUCTS'!$M$57/1000,Q73*(C73+D73*EF!$M$4+E73*EF!$M$5)*'GARMENT&TEXTILE PRODUCTS'!$M$54/1000),\"\")","v":""},{"$f":"IF(A73<>\"\",IF('GARMENT&TEXTILE PRODUCTS'!$N$34=1,R73*(C73+D73*EF!$M$4+E73*EF!$M$5)*'GARMENT&TEXTILE PRODUCTS'!$N$57/1000,R73*(C73+D73*EF!$M$4+E73*EF!$M$5)*'GARMENT&TEXTILE PRODUCTS'!$N$54/1000),\"\")","v":""},0]
[null,{"$f":"IF(A75<>0,VLOOKUP(A75,EF!$A$148:$B$168,2,0),\"\")","v":""},{"$f":"IF(A75<>\"\",VLOOKUP(A75,EF!$A$148:$E$168,3,0),\"\")","v":""},{"$f":"IF(A75<>\"\",VLOOKUP(A75,EF!$A$148:$E$168,4,0),\"\")","v":""},{"$f":"IF(A75<>\"\",VLOOKUP(A75,EF!$A$148:$E$168,5,0),\"\")","v":""},"Quantity of Outputs",null,null,null,null,null,null,null,null,null,null,null,null,0]
[null,null,null,null,null,"Emission (tons CO2eq)",{"$f":"IF(A75<>0,IF('GARMENT&TEXTILE PRODUCTS'!$C$34=1,G75*(C75+D75*EF!$M$4+E75*EF!$M$5)*'GARMENT&TEXTILE PRODUCTS'!$C$57/1000, G75*(C75+D75*EF!$M$4+E75*EF!$M$5)*'GARMENT&TEXTILE PRODUCTS'!$C$54/1000),\"\")","v":""},{"$f":"IF(A75<>\"\",IF('GARMENT&TEXTILE PRODUCTS'!$D$34=1,H75*(C75+D75*EF!$M$4+E75*EF!$M$5)*'GARMENT&TEXTILE PRODUCTS'!$D$57/1000, H75*(C75+D75*EF!$M$4+E75*EF!$M$5)*'GARMENT&TEXTILE PRODUCTS'!$D$54/1000),\"\")","v":""},{"$f":"IF(A75<>\"\",IF('GARMENT&TEXTILE PRODUCTS'!$E$34=1, I75*(C75+D75*EF!$M$4+E75*EF!$M$5)*'GARMENT&TEXTILE PRODUCTS'!$E$57/1000, I75*(C75+D75*EF!$M$4+E75*EF!$M$5)*'GARMENT&TEXTILE PRODUCTS'!$E$54/1000),\"\")","v":""},{"$f":"IF(A75<>\"\",IF('GARMENT&TEXTILE PRODUCTS'!$F$34=1,J75*(C75+D75*EF!$M$4+E75*EF!$M$5)*'GARMENT&TEXTILE PRODUCTS'!$F$57/1000, J75*(C75+D75*EF!$M$4+E75*EF!$M$5)*'GARMENT&TEXTILE PRODUCTS'!$F$54/1000),\"\")","v":""},{"$f":"IF(A75<>\"\",IF('GARMENT&TEXTILE PRODUCTS'!$G$34=1, K75*(C75+D75*EF!$M$4+E75*EF!$M$5)*'GARMENT&TEXTILE PRODUCTS'!$G$57/1000,K75*(C75+D75*EF!$M$4+E75*EF!$M$5)*'GARMENT&TEXTILE PRODUCTS'!$G$54/1000),\"\")","v":""},{"$f":"IF(A75<>\"\",IF('GARMENT&TEXTILE PRODUCTS'!$H$34=1,L75*(C75+D75*EF!$M$4+E75*EF!$M$5)*'GARMENT&TEXTILE PRODUCTS'!$H$57/1000,L75*(C75+D75*EF!$M$4+E75*EF!$M$5)*'GARMENT&TEXTILE PRODUCTS'!$H$54/1000),\"\")","v":""},{"$f":"IF(A75<>\"\",IF('GARMENT&TEXTILE PRODUCTS'!$I$34=1,M75*(C75+D75*EF!$M$4+E75*EF!$M$5)*'GARMENT&TEXTILE PRODUCTS'!$I$57/1000,M75*(C75+D75*EF!$M$4+E75*EF!$M$5)*'GARMENT&TEXTILE PRODUCTS'!$I$54/1000),\"\")","v":""},{"$f":"IF(A75<>\"\",IF('GARMENT&TEXTILE PRODUCTS'!$K$34=1,N75*(C75+D75*EF!$M$4+E75*EF!$M$5)*'GARMENT&TEXTILE PRODUCTS'!$J$57/1000,N75*(C75+D75*EF!$M$4+E75*EF!$M$5)*'GARMENT&TEXTILE PRODUCTS'!$J$54/1000),\"\")","v":""},{"$f":"IF(A75<>\"\",IF('GARMENT&TEXTILE PRODUCTS'!$K$34=1,O75*(C75+D75*EF!$M$4+E75*EF!$M$5)*'GARMENT&TEXTILE PRODUCTS'!$K$57/1000,O75*(C75+D75*EF!$M$4+E75*EF!$M$5)*'GARMENT&TEXTILE PRODUCTS'!$K$54/1000),\"\")","v":""},{"$f":"IF(A75<>\"\",IF('GARMENT&TEXTILE PRODUCTS'!$L$34=1,P75*(C75+D75*EF!$M$4+E75*EF!$M$5)*'GARMENT&TEXTILE PRODUCTS'!$L$57/1000,P75*(C75+D75*EF!$M$4+E75*EF!$M$5)*'GARMENT&TEXTILE PRODUCTS'!$L$54/1000),\"\")","v":""},{"$f":"IF(A75<>\"\",IF('GARMENT&TEXTILE PRODUCTS'!$M$34=1,Q75*(C75+D75*EF!$M$4+E75*EF!$M$5)*'GARMENT&TEXTILE PRODUCTS'!$M$57/1000,Q75*(C75+D75*EF!$M$4+E75*EF!$M$5)*'GARMENT&TEXTILE PRODUCTS'!$M$54/1000),\"\")","v":""},{"$f":"IF(A75<>\"\",IF('GARMENT&TEXTILE PRODUCTS'!$N$34=1,R75*(C75+D75*EF!$M$4+E75*EF!$M$5)*'GARMENT&TEXTILE PRODUCTS'!$N$57/1000,R75*(C75+D75*EF!$M$4+E75*EF!$M$5)*'GARMENT&TEXTILE PRODUCTS'!$N$54/1000),\"\")","v":""},0]
[null,{"$f":"IF(A77<>0,VLOOKUP(A77,EF!$A$148:$B$168,2,0),\"\")","v":""},{"$f":"IF(A77<>\"\",VLOOKUP(A77,EF!$A$148:$E$168,3,0),\"\")","v":""},{"$f":"IF(A77<>\"\",VLOOKUP(A77,EF!$A$148:$E$168,4,0),\"\")","v":""},{"$f":"IF(A77<>\"\",VLOOKUP(A77,EF!$A$148:$E$168,5,0),\"\")","v":""},"Quantity of Outputs",null,null,null,null,null,null,null,null,null,null,null,null,0]
[null,null,null,null,null,"Emission (tons CO2eq)",{"$f":"IF(A77<>0,IF('GARMENT&TEXTILE PRODUCTS'!$C$34=1,G77*(C77+D77*EF!$M$4+E77*EF!$M$5)*'GARMENT&TEXTILE PRODUCTS'!$C$57/1000, G77*(C77+D77*EF!$M$4+E77*EF!$M$5)*'GARMENT&TEXTILE PRODUCTS'!$C$54/1000),\"\")","v":""},{"$f":"IF(A77<>\"\",IF('GARMENT&TEXTILE PRODUCTS'!$D$34=1,H77*(C77+D77*EF!$M$4+E77*EF!$M$5)*'GARMENT&TEXTILE PRODUCTS'!$D$57/1000, H77*(C77+D77*EF!$M$4+E77*EF!$M$5)*'GARMENT&TEXTILE PRODUCTS'!$D$54/1000),\"\")","v":""},{"$f":"IF(A77<>\"\",IF('GARMENT&TEXTILE PRODUCTS'!$E$34=1, I77*(C77+D77*EF!$M$4+E77*EF!$M$5)*'GARMENT&TEXTILE PRODUCTS'!$E$57/1000, I77*(C77+D77*EF!$M$4+E77*EF!$M$5)*'GARMENT&TEXTILE PRODUCTS'!$E$54/1000),\"\")","v":""},{"$f":"IF(A77<>\"\",IF('GARMENT&TEXTILE PRODUCTS'!$F$34=1,J77*(C77+D77*EF!$M$4+E77*EF!$M$5)*'GARMENT&TEXTILE PRODUCTS'!$F$57/1000, J77*(C77+D77*EF!$M$4+E77*EF!$M$5)*'GARMENT&TEXTILE PRODUCTS'!$F$54/1000),\"\")","v":""},{"$f":"IF(A77<>\"\",IF('GARMENT&TEXTILE PRODUCTS'!$G$34=1, K77*(C77+D77*EF!$M$4+E77*EF!$M$5)*'GARMENT&TEXTILE PRODUCTS'!$G$57/1000,K77*(C77+D77*EF!$M$4+E77*EF!$M$5)*'GARMENT&TEXTILE PRODUCTS'!$G$54/1000),\"\")","v":""},{"$f":"IF(A77<>\"\",IF('GARMENT&TEXTILE PRODUCTS'!$H$34=1,L77*(C77+D77*EF!$M$4+E77*EF!$M$5)*'GARMENT&TEXTILE PRODUCTS'!$H$57/1000,L77*(C77+D77*EF!$M$4+E77*EF!$M$5)*'GARMENT&TEXTILE PRODUCTS'!$H$54/1000),\"\")","v":""},{"$f":"IF(A77<>\"\",IF('GARMENT&TEXTILE PRODUCTS'!$I$34=1,M77*(C77+D77*EF!$M$4+E77*EF!$M$5)*'GARMENT&TEXTILE PRODUCTS'!$I$57/1000,M77*(C77+D77*EF!$M$4+E77*EF!$M$5)*'GARMENT&TEXTILE PRODUCTS'!$I$54/1000),\"\")","v":""},{"$f":"IF(A77<>\"\",IF('GARMENT&TEXTILE PRODUCTS'!$K$34=1,N77*(C77+D77*EF!$M$4+E77*EF!$M$5)*'GARMENT&TEXTILE PRODUCTS'!$J$57/1000,N77*(C77+D77*EF!$M$4+E77*EF!$M$5)*'GARMENT&TEXTILE PRODUCTS'!$J$54/1000),\"\")","v":""},{"$f":"IF(A77<>\"\",IF('GARMENT&TEXTILE PRODUCTS'!$K$34=1,O77*(C77+D77*EF!$M$4+E77*EF!$M$5)*'GARMENT&TEXTILE PRODUCTS'!$K$57/1000,O77*(C77+D77*EF!$M$4+E77*EF!$M$5)*'GARMENT&TEXTILE PRODUCTS'!$K$54/1000),\"\")","v":""},{"$f":"IF(A77<>\"\",IF('GARMENT&TEXTILE PRODUCTS'!$L$34=1,P77*(C77+D77*EF!$M$4+E77*EF!$M$5)*'GARMENT&TEXTILE PRODUCTS'!$L$57/1000,P77*(C77+D77*EF!$M$4+E77*EF!$M$5)*'GARMENT&TEXTILE PRODUCTS'!$L$54/1000),\"\")","v":""},{"$f":"IF(A77<>\"\",IF('GARMENT&TEXTILE PRODUCTS'!$M$34=1,Q77*(C77+D77*EF!$M$4+E77*EF!$M$5)*'GARMENT&TEXTILE PRODUCTS'!$M$57/1000,Q77*(C77+D77*EF!$M$4+E77*EF!$M$5)*'GARMENT&TEXTILE PRODUCTS'!$M$54/1000),\"\")","v":""},{"$f":"IF(A77<>\"\",IF('GARMENT&TEXTILE PRODUCTS'!$N$34=1,R77*(C77+D77*EF!$M$4+E77*EF!$M$5)*'GARMENT&TEXTILE PRODUCTS'!$N$57/1000,R77*(C77+D77*EF!$M$4+E77*EF!$M$5)*'GARMENT&TEXTILE PRODUCTS'!$N$54/1000),\"\")","v":""},0]
[null,{"$f":"IF(A79<>0,VLOOKUP(A79,EF!$A$148:$B$168,2,0),\"\")","v":""},{"$f":"IF(A79<>\"\",VLOOKUP(A79,EF!$A$148:$E$168,3,0),\"\")","v":""},{"$f":"IF(A79<>\"\",VLOOKUP(A79,EF!$A$148:$E$168,4,0),\"\")","v":""},{"$f":"IF(A79<>\"\",VLOOKUP(A79,EF!$A$148:$E$168,5,0),\"\")","v":""},"Quantity of Outputs",null,null,null,null,null,null,null,null,null,null,null,null,0]
[null,null,null,null,null,"Emission (tons CO2eq)",{"$f":"IF(A79<>0,IF('GARMENT&TEXTILE PRODUCTS'!$C$34=1,G79*(C79+D79*EF!$M$4+E79*EF!$M$5)*'GARMENT&TEXTILE PRODUCTS'!$C$57/1000, G79*(C79+D79*EF!$M$4+E79*EF!$M$5)*'GARMENT&TEXTILE PRODUCTS'!$C$54/1000),\"\")","v":""},{"$f":"IF(A79<>\"\",IF('GARMENT&TEXTILE PRODUCTS'!$D$34=1,H79*(C79+D79*EF!$M$4+E79*EF!$M$5)*'GARMENT&TEXTILE PRODUCTS'!$D$57/1000, H79*(C79+D79*EF!$M$4+E79*EF!$M$5)*'GARMENT&TEXTILE PRODUCTS'!$D$54/1000),\"\")","v":""},{"$f":"IF(A79<>\"\",IF('GARMENT&TEXTILE PRODUCTS'!$E$34=1, I79*(C79+D79*EF!$M$4+E79*EF!$M$5)*'GARMENT&TEXTILE PRODUCTS'!$E$57/1000, I79*(C79+D79*EF!$M$4+E79*EF!$M$5)*'GARMENT&TEXTILE PRODUCTS'!$E$54/1000),\"\")","v":""},{"$f":"IF(A79<>\"\",IF('GARMENT&TEXTILE PRODUCTS'!$F$34=1,J79*(C79+D79*EF!$M$4+E79*EF!$M$5)*'GARMENT&TEXTILE PRODUCTS'!$F$57/1000, J79*(C79+D79*EF!$M$4+E79*EF!$M$5)*'GARMENT&TEXTILE PRODUCTS'!$F$54/1000),\"\")","v":""},{"$f":"IF(A79<>\"\",IF('GARMENT&TEXTILE PRODUCTS'!$G$34=1, K79*(C79+D79*EF!$M$4+E79*EF!$M$5)*'GARMENT&TEXTILE PRODUCTS'!$G$57/1000,K79*(C79+D79*EF!$M$4+E79*EF!$M$5)*'GARMENT&TEXTILE PRODUCTS'!$G$54/1000),\"\")","v":""},{"$f":"IF(A79<>\"\",IF('GARMENT&TEXTILE PRODUCTS'!$H$34=1,L79*(C79+D79*EF!$M$4+E79*EF!$M$5)*'GARMENT&TEXTILE PRODUCTS'!$H$57/1000,L79*(C79+D79*EF!$M$4+E79*EF!$M$5)*'GARMENT&TEXTILE PRODUCTS'!$H$54/1000),\"\")","v":""},{"$f":"IF(A79<>\"\",IF('GARMENT&TEXTILE PRODUCTS'!$I$34=1,M79*(C79+D79*EF!$M$4+E79*EF!$M$5)*'GARMENT&TEXTILE PRODUCTS'!$I$57/1000,M79*(C79+D79*EF!$M$4+E79*EF!$M$5)*'GARMENT&TEXTILE PRODUCTS'!$I$54/1000),\"\")","v":""},{"$f":"IF(A79<>\"\",IF('GARMENT&TEXTILE PRODUCTS'!$K$34=1,N79*(C79+D79*EF!$M$4+E79*EF!$M$5)*'GARMENT&TEXTILE PRODUCTS'!$J$57/1000,N79*(C79+D79*EF!$M$4+E79*EF!$M$5)*'GARMENT&TEXTILE PRODUCTS'!$J$54/1000),\"\")","v":""},{"$f":"IF(A79<>\"\",IF('GARMENT&TEXTILE PRODUCTS'!$K$34=1,O79*(C79+D79*EF!$M$4+E79*EF!$M$5)*'GARMENT&TEXTILE PRODUCTS'!$K$57/1000,O79*(C79+D79*EF!$M$4+E79*EF!$M$5)*'GARMENT&TEXTILE PRODUCTS'!$K$54/1000),\"\")","v":""},{"$f":"IF(A79<>\"\",IF('GARMENT&TEXTILE PRODUCTS'!$L$34=1,P79*(C79+D79*EF!$M$4+E79*EF!$M$5)*'GARMENT&TEXTILE PRODUCTS'!$L$57/1000,P79*(C79+D79*EF!$M$4+E79*EF!$M$5)*'GARMENT&TEXTILE PRODUCTS'!$L$54/1000),\"\")","v":""},{"$f":"IF(A79<>\"\",IF('GARMENT&TEXTILE PRODUCTS'!$M$34=1,Q79*(C79+D79*EF!$M$4+E79*EF!$M$5)*'GARMENT&TEXTILE PRODUCTS'!$M$57/1000,Q79*(C79+D79*EF!$M$4+E79*EF!$M$5)*'GARMENT&TEXTILE PRODUCTS'!$M$54/1000),\"\")","v":""},{"$f":"IF(A79<>\"\",IF('GARMENT&TEXTILE PRODUCTS'!$N$34=1,R79*(C79+D79*EF!$M$4+E79*EF!$M$5)*'GARMENT&TEXTILE PRODUCTS'!$N$57/1000,R79*(C79+D79*EF!$M$4+E79*EF!$M$5)*'GARMENT&TEXTILE PRODUCTS'!$N$54/1000),\"\")","v":""},0]
[]
["Total (tons CO2eq)",null,null,null,null,null,{"$f":"SUMIF($F$69:$F$81,$F$70,G69:G81)","v":0},{"$f":"SUMIF($F$69:$F$81,$F$70,H69:H81)","v":0},0,{"$f":"SUMIF($F$69:$F$81,$F$70,J69:J81)","v":0},0,0,0,0,0,0,0,0,0]
[]
[]
[]
[]
["IV. Wastewater treatment activities"]
[]
["Choose wastewater treatment measures",null,null,"Aerobic treatment plant - Good management"]
["If there is no measure your business is using or you need to edit the coefficients, please click"]
[]
[null,"Unit","Jan","Feb","March","April","May","June","July","Aug","Sep","Oct","Nov","Dec","Total"]
["Amount of wastewater","m3",null,null,null,null,null,null,null,null,null,null,null,null,{"$f":"SUM(C93:N93)","v":0}]
["Chemical Oxygen Demand (COD)","kgCOD/m3"]
["CH4 is recovered in the treatment system","kg"]
["MCF",null,{"$f":"IF($D$89<>\"\",VLOOKUP($D$89,EF!$K$22:$M$28,3,0),0)","v":0.1},{"$f":"IF($D$89<>\"\",VLOOKUP($D$89,EF!$K$22:$M$28,3,0),0)","v":0.1},{"$f":"IF($D$89<>\"\",VLOOKUP($D$89,EF!$K$22:$M$28,3,0),0)","v":0.1},{"$f":"IF($D$89<>\"\",VLOOKUP($D$89,EF!$K$22:$M$28,3,0),0)","v":0.1},{"$f":"IF($D$89<>\"\",VLOOKUP($D$89,EF!$K$22:$M$28,3,0),0)","v":0.1},{"$f":"IF($D$89<>\"\",VLOOKUP($D$89,EF!$K$22:$M$28,3,0),0)","v":0.1},{"$f":"IF($D$89<>\"\",VLOOKUP($D$89,EF!$K$22:$M$28,3,0),0)","v":0.1},{"$f":"IF($D$89<>\"\",VLOOKUP($D$89,EF!$K$22:$M$28,3,0),0)","v":0.1},{"$f":"IF($D$89<>\"\",VLOOKUP($D$89,EF!$K$22:$M$28,3,0),0)","v":0.1},{"$f":"IF($D$89<>\"\",VLOOKUP($D$89,EF!$K$22:$M$28,3,0),0)","v":0.1},{"$f":"IF($D$89<>\"\",VLOOKUP($D$89,EF!$K$22:$M$28,3,0),0)","v":0.1},{"$f":"IF($D$89<>\"\",VLOOKUP($D$89,EF!$K$22:$M$28,3,0),0)","v":0.1}]
["Maximum methane production capacity","(kg CH4/kg COD)",0.25,0.25,0.25,0.25,0.25,0.25,0.25,0.25,0.25,0.25,0.25,0.25]
["Sludge is removed","kg COD/month"]
["Emission","tons CO2eq",{"$f":"IF('ELECTRONICS PRODUCTS'!C38=1,((C93*C94-C98)*C96*C97-C95)*'ELECTRONICS PRODUCTS'!C62,((C93*C94-C98)*C96*C97-C95)*'ELECTRONICS PRODUCTS'!C59)","v":0},{"$f":"IF('ELECTRONICS PRODUCTS'!D38=1,((D93*D94-D98)*D96*D97-D95)*'ELECTRONICS PRODUCTS'!D62,((D93*D94-D98)*D96*D97-D95)*'ELECTRONICS PRODUCTS'!D59)","v":0},{"$f":"IF('ELECTRONICS PRODUCTS'!E38=1,((E93*E94-E98)*E96*E97-E95)*'ELECTRONICS PRODUCTS'!E62,((E93*E94-E98)*E96*E97-E95)*'ELECTRONICS PRODUCTS'!E59)","v":0},{"$f":"IF('ELECTRONICS PRODUCTS'!F38=1,((F93*F94-F98)*F96*F97-F95)*'ELECTRONICS PRODUCTS'!F62,((F93*F94-F98)*F96*F97-F95)*'ELECTRONICS PRODUCTS'!F59)","v":0},{"$f":"IF('ELECTRONICS PRODUCTS'!G38=1,((G93*G94-G98)*G96*G97-G95)*'ELECTRONICS PRODUCTS'!G62,((G93*G94-G98)*G96*G97-G95)*'ELECTRONICS PRODUCTS'!G59)","v":0},{"$f":"IF('ELECTRONICS PRODUCTS'!H38=1,((H93*H94-H98)*H96*H97-H95)*'ELECTRONICS PRODUCTS'!H62,((H93*H94-H98)*H96*H97-H95)*'ELECTRONICS PRODUCTS'!H59)","v":0},{"$f":"IF('ELECTRONICS PRODUCTS'!I38=1,((I93*I94-I98)*I96*I97-I95)*'ELECTRONICS PRODUCTS'!I62,((I93*I94-I98)*I96*I97-I95)*'ELECTRONICS PRODUCTS'!I59)","v":0},{"$f":"IF('ELECTRONICS PRODUCTS'!J38=1,((J93*J94-J98)*J96*J97-J95)*'ELECTRONICS PRODUCTS'!J62,((J93*J94-J98)*J96*J97-J95)*'ELECTRONICS PRODUCTS'!J59)","v":0},{"$f":"IF('ELECTRONICS PRODUCTS'!K38=1,((K93*K94-K98)*K96*K97-K95)*'ELECTRONICS PRODUCTS'!K62,((K93*K94-K98)*K96*K97-K95)*'ELECTRONICS PRODUCTS'!K59)","v":0},{"$f":"IF('ELECTRONICS PRODUCTS'!L38=1,((L93*L94-L98)*L96*L97-L95)*'ELECTRONICS PRODUCTS'!L62,((L93*L94-L98)*L96*L97-L95)*'ELECTRONICS PRODUCTS'!L59)","v":0},{"$f":"IF('ELECTRONICS PRODUCTS'!M38=1,((M93*M94-M98)*M96*M97-M95)*'ELECTRONICS PRODUCTS'!M62,((M93*M94-M98)*M96*M97-M95)*'ELECTRONICS PRODUCTS'!M59)","v":0},{"$f":"IF('ELECTRONICS PRODUCTS'!N38=1,((N93*N94-N98)*N96*N97-N95)*'ELECTRONICS PRODUCTS'!N62,((N93*N94-N98)*N96*N97-N95)*'ELECTRONICS PRODUCTS'!N59)","v":0},{"$f":"SUM(C99:N99)","v":0}]
[]
[]
["IV. Amount of steam purchased from outside and electricity purchased from the grid"]
[]
[null,"Unit","Jan","Feb","March","April","May","June","July","Aug","Sep","Oct","Nov","Dec","Total"]
["Generation","kWh",null,null,null,null,null,null,null,null,null,null,null,null,{"$f":"SUM(C105:N105)","v":0}]
["Emission Factor","tCO2/MWh",{"$f":"IF('ELECTRONICS PRODUCTS'!$C$15<>\"\",HLOOKUP('ELECTRONICS PRODUCTS'!$C$15,EF!$L$34:$Q$35,2,0),0)","v":0.67659999999999998},{"$f":"IF('ELECTRONICS PRODUCTS'!$C$15<>\"\",HLOOKUP('ELECTRONICS PRODUCTS'!$C$15,EF!$L$34:$Q$35,2,0),0)","v":0.67659999999999998},{"$f":"IF('ELECTRONICS PRODUCTS'!$C$15<>\"\",HLOOKUP('ELECTRONICS PRODUCTS'!$C$15,EF!$L$34:$Q$35,2,0),0)","v":0.67659999999999998},{"$f":"IF('ELECTRONICS PRODUCTS'!$C$15<>\"\",HLOOKUP('ELECTRONICS PRODUCTS'!$C$15,EF!$L$34:$Q$35,2,0),0)","v":0.67659999999999998},{"$f":"IF('ELECTRONICS PRODUCTS'!$C$15<>\"\",HLOOKUP('ELECTRONICS PRODUCTS'!$C$15,EF!$L$34:$Q$35,2,0),0)","v":0.67659999999999998},{"$f":"IF('ELECTRONICS PRODUCTS'!$C$15<>\"\",HLOOKUP('ELECTRONICS PRODUCTS'!$C$15,EF!$L$34:$Q$35,2,0),0)","v":0.67659999999999998},{"$f":"IF('ELECTRONICS PRODUCTS'!$C$15<>\"\",HLOOKUP('ELECTRONICS PRODUCTS'!$C$15,EF!$L$34:$Q$35,2,0),0)","v":0.67659999999999998},{"$f":"IF('ELECTRONICS PRODUCTS'!$C$15<>\"\",HLOOKUP('ELECTRONICS PRODUCTS'!$C$15,EF!$L$34:$Q$35,2,0),0)","v":0.67659999999999998},{"$f":"IF('ELECTRONICS PRODUCTS'!$C$15<>\"\",HLOOKUP('ELECTRONICS PRODUCTS'!$C$15,EF!$L$34:$Q$35,2,0),0)","v":0.67659999999999998},{"$f":"IF('ELECTRONICS PRODUCTS'!$C$15<>\"\",HLOOKUP('ELECTRONICS PRODUCTS'!$C$15,EF!$L$34:$Q$35,2,0),0)","v":0.67659999999999998},{"$f":"IF('ELECTRONICS PRODUCTS'!$C$15<>\"\",HLOOKUP('ELECTRONICS PRODUCTS'!$C$15,EF!$L$34:$Q$35,2,0),0)","v":0.67659999999999998},{"$f":"IF('ELECTRONICS PRODUCTS'!$C$15<>\"\",HLOOKUP('ELECTRONICS PRODUCTS'!$C$15,EF!$L$34:$Q$35,2,0),0)","v":0.67659999999999998}]
["Emission","tons CO2eq",{"$f":"IF('ELECTRONICS PRODUCTS'!C38=1,C105/1000*C106*'ELECTRONICS PRODUCTS'!C62,C105/1000*C106*'ELECTRONICS PRODUCTS'!C59)","v":0},{"$f":"IF('ELECTRONICS PRODUCTS'!D38=1,D105/1000*D106*'ELECTRONICS PRODUCTS'!D62,D105/1000*D106*'ELECTRONICS PRODUCTS'!D59)","v":0},{"$f":"IF('ELECTRONICS PRODUCTS'!E38=1,E105/1000*E106*'ELECTRONICS PRODUCTS'!E62,E105/1000*E106*'ELECTRONICS PRODUCTS'!E59)","v":0},{"$f":"IF('ELECTRONICS PRODUCTS'!F38=1,F105/1000*F106*'ELECTRONICS PRODUCTS'!F62,F105/1000*F106*'ELECTRONICS PRODUCTS'!F59)","v":0},{"$f":"IF('ELECTRONICS PRODUCTS'!G38=1,G105/1000*G106*'ELECTRONICS PRODUCTS'!G62,G105/1000*G106*'ELECTRONICS PRODUCTS'!G59)","v":0},{"$f":"IF('ELECTRONICS PRODUCTS'!H38=1,H105/1000*H106*'ELECTRONICS PRODUCTS'!H62,H105/1000*H106*'ELECTRONICS PRODUCTS'!H59)","v":0},{"$f":"IF('ELECTRONICS PRODUCTS'!I38=1,I105/1000*I106*'ELECTRONICS PRODUCTS'!I62,I105/1000*I106*'ELECTRONICS PRODUCTS'!I59)","v":0},{"$f":"IF('ELECTRONICS PRODUCTS'!J38=1,J105/1000*J106*'ELECTRONICS PRODUCTS'!J62,J105/1000*J106*'ELECTRONICS PRODUCTS'!J59)","v":0},{"$f":"IF('ELECTRONICS PRODUCTS'!K38=1,K105/1000*K106*'ELECTRONICS PRODUCTS'!K62,K105/1000*K106*'ELECTRONICS PRODUCTS'!K59)","v":0},{"$f":"IF('ELECTRONICS PRODUCTS'!L38=1,L105/1000*L106*'ELECTRONICS PRODUCTS'!L62,L105/1000*L106*'ELECTRONICS PRODUCTS'!L59)","v":0},{"$f":"IF('ELECTRONICS PRODUCTS'!M38=1,M105/1000*M106*'ELECTRONICS PRODUCTS'!M62,M105/1000*M106*'ELECTRONICS PRODUCTS'!M59)","v":0},{"$f":"IF('ELECTRONICS PRODUCTS'!N38=1,N105/1000*N106*'ELECTRONICS PRODUCTS'!N62,N105/1000*N106*'ELECTRONICS PRODUCTS'!N59)","v":0},{"$f":"SUM(C107:N107)","v":0}]
[]
[]
["Type of fuel for the boiler",null,"Crude Oil "]
["Steam pressure",null,0.04,null,"bar"]
["Boiler efficiency",null,40,null,"%"]
["Emission Factor CO2",null,{"$f":"VLOOKUP(C110,EF!B4:C55,2,0)","v":"73.3"},null,"kgCO2/GJ"]
["Emission Factor CH4",null,{"$f":"VLOOKUP($C$110,EF!$B$4:$E$54,3,0)","v":"0.003"},null,"kgCH4/GJ"]
["Emission Factor N2O",null,{"$f":"VLOOKUP($C$110,EF!$B$4:$E$54,4,0)","v":"0.0006"},null,"kgN2O/GJ"]
[]
[null,"Unit","Jan","Feb","March","April","May","June","July","Aug","Sep","Oct","Nov","Dec","Total"]
["Amount of steam","m3",null,null,null,null,null,null,null,null,null,null,null,null,{"$f":"SUM(C118:N118)","v":0}]
["Amount of converted heat","KJ",{"$f":"IF($C$111<>\"\",IF($B$118=\"tấn\",1000,VLOOKUP($C$111,EF!$A$79:$B$145,2,0)*C118*VLOOKUP($C$111,EF!$A$79:$C$145,3,0)/($C$112/100)))","v":0},{"$f":"IF($C$111<>\"\",IF($B$118=\"tấn\",1000,VLOOKUP($C$111,EF!$A$79:$B$145,2,0)*D118*VLOOKUP($C$111,EF!$A$79:$C$145,3,0)/($C$112/100)))","v":0},{"$f":"IF($C$111<>\"\",IF($B$118=\"tấn\",1000,VLOOKUP($C$111,EF!$A$79:$B$145,2,0)*E118*VLOOKUP($C$111,EF!$A$79:$C$145,3,0)/($C$112/100)))","v":0},{"$f":"IF($C$111<>\"\",IF($B$118=\"tấn\",1000,VLOOKUP($C$111,EF!$A$79:$B$145,2,0)*F118*VLOOKUP($C$111,EF!$A$79:$C$145,3,0)/($C$112/100)))","v":0},{"$f":"IF($C$111<>\"\",IF($B$118=\"tấn\",1000,VLOOKUP($C$111,EF!$A$79:$B$145,2,0)*G118*VLOOKUP($C$111,EF!$A$79:$C$145,3,0)/($C$112/100)))","v":0},{"$f":"IF($C$111<>\"\",IF($B$118=\"tấn\",1000,VLOOKUP($C$111,EF!$A$79:$B$145,2,0)*H118*VLOOKUP($C$111,EF!$A$79:$C$145,3,0)/($C$112/100)))","v":0},{"$f":"IF($C$111<>\"\",IF($B$118=\"tấn\",1000,VLOOKUP($C$111,EF!$A$79:$B$145,2,0)*I118*VLOOKUP($C$111,EF!$A$79:$C$145,3,0)/($C$112/100)))","v":0},{"$f":"IF($C$111<>\"\",IF($B$118=\"tấn\",1000,VLOOKUP($C$111,EF!$A$79:$B$145,2,0)*J118*VLOOKUP($C$111,EF!$A$79:$C$145,3,0)/($C$112/100)))","v":0},{"$f":"IF($C$111<>\"\",IF($B$118=\"tấn\",1000,VLOOKUP($C$111,EF!$A$79:$B$145,2,0)*K118*VLOOKUP($C$111,EF!$A$79:$C$145,3,0)/($C$112/100)))","v":0},{"$f":"IF($C$111<>\"\",IF($B$118=\"tấn\",1000,VLOOKUP($C$111,EF!$A$79:$B$145,2,0)*L118*VLOOKUP($C$111,EF!$A$79:$C$145,3,0)/($C$112/100)))","v":0},{"$f":"IF($C$111<>\"\",IF($B$118=\"tấn\",1000,VLOOKUP($C$111,EF!$A$79:$B$145,2,0)*M118*VLOOKUP($C$111,EF!$A$79:$C$145,3,0)/($C$112/100)))","v":0},{"$f":"IF($C$111<>\"\",IF($B$118=\"tấn\",1000,VLOOKUP($C$111,EF!$A$79:$B$145,2,0)*N118*VLOOKUP($C$111,EF!$A$79:$C$145,3,0)/($C$112/100)))","v":0},{"$f":"SUM(C119:N119)","v":0}]
["Emission","tons CO2eq",{"$f":"IF('ELECTRONICS PRODUCTS'!C38=1,C119/10^3*($C$113+$C$114*EF!$M$4+$C$115*EF!$M$5)/1000*'ELECTRONICS PRODUCTS'!C62,C119/10^3*($C$113+$C$114*EF!$M$4+$C$115*EF!$M$5)/1000*'ELECTRONICS PRODUCTS'!C59)","v":0},{"$f":"IF('ELECTRONICS PRODUCTS'!D38=1,D119/10^3*($C$113+$C$114*EF!$M$4+$C$115*EF!$M$5)/1000*'ELECTRONICS PRODUCTS'!D62,D119/10^3*($C$113+$C$114*EF!$M$4+$C$115*EF!$M$5)/1000*'ELECTRONICS PRODUCTS'!D59)","v":0},{"$f":"IF('ELECTRONICS PRODUCTS'!E38=1,E119/10^3*($C$113+$C$114*EF!$M$4+$C$115*EF!$M$5)/1000*'ELECTRONICS PRODUCTS'!E62,E119/10^3*($C$113+$C$114*EF!$M$4+$C$115*EF!$M$5)/1000*'ELECTRONICS PRODUCTS'!E59)","v":0},{"$f":"IF('ELECTRONICS PRODUCTS'!F38=1,F119/10^3*($C$113+$C$114*EF!$M$4+$C$115*EF!$M$5)/1000*'ELECTRONICS PRODUCTS'!F62,F119/10^3*($C$113+$C$114*EF!$M$4+$C$115*EF!$M$5)/1000*'ELECTRONICS PRODUCTS'!F59)","v":0},{"$f":"IF('ELECTRONICS PRODUCTS'!G38=1,G119/10^3*($C$113+$C$114*EF!$M$4+$C$115*EF!$M$5)/1000*'ELECTRONICS PRODUCTS'!G62,G119/10^3*($C$113+$C$114*EF!$M$4+$C$115*EF!$M$5)/1000*'ELECTRONICS PRODUCTS'!G59)","v":0},{"$f":"IF('ELECTRONICS PRODUCTS'!H38=1,H119/10^3*($C$113+$C$114*EF!$M$4+$C$115*EF!$M$5)/1000*'ELECTRONICS PRODUCTS'!H62,H119/10^3*($C$113+$C$114*EF!$M$4+$C$115*EF!$M$5)/1000*'ELECTRONICS PRODUCTS'!H59)","v":0},{"$f":"IF('ELECTRONICS PRODUCTS'!I38=1,I119/10^3*($C$113+$C$114*EF!$M$4+$C$115*EF!$M$5)/1000*'ELECTRONICS PRODUCTS'!I62,I119/10^3*($C$113+$C$114*EF!$M$4+$C$115*EF!$M$5)/1000*'ELECTRONICS PRODUCTS'!I59)","v":0},{"$f":"IF('ELECTRONICS PRODUCTS'!J38=1,J119/10^3*($C$113+$C$114*EF!$M$4+$C$115*EF!$M$5)/1000*'ELECTRONICS PRODUCTS'!J62,J119/10^3*($C$113+$C$114*EF!$M$4+$C$115*EF!$M$5)/1000*'ELECTRONICS PRODUCTS'!J59)","v":0},{"$f":"IF('ELECTRONICS PRODUCTS'!K38=1,K119/10^3*($C$113+$C$114*EF!$M$4+$C$115*EF!$M$5)/1000*'ELECTRONICS PRODUCTS'!K62,K119/10^3*($C$113+$C$114*EF!$M$4+$C$115*EF!$M$5)/1000*'ELECTRONICS PRODUCTS'!K59)","v":0},{"$f":"IF('ELECTRONICS PRODUCTS'!L38=1,L119/10^3*($C$113+$C$114*EF!$M$4+$C$115*EF!$M$5)/1000*'ELECTRONICS PRODUCTS'!L62,L119/10^3*($C$113+$C$114*EF!$M$4+$C$115*EF!$M$5)/1000*'ELECTRONICS PRODUCTS'!L59)","v":0},{"$f":"IF('ELECTRONICS PRODUCTS'!M38=1,M119/10^3*($C$113+$C$114*EF!$M$4+$C$115*EF!$M$5)/1000*'ELECTRONICS PRODUCTS'!M62,M119/10^3*($C$113+$C$114*EF!$M$4+$C$115*EF!$M$5)/1000*'ELECTRONICS PRODUCTS'!M59)","v":0},{"$f":"IF('ELECTRONICS PRODUCTS'!N38=1,N119/10^3*($C$113+$C$114*EF!$M$4+$C$115*EF!$M$5)/1000*'ELECTRONICS PRODUCTS'!N62,N119/10^3*($C$113+$C$114*EF!$M$4+$C$115*EF!$M$5)/1000*'ELECTRONICS PRODUCTS'!N59)","v":0},{"$f":"SUM(C120:N120)","v":0}]
[]
[]
["V. Other emission sources"]
[]
["Fuel/Process","Unit","CO2 emission factor (kgCO2/unit)","CH4 emission factor (kgCH4/unit)","N2O emission factor (kgN2O/unit)",null,"Quantity of fuel used",null,null,null,null,null,null,null,null,null,null,null,"Total"]
[null,null,null,null,null,null,"Jan","Feb","March","April","May","June","July","Aug","Sep","Oct","Nov","Dec"]
[null,null,null,null,null,"Fuel consumption",null,null,null,null,null,null,null,null,null,null,null,null,{"$f":"SUM(G127:R127)","v":0}]
[null,null,null,null,null,"Emission (tons CO2eq)",{"$f":"IF(A127<>0,IF('ELECTRONICS PRODUCTS'!$C$38=1,G127*(C127+D127*EF!$M$4+E127*EF!$M$5)*'ELECTRONICS PRODUCTS'!$C$62/1000, G127*(C127+D127*EF!$M$4+E127*EF!$M$5)*'ELECTRONICS PRODUCTS'!$C$59/1000),\"\")","v":""},{"$f":"IF(A127<>\"\",IF('ELECTRONICS PRODUCTS'!$D$38=1,H127*(C127+D127*EF!$M$4+E127*EF!$M$5)*'ELECTRONICS PRODUCTS'!$D$62/1000, H127*(C127+D127*EF!$M$4+E127*EF!$M$5)*'ELECTRONICS PRODUCTS'!$D$59/1000),\"\")","v":""},{"$f":"IF(A127<>\"\",IF('ELECTRONICS PRODUCTS'!$E$38=1, I127*(C127+D127*EF!$M$4+E127*EF!$M$5)*'ELECTRONICS PRODUCTS'!$E$62/1000, I127*(C127+D127*EF!$M$4+E127*EF!$M$5)*'ELECTRONICS PRODUCTS'!$E$59/1000),\"\")","v":""},{"$f":"IF(A127<>\"\",IF('ELECTRONICS PRODUCTS'!$F$38=1,J127*(C127+D127*EF!$M$4+E127*EF!$M$5)*'ELECTRONICS PRODUCTS'!$F$62/1000, J127*(C127+D127*EF!$M$4+E127*EF!$M$5)*'ELECTRONICS PRODUCTS'!$F$59/1000),\"\")","v":""},{"$f":"IF(A127<>\"\",IF('ELECTRONICS PRODUCTS'!$G$38=1, K127*(C127+D127*EF!$M$4+E127*EF!$M$5)*'ELECTRONICS PRODUCTS'!$G$62/1000,K127*(C127+D127*EF!$M$4+E127*EF!$M$5)*'ELECTRONICS PRODUCTS'!$G$59/1000),\"\")","v":""},{"$f":"IF(A127<>\"\",IF('ELECTRONICS PRODUCTS'!$H$38=1,L127*(C127+D127*EF!$M$4+E127*EF!$M$5)*'ELECTRONICS PRODUCTS'!$H$62/1000,L127*(C127+D127*EF!$M$4+E127*EF!$M$5)*'ELECTRONICS PRODUCTS'!$H$59/1000),\"\")","v":""},{"$f":"IF(A127<>\"\",IF('ELECTRONICS PRODUCTS'!$I$38=1,M127*(C127+D127*EF!$M$4+E127*EF!$M$5)*'ELECTRONICS PRODUCTS'!$I$62/1000,M127*(C127+D127*EF!$M$4+E127*EF!$M$5)*'ELECTRONICS PRODUCTS'!$I$59/1000),\"\")","v":""},{"$f":"IF(A127<>\"\",IF('ELECTRONICS PRODUCTS'!$J$38=1,N127*(C127+D127*EF!$M$4+E127*EF!$M$5)*'ELECTRONICS PRODUCTS'!$J$62/1000,N127*(C127+D127*EF!$M$4+E127*EF!$M$5)*'ELECTRONICS PRODUCTS'!$J$59/1000),\"\")","v":""},{"$f":"IF(A127<>\"\",IF('ELECTRONICS PRODUCTS'!$K$38=1,O127*(C127+D127*EF!$M$4+E127*EF!$M$5)*'ELECTRONICS PRODUCTS'!$K$62/1000,O127*(C127+D127*EF!$M$4+E127*EF!$M$5)*'ELECTRONICS PRODUCTS'!$K$59/1000),\"\")","v":""},{"$f":"IF(A127<>\"\",IF('ELECTRONICS PRODUCTS'!$L$38=1,P127*(C127+D127*EF!$M$4+E127*EF!$M$5)*'ELECTRONICS PRODUCTS'!$L$62/1000,P127*(C127+D127*EF!$M$4+E127*EF!$M$5)*'ELECTRONICS PRODUCTS'!$L$59/1000),\"\")","v":""},{"$f":"IF(A127<>\"\",IF('ELECTRONICS PRODUCTS'!$M$38=1,Q127*(C127+D127*EF!$M$4+E127*EF!$M$5)*'ELECTRONICS PRODUCTS'!$M$62/1000,Q127*(C127+D127*EF!$M$4+E127*EF!$M$5)*'ELECTRONICS PRODUCTS'!$M$59/1000),\"\")","v":""},{"$f":"IF(A127<>\"\",IF('ELECTRONICS PRODUCTS'!$N$38=1,R127*(C127+D127*EF!$M$4+E127*EF!$M$5)*'ELECTRONICS PRODUCTS'!$N$62/1000,R127*(C127+D127*EF!$M$4+E127*EF!$M$5)*'ELECTRONICS PRODUCTS'!$N$59/1000),\"\")","v":""},0]
[null,null,null,null,null,"Fuel consumption",null,null,null,null,null,null,null,null,null,null,null,null,0]
[null,null,null,null,null,"Emission (tons CO2eq)",{"$f":"IF(A129<>0,IF('ELECTRONICS PRODUCTS'!$C$38=1,G129*(C129+D129*EF!$M$4+E129*EF!$M$5)*'ELECTRONICS PRODUCTS'!$C$62/1000, G129*(C129+D129*EF!$M$4+E129*EF!$M$5)*'ELECTRONICS PRODUCTS'!$C$59/1000),\"\")","v":""},{"$f":"IF(A129<>\"\",IF('ELECTRONICS PRODUCTS'!$D$38=1,H129*(C129+D129*EF!$M$4+E129*EF!$M$5)*'ELECTRONICS PRODUCTS'!$D$62/1000, H129*(C129+D129*EF!$M$4+E129*EF!$M$5)*'ELECTRONICS PRODUCTS'!$D$59/1000),\"\")","v":""},{"$f":"IF(A129<>\"\",IF('ELECTRONICS PRODUCTS'!$E$38=1, I129*(C129+D129*EF!$M$4+E129*EF!$M$5)*'ELECTRONICS PRODUCTS'!$E$62/1000, I129*(C129+D129*EF!$M$4+E129*EF!$M$5)*'ELECTRONICS PRODUCTS'!$E$59/1000),\"\")","v":""},{"$f":"IF(A129<>\"\",IF('ELECTRONICS PRODUCTS'!$F$38=1,J129*(C129+D129*EF!$M$4+E129*EF!$M$5)*'ELECTRONICS PRODUCTS'!$F$62/1000, J129*(C129+D129*EF!$M$4+E129*EF!$M$5)*'ELECTRONICS PRODUCTS'!$F$59/1000),\"\")","v":""},{"$f":"IF(A129<>\"\",IF('ELECTRONICS PRODUCTS'!$G$38=1, K129*(C129+D129*EF!$M$4+E129*EF!$M$5)*'ELECTRONICS PRODUCTS'!$G$62/1000,K129*(C129+D129*EF!$M$4+E129*EF!$M$5)*'ELECTRONICS PRODUCTS'!$G$59/1000),\"\")","v":""},{"$f":"IF(A129<>\"\",IF('ELECTRONICS PRODUCTS'!$H$38=1,L129*(C129+D129*EF!$M$4+E129*EF!$M$5)*'ELECTRONICS PRODUCTS'!$H$62/1000,L129*(C129+D129*EF!$M$4+E129*EF!$M$5)*'ELECTRONICS PRODUCTS'!$H$59/1000),\"\")","v":""},{"$f":"IF(A129<>\"\",IF('ELECTRONICS PRODUCTS'!$I$38=1,M129*(C129+D129*EF!$M$4+E129*EF!$M$5)*'ELECTRONICS PRODUCTS'!$I$62/1000,M129*(C129+D129*EF!$M$4+E129*EF!$M$5)*'ELECTRONICS PRODUCTS'!$I$59/1000),\"\")","v":""},{"$f":"IF(A129<>\"\",IF('ELECTRONICS PRODUCTS'!$J$38=1,N129*(C129+D129*EF!$M$4+E129*EF!$M$5)*'ELECTRONICS PRODUCTS'!$J$62/1000,N129*(C129+D129*EF!$M$4+E129*EF!$M$5)*'ELECTRONICS PRODUCTS'!$J$59/1000),\"\")","v":""},{"$f":"IF(A129<>\"\",IF('ELECTRONICS PRODUCTS'!$K$38=1,O129*(C129+D129*EF!$M$4+E129*EF!$M$5)*'ELECTRONICS PRODUCTS'!$K$62/1000,O129*(C129+D129*EF!$M$4+E129*EF!$M$5)*'ELECTRONICS PRODUCTS'!$K$59/1000),\"\")","v":""},{"$f":"IF(A129<>\"\",IF('ELECTRONICS PRODUCTS'!$L$38=1,P129*(C129+D129*EF!$M$4+E129*EF!$M$5)*'ELECTRONICS PRODUCTS'!$L$62/1000,P129*(C129+D129*EF!$M$4+E129*EF!$M$5)*'ELECTRONICS PRODUCTS'!$L$59/1000),\"\")","v":""},{"$f":"IF(A129<>\"\",IF('ELECTRONICS PRODUCTS'!$M$38=1,Q129*(C129+D129*EF!$M$4+E129*EF!$M$5)*'ELECTRONICS PRODUCTS'!$M$62/1000,Q129*(C129+D129*EF!$M$4+E129*EF!$M$5)*'ELECTRONICS PRODUCTS'!$M$59/1000),\"\")","v":""},{"$f":"IF(A129<>\"\",IF('ELECTRONICS PRODUCTS'!$N$38=1,R129*(C129+D129*EF!$M$4+E129*EF!$M$5)*'ELECTRONICS PRODUCTS'!$N$62/1000,R129*(C129+D129*EF!$M$4+E129*EF!$M$5)*'ELECTRONICS PRODUCTS'!$N$59/1000),\"\")","v":""},0]
[null,null,null,null,null,"Fuel consumption",null,null,null,null,null,null,null,null,null,null,null,null,0]
[null,null,null,null,null,"Emission (tons CO2eq)",{"$f":"IF(A131<>0,IF('ELECTRONICS PRODUCTS'!$C$38=1,G131*(C131+D131*EF!$M$4+E131*EF!$M$5)*'ELECTRONICS PRODUCTS'!$C$62/1000, G131*(C131+D131*EF!$M$4+E131*EF!$M$5)*'ELECTRONICS PRODUCTS'!$C$59/1000),\"\")","v":""},{"$f":"IF(A131<>\"\",IF('ELECTRONICS PRODUCTS'!$D$38=1,H131*(C131+D131*EF!$M$4+E131*EF!$M$5)*'ELECTRONICS PRODUCTS'!$D$62/1000, H131*(C131+D131*EF!$M$4+E131*EF!$M$5)*'ELECTRONICS PRODUCTS'!$D$59/1000),\"\")","v":""},{"$f":"IF(A131<>\"\",IF('ELECTRONICS PRODUCTS'!$E$38=1, I131*(C131+D131*EF!$M$4+E131*EF!$M$5)*'ELECTRONICS PRODUCTS'!$E$62/1000, I131*(C131+D131*EF!$M$4+E131*EF!$M$5)*'ELECTRONICS PRODUCTS'!$E$59/1000),\"\")","v":""},{"$f":"IF(A131<>\"\",IF('ELECTRONICS PRODUCTS'!$F$38=1,J131*(C131+D131*EF!$M$4+E131*EF!$M$5)*'ELECTRONICS PRODUCTS'!$F$62/1000, J131*(C131+D131*EF!$M$4+E131*EF!$M$5)*'ELECTRONICS PRODUCTS'!$F$59/1000),\"\")","v":""},{"$f":"IF(A131<>\"\",IF('ELECTRONICS PRODUCTS'!$G$38=1, K131*(C131+D131*EF!$M$4+E131*EF!$M$5)*'ELECTRONICS PRODUCTS'!$G$62/1000,K131*(C131+D131*EF!$M$4+E131*EF!$M$5)*'ELECTRONICS PRODUCTS'!$G$59/1000),\"\")","v":""},{"$f":"IF(A131<>\"\",IF('ELECTRONICS PRODUCTS'!$H$38=1,L131*(C131+D131*EF!$M$4+E131*EF!$M$5)*'ELECTRONICS PRODUCTS'!$H$62/1000,L131*(C131+D131*EF!$M$4+E131*EF!$M$5)*'ELECTRONICS PRODUCTS'!$H$59/1000),\"\")","v":""},{"$f":"IF(A131<>\"\",IF('ELECTRONICS PRODUCTS'!$I$38=1,M131*(C131+D131*EF!$M$4+E131*EF!$M$5)*'ELECTRONICS PRODUCTS'!$I$62/1000,M131*(C131+D131*EF!$M$4+E131*EF!$M$5)*'ELECTRONICS PRODUCTS'!$I$59/1000),\"\")","v":""},{"$f":"IF(A131<>\"\",IF('ELECTRONICS PRODUCTS'!$J$38=1,N131*(C131+D131*EF!$M$4+E131*EF!$M$5)*'ELECTRONICS PRODUCTS'!$J$62/1000,N131*(C131+D131*EF!$M$4+E131*EF!$M$5)*'ELECTRONICS PRODUCTS'!$J$59/1000),\"\")","v":""},{"$f":"IF(A131<>\"\",IF('ELECTRONICS PRODUCTS'!$K$38=1,O131*(C131+D131*EF!$M$4+E131*EF!$M$5)*'ELECTRONICS PRODUCTS'!$K$62/1000,O131*(C131+D131*EF!$M$4+E131*EF!$M$5)*'ELECTRONICS PRODUCTS'!$K$59/1000),\"\")","v":""},{"$f":"IF(A131<>\"\",IF('ELECTRONICS PRODUCTS'!$L$38=1,P131*(C131+D131*EF!$M$4+E131*EF!$M$5)*'ELECTRONICS PRODUCTS'!$L$62/1000,P131*(C131+D131*EF!$M$4+E131*EF!$M$5)*'ELECTRONICS PRODUCTS'!$L$59/1000),\"\")","v":""},{"$f":"IF(A131<>\"\",IF('ELECTRONICS PRODUCTS'!$M$38=1,Q131*(C131+D131*EF!$M$4+E131*EF!$M$5)*'ELECTRONICS PRODUCTS'!$M$62/1000,Q131*(C131+D131*EF!$M$4+E131*EF!$M$5)*'ELECTRONICS PRODUCTS'!$M$59/1000),\"\")","v":""},{"$f":"IF(A131<>\"\",IF('ELECTRONICS PRODUCTS'!$N$38=1,R131*(C131+D131*EF!$M$4+E131*EF!$M$5)*'ELECTRONICS PRODUCTS'!$N$62/1000,R131*(C131+D131*EF!$M$4+E131*EF!$M$5)*'ELECTRONICS PRODUCTS'!$N$59/1000),\"\")","v":""},0]
[null,null,null,null,null,"Fuel consumption",null,null,null,null,null,null,null,null,null,null,null,null,0]
[null,null,null,null,null,"Emission (tons CO2eq)",{"$f":"IF(A133<>0,IF('ELECTRONICS PRODUCTS'!$C$38=1,G133*(C133+D133*EF!$M$4+E133*EF!$M$5)*'ELECTRONICS PRODUCTS'!$C$62/1000, G133*(C133+D133*EF!$M$4+E133*EF!$M$5)*'ELECTRONICS PRODUCTS'!$C$59/1000),\"\")","v":""},{"$f":"IF(A133<>\"\",IF('ELECTRONICS PRODUCTS'!$D$38=1,H133*(C133+D133*EF!$M$4+E133*EF!$M$5)*'ELECTRONICS PRODUCTS'!$D$62/1000, H133*(C133+D133*EF!$M$4+E133*EF!$M$5)*'ELECTRONICS PRODUCTS'!$D$59/1000),\"\")","v":""},{"$f":"IF(A133<>\"\",IF('ELECTRONICS PRODUCTS'!$E$38=1, I133*(C133+D133*EF!$M$4+E133*EF!$M$5)*'ELECTRONICS PRODUCTS'!$E$62/1000, I133*(C133+D133*EF!$M$4+E133*EF!$M$5)*'ELECTRONICS PRODUCTS'!$E$59/1000),\"\")","v":""},{"$f":"IF(A133<>\"\",IF('ELECTRONICS PRODUCTS'!$F$38=1,J133*(C133+D133*EF!$M$4+E133*EF!$M$5)*'ELECTRONICS PRODUCTS'!$F$62/1000, J133*(C133+D133*EF!$M$4+E133*EF!$M$5)*'ELECTRONICS PRODUCTS'!$F$59/1000),\"\")","v":""},{"$f":"IF(A133<>\"\",IF('ELECTRONICS PRODUCTS'!$G$38=1, K133*(C133+D133*EF!$M$4+E133*EF!$M$5)*'ELECTRONICS PRODUCTS'!$G$62/1000,K133*(C133+D133*EF!$M$4+E133*EF!$M$5)*'ELECTRONICS PRODUCTS'!$G$59/1000),\"\")","v":""},{"$f":"IF(A133<>\"\",IF('ELECTRONICS PRODUCTS'!$H$38=1,L133*(C133+D133*EF!$M$4+E133*EF!$M$5)*'ELECTRONICS PRODUCTS'!$H$62/1000,L133*(C133+D133*EF!$M$4+E133*EF!$M$5)*'ELECTRONICS PRODUCTS'!$H$59/1000),\"\")","v":""},{"$f":"IF(A133<>\"\",IF('ELECTRONICS PRODUCTS'!$I$38=1,M133*(C133+D133*EF!$M$4+E133*EF!$M$5)*'ELECTRONICS PRODUCTS'!$I$62/1000,M133*(C133+D133*EF!$M$4+E133*EF!$M$5)*'ELECTRONICS PRODUCTS'!$I$59/1000),\"\")","v":""},{"$f":"IF(A133<>\"\",IF('ELECTRONICS PRODUCTS'!$J$38=1,N133*(C133+D133*EF!$M$4+E133*EF!$M$5)*'ELECTRONICS PRODUCTS'!$J$62/1000,N133*(C133+D133*EF!$M$4+E133*EF!$M$5)*'ELECTRONICS PRODUCTS'!$J$59/1000),\"\")","v":""},{"$f":"IF(A133<>\"\",IF('ELECTRONICS PRODUCTS'!$K$38=1,O133*(C133+D133*EF!$M$4+E133*EF!$M$5)*'ELECTRONICS PRODUCTS'!$K$62/1000,O133*(C133+D133*EF!$M$4+E133*EF!$M$5)*'ELECTRONICS PRODUCTS'!$K$59/1000),\"\")","v":""},{"$f":"IF(A133<>\"\",IF('ELECTRONICS PRODUCTS'!$L$38=1,P133*(C133+D133*EF!$M$4+E133*EF!$M$5)*'ELECTRONICS PRODUCTS'!$L$62/1000,P133*(C133+D133*EF!$M$4+E133*EF!$M$5)*'ELECTRONICS PRODUCTS'!$L$59/1000),\"\")","v":""},{"$f":"IF(A133<>\"\",IF('ELECTRONICS PRODUCTS'!$M$38=1,Q133*(C133+D133*EF!$M$4+E133*EF!$M$5)*'ELECTRONICS PRODUCTS'!$M$62/1000,Q133*(C133+D133*EF!$M$4+E133*EF!$M$5)*'ELECTRONICS PRODUCTS'!$M$59/1000),\"\")","v":""},{"$f":"IF(A133<>\"\",IF('ELECTRONICS PRODUCTS'!$N$38=1,R133*(C133+D133*EF!$M$4+E133*EF!$M$5)*'ELECTRONICS PRODUCTS'!$N$62/1000,R133*(C133+D133*EF!$M$4+E133*EF!$M$5)*'ELECTRONICS PRODUCTS'!$N$59/1000),\"\")","v":""},0]
[null,null,null,null,null,"Fuel consumption",null,null,null,null,null,null,null,null,null,null,null,null,0]
[null,null,null,null,null,"Emission (tons CO2eq)",{"$f":"IF(A135<>0,IF('ELECTRONICS PRODUCTS'!$C$38=1,G135*(C135+D135*EF!$M$4+E135*EF!$M$5)*'ELECTRONICS PRODUCTS'!$C$62/1000, G135*(C135+D135*EF!$M$4+E135*EF!$M$5)*'ELECTRONICS PRODUCTS'!$C$59/1000),\"\")","v":""},{"$f":"IF(A135<>\"\",IF('ELECTRONICS PRODUCTS'!$D$38=1,H135*(C135+D135*EF!$M$4+E135*EF!$M$5)*'ELECTRONICS PRODUCTS'!$D$62/1000, H135*(C135+D135*EF!$M$4+E135*EF!$M$5)*'ELECTRONICS PRODUCTS'!$D$59/1000),\"\")","v":""},{"$f":"IF(A135<>\"\",IF('ELECTRONICS PRODUCTS'!$E$38=1, I135*(C135+D135*EF!$M$4+E135*EF!$M$5)*'ELECTRONICS PRODUCTS'!$E$62/1000, I135*(C135+D135*EF!$M$4+E135*EF!$M$5)*'ELECTRONICS PRODUCTS'!$E$59/1000),\"\")","v":""},{"$f":"IF(A135<>\"\",IF('ELECTRONICS PRODUCTS'!$F$38=1,J135*(C135+D135*EF!$M$4+E135*EF!$M$5)*'ELECTRONICS PRODUCTS'!$F$62/1000, J135*(C135+D135*EF!$M$4+E135*EF!$M$5)*'ELECTRONICS PRODUCTS'!$F$59/1000),\"\")","v":""},{"$f":"IF(A135<>\"\",IF('ELECTRONICS PRODUCTS'!$G$38=1, K135*(C135+D135*EF!$M$4+E135*EF!$M$5)*'ELECTRONICS PRODUCTS'!$G$62/1000,K135*(C135+D135*EF!$M$4+E135*EF!$M$5)*'ELECTRONICS PRODUCTS'!$G$59/1000),\"\")","v":""},{"$f":"IF(A135<>\"\",IF('ELECTRONICS PRODUCTS'!$H$38=1,L135*(C135+D135*EF!$M$4+E135*EF!$M$5)*'ELECTRONICS PRODUCTS'!$H$62/1000,L135*(C135+D135*EF!$M$4+E135*EF!$M$5)*'ELECTRONICS PRODUCTS'!$H$59/1000),\"\")","v":""},{"$f":"IF(A135<>\"\",IF('ELECTRONICS PRODUCTS'!$I$38=1,M135*(C135+D135*EF!$M$4+E135*EF!$M$5)*'ELECTRONICS PRODUCTS'!$I$62/1000,M135*(C135+D135*EF!$M$4+E135*EF!$M$5)*'ELECTRONICS PRODUCTS'!$I$59/1000),\"\")","v":""},{"$f":"IF(A135<>\"\",IF('ELECTRONICS PRODUCTS'!$J$38=1,N135*(C135+D135*EF!$M$4+E135*EF!$M$5)*'ELECTRONICS PRODUCTS'!$J$62/1000,N135*(C135+D135*EF!$M$4+E135*EF!$M$5)*'ELECTRONICS PRODUCTS'!$J$59/1000),\"\")","v":""},{"$f":"IF(A135<>\"\",IF('ELECTRONICS PRODUCTS'!$K$38=1,O135*(C135+D135*EF!$M$4+E135*EF!$M$5)*'ELECTRONICS PRODUCTS'!$K$62/1000,O135*(C135+D135*EF!$M$4+E135*EF!$M$5)*'ELECTRONICS PRODUCTS'!$K$59/1000),\"\")","v":""},{"$f":"IF(A135<>\"\",IF('ELECTRONICS PRODUCTS'!$L$38=1,P135*(C135+D135*EF!$M$4+E135*EF!$M$5)*'ELECTRONICS PRODUCTS'!$L$62/1000,P135*(C135+D135*EF!$M$4+E135*EF!$M$5)*'ELECTRONICS PRODUCTS'!$L$59/1000),\"\")","v":""},{"$f":"IF(A135<>\"\",IF('ELECTRONICS PRODUCTS'!$M$38=1,Q135*(C135+D135*EF!$M$4+E135*EF!$M$5)*'ELECTRONICS PRODUCTS'!$M$62/1000,Q135*(C135+D135*EF!$M$4+E135*EF!$M$5)*'ELECTRONICS PRODUCTS'!$M$59/1000),\"\")","v":""},{"$f":"IF(A135<>\"\",IF('ELECTRONICS PRODUCTS'!$N$38=1,R135*(C135+D135*EF!$M$4+E135*EF!$M$5)*'ELECTRONICS PRODUCTS'!$N$62/1000,R135*(C135+D135*EF!$M$4+E135*EF!$M$5)*'ELECTRONICS PRODUCTS'!$N$59/1000),\"\")","v":""},0]
[]
["Total (tons CO2eq)",null,null,null,null,null,{"$f":"SUMIF($F$127:$F$137,$F$128,G127:G137)","v":0},0,0,0,0,0,0,0,0,0,0,0,0]

{"sheet":"ELECTRONICS PHASE 3","index":5,"n_rows":27,"n_cols":19,"rows_kept":27,"cut":false,"hidden":true,"merged":[[26,0,26,5],[23,0,24,0],[23,1,24,1],[23,2,24,2],[23,3,24,3],[23,4,24,4],[21,0,22,0],[21,1,22,1],[21,2,22,2],[21,3,22,3],[21,4,22,4],[19,0,20,0],[19,1,20,1],[19,2,20,2],[19,3,20,3],[19,4,20,4],[17,0,18,0],[17,1,18,1],[17,2,18,2],[17,3,18,3],[17,4,18,4],[15,0,16,0],[15,1,16,1],[15,2,16,2],[15,3,16,3],[15,4,16,4],[1,0,1,19],[11,5,12,5],[11,6,11,17],[11,18,12,18],[13,0,14,0],[13,1,14,1],[13,2,14,2],[13,3,14,3],[13,4,14,4],[11,0,12,0],[11,1,12,1],[11,2,12,2],[11,3,12,3],[11,4,12,4]]}
[]
["PHASE 3 INPUT DATA: DISTRIBUTION AND RETAIL"]
[]
[]
[]
[]
[]
[]
[]
[]
[]
["Transportation","Size","EF CO2 \n(kg CO2/ton.km)","EF CH4 \n(kg CO4/ton.km)","EF N2O (kg N2O/ton.km)",null,"Product transport distance and emissions",null,null,null,null,null,null,null,null,null,null,null,"Tổng"]
[null,null,null,null,null,null,"Jan","Feb","March","April","May","June","July","Aug","Sep","Oct","Nov","Dec"]
[null,null,{"$f":"IF(AND(A14<>\"\",B14<>\"\"),VLOOKUP(A14&B14,EF!$A$171:$F$245,4,0),\"\")","v":""},{"$f":"IF(AND(A14<>\"\",B14<>\"\"),VLOOKUP(A14&B14,EF!$A$171:$F$245,5,0),\"\")","v":""},{"$f":"IF(AND(A14<>\"\",B14<>\"\"),VLOOKUP(A14&B14,EF!$A$171:$F$245,6,0),\"\")","v":""},"Distance traveled by product (tons.km)",null,null,null,null,null,null,null,null,null,null,null,null,{"$f":"SUM(G14:R14)","v":0}]
[null,null,null,null,null,"Emission (tons CO2eq)",{"$f":"IF(A14<>\"\",G14*(C14+D14*EF!$M$4+EF!$M$5*E14)/1000,0)","v":0},{"$f":"IF(A14<>\"\",H14*(C14+D14*EF!$M$4+EF!$M$5*E14)/1000,0)","v":0},{"$f":"IF(A14<>\"\",I14*(C14+D14*EF!$M$4+EF!$M$5*E14)/1000,0)","v":0},{"$f":"IF(A14<>\"\",J14*(C14+D14*EF!$M$4+EF!$M$5*E14)/1000,0)","v":0},{"$f":"IF(A14<>\"\",K14*(C14+D14*EF!$M$4+EF!$M$5*E14)/1000,0)","v":0},{"$f":"IF(A14<>\"\",L14*(C14+D14*EF!$M$4+EF!$M$5*E14)/1000,0)","v":0},{"$f":"IF(A14<>\"\",M14*(C14+D14*EF!$M$4+EF!$M$5*E14)/1000,0)","v":0},{"$f":"IF(A14<>\"\",N14*(C14+D14*EF!$M$4+EF!$M$5*E14)/1000,0)","v":0},{"$f":"IF(A14<>\"\",O14*(C14+D14*EF!$M$4+EF!$M$5*E14)/1000,0)","v":0},{"$f":"IF(A14<>\"\",P14*(C14+D14*EF!$M$4+EF!$M$5*E14)/1000,0)","v":0},{"$f":"IF(A14<>\"\",Q14*(C14+D14*EF!$M$4+EF!$M$5*E14)/1000,0)","v":0},{"$f":"IF(A14<>\"\",R14*(C14+D14*EF!$M$4+EF!$M$5*E14)/1000,0)","v":0},0]
[null,null,{"$f":"IF(AND(A16<>\"\",B16<>\"\"),VLOOKUP(A16&B16,EF!$A$171:$F$245,4,0),\"\")","v":""},{"$f":"IF(AND(A16<>\"\",B16<>\"\"),VLOOKUP(A16&B16,EF!$A$171:$F$245,5,0),\"\")","v":""},{"$f":"IF(AND(A16<>\"\",B16<>\"\"),VLOOKUP(A16&B16,EF!$A$171:$F$245,6,0),\"\")","v":""},"Distance traveled by product (tons.km)",null,null,null,null,null,null,null,null,null,null,null,null,0]
[null,null,null,null,null,"Emission (tons CO2eq)",{"$f":"IF(A16<>\"\",G16*(C16+D16*EF!$M$4+EF!$M$5*E16)/1000,0)","v":0},{"$f":"IF(A16<>\"\",H16*(C16+D16*EF!$M$4+EF!$M$5*E16)/1000,0)","v":0},{"$f":"IF(A16<>\"\",I16*(C16+D16*EF!$M$4+EF!$M$5*E16)/1000,0)","v":0},{"$f":"IF(A16<>\"\",J16*(C16+D16*EF!$M$4+EF!$M$5*E16)/1000,0)","v":0},{"$f":"IF(A16<>\"\",K16*(C16+D16*EF!$M$4+EF!$M$5*E16)/1000,0)","v":0},{"$f":"IF(A16<>\"\",L16*(C16+D16*EF!$M$4+EF!$M$5*E16)/1000,0)","v":0},{"$f":"IF(A16<>\"\",M16*(C16+D16*EF!$M$4+EF!$M$5*E16)/1000,0)","v":0},{"$f":"IF(A16<>\"\",N16*(C16+D16*EF!$M$4+EF!$M$5*E16)/1000,0)","v":0},{"$f":"IF(A16<>\"\",O16*(C16+D16*EF!$M$4+EF!$M$5*E16)/1000,0)","v":0},{"$f":"IF(A16<>\"\",P16*(C16+D16*EF!$M$4+EF!$M$5*E16)/1000,0)","v":0},{"$f":"IF(A16<>\"\",Q16*(C16+D16*EF!$M$4+EF!$M$5*E16)/1000,0)","v":0},{"$f":"IF(A16<>\"\",R16*(C16+D16*EF!$M$4+EF!$M$5*E16)/1000,0)","v":0},0]
[null,null,{"$f":"IF(AND(A18<>\"\",B18<>\"\"),VLOOKUP(A18&B18,EF!$A$171:$F$245,4,0),\"\")","v":""},{"$f":"IF(AND(A18<>\"\",B18<>\"\"),VLOOKUP(A18&B18,EF!$A$171:$F$245,5,0),\"\")","v":""},{"$f":"IF(AND(A18<>\"\",B18<>\"\"),VLOOKUP(A18&B18,EF!$A$171:$F$245,6,0),\"\")","v":""},"Distance traveled by product (tons.km)",null,null,null,null,null,null,null,null,null,null,null,null,0]
[null,null,null,null,null,"Emission (tons CO2eq)",{"$f":"IF(A18<>\"\",G18*(C18+D18*EF!$M$4+EF!$M$5*E18)/1000,0)","v":0},{"$f":"IF(A18<>\"\",H18*(C18+D18*EF!$M$4+EF!$M$5*E18)/1000,0)","v":0},{"$f":"IF(A18<>\"\",I18*(C18+D18*EF!$M$4+EF!$M$5*E18)/1000,0)","v":0},{"$f":"IF(A18<>\"\",J18*(C18+D18*EF!$M$4+EF!$M$5*E18)/1000,0)","v":0},{"$f":"IF(A18<>\"\",K18*(C18+D18*EF!$M$4+EF!$M$5*E18)/1000,0)","v":0},{"$f":"IF(A18<>\"\",L18*(C18+D18*EF!$M$4+EF!$M$5*E18)/1000,0)","v":0},{"$f":"IF(A18<>\"\",M18*(C18+D18*EF!$M$4+EF!$M$5*E18)/1000,0)","v":0},{"$f":"IF(A18<>\"\",N18*(C18+D18*EF!$M$4+EF!$M$5*E18)/1000,0)","v":0},{"$f":"IF(A18<>\"\",O18*(C18+D18*EF!$M$4+EF!$M$5*E18)/1000,0)","v":0},{"$f":"IF(A18<>\"\",P18*(C18+D18*EF!$M$4+EF!$M$5*E18)/1000,0)","v":0},{"$f":"IF(A18<>\"\",Q18*(C18+D18*EF!$M$4+EF!$M$5*E18)/1000,0)","v":0},{"$f":"IF(A18<>\"\",R18*(C18+D18*EF!$M$4+EF!$M$5*E18)/1000,0)","v":0},0]
[null,null,{"$f":"IF(AND(A20<>\"\",B20<>\"\"),VLOOKUP(A20&B20,EF!$A$171:$F$245,4,0),\"\")","v":""},{"$f":"IF(AND(A20<>\"\",B20<>\"\"),VLOOKUP(A20&B20,EF!$A$171:$F$245,5,0),\"\")","v":""},{"$f":"IF(AND(A20<>\"\",B20<>\"\"),VLOOKUP(A20&B20,EF!$A$171:$F$245,6,0),\"\")","v":""},"Distance traveled by product (tons.km)",null,null,null,null,null,null,null,null,null,null,null,null,0]
[null,null,null,null,null,"Emission (tons CO2eq)",{"$f":"IF(A20<>\"\",G20*(C20+D20*EF!$M$4+EF!$M$5*E20)/1000,0)","v":0},{"$f":"IF(A20<>\"\",H20*(C20+D20*EF!$M$4+EF!$M$5*E20)/1000,0)","v":0},{"$f":"IF(A20<>\"\",I20*(C20+D20*EF!$M$4+EF!$M$5*E20)/1000,0)","v":0},{"$f":"IF(A20<>\"\",J20*(C20+D20*EF!$M$4+EF!$M$5*E20)/1000,0)","v":0},{"$f":"IF(A20<>\"\",K20*(C20+D20*EF!$M$4+EF!$M$5*E20)/1000,0)","v":0},{"$f":"IF(A20<>\"\",L20*(C20+D20*EF!$M$4+EF!$M$5*E20)/1000,0)","v":0},{"$f":"IF(A20<>\"\",M20*(C20+D20*EF!$M$4+EF!$M$5*E20)/1000,0)","v":0},{"$f":"IF(A20<>\"\",N20*(C20+D20*EF!$M$4+EF!$M$5*E20)/1000,0)","v":0},{"$f":"IF(A20<>\"\",O20*(C20+D20*EF!$M$4+EF!$M$5*E20)/1000,0)","v":0},{"$f":"IF(A20<>\"\",P20*(C20+D20*EF!$M$4+EF!$M$5*E20)/1000,0)","v":0},{"$f":"IF(A20<>\"\",Q20*(C20+D20*EF!$M$4+EF!$M$5*E20)/1000,0)","v":0},{"$f":"IF(A20<>\"\",R20*(C20+D20*EF!$M$4+EF!$M$5*E20)/1000,0)","v":0},0]
[null,null,{"$f":"IF(AND(A22<>\"\",B22<>\"\"),VLOOKUP(A22&B22,EF!$A$171:$F$245,4,0),\"\")","v":""},{"$f":"IF(AND(A22<>\"\",B22<>\"\"),VLOOKUP(A22&B22,EF!$A$171:$F$245,5,0),\"\")","v":""},{"$f":"IF(AND(A22<>\"\",B22<>\"\"),VLOOKUP(A22&B22,EF!$A$171:$F$245,6,0),\"\")","v":""},"Distance traveled by product (tons.km)",null,null,null,null,null,null,null,null,null,null,null,null,0]
[null,null,null,null,null,"Emission (tons CO2eq)",{"$f":"IF(A22<>\"\",G22*(C22+D22*EF!$M$4+EF!$M$5*E22)/1000,0)","v":0},{"$f":"IF(A22<>\"\",H22*(C22+D22*EF!$M$4+EF!$M$5*E22)/1000,0)","v":0},{"$f":"IF(A22<>\"\",I22*(C22+D22*EF!$M$4+EF!$M$5*E22)/1000,0)","v":0},{"$f":"IF(A22<>\"\",J22*(C22+D22*EF!$M$4+EF!$M$5*E22)/1000,0)","v":0},{"$f":"IF(A22<>\"\",K22*(C22+D22*EF!$M$4+EF!$M$5*E22)/1000,0)","v":0},{"$f":"IF(A22<>\"\",L22*(C22+D22*EF!$M$4+EF!$M$5*E22)/1000,0)","v":0},{"$f":"IF(A22<>\"\",M22*(C22+D22*EF!$M$4+EF!$M$5*E22)/1000,0)","v":0},{"$f":"IF(A22<>\"\",N22*(C22+D22*EF!$M$4+EF!$M$5*E22)/1000,0)","v":0},{"$f":"IF(A22<>\"\",O22*(C22+D22*EF!$M$4+EF!$M$5*E22)/1000,0)","v":0},{"$f":"IF(A22<>\"\",P22*(C22+D22*EF!$M$4+EF!$M$5*E22)/1000,0)","v":0},{"$f":"IF(A22<>\"\",Q22*(C22+D22*EF!$M$4+EF!$M$5*E22)/1000,0)","v":0},{"$f":"IF(A22<>\"\",R22*(C22+D22*EF!$M$4+EF!$M$5*E22)/1000,0)","v":0},0]
[null,null,{"$f":"IF(AND(A24<>\"\",B24<>\"\"),VLOOKUP(A24&B24,EF!$A$171:$F$245,4,0),\"\")","v":""},{"$f":"IF(AND(A24<>\"\",B24<>\"\"),VLOOKUP(A24&B24,EF!$A$171:$F$245,5,0),\"\")","v":""},{"$f":"IF(AND(A24<>\"\",B24<>\"\"),VLOOKUP(A24&B24,EF!$A$171:$F$245,6,0),\"\")","v":""},"Distance traveled by product (tons.km)",null,null,null,null,null,null,null,null,null,null,null,null,0]
[null,null,null,null,null,"Emission (tons CO2eq)",{"$f":"IF(A24<>\"\",G24*(C24+D24*EF!$M$4+EF!$M$5*E24)/1000,0)","v":0},{"$f":"IF(A24<>\"\",H24*(C24+D24*EF!$M$4+EF!$M$5*E24)/1000,0)","v":0},{"$f":"IF(A24<>\"\",I24*(C24+D24*EF!$M$4+EF!$M$5*E24)/1000,0)","v":0},{"$f":"IF(A24<>\"\",J24*(C24+D24*EF!$M$4+EF!$M$5*E24)/1000,0)","v":0},{"$f":"IF(A24<>\"\",K24*(C24+D24*EF!$M$4+EF!$M$5*E24)/1000,0)","v":0},{"$f":"IF(A24<>\"\",L24*(C24+D24*EF!$M$4+EF!$M$5*E24)/1000,0)","v":0},{"$f":"IF(A24<>\"\",M24*(C24+D24*EF!$M$4+EF!$M$5*E24)/1000,0)","v":0},{"$f":"IF(A24<>\"\",N24*(C24+D24*EF!$M$4+EF!$M$5*E24)/1000,0)","v":0},{"$f":"IF(A24<>\"\",O24*(C24+D24*EF!$M$4+EF!$M$5*E24)/1000,0)","v":0},{"$f":"IF(A24<>\"\",P24*(C24+D24*EF!$M$4+EF!$M$5*E24)/1000,0)","v":0},{"$f":"IF(A24<>\"\",Q24*(C24+D24*EF!$M$4+EF!$M$5*E24)/1000,0)","v":0},{"$f":"IF(A24<>\"\",R24*(C24+D24*EF!$M$4+EF!$M$5*E24)/1000,0)","v":0},0]
[null,null,null,null,null,null,null,null,null,null,null,null,null,null,null,null,null,null,0]
["Total Emission (tons CO2eq)",null,null,null,null,null,{"$f":"SUMIF($F$14:$F$26,$F$15,G14:G26)","v":0},0,0,0,0,0,0,0,0,0,0,0,0]

{"sheet":"ELECTRONICS PHASE 4","index":6,"n_rows":32,"n_cols":18,"rows_kept":32,"cut":false,"hidden":true,"merged":[[1,0,1,19],[10,17,11,17],[23,1,24,1],[23,2,23,13],[23,14,24,14],[18,1,18,3],[10,1,11,1],[10,3,11,3],[10,4,11,4],[10,5,10,16],[10,2,11,2]]}
[]
["PHASE 4 INPUT DATA: PRODUCT USE"]
[]
[]
[]
[]
[]
[]
[]
[]
[null,"Fuel","Describe","Unit","Emission Factor (tCO2eq/unit)","Fuel quantity",null,null,null,null,null,null,null,null,null,null,null,"Total"]
[null,null,null,null,null,"Jan","Feb","March","April","May","June","July","Aug","Sep","Oct","Nov","Dec"]
[null,null,null,null,null,null,null,null,null,null,null,null,null,null,null,null,null,{"$f":"SUM(F13:Q13)","v":0}]
[null,null,null,null,null,null,null,null,null,null,null,null,null,null,null,null,null,{"$f":"SUM(F14:Q14)","v":0}]
[null,null,null,null,null,null,null,null,null,null,null,null,null,null,null,null,null,{"$f":"SUM(F15:Q15)","v":0}]
[null,null,null,null,null,null,null,null,null,null,null,null,null,null,null,null,null,{"$f":"SUM(F16:Q16)","v":0}]
[null,null,null,null,null,null,null,null,null,null,null,null,null,null,null,null,null,{"$f":"SUM(F17:Q17)","v":0}]
[]
[null,"Total",null,null,null,{"$f":"SUM(F13:F18)","v":0},{"$f":"SUM(G13:G18)","v":0},0,0,0,0,0,0,0,0,0,0,0]
[]
[]
[]
[]
[null,"Fuel","Emissions from phase 1: Production and transportation of raw materials to produce products (tons CO2eq)",null,null,null,null,null,null,null,null,null,null,null,"Total"]
[null,null,"Jan","Feb","March","April","May","June","July","Aug","Sep","Oct","Nov","Dec"]
[null,{"$f":"IF(B13<>\"\",B13,\"\")","v":""},{"$f":"F13*E13","v":0},{"$f":"G13*E13","v":0},{"$f":"H13*E13","v":0},{"$f":"I13*E13","v":0},{"$f":"J13*E13","v":0},{"$f":"K13*E13","v":0},{"$f":"L13*E13","v":0},{"$f":"M13*E13","v":0},{"$f":"N13*E13","v":0},{"$f":"O13*E13","v":0},{"$f":"P13*E13","v":0},{"$f":"Q13*E13","v":0},{"$f":"SUM(C26:N26)","v":0}]
[null,{"$f":"IF(B14<>\"\",B14,\"\")","v":""},{"$f":"F14*E14","v":0},{"$f":"G14*E14","v":0},{"$f":"H14*E14","v":0},{"$f":"I14*E14","v":0},{"$f":"J14*E14","v":0},{"$f":"K14*E14","v":0},{"$f":"L14*E14","v":0},{"$f":"M14*E14","v":0},{"$f":"N14*E14","v":0},{"$f":"O14*E14","v":0},{"$f":"P14*E14","v":0},{"$f":"Q14*E14","v":0},{"$f":"SUM(C27:N27)","v":0}]
[null,{"$f":"IF(B15<>\"\",B15,\"\")","v":""},{"$f":"F15*E15","v":0},{"$f":"G15*E15","v":0},{"$f":"H15*E15","v":0},{"$f":"I15*E15","v":0},{"$f":"J15*E15","v":0},{"$f":"K15*E15","v":0},{"$f":"L15*E15","v":0},{"$f":"M15*E15","v":0},{"$f":"N15*E15","v":0},{"$f":"O15*E15","v":0},{"$f":"P15*E15","v":0},{"$f":"Q15*E15","v":0},{"$f":"SUM(C28:N28)","v":0}]
[null,{"$f":"IF(B16<>\"\",B16,\"\")","v":""},{"$f":"F16*E16","v":0},{"$f":"G16*E16","v":0},{"$f":"H16*E16","v":0},{"$f":"I16*E16","v":0},{"$f":"J16*E16","v":0},{"$f":"K16*E16","v":0},{"$f":"L16*E16","v":0},{"$f":"M16*E16","v":0},{"$f":"N16*E16","v":0},{"$f":"O16*E16","v":0},{"$f":"P16*E16","v":0},{"$f":"Q16*E16","v":0},{"$f":"SUM(C29:N29)","v":0}]
[null,{"$f":"IF(B17<>\"\",B17,\"\")","v":""},{"$f":"F17*E17","v":0},{"$f":"G17*E17","v":0},{"$f":"H17*E17","v":0},{"$f":"I17*E17","v":0},{"$f":"J17*E17","v":0},{"$f":"K17*E17","v":0},{"$f":"L17*E17","v":0},{"$f":"M17*E17","v":0},{"$f":"N17*E17","v":0},{"$f":"O17*E17","v":0},{"$f":"P17*E17","v":0},{"$f":"Q17*E17","v":0},{"$f":"SUM(C30:N30)","v":0}]
[]
[null,"Total",{"$f":"SUM(C26:C31)","v":0},{"$f":"SUM(D26:D31)","v":0},0,0,0,0,0,0,0,0,0,0,0]

{"sheet":"ELECTRONICS PHASE 5","index":7,"n_rows":33,"n_cols":18,"rows_kept":33,"cut":false,"hidden":true,"merged":[[1,0,1,19],[11,17,12,17],[24,14,25,14],[24,1,25,1],[24,2,24,13],[19,1,19,3],[11,1,12,1],[11,3,12,3],[11,4,12,4],[11,5,11,16],[11,2,12,2]]}
[]
["PHASE 5 INPUT DATA: TREATMENT AND RECYCLING"]
[]
[]
[]
[]
[]
[]
[]
[]
[]
[null,"Fuel","Describe","Unit","Emission Factor (tCO2eq/unit)","Fuel quantity",null,null,null,null,null,null,null,null,null,null,null,"Total"]
[null,null,null,null,null,"Jan","Feb","March","April","May","June","July","Aug","Sep","Oct","Nov","Dec"]
[null,null,null,null,null,null,null,null,null,null,null,null,null,null,null,null,null,{"$f":"SUM(F14:Q14)","v":0}]
[null,null,null,null,null,null,null,null,null,null,null,null,null,null,null,null,null,{"$f":"SUM(F15:Q15)","v":0}]
[null,null,null,null,null,null,null,null,null,null,null,null,null,null,null,null,null,{"$f":"SUM(F16:Q16)","v":0}]
[null,null,null,null,null,null,null,null,null,null,null,null,null,null,null,null,null,{"$f":"SUM(F17:Q17)","v":0}]
[null,null,null,null,null,null,null,null,null,null,null,null,null,null,null,null,null,{"$f":"SUM(F18:Q18)","v":0}]
[]
[null,"Total",null,null,null,{"$f":"SUM(F14:F19)","v":0},{"$f":"SUM(G14:G19)","v":0},0,0,0,0,0,0,0,0,0,0,0]
[]
[]
[]
[]
[null,"Vật tư","Phát thải từ giai đoạn 5: Xử lý và tái chế (tấn CO2tđ)",null,null,null,null,null,null,null,null,null,null,null,"Tổng"]
[null,null,"Tháng 1","Tháng 2","Tháng 3","Tháng 4","Tháng 5","Tháng 6","Tháng 7","Tháng 8","Tháng 9","Tháng 10","Tháng 11","Tháng 12"]
[null,{"$f":"IF(B14<>\"\",B14,\"\")","v":""},{"$f":"F14*E14","v":0},{"$f":"G14*E14","v":0},{"$f":"H14*E14","v":0},{"$f":"I14*E14","v":0},{"$f":"J14*E14","v":0},{"$f":"K14*E14","v":0},{"$f":"L14*E14","v":0},{"$f":"M14*E14","v":0},{"$f":"N14*E14","v":0},{"$f":"O14*E14","v":0},{"$f":"P14*E14","v":0},{"$f":"Q14*E14","v":0},{"$f":"SUM(C27:N27)","v":0}]
[null,{"$f":"IF(B15<>\"\",B15,\"\")","v":""},{"$f":"F15*E15","v":0},{"$f":"G15*E15","v":0},{"$f":"H15*E15","v":0},{"$f":"I15*E15","v":0},{"$f":"J15*E15","v":0},{"$f":"K15*E15","v":0},{"$f":"L15*E15","v":0},{"$f":"M15*E15","v":0},{"$f":"N15*E15","v":0},{"$f":"O15*E15","v":0},{"$f":"P15*E15","v":0},{"$f":"Q15*E15","v":0},{"$f":"SUM(C28:N28)","v":0}]
[null,{"$f":"IF(B16<>\"\",B16,\"\")","v":""},{"$f":"F16*E16","v":0},{"$f":"G16*E16","v":0},{"$f":"H16*E16","v":0},{"$f":"I16*E16","v":0},{"$f":"J16*E16","v":0},{"$f":"K16*E16","v":0},{"$f":"L16*E16","v":0},{"$f":"M16*E16","v":0},{"$f":"N16*E16","v":0},{"$f":"O16*E16","v":0},{"$f":"P16*E16","v":0},{"$f":"Q16*E16","v":0},{"$f":"SUM(C29:N29)","v":0}]
[null,{"$f":"IF(B17<>\"\",B17,\"\")","v":""},{"$f":"F17*E17","v":0},{"$f":"G17*E17","v":0},{"$f":"H17*E17","v":0},{"$f":"I17*E17","v":0},{"$f":"J17*E17","v":0},{"$f":"K17*E17","v":0},{"$f":"L17*E17","v":0},{"$f":"M17*E17","v":0},{"$f":"N17*E17","v":0},{"$f":"O17*E17","v":0},{"$f":"P17*E17","v":0},{"$f":"Q17*E17","v":0},{"$f":"SUM(C30:N30)","v":0}]
[null,{"$f":"IF(B18<>\"\",B18,\"\")","v":""},{"$f":"F18*E18","v":0},{"$f":"G18*E18","v":0},{"$f":"H18*E18","v":0},{"$f":"I18*E18","v":0},{"$f":"J18*E18","v":0},{"$f":"K18*E18","v":0},{"$f":"L18*E18","v":0},{"$f":"M18*E18","v":0},{"$f":"N18*E18","v":0},{"$f":"O18*E18","v":0},{"$f":"P18*E18","v":0},{"$f":"Q18*E18","v":0},{"$f":"SUM(C31:N31)","v":0}]
[]
[null,"Tổng",{"$f":"SUM(C27:C32)","v":0},{"$f":"SUM(D27:D32)","v":0},0,0,0,0,0,0,0,0,0,0,0]

{"sheet":"ELECTRONICS RESULT","index":8,"n_rows":67,"n_cols":15,"rows_kept":67,"cut":false,"hidden":true,"merged":[[8,2,8,14],[10,2,10,14],[12,2,12,14],[1,0,1,14],[14,2,14,14],[4,1,4,16],[16,2,16,14],[18,2,18,14],[22,0,22,1],[22,2,22,4],[24,0,25,0],[24,1,25,1],[24,2,24,13],[24,14,25,14],[28,0,28,14],[29,12,29,14],[30,0,30,1],[34,0,34,1],[36,1,36,13],[46,0,46,1],[58,8,58,9],[59,8,59,9],[60,8,60,9],[37,12,37,14],[38,0,38,1],[42,0,42,1],[44,0,45,1],[44,2,44,14],[66,8,66,9],[61,8,61,9],[62,8,62,9],[63,8,63,9],[64,8,64,9],[65,8,65,9]]}
[]
["         RESULTS OF CALCULATION OF PRODUCT'S CARBON FOOTPRINT"]
[]
[]
[null,"REPORT ON PRODUCT CARBON FOOTPRINT CALCULATION RESULTS"]
[]
["A. General information"]
[]
[null,"Company name:",{"$f":"'ELECTRONICS PRODUCTS'!C5:O5","v":0}]
[]
[null,"Sector:",{"$f":"'ELECTRONICS PRODUCTS'!C7:O7","v":0}]
[]
[null,"Address:",{"$f":"'ELECTRONICS PRODUCTS'!C9:O9","v":0}]
[]
[null,"Phone number:",{"$f":"'ELECTRONICS PRODUCTS'!C11:O11","v":0}]
[]
[null,"Email:",{"$f":"'ELECTRONICS PRODUCTS'!C13:O13","v":0}]
[]
[null,"Year:",{"$f":"'ELECTRONICS PRODUCTS'!C15:O15","v":2022}]
[]
["B. Carbon footprint calculation results"]
[]
["Product name",null,{"$f":"IF('ELECTRONICS PRODUCTS'!E56<>\"\",'ELECTRONICS PRODUCTS'!E56,\"\")","v":""}]
[]
["Product","Unit","Product output/revenue",null,null,null,null,null,null,null,null,null,null,null,"Total"]
[null,null,"Jan","Feb","March","April","May","June","July","Aug","Sep","Oct","Nov","Dec"]
[{"$f":"C23","v":""},{"$f":"IF(A27<>\"\",VLOOKUP(sp_than,'ELECTRONICS PRODUCTS'!$A$30:$B$36,2,0),\"\")","v":""},{"$f":"IF($C$23<>\"\",VLOOKUP($C$23,'ELECTRONICS PRODUCTS'!$A$30:$O$37,3,0),0)","v":0},{"$f":"IF($C$23<>\"\",VLOOKUP($C$23,'ELECTRONICS PRODUCTS'!$A$30:$O$37,4,0),0)","v":0},{"$f":"IF($C$23<>\"\",VLOOKUP($C$23,'ELECTRONICS PRODUCTS'!$A$30:$O$37,5,0),0)","v":0},{"$f":"IF($C$23<>\"\",VLOOKUP($C$23,'ELECTRONICS PRODUCTS'!$A$30:$O$37,6,0),0)","v":0},{"$f":"IF($C$23<>\"\",VLOOKUP($C$23,'ELECTRONICS PRODUCTS'!$A$30:$O$37,7,0),0)","v":0},{"$f":"IF($C$23<>\"\",VLOOKUP($C$23,'ELECTRONICS PRODUCTS'!$A$30:$O$37,8,0),0)","v":0},{"$f":"IF($C$23<>\"\",VLOOKUP($C$23,'ELECTRONICS PRODUCTS'!$A$30:$O$37,9,0),0)","v":0},{"$f":"IF($C$23<>\"\",VLOOKUP($C$23,'ELECTRONICS PRODUCTS'!$A$30:$O$37,10,0),0)","v":0},{"$f":"IF($C$23<>\"\",VLOOKUP($C$23,'ELECTRONICS PRODUCTS'!$A$30:$O$37,11,0),0)","v":0},{"$f":"IF($C$23<>\"\",VLOOKUP($C$23,'ELECTRONICS PRODUCTS'!$A$30:$O$37,12,0),0)","v":0},{"$f":"IF($C$23<>\"\",VLOOKUP($C$23,'ELECTRONICS PRODUCTS'!$A$30:$O$37,13,0),0)","v":0},{"$f":"IF($C$23<>\"\",VLOOKUP($C$23,'ELECTRONICS PRODUCTS'!$A$30:$O$37,14,0),0)","v":0},{"$f":"SUM(C27:N27)","v":0}]
[]
["EMISSIONS OF PRODUCT LIFE CYCLE PHASES"]
[null,null,null,null,null,null,null,null,null,null,null,null,"Unit: tons CO2teq"]
["Stages in the product emissions life cycle",null,"Jan","Feb","March","April","May","June","July","Aug","Sep","Oct","Nov","Dec","Total (tons CO2eq)"]
["Phase 1","Production and transportation of raw materials",{"$f":"'ELECTRONICS PHASE 1'!C33","v":0},{"$f":"'ELECTRONICS PHASE 1'!D33","v":0},{"$f":"'ELECTRONICS PHASE 1'!E33","v":0},{"$f":"'ELECTRONICS PHASE 1'!F33","v":0},{"$f":"'ELECTRONICS PHASE 1'!G33","v":0},{"$f":"'ELECTRONICS PHASE 1'!H33","v":0},{"$f":"'ELECTRONICS PHASE 1'!I33","v":0},{"$f":"'ELECTRONICS PHASE 1'!J33","v":0},{"$f":"'ELECTRONICS PHASE 1'!K33","v":0},{"$f":"'ELECTRONICS PHASE 1'!L33","v":0},{"$f":"'ELECTRONICS PHASE 1'!M33","v":0},{"$f":"'ELECTRONICS PHASE 1'!N33","v":0},{"$f":"SUM(C32:N32)","v":0}]
["Phase 2","Product manufacturing",{"$f":"'ELECTRONICS PHASE 2'!H22+'ELECTRONICS PHASE 2'!H41+'ELECTRONICS PHASE 2'!E60+'ELECTRONICS PHASE 2'!G82+'ELECTRONICS PHASE 2'!C99+'ELECTRONICS PHASE 2'!C107+'ELECTRONICS PHASE 2'!C120+'ELECTRONICS PHASE 2'!G138","v":0},{"$f":"'ELECTRONICS PHASE 2'!I22+'ELECTRONICS PHASE 2'!I41+'ELECTRONICS PHASE 2'!F60+'ELECTRONICS PHASE 2'!H82+'ELECTRONICS PHASE 2'!D99+'ELECTRONICS PHASE 2'!D107+'ELECTRONICS PHASE 2'!D120+'ELECTRONICS PHASE 2'!H138","v":0},{"$f":"'ELECTRONICS PHASE 2'!J22+'ELECTRONICS PHASE 2'!J41+'ELECTRONICS PHASE 2'!G60+'ELECTRONICS PHASE 2'!I82+'ELECTRONICS PHASE 2'!E99+'ELECTRONICS PHASE 2'!E107+'ELECTRONICS PHASE 2'!E120+'ELECTRONICS PHASE 2'!I138","v":0},{"$f":"'ELECTRONICS PHASE 2'!K22+'ELECTRONICS PHASE 2'!K41+'ELECTRONICS PHASE 2'!H60+'ELECTRONICS PHASE 2'!J82+'ELECTRONICS PHASE 2'!F99+'ELECTRONICS PHASE 2'!F107+'ELECTRONICS PHASE 2'!F120+'ELECTRONICS PHASE 2'!J138","v":0},{"$f":"'ELECTRONICS PHASE 2'!L22+'ELECTRONICS PHASE 2'!L41+'ELECTRONICS PHASE 2'!I60+'ELECTRONICS PHASE 2'!K82+'ELECTRONICS PHASE 2'!G99+'ELECTRONICS PHASE 2'!G107+'ELECTRONICS PHASE 2'!G120+'ELECTRONICS PHASE 2'!K138","v":0},{"$f":"'ELECTRONICS PHASE 2'!M22+'ELECTRONICS PHASE 2'!M41+'ELECTRONICS PHASE 2'!J60+'ELECTRONICS PHASE 2'!L82+'ELECTRONICS PHASE 2'!H99+'ELECTRONICS PHASE 2'!H107+'ELECTRONICS PHASE 2'!H120+'ELECTRONICS PHASE 2'!L138","v":0},{"$f":"'ELECTRONICS PHASE 2'!N22+'ELECTRONICS PHASE 2'!N41+'ELECTRONICS PHASE 2'!K60+'ELECTRONICS PHASE 2'!M82+'ELECTRONICS PHASE 2'!I99+'ELECTRONICS PHASE 2'!I107+'ELECTRONICS PHASE 2'!I120+'ELECTRONICS PHASE 2'!M138","v":0},{"$f":"'ELECTRONICS PHASE 2'!O22+'ELECTRONICS PHASE 2'!O41+'ELECTRONICS PHASE 2'!L60+'ELECTRONICS PHASE 2'!N82+'ELECTRONICS PHASE 2'!J99+'ELECTRONICS PHASE 2'!J107+'ELECTRONICS PHASE 2'!J120+'ELECTRONICS PHASE 2'!N138","v":0},{"$f":"'ELECTRONICS PHASE 2'!P22+'ELECTRONICS PHASE 2'!P41+'ELECTRONICS PHASE 2'!M60+'ELECTRONICS PHASE 2'!O82+'ELECTRONICS PHASE 2'!K99+'ELECTRONICS PHASE 2'!K107+'ELECTRONICS PHASE 2'!K120+'ELECTRONICS PHASE 2'!O138","v":0},{"$f":"'ELECTRONICS PHASE 2'!Q22+'ELECTRONICS PHASE 2'!Q41+'ELECTRONICS PHASE 2'!N60+'ELECTRONICS PHASE 2'!P82+'ELECTRONICS PHASE 2'!L99+'ELECTRONICS PHASE 2'!L107+'ELECTRONICS PHASE 2'!L120+'ELECTRONICS PHASE 2'!P138","v":0},{"$f":"'ELECTRONICS PHASE 2'!R22+'ELECTRONICS PHASE 2'!R41+'ELECTRONICS PHASE 2'!O60+'ELECTRONICS PHASE 2'!Q82+'ELECTRONICS PHASE 2'!M99+'ELECTRONICS PHASE 2'!M107+'ELECTRONICS PHASE 2'!M120+'ELECTRONICS PHASE 2'!Q138","v":0},{"$f":"'ELECTRONICS PHASE 2'!S22+'ELECTRONICS PHASE 2'!S41+'ELECTRONICS PHASE 2'!P60+'ELECTRONICS PHASE 2'!R82+'ELECTRONICS PHASE 2'!N99+'ELECTRONICS PHASE 2'!N107+'ELECTRONICS PHASE 2'!N120+'ELECTRONICS PHASE 2'!R138","v":0},{"$f":"SUM(C33:N33)","v":0}]
["Phase 3","Distribution and retail",{"$f":"'ELECTRONICS PHASE 3'!G27","v":0},{"$f":"'ELECTRONICS PHASE 3'!H27","v":0},{"$f":"'ELECTRONICS PHASE 3'!I27","v":0},{"$f":"'ELECTRONICS PHASE 3'!J27","v":0},{"$f":"'ELECTRONICS PHASE 3'!K27","v":0},{"$f":"'ELECTRONICS PHASE 3'!L27","v":0},{"$f":"'ELECTRONICS PHASE 3'!M27","v":0},{"$f":"'ELECTRONICS PHASE 3'!N27","v":0},{"$f":"'ELECTRONICS PHASE 3'!O27","v":0},{"$f":"'ELECTRONICS PHASE 3'!P27","v":0},{"$f":"'ELECTRONICS PHASE 3'!Q27","v":0},{"$f":"'ELECTRONICS PHASE 3'!R27","v":0},{"$f":"SUM(C34:N34)","v":0}]
["Total (tons CO2eq)",null,{"$f":"SUM(C32:C34)","v":0},0,0,0,0,0,0,0,0,0,0,0,0]
[]
[null,"EMISSIONS STRUCTURE BY PRODUCT LIFE CYCLE PHASES"]
[null,null,null,null,null,null,null,null,null,null,null,null,"Unit: %"]
["Stages in the product emissions life cycle",null,"Jan","Feb","March","April","May","June","July","Aug","Sep","Oct","Nov","Dec","Total"]
["Phase 1","Production and transportation of raw materials",{"$f":"IF($C$35<>0,C32/$C$35,0)","v":0},{"$f":"IF($D$35<>0,D32/$D$35,0)","v":0},{"$f":"IF($E$35<>0, E32/$E$35,0)","v":0},{"$f":"IF($F$35<>0, F32/$F$35,0)","v":0},{"$f":"IF( $G$35<>0,G32/$G$35,0)","v":0},{"$f":"IF($H$35<>0,H32/$H$35,0)","v":0},{"$f":"IF($I$35<>0,I32/$I$35,0)","v":0},{"$f":"IF($J$35<>0,J32/$J$35,0)","v":0},{"$f":"IF($K$35<>0,K32/$K$35,0)","v":0},{"$f":"IF($L$35<>0,L32/$L$35,0)","v":0},{"$f":"IF($M$35<>0, M32/$M$35,0)","v":0},{"$f":"IF($N$35<>0,N32/$N$35,0)","v":0},{"$f":"IF($O$35<>0,O32/$O$35,0)","v":0}]
["Phase 2","Product manufacturing",{"$f":"IF($C$35<>0,C33/$C$35,0)","v":0},{"$f":"IF($D$35<>0,D33/$D$35,0)","v":0},{"$f":"IF($E$35<>0, E33/$E$35,0)","v":0},{"$f":"IF($F$35<>0, F33/$F$35,0)","v":0},{"$f":"IF( $G$35<>0,G33/$G$35,0)","v":0},{"$f":"IF($H$35<>0,H33/$H$35,0)","v":0},{"$f":"IF($I$35<>0,I33/$I$35,0)","v":0},{"$f":"IF($J$35<>0,J33/$J$35,0)","v":0},{"$f":"IF($K$35<>0,K33/$K$35,0)","v":0},{"$f":"IF($L$35<>0,L33/$L$35,0)","v":0},{"$f":"IF($M$35<>0, M33/$M$35,0)","v":0},{"$f":"IF($N$35<>0,N33/$N$35,0)","v":0},{"$f":"IF($O$35<>0,O33/$O$35,0)","v":0}]
["Phase 3","Distribution and retail",{"$f":"IF($C$35<>0,C34/$C$35,0)","v":0},{"$f":"IF($D$35<>0,D34/$D$35,0)","v":0},{"$f":"IF($E$35<>0, E34/$E$35,0)","v":0},{"$f":"IF($F$35<>0, F34/$F$35,0)","v":0},{"$f":"IF( $G$35<>0,G34/$G$35,0)","v":0},{"$f":"IF($H$35<>0,H34/$H$35,0)","v":0},{"$f":"IF($I$35<>0,I34/$I$35,0)","v":0},{"$f":"IF($J$35<>0,J34/$J$35,0)","v":0},{"$f":"IF($K$35<>0,K34/$K$35,0)","v":0},{"$f":"IF($L$35<>0,L34/$L$35,0)","v":0},{"$f":"IF($M$35<>0, M34/$M$35,0)","v":0},{"$f":"IF($N$35<>0,N34/$N$35,0)","v":0},{"$f":"IF($O$35<>0,O34/$O$35,0)","v":0}]
["Total",null,{"$f":"SUM(C40:C42)","v":0},0,0,0,0,0,0,0,0,0,0,0,0]
[]
[{"$f":" \"kgCO2eq/\" & B27","v":"kgCO2eq/"},null,"EMISSIONS INTENSITY"]
[null,null,"Jan","Feb","March","April","May","June","July","Aug","Sep","Oct","Nov","Dec","Average annual emission intensity"]
["Product emission intensity",null,{"$f":"IF(C27<>0,C35/C27,0)","v":0},0,0,0,0,0,0,0,0,0,0,0,0]
[]
[]
[]
[]
[]
[]
[]
[]
[]
[]
[null,null,null,null,null,null,null,null,null,null,"GJ"]
[null,null,null,null,null,null,null,null,{"$f":"IF(AND('ELECTRONICS PHASE 2'!A11<>\"\",'ELECTRONICS PHASE 2'!B11<>\"\"),'ELECTRONICS PHASE 2'!A11,\"\")","v":""},null,{"$f":"IF(I59<>\"\",'ELECTRONICS PHASE 2'!T11,\"\")","v":""}]
[null,null,null,null,null,null,null,null,{"$f":"IF(AND('ELECTRONICS PHASE 2'!A12<>\"\",'ELECTRONICS PHASE 2'!B12<>\"\"),'ELECTRONICS PHASE 2'!A12,\"\")","v":""},null,{"$f":"IF(I60<>\"\",'ELECTRONICS PHASE 2'!T12,\"\")","v":""}]
[null,null,null,null,null,null,null,null,{"$f":"IF(AND('ELECTRONICS PHASE 2'!A13<>\"\",'ELECTRONICS PHASE 2'!B13<>\"\"),'ELECTRONICS PHASE 2'!A13,\"\")","v":""},null,{"$f":"IF(I61<>\"\",'ELECTRONICS PHASE 2'!T13,\"\")","v":""}]
[null,null,null,null,null,null,null,null,{"$f":"IF(AND('ELECTRONICS PHASE 2'!A14<>\"\",'ELECTRONICS PHASE 2'!B14<>\"\"),'ELECTRONICS PHASE 2'!A14,\"\")","v":""},null,{"$f":"IF(I62<>\"\",'ELECTRONICS PHASE 2'!T14,\"\")","v":""}]
[null,null,null,null,null,null,null,null,{"$f":"IF(AND('ELECTRONICS PHASE 2'!A15<>\"\",'ELECTRONICS PHASE 2'!B15<>\"\"),'ELECTRONICS PHASE 2'!A15,\"\")","v":""},null,{"$f":"IF(I63<>\"\",'ELECTRONICS PHASE 2'!T15,\"\")","v":""}]
[null,null,null,null,null,null,null,null,{"$f":"IF(AND('ELECTRONICS PHASE 2'!A16<>\"\",'ELECTRONICS PHASE 2'!B16<>\"\"),'ELECTRONICS PHASE 2'!A16,\"\")","v":""},null,{"$f":"IF(I64<>\"\",'ELECTRONICS PHASE 2'!T16,\"\")","v":""}]
[null,null,null,null,null,null,null,null,{"$f":"IF(AND('ELECTRONICS PHASE 2'!A17<>\"\",'ELECTRONICS PHASE 2'!B17<>\"\"),'ELECTRONICS PHASE 2'!A17,\"\")","v":""},null,{"$f":"IF(I65<>\"\",'ELECTRONICS PHASE 2'!T17,\"\")","v":""}]
[null,null,null,null,null,null,null,null,{"$f":"IF(AND('ELECTRONICS PHASE 2'!A18<>\"\",'ELECTRONICS PHASE 2'!B18<>\"\"),'ELECTRONICS PHASE 2'!A18,\"\")","v":""},null,{"$f":"IF(I66<>\"\",'ELECTRONICS PHASE 2'!T18,\"\")","v":""}]
[null,null,null,null,null,null,null,null,{"$f":"IF(AND('ELECTRONICS PHASE 2'!A19<>\"\",'ELECTRONICS PHASE 2'!B19<>\"\"),'ELECTRONICS PHASE 2'!A19,\"\")","v":""},null,{"$f":"IF(I67<>\"\",'ELECTRONICS PHASE 2'!T19,\"\")","v":""}]

{"sheet":"GARMENT&TEXTILE PRODUCTS","index":9,"n_rows":57,"n_cols":15,"rows_kept":57,"cut":false,"hidden":true,"merged":[[56,0,56,1],[21,0,21,3],[21,4,21,8],[52,0,52,1],[40,0,41,0],[40,1,40,12],[50,0,50,3],[50,4,50,7],[22,0,22,14],[40,13,41,13],[55,0,55,1],[10,2,10,14],[1,0,1,15],[3,0,3,2],[4,2,4,14],[6,2,6,14],[8,2,8,14],[12,2,12,14],[14,2,14,14],[17,0,17,2],[19,0,19,5],[24,0,25,0],[24,1,25,1],[24,2,24,13],[24,14,25,14]]}
[]
["PRODUCT DATA FOR GARMENT AND TEXTILE MANUFACTURING"]
[]
["A. COMPANY INFORMATION"]
[null,"Company name:"]
[]
[null,"Sector:"]
[]
[null,"Address:"]
[]
[null,"Phone number:"]
[]
[null,"Email:"]
[]
[null,"Year:"]
[]
[]
["B. PRODUCT DATA"]
[]
["Company products"]
[]
["Choose a allocation co-products method"]
["Economic allocation: Inputs and emissions are allocated to the product and co-product(s) based on the market value of each when they exit the common process\n\nPhysical allocation: Inputs and emissions are allocated to the product and by-product(s) based on quantity/volume of products\n\nOther relationships: Inputs and emissions are allocated to products and by-product(s) based on established relationships and detailed calculations according to parameters. The enterprise's production inputs have been identified rather than its physical or economic relationships. Therefore, users can manually fill in the emission allocation rate of this product type."]
[]
["Product","Unit","Output/Revenue of products",null,null,null,null,null,null,null,null,null,null,null,"Total"]
[null,null,"Jan","Feb","March","April","May","June","July","Aug","Sep","Oct","Nov","Dec"]
[null,{"$f":"IF(AND($E$22=\"Economic allocation\",A27<>\"\"),\"Million VND\",\"\")","v":""},null,null,null,null,null,null,null,null,null,null,null,null,{"$f":"SUM(C27:N27)","v":0}]
[null,"",null,null,null,null,null,null,null,null,null,null,null,null,0]
[null,"",null,null,null,null,null,null,null,null,null,null,null,null,0]
[null,"",null,null,null,null,null,null,null,null,null,null,null,null,0]
[null,"",null,null,null,null,null,null,null,null,null,null,null,null,0]
[null,"",null,null,null,null,null,null,null,null,null,null,null,null,0]
["Tổng ","",{"$f":"SUM(C27:C32)","v":0},0,0,0,0,0,0,0,0,0,0,0,0]
["Tổng ","",1,1,1,1,1,1,1,1,1,1,1,1,1]
[]
[]
[]
[]
[]
[]
["Product","Rate",null,null,null,null,null,null,null,null,null,null,null,"Average"]
[null,"Jan","Feb","March","April","May","June","July","Aug","Sep","Oct","Nov","Dec"]
[{"$f":"IF(A27<>\"\",A27,\"\")","v":""},{"$f":"IF(AND($C$33<>0,$C$34=1),C27/$C$33,0)","v":0},{"$f":"IF(AND($D$33<>0,$D$34=1),D27/$D$33,0)","v":0},{"$f":"IF(AND($E$33<>0,$E$34=1),E27/$E$33,0)","v":0},{"$f":"IF(AND($F$33<>0,$F$34=1),F27/$F$33,0)","v":0},{"$f":"IF(AND($G$33<>0,$G$34=1),G27/$G$33,0)","v":0},{"$f":"IF(AND($H$33<>0,$H$34=1),H27/$H$33,0)","v":0},{"$f":"IF(AND($I$33<>0,$I$34=1),I27/$I$33,0)","v":0},{"$f":"IF(AND($J$33<>0,$J$34=1),J27/$J$33,0)","v":0},{"$f":"IF(AND($K$33<>0,$K$34=1),K27/$K$33,0)","v":0},{"$f":"IF(AND($L$33<>0,$L$34=1),L27/$L$33,0)","v":0},{"$f":"IF(AND($M$33<>0,$M$34=1),M27/$M$33,0)","v":0},{"$f":"IF(AND($N$33<>0,$N$34=1),N27/$N$33,0)","v":0},{"$f":"IF(AND($O$33<>0,$O$34=1),O27/$O$33,0)","v":0}]
[{"$f":"IF(A28<>\"\",A28,\"\")","v":""},{"$f":"IF(AND($C$33<>0,$C$34=1),C28/$C$33,0)","v":0},{"$f":"IF(AND($D$33<>0,$D$34=1),D28/$D$33,0)","v":0},{"$f":"IF(AND($E$33<>0,$E$34=1),E28/$E$33,0)","v":0},{"$f":"IF(AND($F$33<>0,$F$34=1),F28/$F$33,0)","v":0},{"$f":"IF(AND($G$33<>0,$G$34=1),G28/$G$33,0)","v":0},{"$f":"IF(AND($H$33<>0,$H$34=1),H28/$H$33,0)","v":0},{"$f":"IF(AND($I$33<>0,$I$34=1),I28/$I$33,0)","v":0},{"$f":"IF(AND($J$33<>0,$J$34=1),J28/$J$33,0)","v":0},{"$f":"IF(AND($K$33<>0,$K$34=1),K28/$K$33,0)","v":0},{"$f":"IF(AND($L$33<>0,$L$34=1),L28/$L$33,0)","v":0},{"$f":"IF(AND($M$33<>0,$M$34=1),M28/$M$33,0)","v":0},{"$f":"IF(AND($N$33<>0,$N$34=1),N28/$N$33,0)","v":0},{"$f":"IF(AND($O$33<>0,$O$34=1),O28/$O$33,0)","v":0}]
[{"$f":"IF(A29<>\"\",A29,\"\")","v":""},{"$f":"IF(AND($C$33<>0,$C$34=1),C29/$C$33,0)","v":0},{"$f":"IF(AND($D$33<>0,$D$34=1),D29/$D$33,0)","v":0},{"$f":"IF(AND($E$33<>0,$E$34=1),E29/$E$33,0)","v":0},{"$f":"IF(AND($F$33<>0,$F$34=1),F29/$F$33,0)","v":0},{"$f":"IF(AND($G$33<>0,$G$34=1),G29/$G$33,0)","v":0},{"$f":"IF(AND($H$33<>0,$H$34=1),H29/$H$33,0)","v":0},{"$f":"IF(AND($I$33<>0,$I$34=1),I29/$I$33,0)","v":0},{"$f":"IF(AND($J$33<>0,$J$34=1),J29/$J$33,0)","v":0},{"$f":"IF(AND($K$33<>0,$K$34=1),K29/$K$33,0)","v":0},{"$f":"IF(AND($L$33<>0,$L$34=1),L29/$L$33,0)","v":0},{"$f":"IF(AND($M$33<>0,$M$34=1),M29/$M$33,0)","v":0},{"$f":"IF(AND($N$33<>0,$N$34=1),N29/$N$33,0)","v":0},{"$f":"IF(AND($O$33<>0,$O$34=1),O29/$O$33,0)","v":0}]
[{"$f":"IF(A30<>\"\",A30,\"\")","v":""},{"$f":"IF(AND($C$33<>0,$C$34=1),C30/$C$33,0)","v":0},{"$f":"IF(AND($D$33<>0,$D$34=1),D30/$D$33,0)","v":0},{"$f":"IF(AND($E$33<>0,$E$34=1),E30/$E$33,0)","v":0},{"$f":"IF(AND($F$33<>0,$F$34=1),F30/$F$33,0)","v":0},{"$f":"IF(AND($G$33<>0,$G$34=1),G30/$G$33,0)","v":0},{"$f":"IF(AND($H$33<>0,$H$34=1),H30/$H$33,0)","v":0},{"$f":"IF(AND($I$33<>0,$I$34=1),I30/$I$33,0)","v":0},{"$f":"IF(AND($J$33<>0,$J$34=1),J30/$J$33,0)","v":0},{"$f":"IF(AND($K$33<>0,$K$34=1),K30/$K$33,0)","v":0},{"$f":"IF(AND($L$33<>0,$L$34=1),L30/$L$33,0)","v":0},{"$f":"IF(AND($M$33<>0,$M$34=1),M30/$M$33,0)","v":0},{"$f":"IF(AND($N$33<>0,$N$34=1),N30/$N$33,0)","v":0},{"$f":"IF(AND($O$33<>0,$O$34=1),O30/$O$33,0)","v":0}]
[{"$f":"IF(A31<>\"\",A31,\"\")","v":""},{"$f":"IF(AND($C$33<>0,$C$34=1),C31/$C$33,0)","v":0},{"$f":"IF(AND($D$33<>0,$D$34=1),D31/$D$33,0)","v":0},{"$f":"IF(AND($E$33<>0,$E$34=1),E31/$E$33,0)","v":0},{"$f":"IF(AND($F$33<>0,$F$34=1),F31/$F$33,0)","v":0},{"$f":"IF(AND($G$33<>0,$G$34=1),G31/$G$33,0)","v":0},{"$f":"IF(AND($H$33<>0,$H$34=1),H31/$H$33,0)","v":0},{"$f":"IF(AND($I$33<>0,$I$34=1),I31/$I$33,0)","v":0},{"$f":"IF(AND($J$33<>0,$J$34=1),J31/$J$33,0)","v":0},{"$f":"IF(AND($K$33<>0,$K$34=1),K31/$K$33,0)","v":0},{"$f":"IF(AND($L$33<>0,$L$34=1),L31/$L$33,0)","v":0},{"$f":"IF(AND($M$33<>0,$M$34=1),M31/$M$33,0)","v":0},{"$f":"IF(AND($N$33<>0,$N$34=1),N31/$N$33,0)","v":0},{"$f":"IF(AND($O$33<>0,$O$34=1),O31/$O$33,0)","v":0}]
[]
["Total",{"$f":"SUM(B43:B48)","v":0},0,0,0,0,0,0,0,0,0,0,0,{"$f":"SUM(N43:N48)","v":0}]
[]
["Select a product for life cycle GHG calculations"]
[]
[null,null,"Tháng 1","Tháng 2","Tháng 3","Tháng 4","Tháng 5","Tháng 6","Tháng 7","Tháng 8","Tháng 9","Tháng 10","Tháng 11","Tháng 12"]
["Tỷ lệ phát thải từ sản phẩm",null,0,0,0,0,0,0,0,0,0,0,0,0]
[]
[null,null,"Jan","Feb","March","April","May","June","July","Aug","Sep","Oct","Nov","Dec"]
["GHG Emission rate",null,{"$f":"IF($E$51<>0,VLOOKUP($E$51,$A$43:$M$49,2,0),0)","v":0},{"$f":"IF($E$51<>0,VLOOKUP($E$51,$A$43:$M$49,3,0),0)","v":0},{"$f":"IF($E$51<>0,VLOOKUP($E$51,$A$43:$M$49,4,0),0)","v":0},{"$f":"IF($E$51<>0,VLOOKUP($E$51,$A$43:$M$49,5,0),0)","v":0},{"$f":"IF($E$51<>0,VLOOKUP($E$51,$A$43:$M$49,6,0),0)","v":0},{"$f":"IF($E$51<>0,VLOOKUP($E$51,$A$43:$M$49,7,0),0)","v":0},{"$f":"IF($E$51<>0,VLOOKUP($E$51,$A$43:$M$49,8,0),0)","v":0},{"$f":"IF($E$51<>0,VLOOKUP($E$51,$A$43:$M$49,9,0),0)","v":0},{"$f":"IF($E$51<>0,VLOOKUP($E$51,$A$43:$M$49,10,0),0)","v":0},{"$f":"IF($E$51<>0,VLOOKUP($E$51,$A$43:$M$49,11,0),0)","v":0},{"$f":"IF($E$51<>0,VLOOKUP($E$51,$A$43:$M$49,12,0),0)","v":0},{"$f":"IF($E$51<>0,VLOOKUP($E$51,$A$43:$M$49,13,0),0)","v":0}]

{"sheet":"GARMENT&TEXTILE PHASE 1","index":10,"n_rows":33,"n_cols":18,"rows_kept":33,"cut":false,"hidden":true,"merged":[[19,1,19,3],[24,1,25,1],[24,2,24,13],[24,14,25,14],[11,17,12,17],[1,0,1,19],[11,1,12,1],[11,3,12,3],[11,4,12,4],[11,5,11,16],[11,2,12,2]]}
[]
["INPUT DATA PHASE 1: PRODUCTION AND TRANSPORTATION OF RAW MATERIALS"]
[]
[]
[]
[]
[]
[]
[]
[]
[]
[null,"Fuel","Describe","Unit","Emission Factor (tCO2eq/unit)","Fuel quantity",null,null,null,null,null,null,null,null,null,null,null,"Total"]
[null,null,null,null,null,"Jan","Feb","March","April","May","June","July","Aug","Sep","Oct","Nov","Dec"]
[null,null,null,null,null,null,null,null,null,null,null,null,null,null,null,null,null,{"$f":"SUM(F14:Q14)","v":0}]
[null,null,null,null,null,null,null,null,null,null,null,null,null,null,null,null,null,{"$f":"SUM(F15:Q15)","v":0}]
[null,null,null,null,null,null,null,null,null,null,null,null,null,null,null,null,null,{"$f":"SUM(F16:Q16)","v":0}]
[null,null,null,null,null,null,null,null,null,null,null,null,null,null,null,null,null,{"$f":"SUM(F17:Q17)","v":0}]
[null,null,null,null,null,null,null,null,null,null,null,null,null,null,null,null,null,{"$f":"SUM(F18:Q18)","v":0}]
[]
[null,"Total",null,null,null,{"$f":"SUM(F14:F19)","v":0},{"$f":"SUM(G14:G19)","v":0},0,0,0,0,0,0,0,0,0,0,0]
[]
[]
[]
[]
[null,"Fuel","Emissions from phase 1: Production and transportation of raw materials to produce products (tons CO2eq)",null,null,null,null,null,null,null,null,null,null,null,"Total"]
[null,null,"Jan","Feb","March","April","May","June","July","Aug","Sep","Oct","Nov","Dec"]
[null,{"$f":"IF(B14<>\"\",B14,\"\")","v":""},{"$f":"IF('GARMENT&TEXTILE PRODUCTS'!$C$34=1,F14*E14*'GARMENT&TEXTILE PRODUCTS'!$C$57,F14*E14*'GARMENT&TEXTILE PRODUCTS'!$C$54)","v":0},{"$f":"IF('GARMENT&TEXTILE PRODUCTS'!$D$34=1,G14*E14*'GARMENT&TEXTILE PRODUCTS'!$D$57,G14*E14*'GARMENT&TEXTILE PRODUCTS'!$D$54)","v":0},{"$f":"IF('GARMENT&TEXTILE PRODUCTS'!$E$34=1,H14*E14*'GARMENT&TEXTILE PRODUCTS'!$E$57,H14*E14*'GARMENT&TEXTILE PRODUCTS'!$E$54)","v":0},{"$f":"IF('GARMENT&TEXTILE PRODUCTS'!$F$34=1,I14*E14*'GARMENT&TEXTILE PRODUCTS'!$F$57,I14*E14*'GARMENT&TEXTILE PRODUCTS'!$F$54)","v":0},{"$f":"IF('GARMENT&TEXTILE PRODUCTS'!$G$34=1,J14*E14*'GARMENT&TEXTILE PRODUCTS'!$G$57,J14*E14*'GARMENT&TEXTILE PRODUCTS'!$G$54)","v":0},{"$f":"IF('GARMENT&TEXTILE PRODUCTS'!$H$34=1,K14*E14*'GARMENT&TEXTILE PRODUCTS'!$H$57,K14*E14*'GARMENT&TEXTILE PRODUCTS'!$H$54)","v":0},{"$f":"IF('GARMENT&TEXTILE PRODUCTS'!$I$34=1,L14*E14*'GARMENT&TEXTILE PRODUCTS'!$I$57,L14*E14*'GARMENT&TEXTILE PRODUCTS'!$I$54)","v":0},{"$f":"IF('GARMENT&TEXTILE PRODUCTS'!$J$34=1,M14*E14*'GARMENT&TEXTILE PRODUCTS'!$J$57,M14*E14*'GARMENT&TEXTILE PRODUCTS'!$J$54)","v":0},{"$f":"IF('GARMENT&TEXTILE PRODUCTS'!$K$34=1,N14*E14*'GARMENT&TEXTILE PRODUCTS'!$K$57,N14*E14*'GARMENT&TEXTILE PRODUCTS'!$K$54)","v":0},{"$f":"IF('GARMENT&TEXTILE PRODUCTS'!$K$34=1,O14*E14*'GARMENT&TEXTILE PRODUCTS'!$L$57,O14*E14*'GARMENT&TEXTILE PRODUCTS'!$L$54)","v":0},{"$f":"IF('GARMENT&TEXTILE PRODUCTS'!$M$34=1,P14*E14*'GARMENT&TEXTILE PRODUCTS'!$M$57,P14*E14*'GARMENT&TEXTILE PRODUCTS'!$M$54)","v":0},{"$f":"IF('GARMENT&TEXTILE PRODUCTS'!$N$34=1,Q14*E14*'GARMENT&TEXTILE PRODUCTS'!$N$57,Q14*E14*'GARMENT&TEXTILE PRODUCTS'!$N$54)","v":0},{"$f":"SUM(C27:N27)","v":0}]
[null,{"$f":"IF(B15<>\"\",B15,\"\")","v":""},{"$f":"IF('GARMENT&TEXTILE PRODUCTS'!$C$34=1,F15*E15*'GARMENT&TEXTILE PRODUCTS'!$C$57,F15*E15*'GARMENT&TEXTILE PRODUCTS'!$C$54)","v":0},{"$f":"IF('GARMENT&TEXTILE PRODUCTS'!$D$34=1,G15*E15*'GARMENT&TEXTILE PRODUCTS'!$D$57,G15*E15*'GARMENT&TEXTILE PRODUCTS'!$D$54)","v":0},{"$f":"IF('GARMENT&TEXTILE PRODUCTS'!$E$34=1,H15*E15*'GARMENT&TEXTILE PRODUCTS'!$E$57,H15*E15*'GARMENT&TEXTILE PRODUCTS'!$E$54)","v":0},{"$f":"IF('GARMENT&TEXTILE PRODUCTS'!$F$34=1,I15*E15*'GARMENT&TEXTILE PRODUCTS'!$F$57,I15*E15*'GARMENT&TEXTILE PRODUCTS'!$F$54)","v":0},{"$f":"IF('GARMENT&TEXTILE PRODUCTS'!$G$34=1,J15*E15*'GARMENT&TEXTILE PRODUCTS'!$G$57,J15*E15*'GARMENT&TEXTILE PRODUCTS'!$G$54)","v":0},{"$f":"IF('GARMENT&TEXTILE PRODUCTS'!$H$34=1,K15*E15*'GARMENT&TEXTILE PRODUCTS'!$H$57,K15*E15*'GARMENT&TEXTILE PRODUCTS'!$H$54)","v":0},{"$f":"IF('GARMENT&TEXTILE PRODUCTS'!$I$34=1,L15*E15*'GARMENT&TEXTILE PRODUCTS'!$I$57,L15*E15*'GARMENT&TEXTILE PRODUCTS'!$I$54)","v":0},{"$f":"IF('GARMENT&TEXTILE PRODUCTS'!$J$34=1,M15*E15*'GARMENT&TEXTILE PRODUCTS'!$J$57,M15*E15*'GARMENT&TEXTILE PRODUCTS'!$J$54)","v":0},{"$f":"IF('GARMENT&TEXTILE PRODUCTS'!$K$34=1,N15*E15*'GARMENT&TEXTILE PRODUCTS'!$K$57,N15*E15*'GARMENT&TEXTILE PRODUCTS'!$K$54)","v":0},{"$f":"IF('GARMENT&TEXTILE PRODUCTS'!$K$34=1,O15*E15*'GARMENT&TEXTILE PRODUCTS'!$L$57,O15*E15*'GARMENT&TEXTILE PRODUCTS'!$L$54)","v":0},{"$f":"IF('GARMENT&TEXTILE PRODUCTS'!$M$34=1,P15*E15*'GARMENT&TEXTILE PRODUCTS'!$M$57,P15*E15*'GARMENT&TEXTILE PRODUCTS'!$M$54)","v":0},{"$f":"IF('GARMENT&TEXTILE PRODUCTS'!$N$34=1,Q15*E15*'GARMENT&TEXTILE PRODUCTS'!$N$57,Q15*E15*'GARMENT&TEXTILE PRODUCTS'!$N$54)","v":0},{"$f":"SUM(C28:N28)","v":0}]
[null,{"$f":"IF(B16<>\"\",B16,\"\")","v":""},{"$f":"IF('GARMENT&TEXTILE PRODUCTS'!$C$34=1,F16*E16*'GARMENT&TEXTILE PRODUCTS'!$C$57,F16*E16*'GARMENT&TEXTILE PRODUCTS'!$C$54)","v":0},{"$f":"IF('GARMENT&TEXTILE PRODUCTS'!$D$34=1,G16*E16*'GARMENT&TEXTILE PRODUCTS'!$D$57,G16*E16*'GARMENT&TEXTILE PRODUCTS'!$D$54)","v":0},{"$f":"IF('GARMENT&TEXTILE PRODUCTS'!$E$34=1,H16*E16*'GARMENT&TEXTILE PRODUCTS'!$E$57,H16*E16*'GARMENT&TEXTILE PRODUCTS'!$E$54)","v":0},{"$f":"IF('GARMENT&TEXTILE PRODUCTS'!$F$34=1,I16*E16*'GARMENT&TEXTILE PRODUCTS'!$F$57,I16*E16*'GARMENT&TEXTILE PRODUCTS'!$F$54)","v":0},{"$f":"IF('GARMENT&TEXTILE PRODUCTS'!$G$34=1,J16*E16*'GARMENT&TEXTILE PRODUCTS'!$G$57,J16*E16*'GARMENT&TEXTILE PRODUCTS'!$G$54)","v":0},{"$f":"IF('GARMENT&TEXTILE PRODUCTS'!$H$34=1,K16*E16*'GARMENT&TEXTILE PRODUCTS'!$H$57,K16*E16*'GARMENT&TEXTILE PRODUCTS'!$H$54)","v":0},{"$f":"IF('GARMENT&TEXTILE PRODUCTS'!$I$34=1,L16*E16*'GARMENT&TEXTILE PRODUCTS'!$I$57,L16*E16*'GARMENT&TEXTILE PRODUCTS'!$I$54)","v":0},{"$f":"IF('GARMENT&TEXTILE PRODUCTS'!$J$34=1,M16*E16*'GARMENT&TEXTILE PRODUCTS'!$J$57,M16*E16*'GARMENT&TEXTILE PRODUCTS'!$J$54)","v":0},{"$f":"IF('GARMENT&TEXTILE PRODUCTS'!$K$34=1,N16*E16*'GARMENT&TEXTILE PRODUCTS'!$K$57,N16*E16*'GARMENT&TEXTILE PRODUCTS'!$K$54)","v":0},{"$f":"IF('GARMENT&TEXTILE PRODUCTS'!$K$34=1,O16*E16*'GARMENT&TEXTILE PRODUCTS'!$L$57,O16*E16*'GARMENT&TEXTILE PRODUCTS'!$L$54)","v":0},{"$f":"IF('GARMENT&TEXTILE PRODUCTS'!$M$34=1,P16*E16*'GARMENT&TEXTILE PRODUCTS'!$M$57,P16*E16*'GARMENT&TEXTILE PRODUCTS'!$M$54)","v":0},{"$f":"IF('GARMENT&TEXTILE PRODUCTS'!$N$34=1,Q16*E16*'GARMENT&TEXTILE PRODUCTS'!$N$57,Q16*E16*'GARMENT&TEXTILE PRODUCTS'!$N$54)","v":0},{"$f":"SUM(C29:N29)","v":0}]
[null,{"$f":"IF(B17<>\"\",B17,\"\")","v":""},{"$f":"IF('GARMENT&TEXTILE PRODUCTS'!$C$34=1,F17*E17*'GARMENT&TEXTILE PRODUCTS'!$C$57,F17*E17*'GARMENT&TEXTILE PRODUCTS'!$C$54)","v":0},{"$f":"IF('GARMENT&TEXTILE PRODUCTS'!$D$34=1,G17*E17*'GARMENT&TEXTILE PRODUCTS'!$D$57,G17*E17*'GARMENT&TEXTILE PRODUCTS'!$D$54)","v":0},{"$f":"IF('GARMENT&TEXTILE PRODUCTS'!$E$34=1,H17*E17*'GARMENT&TEXTILE PRODUCTS'!$E$57,H17*E17*'GARMENT&TEXTILE PRODUCTS'!$E$54)","v":0},{"$f":"IF('GARMENT&TEXTILE PRODUCTS'!$F$34=1,I17*E17*'GARMENT&TEXTILE PRODUCTS'!$F$57,I17*E17*'GARMENT&TEXTILE PRODUCTS'!$F$54)","v":0},{"$f":"IF('GARMENT&TEXTILE PRODUCTS'!$G$34=1,J17*E17*'GARMENT&TEXTILE PRODUCTS'!$G$57,J17*E17*'GARMENT&TEXTILE PRODUCTS'!$G$54)","v":0},{"$f":"IF('GARMENT&TEXTILE PRODUCTS'!$H$34=1,K17*E17*'GARMENT&TEXTILE PRODUCTS'!$H$57,K17*E17*'GARMENT&TEXTILE PRODUCTS'!$H$54)","v":0},{"$f":"IF('GARMENT&TEXTILE PRODUCTS'!$I$34=1,L17*E17*'GARMENT&TEXTILE PRODUCTS'!$I$57,L17*E17*'GARMENT&TEXTILE PRODUCTS'!$I$54)","v":0},{"$f":"IF('GARMENT&TEXTILE PRODUCTS'!$J$34=1,M17*E17*'GARMENT&TEXTILE PRODUCTS'!$J$57,M17*E17*'GARMENT&TEXTILE PRODUCTS'!$J$54)","v":0},{"$f":"IF('GARMENT&TEXTILE PRODUCTS'!$K$34=1,N17*E17*'GARMENT&TEXTILE PRODUCTS'!$K$57,N17*E17*'GARMENT&TEXTILE PRODUCTS'!$K$54)","v":0},{"$f":"IF('GARMENT&TEXTILE PRODUCTS'!$K$34=1,O17*E17*'GARMENT&TEXTILE PRODUCTS'!$L$57,O17*E17*'GARMENT&TEXTILE PRODUCTS'!$L$54)","v":0},{"$f":"IF('GARMENT&TEXTILE PRODUCTS'!$M$34=1,P17*E17*'GARMENT&TEXTILE PRODUCTS'!$M$57,P17*E17*'GARMENT&TEXTILE PRODUCTS'!$M$54)","v":0},{"$f":"IF('GARMENT&TEXTILE PRODUCTS'!$N$34=1,Q17*E17*'GARMENT&TEXTILE PRODUCTS'!$N$57,Q17*E17*'GARMENT&TEXTILE PRODUCTS'!$N$54)","v":0},{"$f":"SUM(C30:N30)","v":0}]
[null,{"$f":"IF(B18<>\"\",B18,\"\")","v":""},{"$f":"IF('GARMENT&TEXTILE PRODUCTS'!$C$34=1,F18*E18*'GARMENT&TEXTILE PRODUCTS'!$C$57,F18*E18*'GARMENT&TEXTILE PRODUCTS'!$C$54)","v":0},{"$f":"IF('GARMENT&TEXTILE PRODUCTS'!$D$34=1,G18*E18*'GARMENT&TEXTILE PRODUCTS'!$D$57,G18*E18*'GARMENT&TEXTILE PRODUCTS'!$D$54)","v":0},{"$f":"IF('GARMENT&TEXTILE PRODUCTS'!$E$34=1,H18*E18*'GARMENT&TEXTILE PRODUCTS'!$E$57,H18*E18*'GARMENT&TEXTILE PRODUCTS'!$E$54)","v":0},{"$f":"IF('GARMENT&TEXTILE PRODUCTS'!$F$34=1,I18*E18*'GARMENT&TEXTILE PRODUCTS'!$F$57,I18*E18*'GARMENT&TEXTILE PRODUCTS'!$F$54)","v":0},{"$f":"IF('GARMENT&TEXTILE PRODUCTS'!$G$34=1,J18*E18*'GARMENT&TEXTILE PRODUCTS'!$G$57,J18*E18*'GARMENT&TEXTILE PRODUCTS'!$G$54)","v":0},{"$f":"IF('GARMENT&TEXTILE PRODUCTS'!$H$34=1,K18*E18*'GARMENT&TEXTILE PRODUCTS'!$H$57,K18*E18*'GARMENT&TEXTILE PRODUCTS'!$H$54)","v":0},{"$f":"IF('GARMENT&TEXTILE PRODUCTS'!$I$34=1,L18*E18*'GARMENT&TEXTILE PRODUCTS'!$I$57,L18*E18*'GARMENT&TEXTILE PRODUCTS'!$I$54)","v":0},{"$f":"IF('GARMENT&TEXTILE PRODUCTS'!$J$34=1,M18*E18*'GARMENT&TEXTILE PRODUCTS'!$J$57,M18*E18*'GARMENT&TEXTILE PRODUCTS'!$J$54)","v":0},{"$f":"IF('GARMENT&TEXTILE PRODUCTS'!$K$34=1,N18*E18*'GARMENT&TEXTILE PRODUCTS'!$K$57,N18*E18*'GARMENT&TEXTILE PRODUCTS'!$K$54)","v":0},{"$f":"IF('GARMENT&TEXTILE PRODUCTS'!$K$34=1,O18*E18*'GARMENT&TEXTILE PRODUCTS'!$L$57,O18*E18*'GARMENT&TEXTILE PRODUCTS'!$L$54)","v":0},{"$f":"IF('GARMENT&TEXTILE PRODUCTS'!$M$34=1,P18*E18*'GARMENT&TEXTILE PRODUCTS'!$M$57,P18*E18*'GARMENT&TEXTILE PRODUCTS'!$M$54)","v":0},{"$f":"IF('GARMENT&TEXTILE PRODUCTS'!$N$34=1,Q18*E18*'GARMENT&TEXTILE PRODUCTS'!$N$57,Q18*E18*'GARMENT&TEXTILE PRODUCTS'!$N$54)","v":0},{"$f":"SUM(C31:N31)","v":0}]
[]
[null,"Total",{"$f":"SUM(C27:C32)","v":0},{"$f":"SUM(D27:D32)","v":0},0,0,0,0,0,0,0,0,0,0,0]

{"sheet":"GARMENT&TEXTILE PHASE 2","index":11,"n_rows":145,"n_cols":20,"rows_kept":145,"cut":false,"hidden":true,"merged":[[131,18,132,18],[14,5,15,5],[88,0,88,5],[135,2,136,2],[135,3,136,3],[135,4,136,4],[133,0,134,0],[133,1,134,1],[133,2,134,2],[133,3,134,3],[133,4,134,4],[135,1,136,1],[39,2,40,2],[39,3,40,3],[39,4,40,4],[39,5,40,5],[35,0,36,0],[35,1,36,1],[35,2,36,2],[35,3,36,3],[54,0,55,0],[54,1,55,1],[54,2,55,2],[41,1,42,1],[144,0,144,4],[131,0,132,0],[131,1,132,1],[131,2,132,2],[131,3,132,3],[131,4,132,4],[131,5,132,5],[131,6,131,17],[141,0,142,0],[141,1,142,1],[141,2,142,2],[141,3,142,3],[141,4,142,4],[139,0,140,0],[139,1,140,1],[139,2,140,2],[139,3,140,3],[139,4,140,4],[137,0,138,0],[137,1,138,1],[137,2,138,2],[137,3,138,3],[137,4,138,4],[135,0,136,0],[39,1,40,1],[60,0,61,0],[60,1,61,1],[60,2,61,2],[58,0,59,0],[58,1,59,1],[58,2,59,2],[56,0,57,0],[56,1,57,1],[56,2,57,2],[121,0,121,1],[121,2,121,3],[118,0,118,1],[118,2,118,3],[119,0,119,1],[119,2,119,3],[120,0,120,1],[120,2,120,3],[95,3,95,8],[96,0,96,2],[116,0,116,1],[116,2,116,3],[117,0,117,1],[117,2,117,3],[18,5,19,5],[23,0,23,6],[29,0,30,0],[18,0,19,0],[18,1,19,1],[18,2,19,2],[18,3,19,3],[18,4,19,4],[12,0,13,0],[12,1,13,1],[12,2,13,2],[12,3,13,3],[12,4,13,4],[16,0,17,0],[16,1,17,1],[16,2,17,2],[16,3,17,3],[16,4,17,4],[16,5,17,5],[14,0,15,0],[14,1,15,1],[14,2,15,2],[14,3,15,3],[14,4,15,4],[93,0,93,4],[10,7,10,18],[10,19,11,19],[10,2,11,2],[10,3,11,3],[10,4,11,4],[10,5,11,5],[10,6,11,6],[29,7,29,18],[29,19,30,19],[37,0,38,0],[37,1,38,1],[37,2,38,2],[12,5,13,5],[52,2,53,2],[52,4,52,15],[50,0,50,4],[41,0,42,0],[73,0,74,0],[73,18,74,18],[81,3,82,3],[81,4,82,4],[75,0,76,0],[75,1,76,1],[73,6,73,17],[6,0,6,5],[10,0,11,0],[10,1,11,1],[1,0,1,19],[65,0,65,3],[62,0,63,0],[62,1,63,1],[62,2,63,2],[20,0,21,0],[20,1,21,1],[20,2,21,2],[20,3,21,3],[20,4,21,4],[20,5,21,5],[29,1,30,1],[29,2,30,2],[29,3,30,3],[29,4,30,4],[29,5,30,5],[31,0,32,0],[31,1,32,1],[31,2,32,2],[31,3,32,3],[79,0,80,0],[79,1,80,1],[79,2,80,2],[79,3,80,3],[73,1,74,1],[73,2,74,2],[73,3,74,3],[73,4,74,4],[73,5,74,5],[79,4,80,4],[75,2,76,2],[75,3,76,3],[75,4,76,4],[77,0,78,0],[77,1,78,1],[77,2,78,2],[77,3,78,3],[77,4,78,4],[29,6,30,6],[52,16,53,16],[44,0,44,6],[52,0,53,0],[52,1,53,1],[71,0,71,4],[35,5,36,5],[37,3,38,3],[37,4,38,4],[37,5,38,5],[33,0,34,0],[33,1,34,1],[33,2,34,2],[33,3,34,3],[33,4,34,4],[33,5,34,5],[31,4,32,4],[31,5,32,5],[41,2,42,2],[35,4,36,4],[41,3,42,3],[41,4,42,4],[41,5,42,5],[39,0,40,0],[81,0,82,0],[81,1,82,1],[81,2,82,2],[83,0,84,0],[83,1,84,1],[83,2,84,2],[83,3,84,3],[83,4,84,4],[85,0,86,0],[85,1,86,1],[85,2,86,2],[85,3,86,3],[85,4,86,4]]}
[]
["INPUT DATA PHASE 2: PRODUCT PRODUCTION"]
[]
[]
[]
[]
["I. Direct fossil fuel combustion activities"]
[]
["1.1 Fuel used in the combustion process comes from a stationary source. For example: Boiler firing, heating, etc."]
[]
["Fuel","Unit","NCV (GJ/unit)","EF CO2 \n(kg CO2/GJ)","EF CH4 \n(kg CO4/GJ)","EF N2O (kg N2O/GJ)",null,"Fuel consumption and GHG emissions from stationary combustion",null,null,null,null,null,null,null,null,null,null,null,"Total"]
[null,null,null,null,null,null,null,"Jan","Feb","March","April","May","June","July","Aug","Sep","Oct","Nov","Dec"]
[null,null,{"$f":"IF(AND(A13<>\"\",B13<>\"\"),VLOOKUP(A13&B13,'unit conversion'!$A$2:$F$267,5,0)*VLOOKUP(A13&B13,'unit conversion'!$A$2:$F$267,6,0),\"\")","v":""},{"$f":"IF(AND(A13<>\"\",B13<>\"\"),VLOOKUP(A13,EF!$B$4:$E$55,2,0),\"\")","v":""},{"$f":"IF(AND(A13<>\"\",B13<>\"\"),VLOOKUP(A13,EF!$B$4:$E$55,3,0),\"\")","v":""},{"$f":"IF(AND(A13<>\"\",B13<>\"\"),VLOOKUP(A13,EF!$B$4:$E$55,4,0),\"\")","v":""},"Fuel consumption",null,null,null,null,null,null,null,null,null,null,null,null,{"$f":"SUM(H13:S13)","v":0}]
[null,null,null,null,null,null,"Emission (tons CO2eq)",{"$f":"IF(A13<>\"\",IF('GARMENT&TEXTILE PRODUCTS'!$C$34=1,H13*C13*(D13+E13*EF!$M$4+F13*EF!$M$5)*'GARMENT&TEXTILE PRODUCTS'!$C$57/1000, H13*C13*(D13+E13*EF!$M$4+F13*EF!$M$5)*'GARMENT&TEXTILE PRODUCTS'!$C$54/1000),\"\")","v":""},{"$f":"IF(A13<>\"\",IF('GARMENT&TEXTILE PRODUCTS'!$D$34=1,I13*C13*(D13+E13*EF!$M$4+F13*EF!$M$5)*'GARMENT&TEXTILE PRODUCTS'!$D$57/1000, I13*C13*(D13+E13*EF!$M$4+F13*EF!$M$5)*'GARMENT&TEXTILE PRODUCTS'!$D$54/1000),\"\")","v":""},{"$f":"IF(A13<>\"\",IF('GARMENT&TEXTILE PRODUCTS'!$E$34=1, J13*C13*(D13+E13*EF!$M$4+F13*EF!$M$5)*'GARMENT&TEXTILE PRODUCTS'!$E$57/1000, J13*C13*(D13+E13*EF!$M$4+F13*EF!$M$5)*'GARMENT&TEXTILE PRODUCTS'!$E$54/1000),\"\")","v":""},{"$f":"IF(A13<>\"\",IF('GARMENT&TEXTILE PRODUCTS'!$F$34=1,K13*C13*(D13+E13*EF!$M$4+F13*EF!$M$5)*'GARMENT&TEXTILE PRODUCTS'!$F$57/1000, K13*C13*(D13+E13*EF!$M$4+F13*EF!$M$5)*'GARMENT&TEXTILE PRODUCTS'!$F$54/1000),\"\")","v":""},{"$f":"IF(A13<>\"\",IF('GARMENT&TEXTILE PRODUCTS'!$G$34=1, L13*C13*(D13+E13*EF!$M$4+F13*EF!$M$5)*'GARMENT&TEXTILE PRODUCTS'!$G$57/1000,L13*C13*(D13+E13*EF!$M$4+F13*EF!$M$5)*'GARMENT&TEXTILE PRODUCTS'!$G$54/1000),\"\")","v":""},{"$f":"IF(A13<>\"\",IF('GARMENT&TEXTILE PRODUCTS'!$H$34=1,M13*C13*(D13+E13*EF!$M$4+F13*EF!$M$5)*'GARMENT&TEXTILE PRODUCTS'!$H$57/1000,M13*C13*(D13+E13*EF!$M$4+F13*EF!$M$5)*'GARMENT&TEXTILE PRODUCTS'!$H$54/1000),\"\")","v":""},{"$f":"IF(A13<>\"\",IF('GARMENT&TEXTILE PRODUCTS'!$I$34=1,N13*C13*(D13+E13*EF!$M$4+F13*EF!$M$5)*'GARMENT&TEXTILE PRODUCTS'!$I$57/1000,N13*C13*(D13+E13*EF!$M$4+F13*EF!$M$5)*'GARMENT&TEXTILE PRODUCTS'!$I$54/1000),\"\")","v":""},{"$f":"IF(A13<>\"\",IF('GARMENT&TEXTILE PRODUCTS'!$K$34=1,O13*C13*(D13+E13*EF!$M$4+F13*EF!$M$5)*'GARMENT&TEXTILE PRODUCTS'!$J$57/1000,O13*C13*(D13+E13*EF!$M$4+F13*EF!$M$5)*'GARMENT&TEXTILE PRODUCTS'!$J$54/1000),\"\")","v":""},{"$f":"IF(A13<>\"\",IF('GARMENT&TEXTILE PRODUCTS'!$K$34=1,P13*C13*(D13+E13*EF!$M$4+F13*EF!$M$5)*'GARMENT&TEXTILE PRODUCTS'!$K$57/1000,P13*C13*(D13+E13*EF!$M$4+F13*EF!$M$5)*'GARMENT&TEXTILE PRODUCTS'!$K$54/1000),\"\")","v":""},{"$f":"IF(A13<>\"\",IF('GARMENT&TEXTILE PRODUCTS'!$L$34=1,Q13*C13*(D13+E13*EF!$M$4+F13*EF!$M$5)*'GARMENT&TEXTILE PRODUCTS'!$L$57/1000,Q13*C13*(D13+E13*EF!$M$4+F13*EF!$M$5)*'GARMENT&TEXTILE PRODUCTS'!$L$54/1000),\"\")","v":""},{"$f":"IF(A13<>\"\",IF('GARMENT&TEXTILE PRODUCTS'!$M$34=1,R13*C13*(D13+E13*EF!$M$4+F13*EF!$M$5)*'GARMENT&TEXTILE PRODUCTS'!$M$57/1000,R13*C13*(D13+E13*EF!$M$4+F13*EF!$M$5)*'GARMENT&TEXTILE PRODUCTS'!$M$54/1000),\"\")","v":""},{"$f":"IF(A13<>\"\",IF('GARMENT&TEXTILE PRODUCTS'!$N$34=1,S13*C13*(D13+E13*EF!$M$4+F13*EF!$M$5)*'GARMENT&TEXTILE PRODUCTS'!$N$57/1000,S13*C13*(D13+E13*EF!$M$4+F13*EF!$M$5)*'GARMENT&TEXTILE PRODUCTS'!$N$54/1000),\"\")","v":""},0]
[null,null,{"$f":"IF(AND(A15<>\"\",B15<>\"\"),VLOOKUP(A15&B15,'unit conversion'!$A$2:$F$267,5,0)*VLOOKUP(A15&B15,'unit conversion'!$A$2:$F$267,6,0),\"\")","v":""},{"$f":"IF(AND(A15<>\"\",B15<>\"\"),VLOOKUP(A15,EF!$B$4:$E$55,2,0),\"\")","v":""},{"$f":"IF(AND(A15<>\"\",B15<>\"\"),VLOOKUP(A15,EF!$B$4:$E$55,3,0),\"\")","v":""},{"$f":"IF(AND(A15<>\"\",B15<>\"\"),VLOOKUP(A15,EF!$B$4:$E$55,4,0),\"\")","v":""},"Fuel consumption",null,null,null,null,null,null,null,null,null,null,null,null,0]
[null,null,null,null,null,null,"Emission (tons CO2eq)",{"$f":"IF(A15<>\"\",IF('GARMENT&TEXTILE PRODUCTS'!$C$34=1,H15*C15*(D15+E15*EF!$M$4+F15*EF!$M$5)*'GARMENT&TEXTILE PRODUCTS'!$C$57/1000, H15*C15*(D15+E15*EF!$M$4+F15*EF!$M$5)*'GARMENT&TEXTILE PRODUCTS'!$C$54/1000),\"\")","v":""},{"$f":"IF(A15<>\"\",IF('GARMENT&TEXTILE PRODUCTS'!$D$34=1,I15*C15*(D15+E15*EF!$M$4+F15*EF!$M$5)*'GARMENT&TEXTILE PRODUCTS'!$D$57/1000, I15*C15*(D15+E15*EF!$M$4+F15*EF!$M$5)*'GARMENT&TEXTILE PRODUCTS'!$D$54/1000),\"\")","v":""},{"$f":"IF(A15<>\"\",IF('GARMENT&TEXTILE PRODUCTS'!$E$34=1, J15*C15*(D15+E15*EF!$M$4+F15*EF!$M$5)*'GARMENT&TEXTILE PRODUCTS'!$E$57/1000, J15*C15*(D15+E15*EF!$M$4+F15*EF!$M$5)*'GARMENT&TEXTILE PRODUCTS'!$E$54/1000),\"\")","v":""},{"$f":"IF(A15<>\"\",IF('GARMENT&TEXTILE PRODUCTS'!$F$34=1,K15*C15*(D15+E15*EF!$M$4+F15*EF!$M$5)*'GARMENT&TEXTILE PRODUCTS'!$F$57/1000, K15*C15*(D15+E15*EF!$M$4+F15*EF!$M$5)*'GARMENT&TEXTILE PRODUCTS'!$F$54/1000),\"\")","v":""},{"$f":"IF(A15<>\"\",IF('GARMENT&TEXTILE PRODUCTS'!$G$34=1, L15*C15*(D15+E15*EF!$M$4+F15*EF!$M$5)*'GARMENT&TEXTILE PRODUCTS'!$G$57/1000,L15*C15*(D15+E15*EF!$M$4+F15*EF!$M$5)*'GARMENT&TEXTILE PRODUCTS'!$G$54/1000),\"\")","v":""},{"$f":"IF(A15<>\"\",IF('GARMENT&TEXTILE PRODUCTS'!$H$34=1,M15*C15*(D15+E15*EF!$M$4+F15*EF!$M$5)*'GARMENT&TEXTILE PRODUCTS'!$H$57/1000,M15*C15*(D15+E15*EF!$M$4+F15*EF!$M$5)*'GARMENT&TEXTILE PRODUCTS'!$H$54/1000),\"\")","v":""},{"$f":"IF(A15<>\"\",IF('GARMENT&TEXTILE PRODUCTS'!$I$34=1,N15*C15*(D15+E15*EF!$M$4+F15*EF!$M$5)*'GARMENT&TEXTILE PRODUCTS'!$I$57/1000,N15*C15*(D15+E15*EF!$M$4+F15*EF!$M$5)*'GARMENT&TEXTILE PRODUCTS'!$I$54/1000),\"\")","v":""},{"$f":"IF(A15<>\"\",IF('GARMENT&TEXTILE PRODUCTS'!$K$34=1,O15*C15*(D15+E15*EF!$M$4+F15*EF!$M$5)*'GARMENT&TEXTILE PRODUCTS'!$J$57/1000,O15*C15*(D15+E15*EF!$M$4+F15*EF!$M$5)*'GARMENT&TEXTILE PRODUCTS'!$J$54/1000),\"\")","v":""},{"$f":"IF(A15<>\"\",IF('GARMENT&TEXTILE PRODUCTS'!$K$34=1,P15*C15*(D15+E15*EF!$M$4+F15*EF!$M$5)*'GARMENT&TEXTILE PRODUCTS'!$K$57/1000,P15*C15*(D15+E15*EF!$M$4+F15*EF!$M$5)*'GARMENT&TEXTILE PRODUCTS'!$K$54/1000),\"\")","v":""},{"$f":"IF(A15<>\"\",IF('GARMENT&TEXTILE PRODUCTS'!$L$34=1,Q15*C15*(D15+E15*EF!$M$4+F15*EF!$M$5)*'GARMENT&TEXTILE PRODUCTS'!$L$57/1000,Q15*C15*(D15+E15*EF!$M$4+F15*EF!$M$5)*'GARMENT&TEXTILE PRODUCTS'!$L$54/1000),\"\")","v":""},{"$f":"IF(A15<>\"\",IF('GARMENT&TEXTILE PRODUCTS'!$M$34=1,R15*C15*(D15+E15*EF!$M$4+F15*EF!$M$5)*'GARMENT&TEXTILE PRODUCTS'!$M$57/1000,R15*C15*(D15+E15*EF!$M$4+F15*EF!$M$5)*'GARMENT&TEXTILE PRODUCTS'!$M$54/1000),\"\")","v":""},{"$f":"IF(A15<>\"\",IF('GARMENT&TEXTILE PRODUCTS'!$N$34=1,S15*C15*(D15+E15*EF!$M$4+F15*EF!$M$5)*'GARMENT&TEXTILE PRODUCTS'!$N$57/1000,S15*C15*(D15+E15*EF!$M$4+F15*EF!$M$5)*'GARMENT&TEXTILE PRODUCTS'!$N$54/1000),\"\")","v":""},0]
[null,null,{"$f":"IF(AND(A17<>\"\",B17<>\"\"),VLOOKUP(A17&B17,'unit conversion'!$A$2:$F$267,5,0)*VLOOKUP(A17&B17,'unit conversion'!$A$2:$F$267,6,0),\"\")","v":""},{"$f":"IF(AND(A17<>\"\",B17<>\"\"),VLOOKUP(A17,EF!$B$4:$E$55,2,0),\"\")","v":""},{"$f":"IF(AND(A17<>\"\",B17<>\"\"),VLOOKUP(A17,EF!$B$4:$E$55,3,0),\"\")","v":""},{"$f":"IF(AND(A17<>\"\",B17<>\"\"),VLOOKUP(A17,EF!$B$4:$E$55,4,0),\"\")","v":""},"Fuel consumption",null,null,null,null,null,null,null,null,null,null,null,null,{"$f":"SUM(H17:S17)","v":0}]
[null,null,null,null,null,null,"Emission (tons CO2eq)",{"$f":"IF(A17<>\"\",IF('GARMENT&TEXTILE PRODUCTS'!$C$34=1,H17*C17*(D17+E17*EF!$M$4+F17*EF!$M$5)*'GARMENT&TEXTILE PRODUCTS'!$C$57/1000, H17*C17*(D17+E17*EF!$M$4+F17*EF!$M$5)*'GARMENT&TEXTILE PRODUCTS'!$C$54/1000),\"\")","v":""},{"$f":"IF(A17<>\"\",IF('GARMENT&TEXTILE PRODUCTS'!$D$34=1,I17*C17*(D17+E17*EF!$M$4+F17*EF!$M$5)*'GARMENT&TEXTILE PRODUCTS'!$D$57/1000, I17*C17*(D17+E17*EF!$M$4+F17*EF!$M$5)*'GARMENT&TEXTILE PRODUCTS'!$D$54/1000),\"\")","v":""},{"$f":"IF(A17<>\"\",IF('GARMENT&TEXTILE PRODUCTS'!$E$34=1, J17*C17*(D17+E17*EF!$M$4+F17*EF!$M$5)*'GARMENT&TEXTILE PRODUCTS'!$E$57/1000, J17*C17*(D17+E17*EF!$M$4+F17*EF!$M$5)*'GARMENT&TEXTILE PRODUCTS'!$E$54/1000),\"\")","v":""},{"$f":"IF(A17<>\"\",IF('GARMENT&TEXTILE PRODUCTS'!$F$34=1,K17*C17*(D17+E17*EF!$M$4+F17*EF!$M$5)*'GARMENT&TEXTILE PRODUCTS'!$F$57/1000, K17*C17*(D17+E17*EF!$M$4+F17*EF!$M$5)*'GARMENT&TEXTILE PRODUCTS'!$F$54/1000),\"\")","v":""},{"$f":"IF(A17<>\"\",IF('GARMENT&TEXTILE PRODUCTS'!$G$34=1, L17*C17*(D17+E17*EF!$M$4+F17*EF!$M$5)*'GARMENT&TEXTILE PRODUCTS'!$G$57/1000,L17*C17*(D17+E17*EF!$M$4+F17*EF!$M$5)*'GARMENT&TEXTILE PRODUCTS'!$G$54/1000),\"\")","v":""},{"$f":"IF(A17<>\"\",IF('GARMENT&TEXTILE PRODUCTS'!$H$34=1,M17*C17*(D17+E17*EF!$M$4+F17*EF!$M$5)*'GARMENT&TEXTILE PRODUCTS'!$H$57/1000,M17*C17*(D17+E17*EF!$M$4+F17*EF!$M$5)*'GARMENT&TEXTILE PRODUCTS'!$H$54/1000),\"\")","v":""},{"$f":"IF(A17<>\"\",IF('GARMENT&TEXTILE PRODUCTS'!$I$34=1,N17*C17*(D17+E17*EF!$M$4+F17*EF!$M$5)*'GARMENT&TEXTILE PRODUCTS'!$I$57/1000,N17*C17*(D17+E17*EF!$M$4+F17*EF!$M$5)*'GARMENT&TEXTILE PRODUCTS'!$I$54/1000),\"\")","v":""},{"$f":"IF(A17<>\"\",IF('GARMENT&TEXTILE PRODUCTS'!$K$34=1,O17*C17*(D17+E17*EF!$M$4+F17*EF!$M$5)*'GARMENT&TEXTILE PRODUCTS'!$J$57/1000,O17*C17*(D17+E17*EF!$M$4+F17*EF!$M$5)*'GARMENT&TEXTILE PRODUCTS'!$J$54/1000),\"\")","v":""},{"$f":"IF(A17<>\"\",IF('GARMENT&TEXTILE PRODUCTS'!$K$34=1,P17*C17*(D17+E17*EF!$M$4+F17*EF!$M$5)*'GARMENT&TEXTILE PRODUCTS'!$K$57/1000,P17*C17*(D17+E17*EF!$M$4+F17*EF!$M$5)*'GARMENT&TEXTILE PRODUCTS'!$K$54/1000),\"\")","v":""},{"$f":"IF(A17<>\"\",IF('GARMENT&TEXTILE PRODUCTS'!$L$34=1,Q17*C17*(D17+E17*EF!$M$4+F17*EF!$M$5)*'GARMENT&TEXTILE PRODUCTS'!$L$57/1000,Q17*C17*(D17+E17*EF!$M$4+F17*EF!$M$5)*'GARMENT&TEXTILE PRODUCTS'!$L$54/1000),\"\")","v":""},{"$f":"IF(A17<>\"\",IF('GARMENT&TEXTILE PRODUCTS'!$M$34=1,R17*C17*(D17+E17*EF!$M$4+F17*EF!$M$5)*'GARMENT&TEXTILE PRODUCTS'!$M$57/1000,R17*C17*(D17+E17*EF!$M$4+F17*EF!$M$5)*'GARMENT&TEXTILE PRODUCTS'!$M$54/1000),\"\")","v":""},{"$f":"IF(A17<>\"\",IF('GARMENT&TEXTILE PRODUCTS'!$N$34=1,S17*C17*(D17+E17*EF!$M$4+F17*EF!$M$5)*'GARMENT&TEXTILE PRODUCTS'!$N$57/1000,S17*C17*(D17+E17*EF!$M$4+F17*EF!$M$5)*'GARMENT&TEXTILE PRODUCTS'!$N$54/1000),\"\")","v":""},{"$f":"SUM(H18:S18)","v":0}]
[null,null,{"$f":"IF(AND(A19<>\"\",B19<>\"\"),VLOOKUP(A19&B19,'unit conversion'!$A$2:$F$267,5,0)*VLOOKUP(A19&B19,'unit conversion'!$A$2:$F$267,6,0),\"\")","v":""},{"$f":"IF(AND(A19<>\"\",B19<>\"\"),VLOOKUP(A19,EF!$B$4:$E$55,2,0),\"\")","v":""},{"$f":"IF(AND(A19<>\"\",B19<>\"\"),VLOOKUP(A19,EF!$B$4:$E$55,3,0),\"\")","v":""},{"$f":"IF(AND(A19<>\"\",B19<>\"\"),VLOOKUP(A19,EF!$B$4:$E$55,4,0),\"\")","v":""},"Fuel consumption",null,null,null,null,null,null,null,null,null,null,null,null,0]
[null,null,null,null,null,null,"Emission (tons CO2eq)",{"$f":"IF(A19<>\"\",IF('GARMENT&TEXTILE PRODUCTS'!$C$34=1,H19*C19*(D19+E19*EF!$M$4+F19*EF!$M$5)*'GARMENT&TEXTILE PRODUCTS'!$C$57/1000, H19*C19*(D19+E19*EF!$M$4+F19*EF!$M$5)*'GARMENT&TEXTILE PRODUCTS'!$C$54/1000),\"\")","v":""},{"$f":"IF(A19<>\"\",IF('GARMENT&TEXTILE PRODUCTS'!$D$34=1,I19*C19*(D19+E19*EF!$M$4+F19*EF!$M$5)*'GARMENT&TEXTILE PRODUCTS'!$D$57/1000, I19*C19*(D19+E19*EF!$M$4+F19*EF!$M$5)*'GARMENT&TEXTILE PRODUCTS'!$D$54/1000),\"\")","v":""},{"$f":"IF(A19<>\"\",IF('GARMENT&TEXTILE PRODUCTS'!$E$34=1, J19*C19*(D19+E19*EF!$M$4+F19*EF!$M$5)*'GARMENT&TEXTILE PRODUCTS'!$E$57/1000, J19*C19*(D19+E19*EF!$M$4+F19*EF!$M$5)*'GARMENT&TEXTILE PRODUCTS'!$E$54/1000),\"\")","v":""},{"$f":"IF(A19<>\"\",IF('GARMENT&TEXTILE PRODUCTS'!$F$34=1,K19*C19*(D19+E19*EF!$M$4+F19*EF!$M$5)*'GARMENT&TEXTILE PRODUCTS'!$F$57/1000, K19*C19*(D19+E19*EF!$M$4+F19*EF!$M$5)*'GARMENT&TEXTILE PRODUCTS'!$F$54/1000),\"\")","v":""},{"$f":"IF(A19<>\"\",IF('GARMENT&TEXTILE PRODUCTS'!$G$34=1, L19*C19*(D19+E19*EF!$M$4+F19*EF!$M$5)*'GARMENT&TEXTILE PRODUCTS'!$G$57/1000,L19*C19*(D19+E19*EF!$M$4+F19*EF!$M$5)*'GARMENT&TEXTILE PRODUCTS'!$G$54/1000),\"\")","v":""},{"$f":"IF(A19<>\"\",IF('GARMENT&TEXTILE PRODUCTS'!$H$34=1,M19*C19*(D19+E19*EF!$M$4+F19*EF!$M$5)*'GARMENT&TEXTILE PRODUCTS'!$H$57/1000,M19*C19*(D19+E19*EF!$M$4+F19*EF!$M$5)*'GARMENT&TEXTILE PRODUCTS'!$H$54/1000),\"\")","v":""},{"$f":"IF(A19<>\"\",IF('GARMENT&TEXTILE PRODUCTS'!$I$34=1,N19*C19*(D19+E19*EF!$M$4+F19*EF!$M$5)*'GARMENT&TEXTILE PRODUCTS'!$I$57/1000,N19*C19*(D19+E19*EF!$M$4+F19*EF!$M$5)*'GARMENT&TEXTILE PRODUCTS'!$I$54/1000),\"\")","v":""},{"$f":"IF(A19<>\"\",IF('GARMENT&TEXTILE PRODUCTS'!$K$34=1,O19*C19*(D19+E19*EF!$M$4+F19*EF!$M$5)*'GARMENT&TEXTILE PRODUCTS'!$J$57/1000,O19*C19*(D19+E19*EF!$M$4+F19*EF!$M$5)*'GARMENT&TEXTILE PRODUCTS'!$J$54/1000),\"\")","v":""},{"$f":"IF(A19<>\"\",IF('GARMENT&TEXTILE PRODUCTS'!$K$34=1,P19*C19*(D19+E19*EF!$M$4+F19*EF!$M$5)*'GARMENT&TEXTILE PRODUCTS'!$K$57/1000,P19*C19*(D19+E19*EF!$M$4+F19*EF!$M$5)*'GARMENT&TEXTILE PRODUCTS'!$K$54/1000),\"\")","v":""},{"$f":"IF(A19<>\"\",IF('GARMENT&TEXTILE PRODUCTS'!$L$34=1,Q19*C19*(D19+E19*EF!$M$4+F19*EF!$M$5)*'GARMENT&TEXTILE PRODUCTS'!$L$57/1000,Q19*C19*(D19+E19*EF!$M$4+F19*EF!$M$5)*'GARMENT&TEXTILE PRODUCTS'!$L$54/1000),\"\")","v":""},{"$f":"IF(A19<>\"\",IF('GARMENT&TEXTILE PRODUCTS'!$M$34=1,R19*C19*(D19+E19*EF!$M$4+F19*EF!$M$5)*'GARMENT&TEXTILE PRODUCTS'!$M$57/1000,R19*C19*(D19+E19*EF!$M$4+F19*EF!$M$5)*'GARMENT&TEXTILE PRODUCTS'!$M$54/1000),\"\")","v":""},{"$f":"IF(A19<>\"\",IF('GARMENT&TEXTILE PRODUCTS'!$N$34=1,S19*C19*(D19+E19*EF!$M$4+F19*EF!$M$5)*'GARMENT&TEXTILE PRODUCTS'!$N$57/1000,S19*C19*(D19+E19*EF!$M$4+F19*EF!$M$5)*'GARMENT&TEXTILE PRODUCTS'!$N$54/1000),\"\")","v":""},0]
[null,null,{"$f":"IF(AND(A21<>\"\",B21<>\"\"),VLOOKUP(A21&B21,'unit conversion'!$A$2:$F$267,5,0)*VLOOKUP(A21&B21,'unit conversion'!$A$2:$F$267,6,0),\"\")","v":""},{"$f":"IF(AND(A21<>\"\",B21<>\"\"),VLOOKUP(A21,EF!$B$4:$E$55,2,0),\"\")","v":""},{"$f":"IF(AND(A21<>\"\",B21<>\"\"),VLOOKUP(A21,EF!$B$4:$E$55,3,0),\"\")","v":""},{"$f":"IF(AND(A21<>\"\",B21<>\"\"),VLOOKUP(A21,EF!$B$4:$E$55,4,0),\"\")","v":""},"Fuel consumption",null,null,null,null,null,null,null,null,null,null,null,null,{"$f":"SUM(H21:S21)","v":0}]
[null,null,null,null,null,null,"Emission (tons CO2eq)",{"$f":"IF(A21<>\"\",IF('GARMENT&TEXTILE PRODUCTS'!$C$34=1,H21*C21*(D21+E21*EF!$M$4+F21*EF!$M$5)*'GARMENT&TEXTILE PRODUCTS'!$C$57/1000, H21*C21*(D21+E21*EF!$M$4+F21*EF!$M$5)*'GARMENT&TEXTILE PRODUCTS'!$C$54/1000),\"\")","v":""},{"$f":"IF(A21<>\"\",IF('GARMENT&TEXTILE PRODUCTS'!$D$34=1,I21*C21*(D21+E21*EF!$M$4+F21*EF!$M$5)*'GARMENT&TEXTILE PRODUCTS'!$D$57/1000, I21*C21*(D21+E21*EF!$M$4+F21*EF!$M$5)*'GARMENT&TEXTILE PRODUCTS'!$D$54/1000),\"\")","v":""},{"$f":"IF(A21<>\"\",IF('GARMENT&TEXTILE PRODUCTS'!$E$34=1, J21*C21*(D21+E21*EF!$M$4+F21*EF!$M$5)*'GARMENT&TEXTILE PRODUCTS'!$E$57/1000, J21*C21*(D21+E21*EF!$M$4+F21*EF!$M$5)*'GARMENT&TEXTILE PRODUCTS'!$E$54/1000),\"\")","v":""},{"$f":"IF(A21<>\"\",IF('GARMENT&TEXTILE PRODUCTS'!$F$34=1,K21*C21*(D21+E21*EF!$M$4+F21*EF!$M$5)*'GARMENT&TEXTILE PRODUCTS'!$F$57/1000, K21*C21*(D21+E21*EF!$M$4+F21*EF!$M$5)*'GARMENT&TEXTILE PRODUCTS'!$F$54/1000),\"\")","v":""},{"$f":"IF(A21<>\"\",IF('GARMENT&TEXTILE PRODUCTS'!$G$34=1, L21*C21*(D21+E21*EF!$M$4+F21*EF!$M$5)*'GARMENT&TEXTILE PRODUCTS'!$G$57/1000,L21*C21*(D21+E21*EF!$M$4+F21*EF!$M$5)*'GARMENT&TEXTILE PRODUCTS'!$G$54/1000),\"\")","v":""},{"$f":"IF(A21<>\"\",IF('GARMENT&TEXTILE PRODUCTS'!$H$34=1,M21*C21*(D21+E21*EF!$M$4+F21*EF!$M$5)*'GARMENT&TEXTILE PRODUCTS'!$H$57/1000,M21*C21*(D21+E21*EF!$M$4+F21*EF!$M$5)*'GARMENT&TEXTILE PRODUCTS'!$H$54/1000),\"\")","v":""},{"$f":"IF(A21<>\"\",IF('GARMENT&TEXTILE PRODUCTS'!$I$34=1,N21*C21*(D21+E21*EF!$M$4+F21*EF!$M$5)*'GARMENT&TEXTILE PRODUCTS'!$I$57/1000,N21*C21*(D21+E21*EF!$M$4+F21*EF!$M$5)*'GARMENT&TEXTILE PRODUCTS'!$I$54/1000),\"\")","v":""},{"$f":"IF(A21<>\"\",IF('GARMENT&TEXTILE PRODUCTS'!$K$34=1,O21*C21*(D21+E21*EF!$M$4+F21*EF!$M$5)*'GARMENT&TEXTILE PRODUCTS'!$J$57/1000,O21*C21*(D21+E21*EF!$M$4+F21*EF!$M$5)*'GARMENT&TEXTILE PRODUCTS'!$J$54/1000),\"\")","v":""},{"$f":"IF(A21<>\"\",IF('GARMENT&TEXTILE PRODUCTS'!$K$34=1,P21*C21*(D21+E21*EF!$M$4+F21*EF!$M$5)*'GARMENT&TEXTILE PRODUCTS'!$K$57/1000,P21*C21*(D21+E21*EF!$M$4+F21*EF!$M$5)*'GARMENT&TEXTILE PRODUCTS'!$K$54/1000),\"\")","v":""},{"$f":"IF(A21<>\"\",IF('GARMENT&TEXTILE PRODUCTS'!$L$34=1,Q21*C21*(D21+E21*EF!$M$4+F21*EF!$M$5)*'GARMENT&TEXTILE PRODUCTS'!$L$57/1000,Q21*C21*(D21+E21*EF!$M$4+F21*EF!$M$5)*'GARMENT&TEXTILE PRODUCTS'!$L$54/1000),\"\")","v":""},{"$f":"IF(A21<>\"\",IF('GARMENT&TEXTILE PRODUCTS'!$M$34=1,R21*C21*(D21+E21*EF!$M$4+F21*EF!$M$5)*'GARMENT&TEXTILE PRODUCTS'!$M$57/1000,R21*C21*(D21+E21*EF!$M$4+F21*EF!$M$5)*'GARMENT&TEXTILE PRODUCTS'!$M$54/1000),\"\")","v":""},{"$f":"IF(A21<>\"\",IF('GARMENT&TEXTILE PRODUCTS'!$N$34=1,S21*C21*(D21+E21*EF!$M$4+F21*EF!$M$5)*'GARMENT&TEXTILE PRODUCTS'!$N$57/1000,S21*C21*(D21+E21*EF!$M$4+F21*EF!$M$5)*'GARMENT&TEXTILE PRODUCTS'!$N$54/1000),\"\")","v":""},{"$f":"SUM(H22:S22)","v":0}]
[]
["Total (tons CO2eq)",null,null,null,null,null,null,{"$f":"SUMIF($G$13:$G$23,$G$22,H13:H23)","v":0},0,0,0,{"$f":"SUMIF($G$13:$G$23,$G$22,L13:L23)","v":0},0,0,0,0,0,0,0,0]
[]
[]
[]
["1.2 Fuel consumption for means of transportation (mobile fossil fuel combustion)"]
[]
["Fuel","Unit","NCV (GJ/unit)","EF CO2 \n(kg CO2/GJ)","EF CH4 \n(kg CO4/GJ)","EF N2O (kg N2O/GJ)",null,"Fuel consumption and GHG emissions from stationary combustion",null,null,null,null,null,null,null,null,null,null,null,"Total"]
[null,null,null,null,null,null,null,"Jan","Feb","March","April","May","June","July","Aug","Sep","Oct","Nov","Dec"]
[null,null,{"$f":"IF(AND(A32<>\"\",B32<>\"\"),VLOOKUP(A32&B32,'unit conversion'!$A$2:$F$267,5,0)*VLOOKUP(A32&B32,'unit conversion'!$A$2:$F$267,6,0),\"\")","v":""},{"$f":"IF(AND(A32<>\"\",B32<>\"\"),VLOOKUP(A32,EF!$B$4:$E$55,2,0),\"\")","v":""},{"$f":"IF(AND(A32<>\"\",B32<>\"\"),VLOOKUP(A32,EF!$B$4:$E$55,3,0),\"\")","v":""},{"$f":"IF(AND(A32<>\"\",B32<>\"\"),VLOOKUP(A32,EF!$B$4:$E$55,4,0),\"\")","v":""},"Fuel consumption",null,null,null,null,null,null,null,null,null,null,null,null,{"$f":"SUM(H32:S32)","v":0}]
[null,null,null,null,null,null,"Emission (tons CO2eq)",{"$f":"IF(A32<>\"\",IF('GARMENT&TEXTILE PRODUCTS'!$C$34=1,H32*C32*(D32+E32*EF!$M$4+F32*EF!$M$5)*'GARMENT&TEXTILE PRODUCTS'!$C$57/1000, H32*C32*(D32+E32*EF!$M$4+F32*EF!$M$5)*'GARMENT&TEXTILE PRODUCTS'!$C$54/1000),\"\")","v":""},{"$f":"IF(A32<>\"\",IF('GARMENT&TEXTILE PRODUCTS'!$D$34=1,I32*C32*(D32+E32*EF!$M$4+F32*EF!$M$5)*'GARMENT&TEXTILE PRODUCTS'!$D$57/1000, I32*C32*(D32+E32*EF!$M$4+F32*EF!$M$5)*'GARMENT&TEXTILE PRODUCTS'!$D$54/1000),\"\")","v":""},{"$f":"IF(A32<>\"\",IF('GARMENT&TEXTILE PRODUCTS'!$E$34=1, J32*C32*(D32+E32*EF!$M$4+F32*EF!$M$5)*'GARMENT&TEXTILE PRODUCTS'!$E$57/1000, J32*C32*(D32+E32*EF!$M$4+F32*EF!$M$5)*'GARMENT&TEXTILE PRODUCTS'!$E$54/1000),\"\")","v":""},{"$f":"IF(A32<>\"\",IF('GARMENT&TEXTILE PRODUCTS'!$F$34=1,K32*C32*(D32+E32*EF!$M$4+F32*EF!$M$5)*'GARMENT&TEXTILE PRODUCTS'!$F$57/1000, K32*C32*(D32+E32*EF!$M$4+F32*EF!$M$5)*'GARMENT&TEXTILE PRODUCTS'!$F$54/1000),\"\")","v":""},{"$f":"IF(A32<>\"\",IF('GARMENT&TEXTILE PRODUCTS'!$G$34=1, L32*C32*(D32+E32*EF!$M$4+F32*EF!$M$5)*'GARMENT&TEXTILE PRODUCTS'!$G$57/1000,L32*C32*(D32+E32*EF!$M$4+F32*EF!$M$5)*'GARMENT&TEXTILE PRODUCTS'!$G$54/1000),\"\")","v":""},{"$f":"IF(A32<>\"\",IF('GARMENT&TEXTILE PRODUCTS'!$H$34=1,M32*C32*(D32+E32*EF!$M$4+F32*EF!$M$5)*'GARMENT&TEXTILE PRODUCTS'!$H$57/1000,M32*C32*(D32+E32*EF!$M$4+F32*EF!$M$5)*'GARMENT&TEXTILE PRODUCTS'!$H$54/1000),\"\")","v":""},{"$f":"IF(A32<>\"\",IF('GARMENT&TEXTILE PRODUCTS'!$I$34=1,N32*C32*(D32+E32*EF!$M$4+F32*EF!$M$5)*'GARMENT&TEXTILE PRODUCTS'!$I$57/1000,N32*C32*(D32+E32*EF!$M$4+F32*EF!$M$5)*'GARMENT&TEXTILE PRODUCTS'!$I$54/1000),\"\")","v":""},{"$f":"IF(A32<>\"\",IF('GARMENT&TEXTILE PRODUCTS'!$K$34=1,O32*C32*(D32+E32*EF!$M$4+F32*EF!$M$5)*'GARMENT&TEXTILE PRODUCTS'!$J$57/1000,O32*C32*(D32+E32*EF!$M$4+F32*EF!$M$5)*'GARMENT&TEXTILE PRODUCTS'!$J$54/1000),\"\")","v":""},{"$f":"IF(A32<>\"\",IF('GARMENT&TEXTILE PRODUCTS'!$K$34=1,P32*C32*(D32+E32*EF!$M$4+F32*EF!$M$5)*'GARMENT&TEXTILE PRODUCTS'!$K$57/1000,P32*C32*(D32+E32*EF!$M$4+F32*EF!$M$5)*'GARMENT&TEXTILE PRODUCTS'!$K$54/1000),\"\")","v":""},{"$f":"IF(A32<>\"\",IF('GARMENT&TEXTILE PRODUCTS'!$L$34=1,Q32*C32*(D32+E32*EF!$M$4+F32*EF!$M$5)*'GARMENT&TEXTILE PRODUCTS'!$L$57/1000,Q32*C32*(D32+E32*EF!$M$4+F32*EF!$M$5)*'GARMENT&TEXTILE PRODUCTS'!$L$54/1000),\"\")","v":""},{"$f":"IF(A32<>\"\",IF('GARMENT&TEXTILE PRODUCTS'!$M$34=1,R32*C32*(D32+E32*EF!$M$4+F32*EF!$M$5)*'GARMENT&TEXTILE PRODUCTS'!$M$57/1000,R32*C32*(D32+E32*EF!$M$4+F32*EF!$M$5)*'GARMENT&TEXTILE PRODUCTS'!$M$54/1000),\"\")","v":""},{"$f":"IF(A32<>\"\",IF('GARMENT&TEXTILE PRODUCTS'!$N$34=1,S32*C32*(D32+E32*EF!$M$4+F32*EF!$M$5)*'GARMENT&TEXTILE PRODUCTS'!$N$57/1000,S32*C32*(D32+E32*EF!$M$4+F32*EF!$M$5)*'GARMENT&TEXTILE PRODUCTS'!$N$54/1000),\"\")","v":""},0]
[null,null,{"$f":"IF(AND(A34<>\"\",B34<>\"\"),VLOOKUP(A34&B34,'unit conversion'!$A$2:$F$267,5,0)*VLOOKUP(A34&B34,'unit conversion'!$A$2:$F$267,6,0),\"\")","v":""},{"$f":"IF(AND(A34<>\"\",B34<>\"\"),VLOOKUP(A34,EF!$B$4:$E$55,2,0),\"\")","v":""},{"$f":"IF(AND(A34<>\"\",B34<>\"\"),VLOOKUP(A34,EF!$B$4:$E$55,3,0),\"\")","v":""},{"$f":"IF(AND(A34<>\"\",B34<>\"\"),VLOOKUP(A34,EF!$B$4:$E$55,4,0),\"\")","v":""},"Fuel consumption",null,null,null,null,null,null,null,null,null,null,null,null,0]
[null,null,null,null,null,null,"Emission (tons CO2eq)",{"$f":"IF(A34<>\"\",IF('GARMENT&TEXTILE PRODUCTS'!$C$34=1,H34*C34*(D34+E34*EF!$M$4+F34*EF!$M$5)*'GARMENT&TEXTILE PRODUCTS'!$C$57/1000, H34*C34*(D34+E34*EF!$M$4+F34*EF!$M$5)*'GARMENT&TEXTILE PRODUCTS'!$C$54/1000),\"\")","v":""},{"$f":"IF(A34<>\"\",IF('GARMENT&TEXTILE PRODUCTS'!$D$34=1,I34*C34*(D34+E34*EF!$M$4+F34*EF!$M$5)*'GARMENT&TEXTILE PRODUCTS'!$D$57/1000, I34*C34*(D34+E34*EF!$M$4+F34*EF!$M$5)*'GARMENT&TEXTILE PRODUCTS'!$D$54/1000),\"\")","v":""},{"$f":"IF(A34<>\"\",IF('GARMENT&TEXTILE PRODUCTS'!$E$34=1, J34*C34*(D34+E34*EF!$M$4+F34*EF!$M$5)*'GARMENT&TEXTILE PRODUCTS'!$E$57/1000, J34*C34*(D34+E34*EF!$M$4+F34*EF!$M$5)*'GARMENT&TEXTILE PRODUCTS'!$E$54/1000),\"\")","v":""},{"$f":"IF(A34<>\"\",IF('GARMENT&TEXTILE PRODUCTS'!$F$34=1,K34*C34*(D34+E34*EF!$M$4+F34*EF!$M$5)*'GARMENT&TEXTILE PRODUCTS'!$F$57/1000, K34*C34*(D34+E34*EF!$M$4+F34*EF!$M$5)*'GARMENT&TEXTILE PRODUCTS'!$F$54/1000),\"\")","v":""},{"$f":"IF(A34<>\"\",IF('GARMENT&TEXTILE PRODUCTS'!$G$34=1, L34*C34*(D34+E34*EF!$M$4+F34*EF!$M$5)*'GARMENT&TEXTILE PRODUCTS'!$G$57/1000,L34*C34*(D34+E34*EF!$M$4+F34*EF!$M$5)*'GARMENT&TEXTILE PRODUCTS'!$G$54/1000),\"\")","v":""},{"$f":"IF(A34<>\"\",IF('GARMENT&TEXTILE PRODUCTS'!$H$34=1,M34*C34*(D34+E34*EF!$M$4+F34*EF!$M$5)*'GARMENT&TEXTILE PRODUCTS'!$H$57/1000,M34*C34*(D34+E34*EF!$M$4+F34*EF!$M$5)*'GARMENT&TEXTILE PRODUCTS'!$H$54/1000),\"\")","v":""},{"$f":"IF(A34<>\"\",IF('GARMENT&TEXTILE PRODUCTS'!$I$34=1,N34*C34*(D34+E34*EF!$M$4+F34*EF!$M$5)*'GARMENT&TEXTILE PRODUCTS'!$I$57/1000,N34*C34*(D34+E34*EF!$M$4+F34*EF!$M$5)*'GARMENT&TEXTILE PRODUCTS'!$I$54/1000),\"\")","v":""},{"$f":"IF(A34<>\"\",IF('GARMENT&TEXTILE PRODUCTS'!$K$34=1,O34*C34*(D34+E34*EF!$M$4+F34*EF!$M$5)*'GARMENT&TEXTILE PRODUCTS'!$J$57/1000,O34*C34*(D34+E34*EF!$M$4+F34*EF!$M$5)*'GARMENT&TEXTILE PRODUCTS'!$J$54/1000),\"\")","v":""},{"$f":"IF(A34<>\"\",IF('GARMENT&TEXTILE PRODUCTS'!$K$34=1,P34*C34*(D34+E34*EF!$M$4+F34*EF!$M$5)*'GARMENT&TEXTILE PRODUCTS'!$K$57/1000,P34*C34*(D34+E34*EF!$M$4+F34*EF!$M$5)*'GARMENT&TEXTILE PRODUCTS'!$K$54/1000),\"\")","v":""},{"$f":"IF(A34<>\"\",IF('GARMENT&TEXTILE PRODUCTS'!$L$34=1,Q34*C34*(D34+E34*EF!$M$4+F34*EF!$M$5)*'GARMENT&TEXTILE PRODUCTS'!$L$57/1000,Q34*C34*(D34+E34*EF!$M$4+F34*EF!$M$5)*'GARMENT&TEXTILE PRODUCTS'!$L$54/1000),\"\")","v":""},{"$f":"IF(A34<>\"\",IF('GARMENT&TEXTILE PRODUCTS'!$M$34=1,R34*C34*(D34+E34*EF!$M$4+F34*EF!$M$5)*'GARMENT&TEXTILE PRODUCTS'!$M$57/1000,R34*C34*(D34+E34*EF!$M$4+F34*EF!$M$5)*'GARMENT&TEXTILE PRODUCTS'!$M$54/1000),\"\")","v":""},{"$f":"IF(A34<>\"\",IF('GARMENT&TEXTILE PRODUCTS'!$N$34=1,S34*C34*(D34+E34*EF!$M$4+F34*EF!$M$5)*'GARMENT&TEXTILE PRODUCTS'!$N$57/1000,S34*C34*(D34+E34*EF!$M$4+F34*EF!$M$5)*'GARMENT&TEXTILE PRODUCTS'!$N$54/1000),\"\")","v":""},0]
[null,null,{"$f":"IF(AND(A36<>\"\",B36<>\"\"),VLOOKUP(A36&B36,'unit conversion'!$A$2:$F$267,5,0)*VLOOKUP(A36&B36,'unit conversion'!$A$2:$F$267,6,0),\"\")","v":""},{"$f":"IF(AND(A36<>\"\",B36<>\"\"),VLOOKUP(A36,EF!$B$4:$E$55,2,0),\"\")","v":""},{"$f":"IF(AND(A36<>\"\",B36<>\"\"),VLOOKUP(A36,EF!$B$4:$E$55,3,0),\"\")","v":""},{"$f":"IF(AND(A36<>\"\",B36<>\"\"),VLOOKUP(A36,EF!$B$4:$E$55,4,0),\"\")","v":""},"Fuel consumption",null,null,null,null,null,null,null,null,null,null,null,null,0]
[null,null,null,null,null,null,"Emission (tons CO2eq)",{"$f":"IF(A36<>\"\",IF('GARMENT&TEXTILE PRODUCTS'!$C$34=1,H36*C36*(D36+E36*EF!$M$4+F36*EF!$M$5)*'GARMENT&TEXTILE PRODUCTS'!$C$57/1000, H36*C36*(D36+E36*EF!$M$4+F36*EF!$M$5)*'GARMENT&TEXTILE PRODUCTS'!$C$54/1000),\"\")","v":""},{"$f":"IF(A36<>\"\",IF('GARMENT&TEXTILE PRODUCTS'!$D$34=1,I36*C36*(D36+E36*EF!$M$4+F36*EF!$M$5)*'GARMENT&TEXTILE PRODUCTS'!$D$57/1000, I36*C36*(D36+E36*EF!$M$4+F36*EF!$M$5)*'GARMENT&TEXTILE PRODUCTS'!$D$54/1000),\"\")","v":""},{"$f":"IF(A36<>\"\",IF('GARMENT&TEXTILE PRODUCTS'!$E$34=1, J36*C36*(D36+E36*EF!$M$4+F36*EF!$M$5)*'GARMENT&TEXTILE PRODUCTS'!$E$57/1000, J36*C36*(D36+E36*EF!$M$4+F36*EF!$M$5)*'GARMENT&TEXTILE PRODUCTS'!$E$54/1000),\"\")","v":""},{"$f":"IF(A36<>\"\",IF('GARMENT&TEXTILE PRODUCTS'!$F$34=1,K36*C36*(D36+E36*EF!$M$4+F36*EF!$M$5)*'GARMENT&TEXTILE PRODUCTS'!$F$57/1000, K36*C36*(D36+E36*EF!$M$4+F36*EF!$M$5)*'GARMENT&TEXTILE PRODUCTS'!$F$54/1000),\"\")","v":""},{"$f":"IF(A36<>\"\",IF('GARMENT&TEXTILE PRODUCTS'!$G$34=1, L36*C36*(D36+E36*EF!$M$4+F36*EF!$M$5)*'GARMENT&TEXTILE PRODUCTS'!$G$57/1000,L36*C36*(D36+E36*EF!$M$4+F36*EF!$M$5)*'GARMENT&TEXTILE PRODUCTS'!$G$54/1000),\"\")","v":""},{"$f":"IF(A36<>\"\",IF('GARMENT&TEXTILE PRODUCTS'!$H$34=1,M36*C36*(D36+E36*EF!$M$4+F36*EF!$M$5)*'GARMENT&TEXTILE PRODUCTS'!$H$57/1000,M36*C36*(D36+E36*EF!$M$4+F36*EF!$M$5)*'GARMENT&TEXTILE PRODUCTS'!$H$54/1000),\"\")","v":""},{"$f":"IF(A36<>\"\",IF('GARMENT&TEXTILE PRODUCTS'!$I$34=1,N36*C36*(D36+E36*EF!$M$4+F36*EF!$M$5)*'GARMENT&TEXTILE PRODUCTS'!$I$57/1000,N36*C36*(D36+E36*EF!$M$4+F36*EF!$M$5)*'GARMENT&TEXTILE PRODUCTS'!$I$54/1000),\"\")","v":""},{"$f":"IF(A36<>\"\",IF('GARMENT&TEXTILE PRODUCTS'!$K$34=1,O36*C36*(D36+E36*EF!$M$4+F36*EF!$M$5)*'GARMENT&TEXTILE PRODUCTS'!$J$57/1000,O36*C36*(D36+E36*EF!$M$4+F36*EF!$M$5)*'GARMENT&TEXTILE PRODUCTS'!$J$54/1000),\"\")","v":""},{"$f":"IF(A36<>\"\",IF('GARMENT&TEXTILE PRODUCTS'!$K$34=1,P36*C36*(D36+E36*EF!$M$4+F36*EF!$M$5)*'GARMENT&TEXTILE PRODUCTS'!$K$57/1000,P36*C36*(D36+E36*EF!$M$4+F36*EF!$M$5)*'GARMENT&TEXTILE PRODUCTS'!$K$54/1000),\"\")","v":""},{"$f":"IF(A36<>\"\",IF('GARMENT&TEXTILE PRODUCTS'!$L$34=1,Q36*C36*(D36+E36*EF!$M$4+F36*EF!$M$5)*'GARMENT&TEXTILE PRODUCTS'!$L$57/1000,Q36*C36*(D36+E36*EF!$M$4+F36*EF!$M$5)*'GARMENT&TEXTILE PRODUCTS'!$L$54/1000),\"\")","v":""},{"$f":"IF(A36<>\"\",IF('GARMENT&TEXTILE PRODUCTS'!$M$34=1,R36*C36*(D36+E36*EF!$M$4+F36*EF!$M$5)*'GARMENT&TEXTILE PRODUCTS'!$M$57/1000,R36*C36*(D36+E36*EF!$M$4+F36*EF!$M$5)*'GARMENT&TEXTILE PRODUCTS'!$M$54/1000),\"\")","v":""},{"$f":"IF(A36<>\"\",IF('GARMENT&TEXTILE PRODUCTS'!$N$34=1,S36*C36*(D36+E36*EF!$M$4+F36*EF!$M$5)*'GARMENT&TEXTILE PRODUCTS'!$N$57/1000,S36*C36*(D36+E36*EF!$M$4+F36*EF!$M$5)*'GARMENT&TEXTILE PRODUCTS'!$N$54/1000),\"\")","v":""},0]
[null,null,{"$f":"IF(AND(A38<>\"\",B38<>\"\"),VLOOKUP(A38&B38,'unit conversion'!$A$2:$F$267,5,0)*VLOOKUP(A38&B38,'unit conversion'!$A$2:$F$267,6,0),\"\")","v":""},{"$f":"IF(AND(A38<>\"\",B38<>\"\"),VLOOKUP(A38,EF!$B$4:$E$55,2,0),\"\")","v":""},{"$f":"IF(AND(A38<>\"\",B38<>\"\"),VLOOKUP(A38,EF!$B$4:$E$55,3,0),\"\")","v":""},{"$f":"IF(AND(A38<>\"\",B38<>\"\"),VLOOKUP(A38,EF!$B$4:$E$55,4,0),\"\")","v":""},"Fuel consumption",null,null,null,null,null,null,null,null,null,null,null,null,0]
[null,null,null,null,null,null,"Emission (tons CO2eq)",{"$f":"IF(A38<>\"\",IF('GARMENT&TEXTILE PRODUCTS'!$C$34=1,H38*C38*(D38+E38*EF!$M$4+F38*EF!$M$5)*'GARMENT&TEXTILE PRODUCTS'!$C$57/1000, H38*C38*(D38+E38*EF!$M$4+F38*EF!$M$5)*'GARMENT&TEXTILE PRODUCTS'!$C$54/1000),\"\")","v":""},{"$f":"IF(A38<>\"\",IF('GARMENT&TEXTILE PRODUCTS'!$D$34=1,I38*C38*(D38+E38*EF!$M$4+F38*EF!$M$5)*'GARMENT&TEXTILE PRODUCTS'!$D$57/1000, I38*C38*(D38+E38*EF!$M$4+F38*EF!$M$5)*'GARMENT&TEXTILE PRODUCTS'!$D$54/1000),\"\")","v":""},{"$f":"IF(A38<>\"\",IF('GARMENT&TEXTILE PRODUCTS'!$E$34=1, J38*C38*(D38+E38*EF!$M$4+F38*EF!$M$5)*'GARMENT&TEXTILE PRODUCTS'!$E$57/1000, J38*C38*(D38+E38*EF!$M$4+F38*EF!$M$5)*'GARMENT&TEXTILE PRODUCTS'!$E$54/1000),\"\")","v":""},{"$f":"IF(A38<>\"\",IF('GARMENT&TEXTILE PRODUCTS'!$F$34=1,K38*C38*(D38+E38*EF!$M$4+F38*EF!$M$5)*'GARMENT&TEXTILE PRODUCTS'!$F$57/1000, K38*C38*(D38+E38*EF!$M$4+F38*EF!$M$5)*'GARMENT&TEXTILE PRODUCTS'!$F$54/1000),\"\")","v":""},{"$f":"IF(A38<>\"\",IF('GARMENT&TEXTILE PRODUCTS'!$G$34=1, L38*C38*(D38+E38*EF!$M$4+F38*EF!$M$5)*'GARMENT&TEXTILE PRODUCTS'!$G$57/1000,L38*C38*(D38+E38*EF!$M$4+F38*EF!$M$5)*'GARMENT&TEXTILE PRODUCTS'!$G$54/1000),\"\")","v":""},{"$f":"IF(A38<>\"\",IF('GARMENT&TEXTILE PRODUCTS'!$H$34=1,M38*C38*(D38+E38*EF!$M$4+F38*EF!$M$5)*'GARMENT&TEXTILE PRODUCTS'!$H$57/1000,M38*C38*(D38+E38*EF!$M$4+F38*EF!$M$5)*'GARMENT&TEXTILE PRODUCTS'!$H$54/1000),\"\")","v":""},{"$f":"IF(A38<>\"\",IF('GARMENT&TEXTILE PRODUCTS'!$I$34=1,N38*C38*(D38+E38*EF!$M$4+F38*EF!$M$5)*'GARMENT&TEXTILE PRODUCTS'!$I$57/1000,N38*C38*(D38+E38*EF!$M$4+F38*EF!$M$5)*'GARMENT&TEXTILE PRODUCTS'!$I$54/1000),\"\")","v":""},{"$f":"IF(A38<>\"\",IF('GARMENT&TEXTILE PRODUCTS'!$K$34=1,O38*C38*(D38+E38*EF!$M$4+F38*EF!$M$5)*'GARMENT&TEXTILE PRODUCTS'!$J$57/1000,O38*C38*(D38+E38*EF!$M$4+F38*EF!$M$5)*'GARMENT&TEXTILE PRODUCTS'!$J$54/1000),\"\")","v":""},{"$f":"IF(A38<>\"\",IF('GARMENT&TEXTILE PRODUCTS'!$K$34=1,P38*C38*(D38+E38*EF!$M$4+F38*EF!$M$5)*'GARMENT&TEXTILE PRODUCTS'!$K$57/1000,P38*C38*(D38+E38*EF!$M$4+F38*EF!$M$5)*'GARMENT&TEXTILE PRODUCTS'!$K$54/1000),\"\")","v":""},{"$f":"IF(A38<>\"\",IF('GARMENT&TEXTILE PRODUCTS'!$L$34=1,Q38*C38*(D38+E38*EF!$M$4+F38*EF!$M$5)*'GARMENT&TEXTILE PRODUCTS'!$L$57/1000,Q38*C38*(D38+E38*EF!$M$4+F38*EF!$M$5)*'GARMENT&TEXTILE PRODUCTS'!$L$54/1000),\"\")","v":""},{"$f":"IF(A38<>\"\",IF('GARMENT&TEXTILE PRODUCTS'!$M$34=1,R38*C38*(D38+E38*EF!$M$4+F38*EF!$M$5)*'GARMENT&TEXTILE PRODUCTS'!$M$57/1000,R38*C38*(D38+E38*EF!$M$4+F38*EF!$M$5)*'GARMENT&TEXTILE PRODUCTS'!$M$54/1000),\"\")","v":""},{"$f":"IF(A38<>\"\",IF('GARMENT&TEXTILE PRODUCTS'!$N$34=1,S38*C38*(D38+E38*EF!$M$4+F38*EF!$M$5)*'GARMENT&TEXTILE PRODUCTS'!$N$57/1000,S38*C38*(D38+E38*EF!$M$4+F38*EF!$M$5)*'GARMENT&TEXTILE PRODUCTS'!$N$54/1000),\"\")","v":""},0]
[null,null,{"$f":"IF(AND(A40<>\"\",B40<>\"\"),VLOOKUP(A40&B40,'unit conversion'!$A$2:$F$267,5,0)*VLOOKUP(A40&B40,'unit conversion'!$A$2:$F$267,6,0),\"\")","v":""},{"$f":"IF(AND(A40<>\"\",B40<>\"\"),VLOOKUP(A40,EF!$B$4:$E$55,2,0),\"\")","v":""},{"$f":"IF(AND(A40<>\"\",B40<>\"\"),VLOOKUP(A40,EF!$B$4:$E$55,3,0),\"\")","v":""},{"$f":"IF(AND(A40<>\"\",B40<>\"\"),VLOOKUP(A40,EF!$B$4:$E$55,4,0),\"\")","v":""},"Fuel consumption",null,null,null,null,null,null,null,null,null,null,null,null,0]
[null,null,null,null,null,null,"Emission (tons CO2eq)",{"$f":"IF(A40<>\"\",IF('GARMENT&TEXTILE PRODUCTS'!$C$34=1,H40*C40*(D40+E40*EF!$M$4+F40*EF!$M$5)*'GARMENT&TEXTILE PRODUCTS'!$C$57/1000, H40*C40*(D40+E40*EF!$M$4+F40*EF!$M$5)*'GARMENT&TEXTILE PRODUCTS'!$C$54/1000),\"\")","v":""},{"$f":"IF(A40<>\"\",IF('GARMENT&TEXTILE PRODUCTS'!$D$34=1,I40*C40*(D40+E40*EF!$M$4+F40*EF!$M$5)*'GARMENT&TEXTILE PRODUCTS'!$D$57/1000, I40*C40*(D40+E40*EF!$M$4+F40*EF!$M$5)*'GARMENT&TEXTILE PRODUCTS'!$D$54/1000),\"\")","v":""},{"$f":"IF(A40<>\"\",IF('GARMENT&TEXTILE PRODUCTS'!$E$34=1, J40*C40*(D40+E40*EF!$M$4+F40*EF!$M$5)*'GARMENT&TEXTILE PRODUCTS'!$E$57/1000, J40*C40*(D40+E40*EF!$M$4+F40*EF!$M$5)*'GARMENT&TEXTILE PRODUCTS'!$E$54/1000),\"\")","v":""},{"$f":"IF(A40<>\"\",IF('GARMENT&TEXTILE PRODUCTS'!$F$34=1,K40*C40*(D40+E40*EF!$M$4+F40*EF!$M$5)*'GARMENT&TEXTILE PRODUCTS'!$F$57/1000, K40*C40*(D40+E40*EF!$M$4+F40*EF!$M$5)*'GARMENT&TEXTILE PRODUCTS'!$F$54/1000),\"\")","v":""},{"$f":"IF(A40<>\"\",IF('GARMENT&TEXTILE PRODUCTS'!$G$34=1, L40*C40*(D40+E40*EF!$M$4+F40*EF!$M$5)*'GARMENT&TEXTILE PRODUCTS'!$G$57/1000,L40*C40*(D40+E40*EF!$M$4+F40*EF!$M$5)*'GARMENT&TEXTILE PRODUCTS'!$G$54/1000),\"\")","v":""},{"$f":"IF(A40<>\"\",IF('GARMENT&TEXTILE PRODUCTS'!$H$34=1,M40*C40*(D40+E40*EF!$M$4+F40*EF!$M$5)*'GARMENT&TEXTILE PRODUCTS'!$H$57/1000,M40*C40*(D40+E40*EF!$M$4+F40*EF!$M$5)*'GARMENT&TEXTILE PRODUCTS'!$H$54/1000),\"\")","v":""},{"$f":"IF(A40<>\"\",IF('GARMENT&TEXTILE PRODUCTS'!$I$34=1,N40*C40*(D40+E40*EF!$M$4+F40*EF!$M$5)*'GARMENT&TEXTILE PRODUCTS'!$I$57/1000,N40*C40*(D40+E40*EF!$M$4+F40*EF!$M$5)*'GARMENT&TEXTILE PRODUCTS'!$I$54/1000),\"\")","v":""},{"$f":"IF(A40<>\"\",IF('GARMENT&TEXTILE PRODUCTS'!$K$34=1,O40*C40*(D40+E40*EF!$M$4+F40*EF!$M$5)*'GARMENT&TEXTILE PRODUCTS'!$J$57/1000,O40*C40*(D40+E40*EF!$M$4+F40*EF!$M$5)*'GARMENT&TEXTILE PRODUCTS'!$J$54/1000),\"\")","v":""},{"$f":"IF(A40<>\"\",IF('GARMENT&TEXTILE PRODUCTS'!$K$34=1,P40*C40*(D40+E40*EF!$M$4+F40*EF!$M$5)*'GARMENT&TEXTILE PRODUCTS'!$K$57/1000,P40*C40*(D40+E40*EF!$M$4+F40*EF!$M$5)*'GARMENT&TEXTILE PRODUCTS'!$K$54/1000),\"\")","v":""},{"$f":"IF(A40<>\"\",IF('GARMENT&TEXTILE PRODUCTS'!$L$34=1,Q40*C40*(D40+E40*EF!$M$4+F40*EF!$M$5)*'GARMENT&TEXTILE PRODUCTS'!$L$57/1000,Q40*C40*(D40+E40*EF!$M$4+F40*EF!$M$5)*'GARMENT&TEXTILE PRODUCTS'!$L$54/1000),\"\")","v":""},{"$f":"IF(A40<>\"\",IF('GARMENT&TEXTILE PRODUCTS'!$M$34=1,R40*C40*(D40+E40*EF!$M$4+F40*EF!$M$5)*'GARMENT&TEXTILE PRODUCTS'!$M$57/1000,R40*C40*(D40+E40*EF!$M$4+F40*EF!$M$5)*'GARMENT&TEXTILE PRODUCTS'!$M$54/1000),\"\")","v":""},{"$f":"IF(A40<>\"\",IF('GARMENT&TEXTILE PRODUCTS'!$N$34=1,S40*C40*(D40+E40*EF!$M$4+F40*EF!$M$5)*'GARMENT&TEXTILE PRODUCTS'!$N$57/1000,S40*C40*(D40+E40*EF!$M$4+F40*EF!$M$5)*'GARMENT&TEXTILE PRODUCTS'!$N$54/1000),\"\")","v":""},0]
[null,null,{"$f":"IF(AND(A42<>\"\",B42<>\"\"),VLOOKUP(A42&B42,'unit conversion'!$A$2:$F$267,5,0)*VLOOKUP(A42&B42,'unit conversion'!$A$2:$F$267,6,0),\"\")","v":""},{"$f":"IF(AND(A42<>\"\",B42<>\"\"),VLOOKUP(A42,EF!$B$4:$E$55,2,0),\"\")","v":""},{"$f":"IF(AND(A42<>\"\",B42<>\"\"),VLOOKUP(A42,EF!$B$4:$E$55,3,0),\"\")","v":""},{"$f":"IF(AND(A42<>\"\",B42<>\"\"),VLOOKUP(A42,EF!$B$4:$E$55,4,0),\"\")","v":""},"Fuel consumption",null,null,null,null,null,null,null,null,null,null,null,null,0]
[null,null,null,null,null,null,"Emission (tons CO2eq)",{"$f":"IF(A42<>\"\",IF('GARMENT&TEXTILE PRODUCTS'!$C$34=1,H42*C42*(D42+E42*EF!$M$4+F42*EF!$M$5)*'GARMENT&TEXTILE PRODUCTS'!$C$57/1000, H42*C42*(D42+E42*EF!$M$4+F42*EF!$M$5)*'GARMENT&TEXTILE PRODUCTS'!$C$54/1000),\"\")","v":""},{"$f":"IF(A42<>\"\",IF('GARMENT&TEXTILE PRODUCTS'!$D$34=1,I42*C42*(D42+E42*EF!$M$4+F42*EF!$M$5)*'GARMENT&TEXTILE PRODUCTS'!$D$57/1000, I42*C42*(D42+E42*EF!$M$4+F42*EF!$M$5)*'GARMENT&TEXTILE PRODUCTS'!$D$54/1000),\"\")","v":""},{"$f":"IF(A42<>\"\",IF('GARMENT&TEXTILE PRODUCTS'!$E$34=1, J42*C42*(D42+E42*EF!$M$4+F42*EF!$M$5)*'GARMENT&TEXTILE PRODUCTS'!$E$57/1000, J42*C42*(D42+E42*EF!$M$4+F42*EF!$M$5)*'GARMENT&TEXTILE PRODUCTS'!$E$54/1000),\"\")","v":""},{"$f":"IF(A42<>\"\",IF('GARMENT&TEXTILE PRODUCTS'!$F$34=1,K42*C42*(D42+E42*EF!$M$4+F42*EF!$M$5)*'GARMENT&TEXTILE PRODUCTS'!$F$57/1000, K42*C42*(D42+E42*EF!$M$4+F42*EF!$M$5)*'GARMENT&TEXTILE PRODUCTS'!$F$54/1000),\"\")","v":""},{"$f":"IF(A42<>\"\",IF('GARMENT&TEXTILE PRODUCTS'!$G$34=1, L42*C42*(D42+E42*EF!$M$4+F42*EF!$M$5)*'GARMENT&TEXTILE PRODUCTS'!$G$57/1000,L42*C42*(D42+E42*EF!$M$4+F42*EF!$M$5)*'GARMENT&TEXTILE PRODUCTS'!$G$54/1000),\"\")","v":""},{"$f":"IF(A42<>\"\",IF('GARMENT&TEXTILE PRODUCTS'!$H$34=1,M42*C42*(D42+E42*EF!$M$4+F42*EF!$M$5)*'GARMENT&TEXTILE PRODUCTS'!$H$57/1000,M42*C42*(D42+E42*EF!$M$4+F42*EF!$M$5)*'GARMENT&TEXTILE PRODUCTS'!$H$54/1000),\"\")","v":""},{"$f":"IF(A42<>\"\",IF('GARMENT&TEXTILE PRODUCTS'!$I$34=1,N42*C42*(D42+E42*EF!$M$4+F42*EF!$M$5)*'GARMENT&TEXTILE PRODUCTS'!$I$57/1000,N42*C42*(D42+E42*EF!$M$4+F42*EF!$M$5)*'GARMENT&TEXTILE PRODUCTS'!$I$54/1000),\"\")","v":""},{"$f":"IF(A42<>\"\",IF('GARMENT&TEXTILE PRODUCTS'!$K$34=1,O42*C42*(D42+E42*EF!$M$4+F42*EF!$M$5)*'GARMENT&TEXTILE PRODUCTS'!$J$57/1000,O42*C42*(D42+E42*EF!$M$4+F42*EF!$M$5)*'GARMENT&TEXTILE PRODUCTS'!$J$54/1000),\"\")","v":""},{"$f":"IF(A42<>\"\",IF('GARMENT&TEXTILE PRODUCTS'!$K$34=1,P42*C42*(D42+E42*EF!$M$4+F42*EF!$M$5)*'GARMENT&TEXTILE PRODUCTS'!$K$57/1000,P42*C42*(D42+E42*EF!$M$4+F42*EF!$M$5)*'GARMENT&TEXTILE PRODUCTS'!$K$54/1000),\"\")","v":""},{"$f":"IF(A42<>\"\",IF('GARMENT&TEXTILE PRODUCTS'!$L$34=1,Q42*C42*(D42+E42*EF!$M$4+F42*EF!$M$5)*'GARMENT&TEXTILE PRODUCTS'!$L$57/1000,Q42*C42*(D42+E42*EF!$M$4+F42*EF!$M$5)*'GARMENT&TEXTILE PRODUCTS'!$L$54/1000),\"\")","v":""},{"$f":"IF(A42<>\"\",IF('GARMENT&TEXTILE PRODUCTS'!$M$34=1,R42*C42*(D42+E42*EF!$M$4+F42*EF!$M$5)*'GARMENT&TEXTILE PRODUCTS'!$M$57/1000,R42*C42*(D42+E42*EF!$M$4+F42*EF!$M$5)*'GARMENT&TEXTILE PRODUCTS'!$M$54/1000),\"\")","v":""},{"$f":"IF(A42<>\"\",IF('GARMENT&TEXTILE PRODUCTS'!$N$34=1,S42*C42*(D42+E42*EF!$M$4+F42*EF!$M$5)*'GARMENT&TEXTILE PRODUCTS'!$N$57/1000,S42*C42*(D42+E42*EF!$M$4+F42*EF!$M$5)*'GARMENT&TEXTILE PRODUCTS'!$N$54/1000),\"\")","v":""},0]
[]
["Total (tons CO2eq)",null,null,null,null,null,null,{"$f":"SUMIF($G$32:$G$44,$G$43,H32:H44)","v":0},{"$f":"SUMIF($G$32:$G$44,$G$43,I32:I44)","v":0},0,0,0,0,0,0,0,0,0,0,0]
[]
[]
[]
[]
[]
["II. Refrigerants loaded into refrigeration equipment"]
[]
["Refrigerants","Unit","GWP",null,"Quantity of solvents loaded into refrigeration equipment and GHG emissions",null,null,null,null,null,null,null,null,null,null,null,"Total"]
[null,null,null,null,"Jan","Feb","March","April","May","June","July","Aug","Sep","Oct","Nov","Dec"]
[null,null,{"$f":"IF(A55<>\"\",VLOOKUP(A55,EF!$K$8:$M$16,3,0),0)","v":0},"Quantity of solvents",null,null,null,null,null,null,null,null,null,null,null,null,{"$f":"SUM(E55:P55)","v":0}]
[null,null,null,"Emission (tons CO2eq)",{"$f":"IF('GARMENT&TEXTILE PRODUCTS'!$C$34=1,E55*C55/1000*'GARMENT&TEXTILE PRODUCTS'!$C$57,E55*C55/1000*'GARMENT&TEXTILE PRODUCTS'!$C$54)","v":0},{"$f":"IF('GARMENT&TEXTILE PRODUCTS'!$D$34=1,F55*C55/1000*'GARMENT&TEXTILE PRODUCTS'!$D$57,F55*C55/1000*'GARMENT&TEXTILE PRODUCTS'!$D$54)","v":0},{"$f":"IF('GARMENT&TEXTILE PRODUCTS'!$E$34,G55*C55/1000*'GARMENT&TEXTILE PRODUCTS'!$E$57,G55*C55/1000*'GARMENT&TEXTILE PRODUCTS'!$E$54)","v":0},{"$f":"IF('GARMENT&TEXTILE PRODUCTS'!$F$34=1,H55*C55/1000*'GARMENT&TEXTILE PRODUCTS'!$F$57,H55*C55/1000*'GARMENT&TEXTILE PRODUCTS'!$F$54)","v":0},{"$f":"IF('GARMENT&TEXTILE PRODUCTS'!$G$34=1,I55*C55/1000*'GARMENT&TEXTILE PRODUCTS'!$G$57,I55*C55/1000*'GARMENT&TEXTILE PRODUCTS'!$G$54)","v":0},{"$f":"IF('GARMENT&TEXTILE PRODUCTS'!$H$34=1,J55*C55/1000*'GARMENT&TEXTILE PRODUCTS'!$H$57,J55*C55/1000*'GARMENT&TEXTILE PRODUCTS'!$H$54)","v":0},{"$f":"IF('GARMENT&TEXTILE PRODUCTS'!$I$34=1,K55*C55/1000*'GARMENT&TEXTILE PRODUCTS'!$I$57,K55*C55/1000*'GARMENT&TEXTILE PRODUCTS'!$I$54)","v":0},{"$f":"IF('GARMENT&TEXTILE PRODUCTS'!$J$34=1,L55*C55/1000*'GARMENT&TEXTILE PRODUCTS'!$J$57,L55*C55/1000*'GARMENT&TEXTILE PRODUCTS'!$J$54)","v":0},{"$f":"IF('GARMENT&TEXTILE PRODUCTS'!$K$34=1,M55*C55/1000*'GARMENT&TEXTILE PRODUCTS'!$K$57,M55*C55/1000*'GARMENT&TEXTILE PRODUCTS'!$K$54)","v":0},{"$f":"IF('GARMENT&TEXTILE PRODUCTS'!$L$34=1,N55*C55/1000*'GARMENT&TEXTILE PRODUCTS'!$L$57,N55*C55/1000*'GARMENT&TEXTILE PRODUCTS'!$L$54)","v":0},{"$f":"IF('GARMENT&TEXTILE PRODUCTS'!$M$34=1,O55*C55/1000*'GARMENT&TEXTILE PRODUCTS'!$M$57,O55*C55/1000*'GARMENT&TEXTILE PRODUCTS'!$M$54)","v":0},{"$f":"IF('GARMENT&TEXTILE PRODUCTS'!$N$34=1,P55*C55/1000*'GARMENT&TEXTILE PRODUCTS'!$N$57,P55*C55/1000*'GARMENT&TEXTILE PRODUCTS'!$N$54)","v":0},0]
[null,{"$f":"IF(A57<>\"\",\"kg\",\"\")","v":""},{"$f":"IF(A57<>\"\",VLOOKUP(A57,EF!$K$8:$M$16,3,0),0)","v":0},"Quantity of solvents",null,null,null,null,null,null,null,null,null,null,null,null,0]
[null,null,null,"Emission (tons CO2eq)",{"$f":"IF('GARMENT&TEXTILE PRODUCTS'!$C$34=1,E57*C57/1000*'GARMENT&TEXTILE PRODUCTS'!$C$57,E57*C57/1000*'GARMENT&TEXTILE PRODUCTS'!$C$54)","v":0},{"$f":"IF('GARMENT&TEXTILE PRODUCTS'!$D$34=1,F57*C57/1000*'GARMENT&TEXTILE PRODUCTS'!$D$57,F57*C57/1000*'GARMENT&TEXTILE PRODUCTS'!$D$54)","v":0},{"$f":"IF('GARMENT&TEXTILE PRODUCTS'!$E$34,G57*C57/1000*'GARMENT&TEXTILE PRODUCTS'!$E$57,G57*C57/1000*'GARMENT&TEXTILE PRODUCTS'!$E$54)","v":0},{"$f":"IF('GARMENT&TEXTILE PRODUCTS'!$F$34=1,H57*C57/1000*'GARMENT&TEXTILE PRODUCTS'!$F$57,H57*C57/1000*'GARMENT&TEXTILE PRODUCTS'!$F$54)","v":0},{"$f":"IF('GARMENT&TEXTILE PRODUCTS'!$G$34=1,I57*C57/1000*'GARMENT&TEXTILE PRODUCTS'!$G$57,I57*C57/1000*'GARMENT&TEXTILE PRODUCTS'!$G$54)","v":0},{"$f":"IF('GARMENT&TEXTILE PRODUCTS'!$H$34=1,J57*C57/1000*'GARMENT&TEXTILE PRODUCTS'!$H$57,J57*C57/1000*'GARMENT&TEXTILE PRODUCTS'!$H$54)","v":0},{"$f":"IF('GARMENT&TEXTILE PRODUCTS'!$I$34=1,K57*C57/1000*'GARMENT&TEXTILE PRODUCTS'!$I$57,K57*C57/1000*'GARMENT&TEXTILE PRODUCTS'!$I$54)","v":0},{"$f":"IF('GARMENT&TEXTILE PRODUCTS'!$J$34=1,L57*C57/1000*'GARMENT&TEXTILE PRODUCTS'!$J$57,L57*C57/1000*'GARMENT&TEXTILE PRODUCTS'!$J$54)","v":0},{"$f":"IF('GARMENT&TEXTILE PRODUCTS'!$K$34=1,M57*C57/1000*'GARMENT&TEXTILE PRODUCTS'!$K$57,M57*C57/1000*'GARMENT&TEXTILE PRODUCTS'!$K$54)","v":0},{"$f":"IF('GARMENT&TEXTILE PRODUCTS'!$L$34=1,N57*C57/1000*'GARMENT&TEXTILE PRODUCTS'!$L$57,N57*C57/1000*'GARMENT&TEXTILE PRODUCTS'!$L$54)","v":0},{"$f":"IF('GARMENT&TEXTILE PRODUCTS'!$M$34=1,O57*C57/1000*'GARMENT&TEXTILE PRODUCTS'!$M$57,O57*C57/1000*'GARMENT&TEXTILE PRODUCTS'!$M$54)","v":0},{"$f":"IF('GARMENT&TEXTILE PRODUCTS'!$N$34=1,P57*C57/1000*'GARMENT&TEXTILE PRODUCTS'!$N$57,P57*C57/1000*'GARMENT&TEXTILE PRODUCTS'!$N$54)","v":0},0]
[null,{"$f":"IF(A59<>\"\",\"kg\",\"\")","v":""},{"$f":"IF(A59<>\"\",VLOOKUP(A59,EF!$K$8:$M$16,3,0),0)","v":0},"Quantity of solvents",null,null,null,null,null,null,null,null,null,null,null,null,0]
[null,null,null,"Emission (tons CO2eq)",{"$f":"IF('GARMENT&TEXTILE PRODUCTS'!$C$34=1,E59*C59/1000*'GARMENT&TEXTILE PRODUCTS'!$C$57,E59*C59/1000*'GARMENT&TEXTILE PRODUCTS'!$C$54)","v":0},{"$f":"IF('GARMENT&TEXTILE PRODUCTS'!$D$34=1,F59*C59/1000*'GARMENT&TEXTILE PRODUCTS'!$D$57,F59*C59/1000*'GARMENT&TEXTILE PRODUCTS'!$D$54)","v":0},{"$f":"IF('GARMENT&TEXTILE PRODUCTS'!$E$34,G59*C59/1000*'GARMENT&TEXTILE PRODUCTS'!$E$57,G59*C59/1000*'GARMENT&TEXTILE PRODUCTS'!$E$54)","v":0},{"$f":"IF('GARMENT&TEXTILE PRODUCTS'!$F$34=1,H59*C59/1000*'GARMENT&TEXTILE PRODUCTS'!$F$57,H59*C59/1000*'GARMENT&TEXTILE PRODUCTS'!$F$54)","v":0},{"$f":"IF('GARMENT&TEXTILE PRODUCTS'!$G$34=1,I59*C59/1000*'GARMENT&TEXTILE PRODUCTS'!$G$57,I59*C59/1000*'GARMENT&TEXTILE PRODUCTS'!$G$54)","v":0},{"$f":"IF('GARMENT&TEXTILE PRODUCTS'!$H$34=1,J59*C59/1000*'GARMENT&TEXTILE PRODUCTS'!$H$57,J59*C59/1000*'GARMENT&TEXTILE PRODUCTS'!$H$54)","v":0},{"$f":"IF('GARMENT&TEXTILE PRODUCTS'!$I$34=1,K59*C59/1000*'GARMENT&TEXTILE PRODUCTS'!$I$57,K59*C59/1000*'GARMENT&TEXTILE PRODUCTS'!$I$54)","v":0},{"$f":"IF('GARMENT&TEXTILE PRODUCTS'!$J$34=1,L59*C59/1000*'GARMENT&TEXTILE PRODUCTS'!$J$57,L59*C59/1000*'GARMENT&TEXTILE PRODUCTS'!$J$54)","v":0},{"$f":"IF('GARMENT&TEXTILE PRODUCTS'!$K$34=1,M59*C59/1000*'GARMENT&TEXTILE PRODUCTS'!$K$57,M59*C59/1000*'GARMENT&TEXTILE PRODUCTS'!$K$54)","v":0},{"$f":"IF('GARMENT&TEXTILE PRODUCTS'!$L$34=1,N59*C59/1000*'GARMENT&TEXTILE PRODUCTS'!$L$57,N59*C59/1000*'GARMENT&TEXTILE PRODUCTS'!$L$54)","v":0},{"$f":"IF('GARMENT&TEXTILE PRODUCTS'!$M$34=1,O59*C59/1000*'GARMENT&TEXTILE PRODUCTS'!$M$57,O59*C59/1000*'GARMENT&TEXTILE PRODUCTS'!$M$54)","v":0},{"$f":"IF('GARMENT&TEXTILE PRODUCTS'!$N$34=1,P59*C59/1000*'GARMENT&TEXTILE PRODUCTS'!$N$57,P59*C59/1000*'GARMENT&TEXTILE PRODUCTS'!$N$54)","v":0},0]
[null,{"$f":"IF(A61<>\"\",\"kg\",\"\")","v":""},{"$f":"IF(A61<>\"\",VLOOKUP(A61,EF!$K$8:$M$16,3,0),0)","v":0},"Quantity of solvents",null,null,null,null,null,null,null,null,null,null,null,null,0]
[null,null,null,"Emission (tons CO2eq)",{"$f":"IF('GARMENT&TEXTILE PRODUCTS'!$C$34=1,E61*C61/1000*'GARMENT&TEXTILE PRODUCTS'!$C$57,E61*C61/1000*'GARMENT&TEXTILE PRODUCTS'!$C$54)","v":0},{"$f":"IF('GARMENT&TEXTILE PRODUCTS'!$D$34=1,F61*C61/1000*'GARMENT&TEXTILE PRODUCTS'!$D$57,F61*C61/1000*'GARMENT&TEXTILE PRODUCTS'!$D$54)","v":0},{"$f":"IF('GARMENT&TEXTILE PRODUCTS'!$E$34,G61*C61/1000*'GARMENT&TEXTILE PRODUCTS'!$E$57,G61*C61/1000*'GARMENT&TEXTILE PRODUCTS'!$E$54)","v":0},{"$f":"IF('GARMENT&TEXTILE PRODUCTS'!$F$34=1,H61*C61/1000*'GARMENT&TEXTILE PRODUCTS'!$F$57,H61*C61/1000*'GARMENT&TEXTILE PRODUCTS'!$F$54)","v":0},{"$f":"IF('GARMENT&TEXTILE PRODUCTS'!$G$34=1,I61*C61/1000*'GARMENT&TEXTILE PRODUCTS'!$G$57,I61*C61/1000*'GARMENT&TEXTILE PRODUCTS'!$G$54)","v":0},{"$f":"IF('GARMENT&TEXTILE PRODUCTS'!$H$34=1,J61*C61/1000*'GARMENT&TEXTILE PRODUCTS'!$H$57,J61*C61/1000*'GARMENT&TEXTILE PRODUCTS'!$H$54)","v":0},{"$f":"IF('GARMENT&TEXTILE PRODUCTS'!$I$34=1,K61*C61/1000*'GARMENT&TEXTILE PRODUCTS'!$I$57,K61*C61/1000*'GARMENT&TEXTILE PRODUCTS'!$I$54)","v":0},{"$f":"IF('GARMENT&TEXTILE PRODUCTS'!$J$34=1,L61*C61/1000*'GARMENT&TEXTILE PRODUCTS'!$J$57,L61*C61/1000*'GARMENT&TEXTILE PRODUCTS'!$J$54)","v":0},{"$f":"IF('GARMENT&TEXTILE PRODUCTS'!$K$34=1,M61*C61/1000*'GARMENT&TEXTILE PRODUCTS'!$K$57,M61*C61/1000*'GARMENT&TEXTILE PRODUCTS'!$K$54)","v":0},{"$f":"IF('GARMENT&TEXTILE PRODUCTS'!$L$34=1,N61*C61/1000*'GARMENT&TEXTILE PRODUCTS'!$L$57,N61*C61/1000*'GARMENT&TEXTILE PRODUCTS'!$L$54)","v":0},{"$f":"IF('GARMENT&TEXTILE PRODUCTS'!$M$34=1,O61*C61/1000*'GARMENT&TEXTILE PRODUCTS'!$M$57,O61*C61/1000*'GARMENT&TEXTILE PRODUCTS'!$M$54)","v":0},{"$f":"IF('GARMENT&TEXTILE PRODUCTS'!$N$34=1,P61*C61/1000*'GARMENT&TEXTILE PRODUCTS'!$N$57,P61*C61/1000*'GARMENT&TEXTILE PRODUCTS'!$N$54)","v":0},0]
[null,{"$f":"IF(A63<>\"\",\"kg\",\"\")","v":""},{"$f":"IF(A63<>\"\",VLOOKUP(A63,EF!$K$8:$M$16,3,0),0)","v":0},"Quantity of solvents",null,null,null,null,null,null,null,null,null,null,null,null,0]
[null,null,null,"Emission (tons CO2eq)",{"$f":"IF('GARMENT&TEXTILE PRODUCTS'!$C$34=1,E63*C63/1000*'GARMENT&TEXTILE PRODUCTS'!$C$57,E63*C63/1000*'GARMENT&TEXTILE PRODUCTS'!$C$54)","v":0},{"$f":"IF('GARMENT&TEXTILE PRODUCTS'!$D$34=1,F63*C63/1000*'GARMENT&TEXTILE PRODUCTS'!$D$57,F63*C63/1000*'GARMENT&TEXTILE PRODUCTS'!$D$54)","v":0},{"$f":"IF('GARMENT&TEXTILE PRODUCTS'!$E$34,G63*C63/1000*'GARMENT&TEXTILE PRODUCTS'!$E$57,G63*C63/1000*'GARMENT&TEXTILE PRODUCTS'!$E$54)","v":0},{"$f":"IF('GARMENT&TEXTILE PRODUCTS'!$F$34=1,H63*C63/1000*'GARMENT&TEXTILE PRODUCTS'!$F$57,H63*C63/1000*'GARMENT&TEXTILE PRODUCTS'!$F$54)","v":0},{"$f":"IF('GARMENT&TEXTILE PRODUCTS'!$G$34=1,I63*C63/1000*'GARMENT&TEXTILE PRODUCTS'!$G$57,I63*C63/1000*'GARMENT&TEXTILE PRODUCTS'!$G$54)","v":0},{"$f":"IF('GARMENT&TEXTILE PRODUCTS'!$H$34=1,J63*C63/1000*'GARMENT&TEXTILE PRODUCTS'!$H$57,J63*C63/1000*'GARMENT&TEXTILE PRODUCTS'!$H$54)","v":0},{"$f":"IF('GARMENT&TEXTILE PRODUCTS'!$I$34=1,K63*C63/1000*'GARMENT&TEXTILE PRODUCTS'!$I$57,K63*C63/1000*'GARMENT&TEXTILE PRODUCTS'!$I$54)","v":0},{"$f":"IF('GARMENT&TEXTILE PRODUCTS'!$J$34=1,L63*C63/1000*'GARMENT&TEXTILE PRODUCTS'!$J$57,L63*C63/1000*'GARMENT&TEXTILE PRODUCTS'!$J$54)","v":0},{"$f":"IF('GARMENT&TEXTILE PRODUCTS'!$K$34=1,M63*C63/1000*'GARMENT&TEXTILE PRODUCTS'!$K$57,M63*C63/1000*'GARMENT&TEXTILE PRODUCTS'!$K$54)","v":0},{"$f":"IF('GARMENT&TEXTILE PRODUCTS'!$L$34=1,N63*C63/1000*'GARMENT&TEXTILE PRODUCTS'!$L$57,N63*C63/1000*'GARMENT&TEXTILE PRODUCTS'!$L$54)","v":0},{"$f":"IF('GARMENT&TEXTILE PRODUCTS'!$M$34=1,O63*C63/1000*'GARMENT&TEXTILE PRODUCTS'!$M$57,O63*C63/1000*'GARMENT&TEXTILE PRODUCTS'!$M$54)","v":0},{"$f":"IF('GARMENT&TEXTILE PRODUCTS'!$N$34=1,P63*C63/1000*'GARMENT&TEXTILE PRODUCTS'!$N$57,P63*C63/1000*'GARMENT&TEXTILE PRODUCTS'!$N$54)","v":0},0]
[]
["Total (tons CO2eq)",null,null,null,{"$f":"SUMIF($D$55:$D$65,$D$64,E55:E65)","v":0},0,0,0,0,0,0,0,0,0,0,0,0]
[]
[]
[]
[]
[]
["III. Emissions from industrial production processes"]
[]
["Processes","Unit of output from the process","EF CO2 \n(kg CO2/unit)","EF CH4 \n(kg CO4/unit)","EF N2O (kg N2O/unit)",null,"Output of production processes and GHG emissions from those processes",null,null,null,null,null,null,null,null,null,null,null,"Total"]
[null,null,null,null,null,null,"Jan","Feb","March","April","May","June","July","Aug","Sep","Oct","Nov","Dec"]
[null,{"$f":"IF(A76<>0,VLOOKUP(A76,EF!$A$148:$B$168,2,0),\"\")","v":""},{"$f":"IF(A76<>\"\",VLOOKUP(A76,EF!$A$148:$E$168,3,0),\"\")","v":""},{"$f":"IF(A76<>\"\",VLOOKUP(A76,EF!$A$148:$E$168,4,0),\"\")","v":""},{"$f":"IF(A76<>\"\",VLOOKUP(A76,EF!$A$148:$E$168,5,0),\"\")","v":""},"Quantity of Outputs",null,null,null,null,null,null,null,null,null,null,null,null,{"$f":"SUM(G76:R76)","v":0}]
[null,null,null,null,null,"Emission (tons CO2eq)",{"$f":"IF(A76<>0,IF('GARMENT&TEXTILE PRODUCTS'!$C$34=1,G76*(C76+D76*EF!$M$4+E76*EF!$M$5)*'GARMENT&TEXTILE PRODUCTS'!$C$57/1000, G76*(C76+D76*EF!$M$4+E76*EF!$M$5)*'GARMENT&TEXTILE PRODUCTS'!$C$54/1000),\"\")","v":""},{"$f":"IF(A76<>\"\",IF('GARMENT&TEXTILE PRODUCTS'!$D$34=1,H76*(C76+D76*EF!$M$4+E76*EF!$M$5)*'GARMENT&TEXTILE PRODUCTS'!$D$57/1000, H76*(C76+D76*EF!$M$4+E76*EF!$M$5)*'GARMENT&TEXTILE PRODUCTS'!$D$54/1000),\"\")","v":""},{"$f":"IF(A76<>\"\",IF('GARMENT&TEXTILE PRODUCTS'!$E$34=1, I76*(C76+D76*EF!$M$4+E76*EF!$M$5)*'GARMENT&TEXTILE PRODUCTS'!$E$57/1000, I76*(C76+D76*EF!$M$4+E76*EF!$M$5)*'GARMENT&TEXTILE PRODUCTS'!$E$54/1000),\"\")","v":""},{"$f":"IF(A76<>\"\",IF('GARMENT&TEXTILE PRODUCTS'!$F$34=1,J76*(C76+D76*EF!$M$4+E76*EF!$M$5)*'GARMENT&TEXTILE PRODUCTS'!$F$57/1000, J76*(C76+D76*EF!$M$4+E76*EF!$M$5)*'GARMENT&TEXTILE PRODUCTS'!$F$54/1000),\"\")","v":""},{"$f":"IF(A76<>\"\",IF('GARMENT&TEXTILE PRODUCTS'!$G$34=1, K76*(C76+D76*EF!$M$4+E76*EF!$M$5)*'GARMENT&TEXTILE PRODUCTS'!$G$57/1000,K76*(C76+D76*EF!$M$4+E76*EF!$M$5)*'GARMENT&TEXTILE PRODUCTS'!$G$54/1000),\"\")","v":""},{"$f":"IF(A76<>\"\",IF('GARMENT&TEXTILE PRODUCTS'!$H$34=1,L76*(C76+D76*EF!$M$4+E76*EF!$M$5)*'GARMENT&TEXTILE PRODUCTS'!$H$57/1000,L76*(C76+D76*EF!$M$4+E76*EF!$M$5)*'GARMENT&TEXTILE PRODUCTS'!$H$54/1000),\"\")","v":""},{"$f":"IF(A76<>\"\",IF('GARMENT&TEXTILE PRODUCTS'!$I$34=1,M76*(C76+D76*EF!$M$4+E76*EF!$M$5)*'GARMENT&TEXTILE PRODUCTS'!$I$57/1000,M76*(C76+D76*EF!$M$4+E76*EF!$M$5)*'GARMENT&TEXTILE PRODUCTS'!$I$54/1000),\"\")","v":""},{"$f":"IF(A76<>\"\",IF('GARMENT&TEXTILE PRODUCTS'!$K$34=1,N76*(C76+D76*EF!$M$4+E76*EF!$M$5)*'GARMENT&TEXTILE PRODUCTS'!$J$57/1000,N76*(C76+D76*EF!$M$4+E76*EF!$M$5)*'GARMENT&TEXTILE PRODUCTS'!$J$54/1000),\"\")","v":""},{"$f":"IF(A76<>\"\",IF('GARMENT&TEXTILE PRODUCTS'!$K$34=1,O76*(C76+D76*EF!$M$4+E76*EF!$M$5)*'GARMENT&TEXTILE PRODUCTS'!$K$57/1000,O76*(C76+D76*EF!$M$4+E76*EF!$M$5)*'GARMENT&TEXTILE PRODUCTS'!$K$54/1000),\"\")","v":""},{"$f":"IF(A76<>\"\",IF('GARMENT&TEXTILE PRODUCTS'!$L$34=1,P76*(C76+D76*EF!$M$4+E76*EF!$M$5)*'GARMENT&TEXTILE PRODUCTS'!$L$57/1000,P76*(C76+D76*EF!$M$4+E76*EF!$M$5)*'GARMENT&TEXTILE PRODUCTS'!$L$54/1000),\"\")","v":""},{"$f":"IF(A76<>\"\",IF('GARMENT&TEXTILE PRODUCTS'!$M$34=1,Q76*(C76+D76*EF!$M$4+E76*EF!$M$5)*'GARMENT&TEXTILE PRODUCTS'!$M$57/1000,Q76*(C76+D76*EF!$M$4+E76*EF!$M$5)*'GARMENT&TEXTILE PRODUCTS'!$M$54/1000),\"\")","v":""},{"$f":"IF(A76<>\"\",IF('GARMENT&TEXTILE PRODUCTS'!$N$34=1,R76*(C76+D76*EF!$M$4+E76*EF!$M$5)*'GARMENT&TEXTILE PRODUCTS'!$N$57/1000,R76*(C76+D76*EF!$M$4+E76*EF!$M$5)*'GARMENT&TEXTILE PRODUCTS'!$N$54/1000),\"\")","v":""},0]
[null,{"$f":"IF(A78<>0,VLOOKUP(A78,EF!$A$148:$B$168,2,0),\"\")","v":""},{"$f":"IF(A78<>\"\",VLOOKUP(A78,EF!$A$148:$E$168,3,0),\"\")","v":""},{"$f":"IF(A78<>\"\",VLOOKUP(A78,EF!$A$148:$E$168,4,0),\"\")","v":""},{"$f":"IF(A78<>\"\",VLOOKUP(A78,EF!$A$148:$E$168,5,0),\"\")","v":""},"Quantity of Outputs",null,null,null,null,null,null,null,null,null,null,null,null,0]
[null,null,null,null,null,"Emission (tons CO2eq)",{"$f":"IF(A78<>0,IF('GARMENT&TEXTILE PRODUCTS'!$C$34=1,G78*(C78+D78*EF!$M$4+E78*EF!$M$5)*'GARMENT&TEXTILE PRODUCTS'!$C$57/1000, G78*(C78+D78*EF!$M$4+E78*EF!$M$5)*'GARMENT&TEXTILE PRODUCTS'!$C$54/1000),\"\")","v":""},{"$f":"IF(A78<>\"\",IF('GARMENT&TEXTILE PRODUCTS'!$D$34=1,H78*(C78+D78*EF!$M$4+E78*EF!$M$5)*'GARMENT&TEXTILE PRODUCTS'!$D$57/1000, H78*(C78+D78*EF!$M$4+E78*EF!$M$5)*'GARMENT&TEXTILE PRODUCTS'!$D$54/1000),\"\")","v":""},{"$f":"IF(A78<>\"\",IF('GARMENT&TEXTILE PRODUCTS'!$E$34=1, I78*(C78+D78*EF!$M$4+E78*EF!$M$5)*'GARMENT&TEXTILE PRODUCTS'!$E$57/1000, I78*(C78+D78*EF!$M$4+E78*EF!$M$5)*'GARMENT&TEXTILE PRODUCTS'!$E$54/1000),\"\")","v":""},{"$f":"IF(A78<>\"\",IF('GARMENT&TEXTILE PRODUCTS'!$F$34=1,J78*(C78+D78*EF!$M$4+E78*EF!$M$5)*'GARMENT&TEXTILE PRODUCTS'!$F$57/1000, J78*(C78+D78*EF!$M$4+E78*EF!$M$5)*'GARMENT&TEXTILE PRODUCTS'!$F$54/1000),\"\")","v":""},{"$f":"IF(A78<>\"\",IF('GARMENT&TEXTILE PRODUCTS'!$G$34=1, K78*(C78+D78*EF!$M$4+E78*EF!$M$5)*'GARMENT&TEXTILE PRODUCTS'!$G$57/1000,K78*(C78+D78*EF!$M$4+E78*EF!$M$5)*'GARMENT&TEXTILE PRODUCTS'!$G$54/1000),\"\")","v":""},{"$f":"IF(A78<>\"\",IF('GARMENT&TEXTILE PRODUCTS'!$H$34=1,L78*(C78+D78*EF!$M$4+E78*EF!$M$5)*'GARMENT&TEXTILE PRODUCTS'!$H$57/1000,L78*(C78+D78*EF!$M$4+E78*EF!$M$5)*'GARMENT&TEXTILE PRODUCTS'!$H$54/1000),\"\")","v":""},{"$f":"IF(A78<>\"\",IF('GARMENT&TEXTILE PRODUCTS'!$I$34=1,M78*(C78+D78*EF!$M$4+E78*EF!$M$5)*'GARMENT&TEXTILE PRODUCTS'!$I$57/1000,M78*(C78+D78*EF!$M$4+E78*EF!$M$5)*'GARMENT&TEXTILE PRODUCTS'!$I$54/1000),\"\")","v":""},{"$f":"IF(A78<>\"\",IF('GARMENT&TEXTILE PRODUCTS'!$K$34=1,N78*(C78+D78*EF!$M$4+E78*EF!$M$5)*'GARMENT&TEXTILE PRODUCTS'!$J$57/1000,N78*(C78+D78*EF!$M$4+E78*EF!$M$5)*'GARMENT&TEXTILE PRODUCTS'!$J$54/1000),\"\")","v":""},{"$f":"IF(A78<>\"\",IF('GARMENT&TEXTILE PRODUCTS'!$K$34=1,O78*(C78+D78*EF!$M$4+E78*EF!$M$5)*'GARMENT&TEXTILE PRODUCTS'!$K$57/1000,O78*(C78+D78*EF!$M$4+E78*EF!$M$5)*'GARMENT&TEXTILE PRODUCTS'!$K$54/1000),\"\")","v":""},{"$f":"IF(A78<>\"\",IF('GARMENT&TEXTILE PRODUCTS'!$L$34=1,P78*(C78+D78*EF!$M$4+E78*EF!$M$5)*'GARMENT&TEXTILE PRODUCTS'!$L$57/1000,P78*(C78+D78*EF!$M$4+E78*EF!$M$5)*'GARMENT&TEXTILE PRODUCTS'!$L$54/1000),\"\")","v":""},{"$f":"IF(A78<>\"\",IF('GARMENT&TEXTILE PRODUCTS'!$M$34=1,Q78*(C78+D78*EF!$M$4+E78*EF!$M$5)*'GARMENT&TEXTILE PRODUCTS'!$M$57/1000,Q78*(C78+D78*EF!$M$4+E78*EF!$M$5)*'GARMENT&TEXTILE PRODUCTS'!$M$54/1000),\"\")","v":""},{"$f":"IF(A78<>\"\",IF('GARMENT&TEXTILE PRODUCTS'!$N$34=1,R78*(C78+D78*EF!$M$4+E78*EF!$M$5)*'GARMENT&TEXTILE PRODUCTS'!$N$57/1000,R78*(C78+D78*EF!$M$4+E78*EF!$M$5)*'GARMENT&TEXTILE PRODUCTS'!$N$54/1000),\"\")","v":""},0]
[null,{"$f":"IF(A80<>0,VLOOKUP(A80,EF!$A$148:$B$168,2,0),\"\")","v":""},{"$f":"IF(A80<>\"\",VLOOKUP(A80,EF!$A$148:$E$168,3,0),\"\")","v":""},{"$f":"IF(A80<>\"\",VLOOKUP(A80,EF!$A$148:$E$168,4,0),\"\")","v":""},{"$f":"IF(A80<>\"\",VLOOKUP(A80,EF!$A$148:$E$168,5,0),\"\")","v":""},"Quantity of Outputs",null,null,null,null,null,null,null,null,null,null,null,null,0]
[null,null,null,null,null,"Emission (tons CO2eq)",{"$f":"IF(A80<>0,IF('GARMENT&TEXTILE PRODUCTS'!$C$34=1,G80*(C80+D80*EF!$M$4+E80*EF!$M$5)*'GARMENT&TEXTILE PRODUCTS'!$C$57/1000, G80*(C80+D80*EF!$M$4+E80*EF!$M$5)*'GARMENT&TEXTILE PRODUCTS'!$C$54/1000),\"\")","v":""},{"$f":"IF(A80<>\"\",IF('GARMENT&TEXTILE PRODUCTS'!$D$34=1,H80*(C80+D80*EF!$M$4+E80*EF!$M$5)*'GARMENT&TEXTILE PRODUCTS'!$D$57/1000, H80*(C80+D80*EF!$M$4+E80*EF!$M$5)*'GARMENT&TEXTILE PRODUCTS'!$D$54/1000),\"\")","v":""},{"$f":"IF(A80<>\"\",IF('GARMENT&TEXTILE PRODUCTS'!$E$34=1, I80*(C80+D80*EF!$M$4+E80*EF!$M$5)*'GARMENT&TEXTILE PRODUCTS'!$E$57/1000, I80*(C80+D80*EF!$M$4+E80*EF!$M$5)*'GARMENT&TEXTILE PRODUCTS'!$E$54/1000),\"\")","v":""},{"$f":"IF(A80<>\"\",IF('GARMENT&TEXTILE PRODUCTS'!$F$34=1,J80*(C80+D80*EF!$M$4+E80*EF!$M$5)*'GARMENT&TEXTILE PRODUCTS'!$F$57/1000, J80*(C80+D80*EF!$M$4+E80*EF!$M$5)*'GARMENT&TEXTILE PRODUCTS'!$F$54/1000),\"\")","v":""},{"$f":"IF(A80<>\"\",IF('GARMENT&TEXTILE PRODUCTS'!$G$34=1, K80*(C80+D80*EF!$M$4+E80*EF!$M$5)*'GARMENT&TEXTILE PRODUCTS'!$G$57/1000,K80*(C80+D80*EF!$M$4+E80*EF!$M$5)*'GARMENT&TEXTILE PRODUCTS'!$G$54/1000),\"\")","v":""},{"$f":"IF(A80<>\"\",IF('GARMENT&TEXTILE PRODUCTS'!$H$34=1,L80*(C80+D80*EF!$M$4+E80*EF!$M$5)*'GARMENT&TEXTILE PRODUCTS'!$H$57/1000,L80*(C80+D80*EF!$M$4+E80*EF!$M$5)*'GARMENT&TEXTILE PRODUCTS'!$H$54/1000),\"\")","v":""},{"$f":"IF(A80<>\"\",IF('GARMENT&TEXTILE PRODUCTS'!$I$34=1,M80*(C80+D80*EF!$M$4+E80*EF!$M$5)*'GARMENT&TEXTILE PRODUCTS'!$I$57/1000,M80*(C80+D80*EF!$M$4+E80*EF!$M$5)*'GARMENT&TEXTILE PRODUCTS'!$I$54/1000),\"\")","v":""},{"$f":"IF(A80<>\"\",IF('GARMENT&TEXTILE PRODUCTS'!$K$34=1,N80*(C80+D80*EF!$M$4+E80*EF!$M$5)*'GARMENT&TEXTILE PRODUCTS'!$J$57/1000,N80*(C80+D80*EF!$M$4+E80*EF!$M$5)*'GARMENT&TEXTILE PRODUCTS'!$J$54/1000),\"\")","v":""},{"$f":"IF(A80<>\"\",IF('GARMENT&TEXTILE PRODUCTS'!$K$34=1,O80*(C80+D80*EF!$M$4+E80*EF!$M$5)*'GARMENT&TEXTILE PRODUCTS'!$K$57/1000,O80*(C80+D80*EF!$M$4+E80*EF!$M$5)*'GARMENT&TEXTILE PRODUCTS'!$K$54/1000),\"\")","v":""},{"$f":"IF(A80<>\"\",IF('GARMENT&TEXTILE PRODUCTS'!$L$34=1,P80*(C80+D80*EF!$M$4+E80*EF!$M$5)*'GARMENT&TEXTILE PRODUCTS'!$L$57/1000,P80*(C80+D80*EF!$M$4+E80*EF!$M$5)*'GARMENT&TEXTILE PRODUCTS'!$L$54/1000),\"\")","v":""},{"$f":"IF(A80<>\"\",IF('GARMENT&TEXTILE PRODUCTS'!$M$34=1,Q80*(C80+D80*EF!$M$4+E80*EF!$M$5)*'GARMENT&TEXTILE PRODUCTS'!$M$57/1000,Q80*(C80+D80*EF!$M$4+E80*EF!$M$5)*'GARMENT&TEXTILE PRODUCTS'!$M$54/1000),\"\")","v":""},{"$f":"IF(A80<>\"\",IF('GARMENT&TEXTILE PRODUCTS'!$N$34=1,R80*(C80+D80*EF!$M$4+E80*EF!$M$5)*'GARMENT&TEXTILE PRODUCTS'!$N$57/1000,R80*(C80+D80*EF!$M$4+E80*EF!$M$5)*'GARMENT&TEXTILE PRODUCTS'!$N$54/1000),\"\")","v":""},0]
[null,{"$f":"IF(A82<>0,VLOOKUP(A82,EF!$A$148:$B$168,2,0),\"\")","v":""},{"$f":"IF(A82<>\"\",VLOOKUP(A82,EF!$A$148:$E$168,3,0),\"\")","v":""},{"$f":"IF(A82<>\"\",VLOOKUP(A82,EF!$A$148:$E$168,4,0),\"\")","v":""},{"$f":"IF(A82<>\"\",VLOOKUP(A82,EF!$A$148:$E$168,5,0),\"\")","v":""},"Quantity of Outputs",null,null,null,null,null,null,null,null,null,null,null,null,0]
[null,null,null,null,null,"Emission (tons CO2eq)",{"$f":"IF(A82<>0,IF('GARMENT&TEXTILE PRODUCTS'!$C$34=1,G82*(C82+D82*EF!$M$4+E82*EF!$M$5)*'GARMENT&TEXTILE PRODUCTS'!$C$57/1000, G82*(C82+D82*EF!$M$4+E82*EF!$M$5)*'GARMENT&TEXTILE PRODUCTS'!$C$54/1000),\"\")","v":""},{"$f":"IF(A82<>\"\",IF('GARMENT&TEXTILE PRODUCTS'!$D$34=1,H82*(C82+D82*EF!$M$4+E82*EF!$M$5)*'GARMENT&TEXTILE PRODUCTS'!$D$57/1000, H82*(C82+D82*EF!$M$4+E82*EF!$M$5)*'GARMENT&TEXTILE PRODUCTS'!$D$54/1000),\"\")","v":""},{"$f":"IF(A82<>\"\",IF('GARMENT&TEXTILE PRODUCTS'!$E$34=1, I82*(C82+D82*EF!$M$4+E82*EF!$M$5)*'GARMENT&TEXTILE PRODUCTS'!$E$57/1000, I82*(C82+D82*EF!$M$4+E82*EF!$M$5)*'GARMENT&TEXTILE PRODUCTS'!$E$54/1000),\"\")","v":""},{"$f":"IF(A82<>\"\",IF('GARMENT&TEXTILE PRODUCTS'!$F$34=1,J82*(C82+D82*EF!$M$4+E82*EF!$M$5)*'GARMENT&TEXTILE PRODUCTS'!$F$57/1000, J82*(C82+D82*EF!$M$4+E82*EF!$M$5)*'GARMENT&TEXTILE PRODUCTS'!$F$54/1000),\"\")","v":""},{"$f":"IF(A82<>\"\",IF('GARMENT&TEXTILE PRODUCTS'!$G$34=1, K82*(C82+D82*EF!$M$4+E82*EF!$M$5)*'GARMENT&TEXTILE PRODUCTS'!$G$57/1000,K82*(C82+D82*EF!$M$4+E82*EF!$M$5)*'GARMENT&TEXTILE PRODUCTS'!$G$54/1000),\"\")","v":""},{"$f":"IF(A82<>\"\",IF('GARMENT&TEXTILE PRODUCTS'!$H$34=1,L82*(C82+D82*EF!$M$4+E82*EF!$M$5)*'GARMENT&TEXTILE PRODUCTS'!$H$57/1000,L82*(C82+D82*EF!$M$4+E82*EF!$M$5)*'GARMENT&TEXTILE PRODUCTS'!$H$54/1000),\"\")","v":""},{"$f":"IF(A82<>\"\",IF('GARMENT&TEXTILE PRODUCTS'!$I$34=1,M82*(C82+D82*EF!$M$4+E82*EF!$M$5)*'GARMENT&TEXTILE PRODUCTS'!$I$57/1000,M82*(C82+D82*EF!$M$4+E82*EF!$M$5)*'GARMENT&TEXTILE PRODUCTS'!$I$54/1000),\"\")","v":""},{"$f":"IF(A82<>\"\",IF('GARMENT&TEXTILE PRODUCTS'!$K$34=1,N82*(C82+D82*EF!$M$4+E82*EF!$M$5)*'GARMENT&TEXTILE PRODUCTS'!$J$57/1000,N82*(C82+D82*EF!$M$4+E82*EF!$M$5)*'GARMENT&TEXTILE PRODUCTS'!$J$54/1000),\"\")","v":""},{"$f":"IF(A82<>\"\",IF('GARMENT&TEXTILE PRODUCTS'!$K$34=1,O82*(C82+D82*EF!$M$4+E82*EF!$M$5)*'GARMENT&TEXTILE PRODUCTS'!$K$57/1000,O82*(C82+D82*EF!$M$4+E82*EF!$M$5)*'GARMENT&TEXTILE PRODUCTS'!$K$54/1000),\"\")","v":""},{"$f":"IF(A82<>\"\",IF('GARMENT&TEXTILE PRODUCTS'!$L$34=1,P82*(C82+D82*EF!$M$4+E82*EF!$M$5)*'GARMENT&TEXTILE PRODUCTS'!$L$57/1000,P82*(C82+D82*EF!$M$4+E82*EF!$M$5)*'GARMENT&TEXTILE PRODUCTS'!$L$54/1000),\"\")","v":""},{"$f":"IF(A82<>\"\",IF('GARMENT&TEXTILE PRODUCTS'!$M$34=1,Q82*(C82+D82*EF!$M$4+E82*EF!$M$5)*'GARMENT&TEXTILE PRODUCTS'!$M$57/1000,Q82*(C82+D82*EF!$M$4+E82*EF!$M$5)*'GARMENT&TEXTILE PRODUCTS'!$M$54/1000),\"\")","v":""},{"$f":"IF(A82<>\"\",IF('GARMENT&TEXTILE PRODUCTS'!$N$34=1,R82*(C82+D82*EF!$M$4+E82*EF!$M$5)*'GARMENT&TEXTILE PRODUCTS'!$N$57/1000,R82*(C82+D82*EF!$M$4+E82*EF!$M$5)*'GARMENT&TEXTILE PRODUCTS'!$N$54/1000),\"\")","v":""},0]
[null,{"$f":"IF(A84<>0,VLOOKUP(A84,EF!$A$148:$B$168,2,0),\"\")","v":""},{"$f":"IF(A84<>\"\",VLOOKUP(A84,EF!$A$148:$E$168,3,0),\"\")","v":""},{"$f":"IF(A84<>\"\",VLOOKUP(A84,EF!$A$148:$E$168,4,0),\"\")","v":""},{"$f":"IF(A84<>\"\",VLOOKUP(A84,EF!$A$148:$E$168,5,0),\"\")","v":""},"Quantity of Outputs",null,null,null,null,null,null,null,null,null,null,null,null,0]
[null,null,null,null,null,"Emission (tons CO2eq)",{"$f":"IF(A84<>0,IF('GARMENT&TEXTILE PRODUCTS'!$C$34=1,G84*(C84+D84*EF!$M$4+E84*EF!$M$5)*'GARMENT&TEXTILE PRODUCTS'!$C$57/1000, G84*(C84+D84*EF!$M$4+E84*EF!$M$5)*'GARMENT&TEXTILE PRODUCTS'!$C$54/1000),\"\")","v":""},{"$f":"IF(A84<>\"\",IF('GARMENT&TEXTILE PRODUCTS'!$D$34=1,H84*(C84+D84*EF!$M$4+E84*EF!$M$5)*'GARMENT&TEXTILE PRODUCTS'!$D$57/1000, H84*(C84+D84*EF!$M$4+E84*EF!$M$5)*'GARMENT&TEXTILE PRODUCTS'!$D$54/1000),\"\")","v":""},{"$f":"IF(A84<>\"\",IF('GARMENT&TEXTILE PRODUCTS'!$E$34=1, I84*(C84+D84*EF!$M$4+E84*EF!$M$5)*'GARMENT&TEXTILE PRODUCTS'!$E$57/1000, I84*(C84+D84*EF!$M$4+E84*EF!$M$5)*'GARMENT&TEXTILE PRODUCTS'!$E$54/1000),\"\")","v":""},{"$f":"IF(A84<>\"\",IF('GARMENT&TEXTILE PRODUCTS'!$F$34=1,J84*(C84+D84*EF!$M$4+E84*EF!$M$5)*'GARMENT&TEXTILE PRODUCTS'!$F$57/1000, J84*(C84+D84*EF!$M$4+E84*EF!$M$5)*'GARMENT&TEXTILE PRODUCTS'!$F$54/1000),\"\")","v":""},{"$f":"IF(A84<>\"\",IF('GARMENT&TEXTILE PRODUCTS'!$G$34=1, K84*(C84+D84*EF!$M$4+E84*EF!$M$5)*'GARMENT&TEXTILE PRODUCTS'!$G$57/1000,K84*(C84+D84*EF!$M$4+E84*EF!$M$5)*'GARMENT&TEXTILE PRODUCTS'!$G$54/1000),\"\")","v":""},{"$f":"IF(A84<>\"\",IF('GARMENT&TEXTILE PRODUCTS'!$H$34=1,L84*(C84+D84*EF!$M$4+E84*EF!$M$5)*'GARMENT&TEXTILE PRODUCTS'!$H$57/1000,L84*(C84+D84*EF!$M$4+E84*EF!$M$5)*'GARMENT&TEXTILE PRODUCTS'!$H$54/1000),\"\")","v":""},{"$f":"IF(A84<>\"\",IF('GARMENT&TEXTILE PRODUCTS'!$I$34=1,M84*(C84+D84*EF!$M$4+E84*EF!$M$5)*'GARMENT&TEXTILE PRODUCTS'!$I$57/1000,M84*(C84+D84*EF!$M$4+E84*EF!$M$5)*'GARMENT&TEXTILE PRODUCTS'!$I$54/1000),\"\")","v":""},{"$f":"IF(A84<>\"\",IF('GARMENT&TEXTILE PRODUCTS'!$K$34=1,N84*(C84+D84*EF!$M$4+E84*EF!$M$5)*'GARMENT&TEXTILE PRODUCTS'!$J$57/1000,N84*(C84+D84*EF!$M$4+E84*EF!$M$5)*'GARMENT&TEXTILE PRODUCTS'!$J$54/1000),\"\")","v":""},{"$f":"IF(A84<>\"\",IF('GARMENT&TEXTILE PRODUCTS'!$K$34=1,O84*(C84+D84*EF!$M$4+E84*EF!$M$5)*'GARMENT&TEXTILE PRODUCTS'!$K$57/1000,O84*(C84+D84*EF!$M$4+E84*EF!$M$5)*'GARMENT&TEXTILE PRODUCTS'!$K$54/1000),\"\")","v":""},{"$f":"IF(A84<>\"\",IF('GARMENT&TEXTILE PRODUCTS'!$L$34=1,P84*(C84+D84*EF!$M$4+E84*EF!$M$5)*'GARMENT&TEXTILE PRODUCTS'!$L$57/1000,P84*(C84+D84*EF!$M$4+E84*EF!$M$5)*'GARMENT&TEXTILE PRODUCTS'!$L$54/1000),\"\")","v":""},{"$f":"IF(A84<>\"\",IF('GARMENT&TEXTILE PRODUCTS'!$M$34=1,Q84*(C84+D84*EF!$M$4+E84*EF!$M$5)*'GARMENT&TEXTILE PRODUCTS'!$M$57/1000,Q84*(C84+D84*EF!$M$4+E84*EF!$M$5)*'GARMENT&TEXTILE PRODUCTS'!$M$54/1000),\"\")","v":""},{"$f":"IF(A84<>\"\",IF('GARMENT&TEXTILE PRODUCTS'!$N$34=1,R84*(C84+D84*EF!$M$4+E84*EF!$M$5)*'GARMENT&TEXTILE PRODUCTS'!$N$57/1000,R84*(C84+D84*EF!$M$4+E84*EF!$M$5)*'GARMENT&TEXTILE PRODUCTS'!$N$54/1000),\"\")","v":""},0]
[null,{"$f":"IF(A86<>0,VLOOKUP(A86,EF!$A$148:$B$168,2,0),\"\")","v":""},{"$f":"IF(A86<>\"\",VLOOKUP(A86,EF!$A$148:$E$168,3,0),\"\")","v":""},{"$f":"IF(A86<>\"\",VLOOKUP(A86,EF!$A$148:$E$168,4,0),\"\")","v":""},{"$f":"IF(A86<>\"\",VLOOKUP(A86,EF!$A$148:$E$168,5,0),\"\")","v":""},"Quantity of Outputs",null,null,null,null,null,null,null,null,null,null,null,null,0]
[null,null,null,null,null,"Emission (tons CO2eq)",{"$f":"IF(A86<>0,IF('GARMENT&TEXTILE PRODUCTS'!$C$34=1,G86*(C86+D86*EF!$M$4+E86*EF!$M$5)*'GARMENT&TEXTILE PRODUCTS'!$C$57/1000, G86*(C86+D86*EF!$M$4+E86*EF!$M$5)*'GARMENT&TEXTILE PRODUCTS'!$C$54/1000),\"\")","v":""},{"$f":"IF(A86<>\"\",IF('GARMENT&TEXTILE PRODUCTS'!$D$34=1,H86*(C86+D86*EF!$M$4+E86*EF!$M$5)*'GARMENT&TEXTILE PRODUCTS'!$D$57/1000, H86*(C86+D86*EF!$M$4+E86*EF!$M$5)*'GARMENT&TEXTILE PRODUCTS'!$D$54/1000),\"\")","v":""},{"$f":"IF(A86<>\"\",IF('GARMENT&TEXTILE PRODUCTS'!$E$34=1, I86*(C86+D86*EF!$M$4+E86*EF!$M$5)*'GARMENT&TEXTILE PRODUCTS'!$E$57/1000, I86*(C86+D86*EF!$M$4+E86*EF!$M$5)*'GARMENT&TEXTILE PRODUCTS'!$E$54/1000),\"\")","v":""},{"$f":"IF(A86<>\"\",IF('GARMENT&TEXTILE PRODUCTS'!$F$34=1,J86*(C86+D86*EF!$M$4+E86*EF!$M$5)*'GARMENT&TEXTILE PRODUCTS'!$F$57/1000, J86*(C86+D86*EF!$M$4+E86*EF!$M$5)*'GARMENT&TEXTILE PRODUCTS'!$F$54/1000),\"\")","v":""},{"$f":"IF(A86<>\"\",IF('GARMENT&TEXTILE PRODUCTS'!$G$34=1, K86*(C86+D86*EF!$M$4+E86*EF!$M$5)*'GARMENT&TEXTILE PRODUCTS'!$G$57/1000,K86*(C86+D86*EF!$M$4+E86*EF!$M$5)*'GARMENT&TEXTILE PRODUCTS'!$G$54/1000),\"\")","v":""},{"$f":"IF(A86<>\"\",IF('GARMENT&TEXTILE PRODUCTS'!$H$34=1,L86*(C86+D86*EF!$M$4+E86*EF!$M$5)*'GARMENT&TEXTILE PRODUCTS'!$H$57/1000,L86*(C86+D86*EF!$M$4+E86*EF!$M$5)*'GARMENT&TEXTILE PRODUCTS'!$H$54/1000),\"\")","v":""},{"$f":"IF(A86<>\"\",IF('GARMENT&TEXTILE PRODUCTS'!$I$34=1,M86*(C86+D86*EF!$M$4+E86*EF!$M$5)*'GARMENT&TEXTILE PRODUCTS'!$I$57/1000,M86*(C86+D86*EF!$M$4+E86*EF!$M$5)*'GARMENT&TEXTILE PRODUCTS'!$I$54/1000),\"\")","v":""},{"$f":"IF(A86<>\"\",IF('GARMENT&TEXTILE PRODUCTS'!$K$34=1,N86*(C86+D86*EF!$M$4+E86*EF!$M$5)*'GARMENT&TEXTILE PRODUCTS'!$J$57/1000,N86*(C86+D86*EF!$M$4+E86*EF!$M$5)*'GARMENT&TEXTILE PRODUCTS'!$J$54/1000),\"\")","v":""},{"$f":"IF(A86<>\"\",IF('GARMENT&TEXTILE PRODUCTS'!$K$34=1,O86*(C86+D86*EF!$M$4+E86*EF!$M$5)*'GARMENT&TEXTILE PRODUCTS'!$K$57/1000,O86*(C86+D86*EF!$M$4+E86*EF!$M$5)*'GARMENT&TEXTILE PRODUCTS'!$K$54/1000),\"\")","v":""},{"$f":"IF(A86<>\"\",IF('GARMENT&TEXTILE PRODUCTS'!$L$34=1,P86*(C86+D86*EF!$M$4+E86*EF!$M$5)*'GARMENT&TEXTILE PRODUCTS'!$L$57/1000,P86*(C86+D86*EF!$M$4+E86*EF!$M$5)*'GARMENT&TEXTILE PRODUCTS'!$L$54/1000),\"\")","v":""},{"$f":"IF(A86<>\"\",IF('GARMENT&TEXTILE PRODUCTS'!$M$34=1,Q86*(C86+D86*EF!$M$4+E86*EF!$M$5)*'GARMENT&TEXTILE PRODUCTS'!$M$57/1000,Q86*(C86+D86*EF!$M$4+E86*EF!$M$5)*'GARMENT&TEXTILE PRODUCTS'!$M$54/1000),\"\")","v":""},{"$f":"IF(A86<>\"\",IF('GARMENT&TEXTILE PRODUCTS'!$N$34=1,R86*(C86+D86*EF!$M$4+E86*EF!$M$5)*'GARMENT&TEXTILE PRODUCTS'!$N$57/1000,R86*(C86+D86*EF!$M$4+E86*EF!$M$5)*'GARMENT&TEXTILE PRODUCTS'!$N$54/1000),\"\")","v":""},0]
[]
["Total (tons CO2eq)",null,null,null,null,null,{"$f":"SUMIF($F$76:$F$88,$F$77,G76:G88)","v":0},{"$f":"SUMIF($F$76:$F$88,$F$77,H76:H88)","v":0},0,0,0,0,0,0,0,0,0,0,0,{"$f":"SUMIF($G$32:$G$44,$G$43,T76:T88)","v":0}]
[]
[]
[]
[]
["IV. Wastewater treatment activities"]
[]
["Enterprise wastewater treatment measures"]
["If there is no measure your business is using or you need to edit the coefficients, please click"]
[]
[null,"Unit","Jan","Feb","March","April","May","June","July","Aug","Sep","Oct","Nov","Dec","Total"]
["Amount of wastewater","m3",null,null,null,null,null,null,null,null,null,null,null,null,{"$f":"SUM(C100:N100)","v":0}]
["Chemical Oxygen Demand (COD)","kgCOD/m3"]
["CH4 is recovered in the treatment system","kg"]
["MCF",null,{"$f":"IF($D$96<>\"\",VLOOKUP($D$96,EF!$K$22:$M$28,3,0),0)","v":0},{"$f":"IF($D$96<>\"\",VLOOKUP($D$96,EF!$K$22:$M$28,3,0),0)","v":0},{"$f":"IF($D$96<>\"\",VLOOKUP($D$96,EF!$K$22:$M$28,3,0),0)","v":0},{"$f":"IF($D$96<>\"\",VLOOKUP($D$96,EF!$K$22:$M$28,3,0),0)","v":0},{"$f":"IF($D$96<>\"\",VLOOKUP($D$96,EF!$K$22:$M$28,3,0),0)","v":0},{"$f":"IF($D$96<>\"\",VLOOKUP($D$96,EF!$K$22:$M$28,3,0),0)","v":0},{"$f":"IF($D$96<>\"\",VLOOKUP($D$96,EF!$K$22:$M$28,3,0),0)","v":0},{"$f":"IF($D$96<>\"\",VLOOKUP($D$96,EF!$K$22:$M$28,3,0),0)","v":0},{"$f":"IF($D$96<>\"\",VLOOKUP($D$96,EF!$K$22:$M$28,3,0),0)","v":0},{"$f":"IF($D$96<>\"\",VLOOKUP($D$96,EF!$K$22:$M$28,3,0),0)","v":0},{"$f":"IF($D$96<>\"\",VLOOKUP($D$96,EF!$K$22:$M$28,3,0),0)","v":0},{"$f":"IF($D$96<>\"\",VLOOKUP($D$96,EF!$K$22:$M$28,3,0),0)","v":0}]
["Maximum methane production capacity","(kg CH4/kg COD)",0.25,0.25,0.25,0.25,0.25,0.25,0.25,0.25,0.25,0.25,0.25,0.25]
["Sludge is removed","kg COD/month"]
["Emission","tons CO2eq",{"$f":"IF('GARMENT&TEXTILE PRODUCTS'!C34=1,((C100*C101-C105)*C103*C104-C102)*'GARMENT&TEXTILE PRODUCTS'!C57,((C100*C101-C105)*C103*C104-C102)*'GARMENT&TEXTILE PRODUCTS'!C54)","v":0},{"$f":"IF('GARMENT&TEXTILE PRODUCTS'!D34=1,((D100*D101-D105)*D103*D104-D102)*'GARMENT&TEXTILE PRODUCTS'!D57,((D100*D101-D105)*D103*D104-D102)*'GARMENT&TEXTILE PRODUCTS'!D54)","v":0},{"$f":"IF('GARMENT&TEXTILE PRODUCTS'!E34=1,((E100*E101-E105)*E103*E104-E102)*'GARMENT&TEXTILE PRODUCTS'!E57,((E100*E101-E105)*E103*E104-E102)*'GARMENT&TEXTILE PRODUCTS'!E54)","v":0},{"$f":"IF('GARMENT&TEXTILE PRODUCTS'!F34=1,((F100*F101-F105)*F103*F104-F102)*'GARMENT&TEXTILE PRODUCTS'!F57,((F100*F101-F105)*F103*F104-F102)*'GARMENT&TEXTILE PRODUCTS'!F54)","v":0},{"$f":"IF('GARMENT&TEXTILE PRODUCTS'!G34=1,((G100*G101-G105)*G103*G104-G102)*'GARMENT&TEXTILE PRODUCTS'!G57,((G100*G101-G105)*G103*G104-G102)*'GARMENT&TEXTILE PRODUCTS'!G54)","v":0},{"$f":"IF('GARMENT&TEXTILE PRODUCTS'!H34=1,((H100*H101-H105)*H103*H104-H102)*'GARMENT&TEXTILE PRODUCTS'!H57,((H100*H101-H105)*H103*H104-H102)*'GARMENT&TEXTILE PRODUCTS'!H54)","v":0},{"$f":"IF('GARMENT&TEXTILE PRODUCTS'!I34=1,((I100*I101-I105)*I103*I104-I102)*'GARMENT&TEXTILE PRODUCTS'!I57,((I100*I101-I105)*I103*I104-I102)*'GARMENT&TEXTILE PRODUCTS'!I54)","v":0},{"$f":"IF('GARMENT&TEXTILE PRODUCTS'!J34=1,((J100*J101-J105)*J103*J104-J102)*'GARMENT&TEXTILE PRODUCTS'!J57,((J100*J101-J105)*J103*J104-J102)*'GARMENT&TEXTILE PRODUCTS'!J54)","v":0},{"$f":"IF('GARMENT&TEXTILE PRODUCTS'!K34=1,((K100*K101-K105)*K103*K104-K102)*'GARMENT&TEXTILE PRODUCTS'!K57,((K100*K101-K105)*K103*K104-K102)*'GARMENT&TEXTILE PRODUCTS'!K54)","v":0},{"$f":"IF('GARMENT&TEXTILE PRODUCTS'!L34=1,((L100*L101-L105)*L103*L104-L102)*'GARMENT&TEXTILE PRODUCTS'!L57,((L100*L101-L105)*L103*L104-L102)*'GARMENT&TEXTILE PRODUCTS'!L54)","v":0},{"$f":"IF('GARMENT&TEXTILE PRODUCTS'!M34=1,((M100*M101-M105)*M103*M104-M102)*'GARMENT&TEXTILE PRODUCTS'!M57,((M100*M101-M105)*M103*M104-M102)*'GARMENT&TEXTILE PRODUCTS'!M54)","v":0},{"$f":"IF('GARMENT&TEXTILE PRODUCTS'!N34=1,((N100*N101-N105)*N103*N104-N102)*'GARMENT&TEXTILE PRODUCTS'!N57,((N100*N101-N105)*N103*N104-N102)*'GARMENT&TEXTILE PRODUCTS'!N54)","v":0},{"$f":"SUM(C106:N106)","v":0}]
[]
[]
["IV. Amount of steam purchased from outside and electricity purchased from the grid"]
[]
[null,"Unit","Jan","Feb","March","April","May","June","July","Aug","Sep","Oct","Nov","Dec","Total"]
["Generation","kWh",null,null,null,null,null,null,null,null,null,null,null,null,{"$f":"SUM(C112:N112)","v":0}]
["Emission Factor","tCO2/MWh",{"$f":"IF('GARMENT&TEXTILE PRODUCTS'!$C$15<>\"\",HLOOKUP('GARMENT&TEXTILE PRODUCTS'!$C$15,EF!$L$34:$Q$35,2,0),0)","v":0},{"$f":"IF('GARMENT&TEXTILE PRODUCTS'!$C$15<>\"\",HLOOKUP('GARMENT&TEXTILE PRODUCTS'!$C$15,EF!$L$34:$Q$35,2,0),0)","v":0},{"$f":"IF('GARMENT&TEXTILE PRODUCTS'!$C$15<>\"\",HLOOKUP('GARMENT&TEXTILE PRODUCTS'!$C$15,EF!$L$34:$Q$35,2,0),0)","v":0},{"$f":"IF('GARMENT&TEXTILE PRODUCTS'!$C$15<>\"\",HLOOKUP('GARMENT&TEXTILE PRODUCTS'!$C$15,EF!$L$34:$Q$35,2,0),0)","v":0},{"$f":"IF('GARMENT&TEXTILE PRODUCTS'!$C$15<>\"\",HLOOKUP('GARMENT&TEXTILE PRODUCTS'!$C$15,EF!$L$34:$Q$35,2,0),0)","v":0},{"$f":"IF('GARMENT&TEXTILE PRODUCTS'!$C$15<>\"\",HLOOKUP('GARMENT&TEXTILE PRODUCTS'!$C$15,EF!$L$34:$Q$35,2,0),0)","v":0},{"$f":"IF('GARMENT&TEXTILE PRODUCTS'!$C$15<>\"\",HLOOKUP('GARMENT&TEXTILE PRODUCTS'!$C$15,EF!$L$34:$Q$35,2,0),0)","v":0},{"$f":"IF('GARMENT&TEXTILE PRODUCTS'!$C$15<>\"\",HLOOKUP('GARMENT&TEXTILE PRODUCTS'!$C$15,EF!$L$34:$Q$35,2,0),0)","v":0},{"$f":"IF('GARMENT&TEXTILE PRODUCTS'!$C$15<>\"\",HLOOKUP('GARMENT&TEXTILE PRODUCTS'!$C$15,EF!$L$34:$Q$35,2,0),0)","v":0},{"$f":"IF('GARMENT&TEXTILE PRODUCTS'!$C$15<>\"\",HLOOKUP('GARMENT&TEXTILE PRODUCTS'!$C$15,EF!$L$34:$Q$35,2,0),0)","v":0},{"$f":"IF('GARMENT&TEXTILE PRODUCTS'!$C$15<>\"\",HLOOKUP('GARMENT&TEXTILE PRODUCTS'!$C$15,EF!$L$34:$Q$35,2,0),0)","v":0},{"$f":"IF('GARMENT&TEXTILE PRODUCTS'!$C$15<>\"\",HLOOKUP('GARMENT&TEXTILE PRODUCTS'!$C$15,EF!$L$34:$Q$35,2,0),0)","v":0}]
["Emission","tons CO2eq",{"$f":"IF('GARMENT&TEXTILE PRODUCTS'!C34=1,C112/1000*C113*'GARMENT&TEXTILE PRODUCTS'!C57,C112/1000*C113*'GARMENT&TEXTILE PRODUCTS'!C54)","v":0},{"$f":"IF('GARMENT&TEXTILE PRODUCTS'!D34=1,D112/1000*D113*'GARMENT&TEXTILE PRODUCTS'!D57,D112/1000*D113*'GARMENT&TEXTILE PRODUCTS'!D54)","v":0},{"$f":"IF('GARMENT&TEXTILE PRODUCTS'!E34=1,E112/1000*E113*'GARMENT&TEXTILE PRODUCTS'!E57,E112/1000*E113*'GARMENT&TEXTILE PRODUCTS'!E54)","v":0},{"$f":"IF('GARMENT&TEXTILE PRODUCTS'!F34=1,F112/1000*F113*'GARMENT&TEXTILE PRODUCTS'!F57,F112/1000*F113*'GARMENT&TEXTILE PRODUCTS'!F54)","v":0},{"$f":"IF('GARMENT&TEXTILE PRODUCTS'!G34=1,G112/1000*G113*'GARMENT&TEXTILE PRODUCTS'!G57,G112/1000*G113*'GARMENT&TEXTILE PRODUCTS'!G54)","v":0},{"$f":"IF('GARMENT&TEXTILE PRODUCTS'!H34=1,H112/1000*H113*'GARMENT&TEXTILE PRODUCTS'!H57,H112/1000*H113*'GARMENT&TEXTILE PRODUCTS'!H54)","v":0},{"$f":"IF('GARMENT&TEXTILE PRODUCTS'!I34=1,I112/1000*I113*'GARMENT&TEXTILE PRODUCTS'!I57,I112/1000*I113*'GARMENT&TEXTILE PRODUCTS'!I54)","v":0},{"$f":"IF('GARMENT&TEXTILE PRODUCTS'!J34=1,J112/1000*J113*'GARMENT&TEXTILE PRODUCTS'!J57,J112/1000*J113*'GARMENT&TEXTILE PRODUCTS'!J54)","v":0},{"$f":"IF('GARMENT&TEXTILE PRODUCTS'!K34=1,K112/1000*K113*'GARMENT&TEXTILE PRODUCTS'!K57,K112/1000*K113*'GARMENT&TEXTILE PRODUCTS'!K54)","v":0},{"$f":"IF('GARMENT&TEXTILE PRODUCTS'!L34=1,L112/1000*L113*'GARMENT&TEXTILE PRODUCTS'!L57,L112/1000*L113*'GARMENT&TEXTILE PRODUCTS'!L54)","v":0},{"$f":"IF('GARMENT&TEXTILE PRODUCTS'!M34=1,M112/1000*M113*'GARMENT&TEXTILE PRODUCTS'!M57,M112/1000*M113*'GARMENT&TEXTILE PRODUCTS'!M54)","v":0},{"$f":"IF('GARMENT&TEXTILE PRODUCTS'!N34=1,N112/1000*N113*'GARMENT&TEXTILE PRODUCTS'!N57,N112/1000*N113*'GARMENT&TEXTILE PRODUCTS'!N54)","v":0},{"$f":"SUM(C114:N114)","v":0}]
[]
[]
["Type of fuel for the boiler",null,"Orimulsion"]
["Steam pressure",null,0.04,null,"bar"]
["Boiler efficiency",null,40,null,"%"]
["Emission Factor CO2",null,{"$f":"VLOOKUP(C117,EF!B4:C55,2,0)","v":"70"},null,"kgCO2/GJ"]
["Emission Factor CH4",null,{"$f":"VLOOKUP($C$117,EF!$B$4:$E$54,3,0)","v":"0.003"},null,"kgCH4/GJ"]
["Emission Factor N2O",null,{"$f":"VLOOKUP($C$117,EF!$B$4:$E$54,4,0)","v":"0.0006"},null,"kgN2O/GJ"]
[]
[null,"Unit","Jan","Feb","March","April","May","June","July","Aug","Sep","Oct","Nov","Dec","Total"]
["Amount of steam","m3",null,null,null,null,null,null,null,null,null,null,null,null,{"$f":"SUM(C125:N125)","v":0}]
["Amount of converted heat","KJ",{"$f":"IF($C$118<>\"\",IF($B$125=\"tấn\",1000,VLOOKUP($C$118,EF!$A$79:$B$145,2,0)*C125*VLOOKUP($C$118,EF!$A$79:$C$145,3,0)/($C$119/100)))","v":0},{"$f":"IF($C$118<>\"\",IF($B$125=\"tấn\",1000,VLOOKUP($C$118,EF!$A$79:$B$145,2,0)*D125*VLOOKUP($C$118,EF!$A$79:$C$145,3,0)/($C$119/100)))","v":0},{"$f":"IF($C$118<>\"\",IF($B$125=\"tấn\",1000,VLOOKUP($C$118,EF!$A$79:$B$145,2,0)*E125*VLOOKUP($C$118,EF!$A$79:$C$145,3,0)/($C$119/100)))","v":0},{"$f":"IF($C$118<>\"\",IF($B$125=\"tấn\",1000,VLOOKUP($C$118,EF!$A$79:$B$145,2,0)*F125*VLOOKUP($C$118,EF!$A$79:$C$145,3,0)/($C$119/100)))","v":0},{"$f":"IF($C$118<>\"\",IF($B$125=\"tấn\",1000,VLOOKUP($C$118,EF!$A$79:$B$145,2,0)*G125*VLOOKUP($C$118,EF!$A$79:$C$145,3,0)/($C$119/100)))","v":0},{"$f":"IF($C$118<>\"\",IF($B$125=\"tấn\",1000,VLOOKUP($C$118,EF!$A$79:$B$145,2,0)*H125*VLOOKUP($C$118,EF!$A$79:$C$145,3,0)/($C$119/100)))","v":0},{"$f":"IF($C$118<>\"\",IF($B$125=\"tấn\",1000,VLOOKUP($C$118,EF!$A$79:$B$145,2,0)*I125*VLOOKUP($C$118,EF!$A$79:$C$145,3,0)/($C$119/100)))","v":0},{"$f":"IF($C$118<>\"\",IF($B$125=\"tấn\",1000,VLOOKUP($C$118,EF!$A$79:$B$145,2,0)*J125*VLOOKUP($C$118,EF!$A$79:$C$145,3,0)/($C$119/100)))","v":0},{"$f":"IF($C$118<>\"\",IF($B$125=\"tấn\",1000,VLOOKUP($C$118,EF!$A$79:$B$145,2,0)*K125*VLOOKUP($C$118,EF!$A$79:$C$145,3,0)/($C$119/100)))","v":0},{"$f":"IF($C$118<>\"\",IF($B$125=\"tấn\",1000,VLOOKUP($C$118,EF!$A$79:$B$145,2,0)*L125*VLOOKUP($C$118,EF!$A$79:$C$145,3,0)/($C$119/100)))","v":0},{"$f":"IF($C$118<>\"\",IF($B$125=\"tấn\",1000,VLOOKUP($C$118,EF!$A$79:$B$145,2,0)*M125*VLOOKUP($C$118,EF!$A$79:$C$145,3,0)/($C$119/100)))","v":0},{"$f":"IF($C$118<>\"\",IF($B$125=\"tấn\",1000,VLOOKUP($C$118,EF!$A$79:$B$145,2,0)*N125*VLOOKUP($C$118,EF!$A$79:$C$145,3,0)/($C$119/100)))","v":0},{"$f":"SUM(C126:N126)","v":0}]
["Emission","tons CO2eq",{"$f":"IF('GARMENT&TEXTILE PRODUCTS'!C34=1,C126/10^3*($C$120+$C$121*EF!$M$4+$C$122*EF!$M$5)/1000*'GARMENT&TEXTILE PRODUCTS'!C57,C126/10^3*($C$120+$C$121*EF!$M$4+$C$122*EF!$M$5)/1000*'GARMENT&TEXTILE PRODUCTS'!C54)","v":0},{"$f":"IF('GARMENT&TEXTILE PRODUCTS'!D34=1,D126/10^3*($C$120+$C$121*EF!$M$4+$C$122*EF!$M$5)/1000*'GARMENT&TEXTILE PRODUCTS'!D57,D126/10^3*($C$120+$C$121*EF!$M$4+$C$122*EF!$M$5)/1000*'GARMENT&TEXTILE PRODUCTS'!D54)","v":0},{"$f":"IF('GARMENT&TEXTILE PRODUCTS'!E34=1,E126/10^3*($C$120+$C$121*EF!$M$4+$C$122*EF!$M$5)/1000*'GARMENT&TEXTILE PRODUCTS'!E57,E126/10^3*($C$120+$C$121*EF!$M$4+$C$122*EF!$M$5)/1000*'GARMENT&TEXTILE PRODUCTS'!E54)","v":0},{"$f":"IF('GARMENT&TEXTILE PRODUCTS'!F34=1,F126/10^3*($C$120+$C$121*EF!$M$4+$C$122*EF!$M$5)/1000*'GARMENT&TEXTILE PRODUCTS'!F57,F126/10^3*($C$120+$C$121*EF!$M$4+$C$122*EF!$M$5)/1000*'GARMENT&TEXTILE PRODUCTS'!F54)","v":0},{"$f":"IF('GARMENT&TEXTILE PRODUCTS'!G34=1,G126/10^3*($C$120+$C$121*EF!$M$4+$C$122*EF!$M$5)/1000*'GARMENT&TEXTILE PRODUCTS'!G57,G126/10^3*($C$120+$C$121*EF!$M$4+$C$122*EF!$M$5)/1000*'GARMENT&TEXTILE PRODUCTS'!G54)","v":0},{"$f":"IF('GARMENT&TEXTILE PRODUCTS'!H34=1,H126/10^3*($C$120+$C$121*EF!$M$4+$C$122*EF!$M$5)/1000*'GARMENT&TEXTILE PRODUCTS'!H57,H126/10^3*($C$120+$C$121*EF!$M$4+$C$122*EF!$M$5)/1000*'GARMENT&TEXTILE PRODUCTS'!H54)","v":0},{"$f":"IF('GARMENT&TEXTILE PRODUCTS'!I34=1,I126/10^3*($C$120+$C$121*EF!$M$4+$C$122*EF!$M$5)/1000*'GARMENT&TEXTILE PRODUCTS'!I57,I126/10^3*($C$120+$C$121*EF!$M$4+$C$122*EF!$M$5)/1000*'GARMENT&TEXTILE PRODUCTS'!I54)","v":0},{"$f":"IF('GARMENT&TEXTILE PRODUCTS'!J34=1,J126/10^3*($C$120+$C$121*EF!$M$4+$C$122*EF!$M$5)/1000*'GARMENT&TEXTILE PRODUCTS'!J57,J126/10^3*($C$120+$C$121*EF!$M$4+$C$122*EF!$M$5)/1000*'GARMENT&TEXTILE PRODUCTS'!J54)","v":0},{"$f":"IF('GARMENT&TEXTILE PRODUCTS'!K34=1,K126/10^3*($C$120+$C$121*EF!$M$4+$C$122*EF!$M$5)/1000*'GARMENT&TEXTILE PRODUCTS'!K57,K126/10^3*($C$120+$C$121*EF!$M$4+$C$122*EF!$M$5)/1000*'GARMENT&TEXTILE PRODUCTS'!K54)","v":0},{"$f":"IF('GARMENT&TEXTILE PRODUCTS'!L34=1,L126/10^3*($C$120+$C$121*EF!$M$4+$C$122*EF!$M$5)/1000*'GARMENT&TEXTILE PRODUCTS'!L57,L126/10^3*($C$120+$C$121*EF!$M$4+$C$122*EF!$M$5)/1000*'GARMENT&TEXTILE PRODUCTS'!L54)","v":0},{"$f":"IF('GARMENT&TEXTILE PRODUCTS'!M34=1,M126/10^3*($C$120+$C$121*EF!$M$4+$C$122*EF!$M$5)/1000*'GARMENT&TEXTILE PRODUCTS'!M57,M126/10^3*($C$120+$C$121*EF!$M$4+$C$122*EF!$M$5)/1000*'GARMENT&TEXTILE PRODUCTS'!M54)","v":0},{"$f":"IF('GARMENT&TEXTILE PRODUCTS'!N34=1,N126/10^3*($C$120+$C$121*EF!$M$4+$C$122*EF!$M$5)/1000*'GARMENT&TEXTILE PRODUCTS'!N57,N126/10^3*($C$120+$C$121*EF!$M$4+$C$122*EF!$M$5)/1000*'GARMENT&TEXTILE PRODUCTS'!N54)","v":0},{"$f":"SUM(C127:N127)","v":0}]
[]
[]
["V. Other emission sources"]
[]
["Fuel/Process","Unit","CO2 emission factor (kgCO2/unit)","CH4 emission factor (kgCH4/unit)","N2O emission factor (kgN2O/unit)",null,"Quantity of fuel used",null,null,null,null,null,null,null,null,null,null,null,"Total"]
[null,null,null,null,null,null,"Jan","Feb","March","April","May","June","July","Aug","Sep","Oct","Nov","Dec"]
[null,null,null,null,null,"Fuel consumption",null,null,null,null,null,null,null,null,null,null,null,null,{"$f":"SUM(G134:R134)","v":0}]
[null,null,null,null,null,"Emission (tons CO2eq)",{"$f":"IF(A134<>0,IF('GARMENT&TEXTILE PRODUCTS'!$C$34=1,G134*(C134+D134*EF!$M$4+E134*EF!$M$5)*'GARMENT&TEXTILE PRODUCTS'!$C$57/1000, G134*(C134+D134*EF!$M$4+E134*EF!$M$5)*'GARMENT&TEXTILE PRODUCTS'!$C$54/1000),\"\")","v":""},{"$f":"IF(A134<>\"\",IF('GARMENT&TEXTILE PRODUCTS'!$D$34=1,H134*(C134+D134*EF!$M$4+E134*EF!$M$5)*'GARMENT&TEXTILE PRODUCTS'!$D$57/1000, H134*(C134+D134*EF!$M$4+E134*EF!$M$5)*'GARMENT&TEXTILE PRODUCTS'!$D$54/1000),\"\")","v":""},{"$f":"IF(A134<>\"\",IF('GARMENT&TEXTILE PRODUCTS'!$E$34=1, I134*(C134+D134*EF!$M$4+E134*EF!$M$5)*'GARMENT&TEXTILE PRODUCTS'!$E$57/1000, I134*(C134+D134*EF!$M$4+E134*EF!$M$5)*'GARMENT&TEXTILE PRODUCTS'!$E$54/1000),\"\")","v":""},{"$f":"IF(A134<>\"\",IF('GARMENT&TEXTILE PRODUCTS'!$F$34=1,J134*(C134+D134*EF!$M$4+E134*EF!$M$5)*'GARMENT&TEXTILE PRODUCTS'!$F$57/1000, J134*(C134+D134*EF!$M$4+E134*EF!$M$5)*'GARMENT&TEXTILE PRODUCTS'!$F$54/1000),\"\")","v":""},{"$f":"IF(A134<>\"\",IF('GARMENT&TEXTILE PRODUCTS'!$G$34=1, K134*(C134+D134*EF!$M$4+E134*EF!$M$5)*'GARMENT&TEXTILE PRODUCTS'!$G$57/1000,K134*(C134+D134*EF!$M$4+E134*EF!$M$5)*'GARMENT&TEXTILE PRODUCTS'!$G$54/1000),\"\")","v":""},{"$f":"IF(A134<>\"\",IF('GARMENT&TEXTILE PRODUCTS'!$H$34=1,L134*(C134+D134*EF!$M$4+E134*EF!$M$5)*'GARMENT&TEXTILE PRODUCTS'!$H$57/1000,L134*(C134+D134*EF!$M$4+E134*EF!$M$5)*'GARMENT&TEXTILE PRODUCTS'!$H$54/1000),\"\")","v":""},{"$f":"IF(A134<>\"\",IF('GARMENT&TEXTILE PRODUCTS'!$I$34=1,M134*(C134+D134*EF!$M$4+E134*EF!$M$5)*'GARMENT&TEXTILE PRODUCTS'!$I$57/1000,M134*(C134+D134*EF!$M$4+E134*EF!$M$5)*'GARMENT&TEXTILE PRODUCTS'!$I$54/1000),\"\")","v":""},{"$f":"IF(A134<>\"\",IF('GARMENT&TEXTILE PRODUCTS'!$K$34=1,N134*(C134+D134*EF!$M$4+E134*EF!$M$5)*'GARMENT&TEXTILE PRODUCTS'!$J$57/1000,N134*(C134+D134*EF!$M$4+E134*EF!$M$5)*'GARMENT&TEXTILE PRODUCTS'!$J$54/1000),\"\")","v":""},{"$f":"IF(A134<>\"\",IF('GARMENT&TEXTILE PRODUCTS'!$K$34=1,O134*(C134+D134*EF!$M$4+E134*EF!$M$5)*'GARMENT&TEXTILE PRODUCTS'!$K$57/1000,O134*(C134+D134*EF!$M$4+E134*EF!$M$5)*'GARMENT&TEXTILE PRODUCTS'!$K$54/1000),\"\")","v":""},{"$f":"IF(A134<>\"\",IF('GARMENT&TEXTILE PRODUCTS'!$L$34=1,P134*(C134+D134*EF!$M$4+E134*EF!$M$5)*'GARMENT&TEXTILE PRODUCTS'!$L$57/1000,P134*(C134+D134*EF!$M$4+E134*EF!$M$5)*'GARMENT&TEXTILE PRODUCTS'!$L$54/1000),\"\")","v":""},{"$f":"IF(A134<>\"\",IF('GARMENT&TEXTILE PRODUCTS'!$M$34=1,Q134*(C134+D134*EF!$M$4+E134*EF!$M$5)*'GARMENT&TEXTILE PRODUCTS'!$M$57/1000,Q134*(C134+D134*EF!$M$4+E134*EF!$M$5)*'GARMENT&TEXTILE PRODUCTS'!$M$54/1000),\"\")","v":""},{"$f":"IF(A134<>\"\",IF('GARMENT&TEXTILE PRODUCTS'!$N$34=1,R134*(C134+D134*EF!$M$4+E134*EF!$M$5)*'GARMENT&TEXTILE PRODUCTS'!$N$57/1000,R134*(C134+D134*EF!$M$4+E134*EF!$M$5)*'GARMENT&TEXTILE PRODUCTS'!$N$54/1000),\"\")","v":""},0]
[null,null,null,null,null,"Fuel consumption",null,null,null,null,null,null,null,null,null,null,null,null,0]
[null,null,null,null,null,"Emission (tons CO2eq)",{"$f":"IF(A136<>0,IF('GARMENT&TEXTILE PRODUCTS'!$C$34=1,G136*(C136+D136*EF!$M$4+E136*EF!$M$5)*'GARMENT&TEXTILE PRODUCTS'!$C$57/1000, G136*(C136+D136*EF!$M$4+E136*EF!$M$5)*'GARMENT&TEXTILE PRODUCTS'!$C$54/1000),\"\")","v":""},{"$f":"IF(A136<>\"\",IF('GARMENT&TEXTILE PRODUCTS'!$D$34=1,H136*(C136+D136*EF!$M$4+E136*EF!$M$5)*'GARMENT&TEXTILE PRODUCTS'!$D$57/1000, H136*(C136+D136*EF!$M$4+E136*EF!$M$5)*'GARMENT&TEXTILE PRODUCTS'!$D$54/1000),\"\")","v":""},{"$f":"IF(A136<>\"\",IF('GARMENT&TEXTILE PRODUCTS'!$E$34=1, I136*(C136+D136*EF!$M$4+E136*EF!$M$5)*'GARMENT&TEXTILE PRODUCTS'!$E$57/1000, I136*(C136+D136*EF!$M$4+E136*EF!$M$5)*'GARMENT&TEXTILE PRODUCTS'!$E$54/1000),\"\")","v":""},{"$f":"IF(A136<>\"\",IF('GARMENT&TEXTILE PRODUCTS'!$F$34=1,J136*(C136+D136*EF!$M$4+E136*EF!$M$5)*'GARMENT&TEXTILE PRODUCTS'!$F$57/1000, J136*(C136+D136*EF!$M$4+E136*EF!$M$5)*'GARMENT&TEXTILE PRODUCTS'!$F$54/1000),\"\")","v":""},{"$f":"IF(A136<>\"\",IF('GARMENT&TEXTILE PRODUCTS'!$G$34=1, K136*(C136+D136*EF!$M$4+E136*EF!$M$5)*'GARMENT&TEXTILE PRODUCTS'!$G$57/1000,K136*(C136+D136*EF!$M$4+E136*EF!$M$5)*'GARMENT&TEXTILE PRODUCTS'!$G$54/1000),\"\")","v":""},{"$f":"IF(A136<>\"\",IF('GARMENT&TEXTILE PRODUCTS'!$H$34=1,L136*(C136+D136*EF!$M$4+E136*EF!$M$5)*'GARMENT&TEXTILE PRODUCTS'!$H$57/1000,L136*(C136+D136*EF!$M$4+E136*EF!$M$5)*'GARMENT&TEXTILE PRODUCTS'!$H$54/1000),\"\")","v":""},{"$f":"IF(A136<>\"\",IF('GARMENT&TEXTILE PRODUCTS'!$I$34=1,M136*(C136+D136*EF!$M$4+E136*EF!$M$5)*'GARMENT&TEXTILE PRODUCTS'!$I$57/1000,M136*(C136+D136*EF!$M$4+E136*EF!$M$5)*'GARMENT&TEXTILE PRODUCTS'!$I$54/1000),\"\")","v":""},{"$f":"IF(A136<>\"\",IF('GARMENT&TEXTILE PRODUCTS'!$K$34=1,N136*(C136+D136*EF!$M$4+E136*EF!$M$5)*'GARMENT&TEXTILE PRODUCTS'!$J$57/1000,N136*(C136+D136*EF!$M$4+E136*EF!$M$5)*'GARMENT&TEXTILE PRODUCTS'!$J$54/1000),\"\")","v":""},{"$f":"IF(A136<>\"\",IF('GARMENT&TEXTILE PRODUCTS'!$K$34=1,O136*(C136+D136*EF!$M$4+E136*EF!$M$5)*'GARMENT&TEXTILE PRODUCTS'!$K$57/1000,O136*(C136+D136*EF!$M$4+E136*EF!$M$5)*'GARMENT&TEXTILE PRODUCTS'!$K$54/1000),\"\")","v":""},{"$f":"IF(A136<>\"\",IF('GARMENT&TEXTILE PRODUCTS'!$L$34=1,P136*(C136+D136*EF!$M$4+E136*EF!$M$5)*'GARMENT&TEXTILE PRODUCTS'!$L$57/1000,P136*(C136+D136*EF!$M$4+E136*EF!$M$5)*'GARMENT&TEXTILE PRODUCTS'!$L$54/1000),\"\")","v":""},{"$f":"IF(A136<>\"\",IF('GARMENT&TEXTILE PRODUCTS'!$M$34=1,Q136*(C136+D136*EF!$M$4+E136*EF!$M$5)*'GARMENT&TEXTILE PRODUCTS'!$M$57/1000,Q136*(C136+D136*EF!$M$4+E136*EF!$M$5)*'GARMENT&TEXTILE PRODUCTS'!$M$54/1000),\"\")","v":""},{"$f":"IF(A136<>\"\",IF('GARMENT&TEXTILE PRODUCTS'!$N$34=1,R136*(C136+D136*EF!$M$4+E136*EF!$M$5)*'GARMENT&TEXTILE PRODUCTS'!$N$57/1000,R136*(C136+D136*EF!$M$4+E136*EF!$M$5)*'GARMENT&TEXTILE PRODUCTS'!$N$54/1000),\"\")","v":""},0]
[null,null,null,null,null,"Fuel consumption",null,null,null,null,null,null,null,null,null,null,null,null,0]
[null,null,null,null,null,"Emission (tons CO2eq)",{"$f":"IF(A138<>0,IF('GARMENT&TEXTILE PRODUCTS'!$C$34=1,G138*(C138+D138*EF!$M$4+E138*EF!$M$5)*'GARMENT&TEXTILE PRODUCTS'!$C$57/1000, G138*(C138+D138*EF!$M$4+E138*EF!$M$5)*'GARMENT&TEXTILE PRODUCTS'!$C$54/1000),\"\")","v":""},{"$f":"IF(A138<>\"\",IF('GARMENT&TEXTILE PRODUCTS'!$D$34=1,H138*(C138+D138*EF!$M$4+E138*EF!$M$5)*'GARMENT&TEXTILE PRODUCTS'!$D$57/1000, H138*(C138+D138*EF!$M$4+E138*EF!$M$5)*'GARMENT&TEXTILE PRODUCTS'!$D$54/1000),\"\")","v":""},{"$f":"IF(A138<>\"\",IF('GARMENT&TEXTILE PRODUCTS'!$E$34=1, I138*(C138+D138*EF!$M$4+E138*EF!$M$5)*'GARMENT&TEXTILE PRODUCTS'!$E$57/1000, I138*(C138+D138*EF!$M$4+E138*EF!$M$5)*'GARMENT&TEXTILE PRODUCTS'!$E$54/1000),\"\")","v":""},{"$f":"IF(A138<>\"\",IF('GARMENT&TEXTILE PRODUCTS'!$F$34=1,J138*(C138+D138*EF!$M$4+E138*EF!$M$5)*'GARMENT&TEXTILE PRODUCTS'!$F$57/1000, J138*(C138+D138*EF!$M$4+E138*EF!$M$5)*'GARMENT&TEXTILE PRODUCTS'!$F$54/1000),\"\")","v":""},{"$f":"IF(A138<>\"\",IF('GARMENT&TEXTILE PRODUCTS'!$G$34=1, K138*(C138+D138*EF!$M$4+E138*EF!$M$5)*'GARMENT&TEXTILE PRODUCTS'!$G$57/1000,K138*(C138+D138*EF!$M$4+E138*EF!$M$5)*'GARMENT&TEXTILE PRODUCTS'!$G$54/1000),\"\")","v":""},{"$f":"IF(A138<>\"\",IF('GARMENT&TEXTILE PRODUCTS'!$H$34=1,L138*(C138+D138*EF!$M$4+E138*EF!$M$5)*'GARMENT&TEXTILE PRODUCTS'!$H$57/1000,L138*(C138+D138*EF!$M$4+E138*EF!$M$5)*'GARMENT&TEXTILE PRODUCTS'!$H$54/1000),\"\")","v":""},{"$f":"IF(A138<>\"\",IF('GARMENT&TEXTILE PRODUCTS'!$I$34=1,M138*(C138+D138*EF!$M$4+E138*EF!$M$5)*'GARMENT&TEXTILE PRODUCTS'!$I$57/1000,M138*(C138+D138*EF!$M$4+E138*EF!$M$5)*'GARMENT&TEXTILE PRODUCTS'!$I$54/1000),\"\")","v":""},{"$f":"IF(A138<>\"\",IF('GARMENT&TEXTILE PRODUCTS'!$K$34=1,N138*(C138+D138*EF!$M$4+E138*EF!$M$5)*'GARMENT&TEXTILE PRODUCTS'!$J$57/1000,N138*(C138+D138*EF!$M$4+E138*EF!$M$5)*'GARMENT&TEXTILE PRODUCTS'!$J$54/1000),\"\")","v":""},{"$f":"IF(A138<>\"\",IF('GARMENT&TEXTILE PRODUCTS'!$K$34=1,O138*(C138+D138*EF!$M$4+E138*EF!$M$5)*'GARMENT&TEXTILE PRODUCTS'!$K$57/1000,O138*(C138+D138*EF!$M$4+E138*EF!$M$5)*'GARMENT&TEXTILE PRODUCTS'!$K$54/1000),\"\")","v":""},{"$f":"IF(A138<>\"\",IF('GARMENT&TEXTILE PRODUCTS'!$L$34=1,P138*(C138+D138*EF!$M$4+E138*EF!$M$5)*'GARMENT&TEXTILE PRODUCTS'!$L$57/1000,P138*(C138+D138*EF!$M$4+E138*EF!$M$5)*'GARMENT&TEXTILE PRODUCTS'!$L$54/1000),\"\")","v":""},{"$f":"IF(A138<>\"\",IF('GARMENT&TEXTILE PRODUCTS'!$M$34=1,Q138*(C138+D138*EF!$M$4+E138*EF!$M$5)*'GARMENT&TEXTILE PRODUCTS'!$M$57/1000,Q138*(C138+D138*EF!$M$4+E138*EF!$M$5)*'GARMENT&TEXTILE PRODUCTS'!$M$54/1000),\"\")","v":""},{"$f":"IF(A138<>\"\",IF('GARMENT&TEXTILE PRODUCTS'!$N$34=1,R138*(C138+D138*EF!$M$4+E138*EF!$M$5)*'GARMENT&TEXTILE PRODUCTS'!$N$57/1000,R138*(C138+D138*EF!$M$4+E138*EF!$M$5)*'GARMENT&TEXTILE PRODUCTS'!$N$54/1000),\"\")","v":""},0]
[null,null,null,null,null,"Fuel consumption",null,null,null,null,null,null,null,null,null,null,null,null,0]
[null,null,null,null,null,"Emission (tons CO2eq)",{"$f":"IF(A140<>0,IF('GARMENT&TEXTILE PRODUCTS'!$C$34=1,G140*(C140+D140*EF!$M$4+E140*EF!$M$5)*'GARMENT&TEXTILE PRODUCTS'!$C$57/1000, G140*(C140+D140*EF!$M$4+E140*EF!$M$5)*'GARMENT&TEXTILE PRODUCTS'!$C$54/1000),\"\")","v":""},{"$f":"IF(A140<>\"\",IF('GARMENT&TEXTILE PRODUCTS'!$D$34=1,H140*(C140+D140*EF!$M$4+E140*EF!$M$5)*'GARMENT&TEXTILE PRODUCTS'!$D$57/1000, H140*(C140+D140*EF!$M$4+E140*EF!$M$5)*'GARMENT&TEXTILE PRODUCTS'!$D$54/1000),\"\")","v":""},{"$f":"IF(A140<>\"\",IF('GARMENT&TEXTILE PRODUCTS'!$E$34=1, I140*(C140+D140*EF!$M$4+E140*EF!$M$5)*'GARMENT&TEXTILE PRODUCTS'!$E$57/1000, I140*(C140+D140*EF!$M$4+E140*EF!$M$5)*'GARMENT&TEXTILE PRODUCTS'!$E$54/1000),\"\")","v":""},{"$f":"IF(A140<>\"\",IF('GARMENT&TEXTILE PRODUCTS'!$F$34=1,J140*(C140+D140*EF!$M$4+E140*EF!$M$5)*'GARMENT&TEXTILE PRODUCTS'!$F$57/1000, J140*(C140+D140*EF!$M$4+E140*EF!$M$5)*'GARMENT&TEXTILE PRODUCTS'!$F$54/1000),\"\")","v":""},{"$f":"IF(A140<>\"\",IF('GARMENT&TEXTILE PRODUCTS'!$G$34=1, K140*(C140+D140*EF!$M$4+E140*EF!$M$5)*'GARMENT&TEXTILE PRODUCTS'!$G$57/1000,K140*(C140+D140*EF!$M$4+E140*EF!$M$5)*'GARMENT&TEXTILE PRODUCTS'!$G$54/1000),\"\")","v":""},{"$f":"IF(A140<>\"\",IF('GARMENT&TEXTILE PRODUCTS'!$H$34=1,L140*(C140+D140*EF!$M$4+E140*EF!$M$5)*'GARMENT&TEXTILE PRODUCTS'!$H$57/1000,L140*(C140+D140*EF!$M$4+E140*EF!$M$5)*'GARMENT&TEXTILE PRODUCTS'!$H$54/1000),\"\")","v":""},{"$f":"IF(A140<>\"\",IF('GARMENT&TEXTILE PRODUCTS'!$I$34=1,M140*(C140+D140*EF!$M$4+E140*EF!$M$5)*'GARMENT&TEXTILE PRODUCTS'!$I$57/1000,M140*(C140+D140*EF!$M$4+E140*EF!$M$5)*'GARMENT&TEXTILE PRODUCTS'!$I$54/1000),\"\")","v":""},{"$f":"IF(A140<>\"\",IF('GARMENT&TEXTILE PRODUCTS'!$K$34=1,N140*(C140+D140*EF!$M$4+E140*EF!$M$5)*'GARMENT&TEXTILE PRODUCTS'!$J$57/1000,N140*(C140+D140*EF!$M$4+E140*EF!$M$5)*'GARMENT&TEXTILE PRODUCTS'!$J$54/1000),\"\")","v":""},{"$f":"IF(A140<>\"\",IF('GARMENT&TEXTILE PRODUCTS'!$K$34=1,O140*(C140+D140*EF!$M$4+E140*EF!$M$5)*'GARMENT&TEXTILE PRODUCTS'!$K$57/1000,O140*(C140+D140*EF!$M$4+E140*EF!$M$5)*'GARMENT&TEXTILE PRODUCTS'!$K$54/1000),\"\")","v":""},{"$f":"IF(A140<>\"\",IF('GARMENT&TEXTILE PRODUCTS'!$L$34=1,P140*(C140+D140*EF!$M$4+E140*EF!$M$5)*'GARMENT&TEXTILE PRODUCTS'!$L$57/1000,P140*(C140+D140*EF!$M$4+E140*EF!$M$5)*'GARMENT&TEXTILE PRODUCTS'!$L$54/1000),\"\")","v":""},{"$f":"IF(A140<>\"\",IF('GARMENT&TEXTILE PRODUCTS'!$M$34=1,Q140*(C140+D140*EF!$M$4+E140*EF!$M$5)*'GARMENT&TEXTILE PRODUCTS'!$M$57/1000,Q140*(C140+D140*EF!$M$4+E140*EF!$M$5)*'GARMENT&TEXTILE PRODUCTS'!$M$54/1000),\"\")","v":""},{"$f":"IF(A140<>\"\",IF('GARMENT&TEXTILE PRODUCTS'!$N$34=1,R140*(C140+D140*EF!$M$4+E140*EF!$M$5)*'GARMENT&TEXTILE PRODUCTS'!$N$57/1000,R140*(C140+D140*EF!$M$4+E140*EF!$M$5)*'GARMENT&TEXTILE PRODUCTS'!$N$54/1000),\"\")","v":""},0]
[null,null,null,null,null,"Fuel consumption",null,null,null,null,null,null,null,null,null,null,null,null,0]
[null,null,null,null,null,"Emission (tons CO2eq)",{"$f":"IF(A142<>0,IF('GARMENT&TEXTILE PRODUCTS'!$C$34=1,G142*(C142+D142*EF!$M$4+E142*EF!$M$5)*'GARMENT&TEXTILE PRODUCTS'!$C$57/1000, G142*(C142+D142*EF!$M$4+E142*EF!$M$5)*'GARMENT&TEXTILE PRODUCTS'!$C$54/1000),\"\")","v":""},{"$f":"IF(A142<>\"\",IF('GARMENT&TEXTILE PRODUCTS'!$D$34=1,H142*(C142+D142*EF!$M$4+E142*EF!$M$5)*'GARMENT&TEXTILE PRODUCTS'!$D$57/1000, H142*(C142+D142*EF!$M$4+E142*EF!$M$5)*'GARMENT&TEXTILE PRODUCTS'!$D$54/1000),\"\")","v":""},{"$f":"IF(A142<>\"\",IF('GARMENT&TEXTILE PRODUCTS'!$E$34=1, I142*(C142+D142*EF!$M$4+E142*EF!$M$5)*'GARMENT&TEXTILE PRODUCTS'!$E$57/1000, I142*(C142+D142*EF!$M$4+E142*EF!$M$5)*'GARMENT&TEXTILE PRODUCTS'!$E$54/1000),\"\")","v":""},{"$f":"IF(A142<>\"\",IF('GARMENT&TEXTILE PRODUCTS'!$F$34=1,J142*(C142+D142*EF!$M$4+E142*EF!$M$5)*'GARMENT&TEXTILE PRODUCTS'!$F$57/1000, J142*(C142+D142*EF!$M$4+E142*EF!$M$5)*'GARMENT&TEXTILE PRODUCTS'!$F$54/1000),\"\")","v":""},{"$f":"IF(A142<>\"\",IF('GARMENT&TEXTILE PRODUCTS'!$G$34=1, K142*(C142+D142*EF!$M$4+E142*EF!$M$5)*'GARMENT&TEXTILE PRODUCTS'!$G$57/1000,K142*(C142+D142*EF!$M$4+E142*EF!$M$5)*'GARMENT&TEXTILE PRODUCTS'!$G$54/1000),\"\")","v":""},{"$f":"IF(A142<>\"\",IF('GARMENT&TEXTILE PRODUCTS'!$H$34=1,L142*(C142+D142*EF!$M$4+E142*EF!$M$5)*'GARMENT&TEXTILE PRODUCTS'!$H$57/1000,L142*(C142+D142*EF!$M$4+E142*EF!$M$5)*'GARMENT&TEXTILE PRODUCTS'!$H$54/1000),\"\")","v":""},{"$f":"IF(A142<>\"\",IF('GARMENT&TEXTILE PRODUCTS'!$I$34=1,M142*(C142+D142*EF!$M$4+E142*EF!$M$5)*'GARMENT&TEXTILE PRODUCTS'!$I$57/1000,M142*(C142+D142*EF!$M$4+E142*EF!$M$5)*'GARMENT&TEXTILE PRODUCTS'!$I$54/1000),\"\")","v":""},{"$f":"IF(A142<>\"\",IF('GARMENT&TEXTILE PRODUCTS'!$K$34=1,N142*(C142+D142*EF!$M$4+E142*EF!$M$5)*'GARMENT&TEXTILE PRODUCTS'!$J$57/1000,N142*(C142+D142*EF!$M$4+E142*EF!$M$5)*'GARMENT&TEXTILE PRODUCTS'!$J$54/1000),\"\")","v":""},{"$f":"IF(A142<>\"\",IF('GARMENT&TEXTILE PRODUCTS'!$K$34=1,O142*(C142+D142*EF!$M$4+E142*EF!$M$5)*'GARMENT&TEXTILE PRODUCTS'!$K$57/1000,O142*(C142+D142*EF!$M$4+E142*EF!$M$5)*'GARMENT&TEXTILE PRODUCTS'!$K$54/1000),\"\")","v":""},{"$f":"IF(A142<>\"\",IF('GARMENT&TEXTILE PRODUCTS'!$L$34=1,P142*(C142+D142*EF!$M$4+E142*EF!$M$5)*'GARMENT&TEXTILE PRODUCTS'!$L$57/1000,P142*(C142+D142*EF!$M$4+E142*EF!$M$5)*'GARMENT&TEXTILE PRODUCTS'!$L$54/1000),\"\")","v":""},{"$f":"IF(A142<>\"\",IF('GARMENT&TEXTILE PRODUCTS'!$M$34=1,Q142*(C142+D142*EF!$M$4+E142*EF!$M$5)*'GARMENT&TEXTILE PRODUCTS'!$M$57/1000,Q142*(C142+D142*EF!$M$4+E142*EF!$M$5)*'GARMENT&TEXTILE PRODUCTS'!$M$54/1000),\"\")","v":""},{"$f":"IF(A142<>\"\",IF('GARMENT&TEXTILE PRODUCTS'!$N$34=1,R142*(C142+D142*EF!$M$4+E142*EF!$M$5)*'GARMENT&TEXTILE PRODUCTS'!$N$57/1000,R142*(C142+D142*EF!$M$4+E142*EF!$M$5)*'GARMENT&TEXTILE PRODUCTS'!$N$54/1000),\"\")","v":""},0]
[]
["Total (tons CO2eq)",null,null,null,null,null,{"$f":"SUMIF($F$134:$F$144,$F$135,G134:G144)","v":0},{"$f":"SUMIF($F$134:$F$144,$F$135,H134:H144)","v":0},0,0,0,0,0,0,0,0,0,0,0]

{"sheet":"GARMENT&TEXTILE PHASE 3","index":12,"n_rows":25,"n_cols":19,"rows_kept":25,"cut":false,"hidden":true,"merged":[[1,0,1,19],[9,4,10,4],[9,5,10,5],[9,6,9,17],[9,18,10,18],[9,0,10,0],[9,1,10,1],[9,2,10,2],[9,3,10,3],[11,0,12,0],[11,1,12,1],[11,2,12,2],[11,3,12,3],[11,4,12,4],[13,4,14,4],[15,0,16,0],[15,1,16,1],[15,2,16,2],[15,3,16,3],[15,4,16,4],[13,0,14,0],[13,1,14,1],[13,2,14,2],[13,3,14,3],[24,0,24,5],[17,4,18,4],[19,0,20,0],[19,1,20,1],[19,2,20,2],[19,3,20,3],[19,4,20,4],[17,0,18,0],[17,1,18,1],[17,2,18,2],[17,3,18,3],[21,0,22,0],[21,1,22,1],[21,2,22,2],[21,3,22,3],[21,4,22,4]]}
[]
["PHASE 3 INPUT DATA: DISTRIBUTION AND RETAIL"]
[]
[]
[]
[]
[]
[]
[]
["Transportation","Size","EF CO2 \n(kg CO2/ton.km)","EF CH4 \n(kg CO4/ton.km)","EF N2O (kg N2O/ton.km)",null,"Product transport distance and emissions",null,null,null,null,null,null,null,null,null,null,null,"Tổng"]
[null,null,null,null,null,null,"Jan","Feb","March","April","May","June","July","Aug","Sep","Oct","Nov","Dec"]
[null,null,{"$f":"IF(AND(A12<>\"\",B12<>\"\"),VLOOKUP(A12&B12,EF!$A$171:$F$245,4,0),\"\")","v":""},{"$f":"IF(AND(A12<>\"\",B12<>\"\"),VLOOKUP(A12&B12,EF!$A$171:$F$245,5,0),\"\")","v":""},{"$f":"IF(AND(A12<>\"\",B12<>\"\"),VLOOKUP(A12&B12,EF!$A$171:$F$245,6,0),\"\")","v":""},"Distance traveled by product (tons.km)",null,null,null,null,null,null,null,null,null,null,null,null,{"$f":"SUM(G12:R12)","v":0}]
[null,null,null,null,null,"Emission (tons CO2eq)",{"$f":"IF(A12<>\"\",G12*(C12+D12*EF!$M$4+EF!$M$5*E12)/1000,0)","v":0},{"$f":"IF(A12<>\"\",H12*(C12+D12*EF!$M$4+EF!$M$5*E12)/1000,0)","v":0},{"$f":"IF(A12<>\"\",I12*(C12+D12*EF!$M$4+EF!$M$5*E12)/1000,0)","v":0},{"$f":"IF(A12<>\"\",J12*(C12+D12*EF!$M$4+EF!$M$5*E12)/1000,0)","v":0},{"$f":"IF(A12<>\"\",K12*(C12+D12*EF!$M$4+EF!$M$5*E12)/1000,0)","v":0},{"$f":"IF(A12<>\"\",L12*(C12+D12*EF!$M$4+EF!$M$5*E12)/1000,0)","v":0},{"$f":"IF(A12<>\"\",M12*(C12+D12*EF!$M$4+EF!$M$5*E12)/1000,0)","v":0},{"$f":"IF(A12<>\"\",N12*(C12+D12*EF!$M$4+EF!$M$5*E12)/1000,0)","v":0},{"$f":"IF(A12<>\"\",O12*(C12+D12*EF!$M$4+EF!$M$5*E12)/1000,0)","v":0},{"$f":"IF(A12<>\"\",P12*(C12+D12*EF!$M$4+EF!$M$5*E12)/1000,0)","v":0},{"$f":"IF(A12<>\"\",Q12*(C12+D12*EF!$M$4+EF!$M$5*E12)/1000,0)","v":0},{"$f":"IF(A12<>\"\",R12*(C12+D12*EF!$M$4+EF!$M$5*E12)/1000,0)","v":0},0]
[null,null,{"$f":"IF(AND(A14<>\"\",B14<>\"\"),VLOOKUP(A14&B14,EF!$A$171:$F$245,4,0),\"\")","v":""},{"$f":"IF(AND(A14<>\"\",B14<>\"\"),VLOOKUP(A14&B14,EF!$A$171:$F$245,5,0),\"\")","v":""},{"$f":"IF(AND(A14<>\"\",B14<>\"\"),VLOOKUP(A14&B14,EF!$A$171:$F$245,6,0),\"\")","v":""},"Distance traveled by product (tons.km)",null,null,null,null,null,null,null,null,null,null,null,null,0]
[null,null,null,null,null,"Emission (tons CO2eq)",{"$f":"IF(A14<>\"\",G14*(C14+D14*EF!$M$4+EF!$M$5*E14)/1000,0)","v":0},{"$f":"IF(A14<>\"\",H14*(C14+D14*EF!$M$4+EF!$M$5*E14)/1000,0)","v":0},{"$f":"IF(A14<>\"\",I14*(C14+D14*EF!$M$4+EF!$M$5*E14)/1000,0)","v":0},{"$f":"IF(A14<>\"\",J14*(C14+D14*EF!$M$4+EF!$M$5*E14)/1000,0)","v":0},{"$f":"IF(A14<>\"\",K14*(C14+D14*EF!$M$4+EF!$M$5*E14)/1000,0)","v":0},{"$f":"IF(A14<>\"\",L14*(C14+D14*EF!$M$4+EF!$M$5*E14)/1000,0)","v":0},{"$f":"IF(A14<>\"\",M14*(C14+D14*EF!$M$4+EF!$M$5*E14)/1000,0)","v":0},{"$f":"IF(A14<>\"\",N14*(C14+D14*EF!$M$4+EF!$M$5*E14)/1000,0)","v":0},{"$f":"IF(A14<>\"\",O14*(C14+D14*EF!$M$4+EF!$M$5*E14)/1000,0)","v":0},{"$f":"IF(A14<>\"\",P14*(C14+D14*EF!$M$4+EF!$M$5*E14)/1000,0)","v":0},{"$f":"IF(A14<>\"\",Q14*(C14+D14*EF!$M$4+EF!$M$5*E14)/1000,0)","v":0},{"$f":"IF(A14<>\"\",R14*(C14+D14*EF!$M$4+EF!$M$5*E14)/1000,0)","v":0},0]
[null,null,{"$f":"IF(AND(A16<>\"\",B16<>\"\"),VLOOKUP(A16&B16,EF!$A$171:$F$245,4,0),\"\")","v":""},{"$f":"IF(AND(A16<>\"\",B16<>\"\"),VLOOKUP(A16&B16,EF!$A$171:$F$245,5,0),\"\")","v":""},{"$f":"IF(AND(A16<>\"\",B16<>\"\"),VLOOKUP(A16&B16,EF!$A$171:$F$245,6,0),\"\")","v":""},"Distance traveled by product (tons.km)",null,null,null,null,null,null,null,null,null,null,null,null,0]
[null,null,null,null,null,"Emission (tons CO2eq)",{"$f":"IF(A16<>\"\",G16*(C16+D16*EF!$M$4+EF!$M$5*E16)/1000,0)","v":0},{"$f":"IF(A16<>\"\",H16*(C16+D16*EF!$M$4+EF!$M$5*E16)/1000,0)","v":0},{"$f":"IF(A16<>\"\",I16*(C16+D16*EF!$M$4+EF!$M$5*E16)/1000,0)","v":0},{"$f":"IF(A16<>\"\",J16*(C16+D16*EF!$M$4+EF!$M$5*E16)/1000,0)","v":0},{"$f":"IF(A16<>\"\",K16*(C16+D16*EF!$M$4+EF!$M$5*E16)/1000,0)","v":0},{"$f":"IF(A16<>\"\",L16*(C16+D16*EF!$M$4+EF!$M$5*E16)/1000,0)","v":0},{"$f":"IF(A16<>\"\",M16*(C16+D16*EF!$M$4+EF!$M$5*E16)/1000,0)","v":0},{"$f":"IF(A16<>\"\",N16*(C16+D16*EF!$M$4+EF!$M$5*E16)/1000,0)","v":0},{"$f":"IF(A16<>\"\",O16*(C16+D16*EF!$M$4+EF!$M$5*E16)/1000,0)","v":0},{"$f":"IF(A16<>\"\",P16*(C16+D16*EF!$M$4+EF!$M$5*E16)/1000,0)","v":0},{"$f":"IF(A16<>\"\",Q16*(C16+D16*EF!$M$4+EF!$M$5*E16)/1000,0)","v":0},{"$f":"IF(A16<>\"\",R16*(C16+D16*EF!$M$4+EF!$M$5*E16)/1000,0)","v":0},0]
[null,null,{"$f":"IF(AND(A18<>\"\",B18<>\"\"),VLOOKUP(A18&B18,EF!$A$171:$F$245,4,0),\"\")","v":""},{"$f":"IF(AND(A18<>\"\",B18<>\"\"),VLOOKUP(A18&B18,EF!$A$171:$F$245,5,0),\"\")","v":""},{"$f":"IF(AND(A18<>\"\",B18<>\"\"),VLOOKUP(A18&B18,EF!$A$171:$F$245,6,0),\"\")","v":""},"Distance traveled by product (tons.km)",null,null,null,null,null,null,null,null,null,null,null,null,0]
[null,null,null,null,null,"Emission (tons CO2eq)",{"$f":"IF(A18<>\"\",G18*(C18+D18*EF!$M$4+EF!$M$5*E18)/1000,0)","v":0},{"$f":"IF(A18<>\"\",H18*(C18+D18*EF!$M$4+EF!$M$5*E18)/1000,0)","v":0},{"$f":"IF(A18<>\"\",I18*(C18+D18*EF!$M$4+EF!$M$5*E18)/1000,0)","v":0},{"$f":"IF(A18<>\"\",J18*(C18+D18*EF!$M$4+EF!$M$5*E18)/1000,0)","v":0},{"$f":"IF(A18<>\"\",K18*(C18+D18*EF!$M$4+EF!$M$5*E18)/1000,0)","v":0},{"$f":"IF(A18<>\"\",L18*(C18+D18*EF!$M$4+EF!$M$5*E18)/1000,0)","v":0},{"$f":"IF(A18<>\"\",M18*(C18+D18*EF!$M$4+EF!$M$5*E18)/1000,0)","v":0},{"$f":"IF(A18<>\"\",N18*(C18+D18*EF!$M$4+EF!$M$5*E18)/1000,0)","v":0},{"$f":"IF(A18<>\"\",O18*(C18+D18*EF!$M$4+EF!$M$5*E18)/1000,0)","v":0},{"$f":"IF(A18<>\"\",P18*(C18+D18*EF!$M$4+EF!$M$5*E18)/1000,0)","v":0},{"$f":"IF(A18<>\"\",Q18*(C18+D18*EF!$M$4+EF!$M$5*E18)/1000,0)","v":0},{"$f":"IF(A18<>\"\",R18*(C18+D18*EF!$M$4+EF!$M$5*E18)/1000,0)","v":0},0]
[null,null,{"$f":"IF(AND(A20<>\"\",B20<>\"\"),VLOOKUP(A20&B20,EF!$A$171:$F$245,4,0),\"\")","v":""},{"$f":"IF(AND(A20<>\"\",B20<>\"\"),VLOOKUP(A20&B20,EF!$A$171:$F$245,5,0),\"\")","v":""},{"$f":"IF(AND(A20<>\"\",B20<>\"\"),VLOOKUP(A20&B20,EF!$A$171:$F$245,6,0),\"\")","v":""},"Distance traveled by product (tons.km)",null,null,null,null,null,null,null,null,null,null,null,null,0]
[null,null,null,null,null,"Emission (tons CO2eq)",{"$f":"IF(A20<>\"\",G20*(C20+D20*EF!$M$4+EF!$M$5*E20)/1000,0)","v":0},{"$f":"IF(A20<>\"\",H20*(C20+D20*EF!$M$4+EF!$M$5*E20)/1000,0)","v":0},{"$f":"IF(A20<>\"\",I20*(C20+D20*EF!$M$4+EF!$M$5*E20)/1000,0)","v":0},{"$f":"IF(A20<>\"\",J20*(C20+D20*EF!$M$4+EF!$M$5*E20)/1000,0)","v":0},{"$f":"IF(A20<>\"\",K20*(C20+D20*EF!$M$4+EF!$M$5*E20)/1000,0)","v":0},{"$f":"IF(A20<>\"\",L20*(C20+D20*EF!$M$4+EF!$M$5*E20)/1000,0)","v":0},{"$f":"IF(A20<>\"\",M20*(C20+D20*EF!$M$4+EF!$M$5*E20)/1000,0)","v":0},{"$f":"IF(A20<>\"\",N20*(C20+D20*EF!$M$4+EF!$M$5*E20)/1000,0)","v":0},{"$f":"IF(A20<>\"\",O20*(C20+D20*EF!$M$4+EF!$M$5*E20)/1000,0)","v":0},{"$f":"IF(A20<>\"\",P20*(C20+D20*EF!$M$4+EF!$M$5*E20)/1000,0)","v":0},{"$f":"IF(A20<>\"\",Q20*(C20+D20*EF!$M$4+EF!$M$5*E20)/1000,0)","v":0},{"$f":"IF(A20<>\"\",R20*(C20+D20*EF!$M$4+EF!$M$5*E20)/1000,0)","v":0},0]
[null,null,{"$f":"IF(AND(A22<>\"\",B22<>\"\"),VLOOKUP(A22&B22,EF!$A$171:$F$245,4,0),\"\")","v":""},{"$f":"IF(AND(A22<>\"\",B22<>\"\"),VLOOKUP(A22&B22,EF!$A$171:$F$245,5,0),\"\")","v":""},{"$f":"IF(AND(A22<>\"\",B22<>\"\"),VLOOKUP(A22&B22,EF!$A$171:$F$245,6,0),\"\")","v":""},"Distance traveled by product (tons.km)",null,null,null,null,null,null,null,null,null,null,null,null,{"$f":"SUM(G22:R22)","v":0}]
[null,null,null,null,null,"Emission (tons CO2eq)",{"$f":"IF(A22<>\"\",G22*(C22+D22*EF!$M$4+EF!$M$5*E22)/1000,0)","v":0},{"$f":"IF(A22<>\"\",H22*(C22+D22*EF!$M$4+EF!$M$5*E22)/1000,0)","v":0},{"$f":"IF(A22<>\"\",I22*(C22+D22*EF!$M$4+EF!$M$5*E22)/1000,0)","v":0},{"$f":"IF(A22<>\"\",J22*(C22+D22*EF!$M$4+EF!$M$5*E22)/1000,0)","v":0},{"$f":"IF(A22<>\"\",K22*(C22+D22*EF!$M$4+EF!$M$5*E22)/1000,0)","v":0},{"$f":"IF(A22<>\"\",L22*(C22+D22*EF!$M$4+EF!$M$5*E22)/1000,0)","v":0},{"$f":"IF(A22<>\"\",M22*(C22+D22*EF!$M$4+EF!$M$5*E22)/1000,0)","v":0},{"$f":"IF(A22<>\"\",N22*(C22+D22*EF!$M$4+EF!$M$5*E22)/1000,0)","v":0},{"$f":"IF(A22<>\"\",O22*(C22+D22*EF!$M$4+EF!$M$5*E22)/1000,0)","v":0},{"$f":"IF(A22<>\"\",P22*(C22+D22*EF!$M$4+EF!$M$5*E22)/1000,0)","v":0},{"$f":"IF(A22<>\"\",Q22*(C22+D22*EF!$M$4+EF!$M$5*E22)/1000,0)","v":0},{"$f":"IF(A22<>\"\",R22*(C22+D22*EF!$M$4+EF!$M$5*E22)/1000,0)","v":0},0]
[null,null,null,null,null,null,null,null,null,null,null,null,null,null,null,null,null,null,0]
["Total Emission (tons CO2eq)",null,null,null,null,null,{"$f":"SUMIF($F$12:$F$24,$F$13,G12:G24)","v":0},{"$f":"SUMIF($F$12:$F$24,$F$13,H12:H24)","v":0},0,0,0,0,0,0,0,0,0,0,0]

{"sheet":"GARMENT&TEXTILE PHASE 4","index":13,"n_rows":33,"n_cols":18,"rows_kept":33,"cut":false,"hidden":true,"merged":[[24,1,25,1],[24,2,24,13],[24,14,25,14],[1,0,1,19],[11,1,12,1],[11,3,12,3],[11,4,12,4],[11,5,11,16],[11,17,12,17],[11,2,12,2],[19,1,19,4]]}
[]
["PHASE 4 INPUT DATA: PRODUCT USE"]
[]
[]
[]
[]
[]
[]
[]
[]
[]
[null,"Fuel","Describe","Unit","Emission Factor (tCO2eq/unit)","Fuel quantity",null,null,null,null,null,null,null,null,null,null,null,"Total"]
[null,null,null,null,null,"Jan","Feb","March","April","May","June","July","Aug","Sep","Oct","Nov","Dec"]
[null,null,null,null,null,null,null,null,null,null,null,null,null,null,null,null,null,{"$f":"SUM(F14:Q14)","v":0}]
[null,null,null,null,null,null,null,null,null,null,null,null,null,null,null,null,null,{"$f":"SUM(F15:Q15)","v":0}]
[null,null,null,null,null,null,null,null,null,null,null,null,null,null,null,null,null,{"$f":"SUM(F16:Q16)","v":0}]
[null,null,null,null,null,null,null,null,null,null,null,null,null,null,null,null,null,{"$f":"SUM(F17:Q17)","v":0}]
[null,null,null,null,null,null,null,null,null,null,null,null,null,null,null,null,null,{"$f":"SUM(F18:Q18)","v":0}]
[]
[null,"Total",null,null,null,{"$f":"SUM(F14:F19)","v":0},{"$f":"SUM(G14:G19)","v":0},0,0,0,0,0,0,0,0,0,0,0]
[]
[]
[]
[]
[null,"Fuel","Emissions from phase 1: Production and transportation of raw materials to produce products (tons CO2eq)",null,null,null,null,null,null,null,null,null,null,null,"Total"]
[null,null,"Jan","Feb","March","April","May","June","July","Aug","Sep","Oct","Nov","Dec"]
[null,{"$f":"IF(B14<>\"\",B14,\"\")","v":""},{"$f":"F14*E14","v":0},{"$f":"G14*E14","v":0},{"$f":"H14*E14","v":0},{"$f":"I14*E14","v":0},{"$f":"J14*E14","v":0},{"$f":"K14*E14","v":0},{"$f":"L14*E14","v":0},{"$f":"M14*E14","v":0},{"$f":"N14*E14","v":0},{"$f":"O14*E14","v":0},{"$f":"P14*E14","v":0},{"$f":"Q14*E14","v":0},{"$f":"SUM(C27:N27)","v":0}]
[null,{"$f":"IF(B15<>\"\",B15,\"\")","v":""},{"$f":"F15*E15","v":0},{"$f":"G15*E15","v":0},{"$f":"H15*E15","v":0},{"$f":"I15*E15","v":0},{"$f":"J15*E15","v":0},{"$f":"K15*E15","v":0},{"$f":"L15*E15","v":0},{"$f":"M15*E15","v":0},{"$f":"N15*E15","v":0},{"$f":"O15*E15","v":0},{"$f":"P15*E15","v":0},{"$f":"Q15*E15","v":0},{"$f":"SUM(C28:N28)","v":0}]
[null,{"$f":"IF(B16<>\"\",B16,\"\")","v":""},{"$f":"F16*E16","v":0},{"$f":"G16*E16","v":0},{"$f":"H16*E16","v":0},{"$f":"I16*E16","v":0},{"$f":"J16*E16","v":0},{"$f":"K16*E16","v":0},{"$f":"L16*E16","v":0},{"$f":"M16*E16","v":0},{"$f":"N16*E16","v":0},{"$f":"O16*E16","v":0},{"$f":"P16*E16","v":0},{"$f":"Q16*E16","v":0},{"$f":"SUM(C29:N29)","v":0}]
[null,{"$f":"IF(B17<>\"\",B17,\"\")","v":""},{"$f":"F17*E17","v":0},{"$f":"G17*E17","v":0},{"$f":"H17*E17","v":0},{"$f":"I17*E17","v":0},{"$f":"J17*E17","v":0},{"$f":"K17*E17","v":0},{"$f":"L17*E17","v":0},{"$f":"M17*E17","v":0},{"$f":"N17*E17","v":0},{"$f":"O17*E17","v":0},{"$f":"P17*E17","v":0},{"$f":"Q17*E17","v":0},{"$f":"SUM(C30:N30)","v":0}]
[null,{"$f":"IF(B18<>\"\",B18,\"\")","v":""},{"$f":"F18*E18","v":0},{"$f":"G18*E18","v":0},{"$f":"H18*E18","v":0},{"$f":"I18*E18","v":0},{"$f":"J18*E18","v":0},{"$f":"K18*E18","v":0},{"$f":"L18*E18","v":0},{"$f":"M18*E18","v":0},{"$f":"N18*E18","v":0},{"$f":"O18*E18","v":0},{"$f":"P18*E18","v":0},{"$f":"Q18*E18","v":0},{"$f":"SUM(C31:N31)","v":0}]
[]
[null,"Total",{"$f":"SUM(C27:C32)","v":0},{"$f":"SUM(D27:D32)","v":0},0,0,0,0,0,0,0,0,0,0,0]

{"sheet":"GARMENT&TEXTILE PHASE 5","index":14,"n_rows":33,"n_cols":18,"rows_kept":33,"cut":false,"hidden":true,"merged":[[24,1,25,1],[24,2,24,13],[24,14,25,14],[1,0,1,19],[11,1,12,1],[11,3,12,3],[11,4,12,4],[11,5,11,16],[11,17,12,17],[11,2,12,2],[19,1,19,4]]}
[]
["PHASE 5 INPUT DATA: TREATMENT AND RECYCLING"]
[]
[]
[]
[]
[]
[]
[]
[]
[]
[null,"Fuel","Describe","Unit","Emission Factor (tCO2eq/unit)","Fuel quantity",null,null,null,null,null,null,null,null,null,null,null,"Total"]
[null,null,null,null,null,"Jan","Feb","March","April","May","June","July","Aug","Sep","Oct","Nov","Dec"]
[null,null,null,null,null,null,null,null,null,null,null,null,null,null,null,null,null,{"$f":"SUM(F14:Q14)","v":0}]
[null,null,null,null,null,null,null,null,null,null,null,null,null,null,null,null,null,{"$f":"SUM(F15:Q15)","v":0}]
[null,null,null,null,null,null,null,null,null,null,null,null,null,null,null,null,null,{"$f":"SUM(F16:Q16)","v":0}]
[null,null,null,null,null,null,null,null,null,null,null,null,null,null,null,null,null,{"$f":"SUM(F17:Q17)","v":0}]
[null,null,null,null,null,null,null,null,null,null,null,null,null,null,null,null,null,{"$f":"SUM(F18:Q18)","v":0}]
[]
[null,"Total",null,null,null,{"$f":"SUM(F14:F19)","v":0},{"$f":"SUM(G14:G19)","v":0},0,0,0,0,0,0,0,0,0,0,0]
[]
[]
[]
[]
[null,"Fuel","Emissions from phase 1: Production and transportation of raw materials to produce products (tons CO2eq)",null,null,null,null,null,null,null,null,null,null,null,"Total"]
[null,null,"Jan","Feb","March","April","May","June","July","Aug","Sep","Oct","Nov","Dec"]
[null,{"$f":"IF(B14<>\"\",B14,\"\")","v":""},{"$f":"F14*E14","v":0},{"$f":"G14*E14","v":0},{"$f":"H14*E14","v":0},{"$f":"I14*E14","v":0},{"$f":"J14*E14","v":0},{"$f":"K14*E14","v":0},{"$f":"L14*E14","v":0},{"$f":"M14*E14","v":0},{"$f":"N14*E14","v":0},{"$f":"O14*E14","v":0},{"$f":"P14*E14","v":0},{"$f":"Q14*E14","v":0},{"$f":"SUM(C27:N27)","v":0}]
[null,{"$f":"IF(B15<>\"\",B15,\"\")","v":""},{"$f":"F15*E15","v":0},{"$f":"G15*E15","v":0},{"$f":"H15*E15","v":0},{"$f":"I15*E15","v":0},{"$f":"J15*E15","v":0},{"$f":"K15*E15","v":0},{"$f":"L15*E15","v":0},{"$f":"M15*E15","v":0},{"$f":"N15*E15","v":0},{"$f":"O15*E15","v":0},{"$f":"P15*E15","v":0},{"$f":"Q15*E15","v":0},{"$f":"SUM(C28:N28)","v":0}]
[null,{"$f":"IF(B16<>\"\",B16,\"\")","v":""},{"$f":"F16*E16","v":0},{"$f":"G16*E16","v":0},{"$f":"H16*E16","v":0},{"$f":"I16*E16","v":0},{"$f":"J16*E16","v":0},{"$f":"K16*E16","v":0},{"$f":"L16*E16","v":0},{"$f":"M16*E16","v":0},{"$f":"N16*E16","v":0},{"$f":"O16*E16","v":0},{"$f":"P16*E16","v":0},{"$f":"Q16*E16","v":0},{"$f":"SUM(C29:N29)","v":0}]
[null,{"$f":"IF(B17<>\"\",B17,\"\")","v":""},{"$f":"F17*E17","v":0},{"$f":"G17*E17","v":0},{"$f":"H17*E17","v":0},{"$f":"I17*E17","v":0},{"$f":"J17*E17","v":0},{"$f":"K17*E17","v":0},{"$f":"L17*E17","v":0},{"$f":"M17*E17","v":0},{"$f":"N17*E17","v":0},{"$f":"O17*E17","v":0},{"$f":"P17*E17","v":0},{"$f":"Q17*E17","v":0},{"$f":"SUM(C30:N30)","v":0}]
[null,{"$f":"IF(B18<>\"\",B18,\"\")","v":""},{"$f":"F18*E18","v":0},{"$f":"G18*E18","v":0},{"$f":"H18*E18","v":0},{"$f":"I18*E18","v":0},{"$f":"J18*E18","v":0},{"$f":"K18*E18","v":0},{"$f":"L18*E18","v":0},{"$f":"M18*E18","v":0},{"$f":"N18*E18","v":0},{"$f":"O18*E18","v":0},{"$f":"P18*E18","v":0},{"$f":"Q18*E18","v":0},{"$f":"SUM(C31:N31)","v":0}]
[]
[null,"Total",{"$f":"SUM(C27:C32)","v":0},{"$f":"SUM(D27:D32)","v":0},0,0,0,0,0,0,0,0,0,0,0]

{"sheet":"GARMENT&TEXTILE RESULT","index":15,"n_rows":70,"n_cols":15,"rows_kept":70,"cut":false,"hidden":true,"merged":[[1,0,1,17],[27,0,27,14],[28,12,28,14],[29,0,29,1],[35,0,35,1],[17,2,17,14],[7,2,7,14],[21,0,21,1],[21,2,21,4],[23,0,24,0],[23,1,24,1],[23,2,23,13],[9,2,9,14],[3,1,3,16],[49,0,49,1],[37,1,37,13],[47,0,48,1],[11,2,11,14],[13,2,13,14],[45,0,45,1],[38,12,38,14],[47,2,47,14],[39,0,39,1],[15,2,15,14],[23,14,24,14],[69,8,69,9],[61,8,61,9],[62,8,62,9],[63,8,63,9],[64,8,64,9],[65,8,65,9],[66,8,66,9],[67,8,67,9],[68,8,68,9]]}
[]
["                RESULTS OF CALCULATION OF PRODUCT'S CARBON FOOTPRINT"]
[]
[null,"REPORT ON PRODUCT CARBON FOOTPRINT CALCULATION RESULTS"]
[]
["A. General information"]
[]
[null,"Company name:",{"$f":"'GARMENT&TEXTILE PRODUCTS'!C5:O5","v":0}]
[]
[null,"Sector:",{"$f":"'GARMENT&TEXTILE PRODUCTS'!C7:O7","v":0}]
[]
[null,"Address:",{"$f":"'GARMENT&TEXTILE PRODUCTS'!C9:O9","v":0}]
[]
[null,"Phone number:",{"$f":"'GARMENT&TEXTILE PRODUCTS'!C11:O11","v":0}]
[]
[null,"Email:",{"$f":"'GARMENT&TEXTILE PRODUCTS'!C13:O13","v":0}]
[]
[null,"Year:",{"$f":"'GARMENT&TEXTILE PRODUCTS'!C15:O15","v":0}]
[]
["B. Carbon footprint calculation results"]
[]
["Product name",null,{"$f":"IF('GARMENT&TEXTILE PRODUCTS'!E51<>\"\",'GARMENT&TEXTILE PRODUCTS'!E51,\"\")","v":""}]
[]
["Product","Unit","Product output/revenue",null,null,null,null,null,null,null,null,null,null,null,"Total"]
[null,null,"Jan","Feb","March","April","May","June","July","Aug","Sep","Oct","Nov","Dec"]
[{"$f":"C22","v":""},{"$f":"IF(A26<>\"\",VLOOKUP('GARMENT&TEXTILE RESULT'!A26,'GARMENT&TEXTILE PRODUCTS'!A27:B31,2,0),\"\")","v":""},{"$f":"IF(C22<>\"\",VLOOKUP($C$22,'GARMENT&TEXTILE PRODUCTS'!$A$27:$O$33,3,0),0)","v":0},{"$f":"IF(C22<>\"\",VLOOKUP($C$22,'GARMENT&TEXTILE PRODUCTS'!$A$27:$O$33,4,0),0)","v":0},{"$f":"IF(C22<>\"\",VLOOKUP($C$22,'GARMENT&TEXTILE PRODUCTS'!$A$27:$O$33,5,0),0)","v":0},{"$f":"IF(C22<>\"\",VLOOKUP($C$22,'GARMENT&TEXTILE PRODUCTS'!$A$27:$O$33,6,0),0)","v":0},{"$f":"IF(C22<>\"\",VLOOKUP($C$22,'GARMENT&TEXTILE PRODUCTS'!$A$27:$O$33,7,0),0)","v":0},{"$f":"IF(C22<>\"\",VLOOKUP($C$22,'GARMENT&TEXTILE PRODUCTS'!$A$27:$O$33,8,0),0)","v":0},{"$f":"IF(C22<>\"\",VLOOKUP($C$22,'GARMENT&TEXTILE PRODUCTS'!$A$27:$O$33,9,0),0)","v":0},{"$f":"IF(C22<>\"\",VLOOKUP($C$22,'GARMENT&TEXTILE PRODUCTS'!$A$27:$O$33,10,0),0)","v":0},{"$f":"IF(C22<>\"\",VLOOKUP($C$22,'GARMENT&TEXTILE PRODUCTS'!$A$27:$O$33,11,0),0)","v":0},{"$f":"IF(C22<>\"\",VLOOKUP($C$22,'GARMENT&TEXTILE PRODUCTS'!$A$27:$O$33,12,0),0)","v":0},{"$f":"IF(C22<>\"\",VLOOKUP($C$22,'GARMENT&TEXTILE PRODUCTS'!$A$27:$O$33,13,0),0)","v":0},{"$f":"IF(C22<>\"\",VLOOKUP($C$22,'GARMENT&TEXTILE PRODUCTS'!$A$27:$O$33,14,0),0)","v":0},{"$f":"SUM(C26:N26)","v":0}]
[]
["EMISSIONS OF PRODUCT LIFE CYCLE PHASES"]
[null,null,null,null,null,null,null,null,null,null,null,null,"Unit: tons CO2eq"]
["Stages in the product emissions life cycle",null,"Jan","Feb","March","April","May","June","July","Aug","Sep","Oct","Nov","Dec","Total "]
["Phase 1","Production and transportation of raw materials",{"$f":"'GARMENT&TEXTILE PHASE 1'!C33","v":0},{"$f":"'GARMENT&TEXTILE PHASE 1'!D33","v":0},{"$f":"'GARMENT&TEXTILE PHASE 1'!E33","v":0},{"$f":"'GARMENT&TEXTILE PHASE 1'!F33","v":0},{"$f":"'GARMENT&TEXTILE PHASE 1'!G33","v":0},{"$f":"'GARMENT&TEXTILE PHASE 1'!H33","v":0},{"$f":"'GARMENT&TEXTILE PHASE 1'!I33","v":0},{"$f":"'GARMENT&TEXTILE PHASE 1'!J33","v":0},{"$f":"'GARMENT&TEXTILE PHASE 1'!K33","v":0},{"$f":"'GARMENT&TEXTILE PHASE 1'!L33","v":0},{"$f":"'GARMENT&TEXTILE PHASE 1'!M33","v":0},{"$f":"'GARMENT&TEXTILE PHASE 1'!N33","v":0},{"$f":"SUM(C31:N31)","v":0}]
["Phase 2","Product manufacturing",{"$f":"'GARMENT&TEXTILE PHASE 2'!H24+'GARMENT&TEXTILE PHASE 2'!H45+'GARMENT&TEXTILE PHASE 2'!E66+'GARMENT&TEXTILE PHASE 2'!H89+'GARMENT&TEXTILE PHASE 2'!C106+'GARMENT&TEXTILE PHASE 2'!C114+'GARMENT&TEXTILE PHASE 2'!C127+'GARMENT&TEXTILE PHASE 2'!G145","v":0},{"$f":"'GARMENT&TEXTILE PHASE 2'!I24+'GARMENT&TEXTILE PHASE 2'!I45+'GARMENT&TEXTILE PHASE 2'!F66+'GARMENT&TEXTILE PHASE 2'!I89+'GARMENT&TEXTILE PHASE 2'!D106+'GARMENT&TEXTILE PHASE 2'!D114+'GARMENT&TEXTILE PHASE 2'!D127+'GARMENT&TEXTILE PHASE 2'!H145","v":0},{"$f":"'GARMENT&TEXTILE PHASE 2'!J24+'GARMENT&TEXTILE PHASE 2'!J45+'GARMENT&TEXTILE PHASE 2'!G66+'GARMENT&TEXTILE PHASE 2'!J89+'GARMENT&TEXTILE PHASE 2'!E106+'GARMENT&TEXTILE PHASE 2'!E114+'GARMENT&TEXTILE PHASE 2'!E127+'GARMENT&TEXTILE PHASE 2'!I145","v":0},{"$f":"'GARMENT&TEXTILE PHASE 2'!K24+'GARMENT&TEXTILE PHASE 2'!K45+'GARMENT&TEXTILE PHASE 2'!H66+'GARMENT&TEXTILE PHASE 2'!K89+'GARMENT&TEXTILE PHASE 2'!F106+'GARMENT&TEXTILE PHASE 2'!F114+'GARMENT&TEXTILE PHASE 2'!F127+'GARMENT&TEXTILE PHASE 2'!J145","v":0},{"$f":"'GARMENT&TEXTILE PHASE 2'!L24+'GARMENT&TEXTILE PHASE 2'!L45+'GARMENT&TEXTILE PHASE 2'!I66+'GARMENT&TEXTILE PHASE 2'!L89+'GARMENT&TEXTILE PHASE 2'!G106+'GARMENT&TEXTILE PHASE 2'!G114+'GARMENT&TEXTILE PHASE 2'!G127+'GARMENT&TEXTILE PHASE 2'!K145","v":0},{"$f":"'GARMENT&TEXTILE PHASE 2'!M24+'GARMENT&TEXTILE PHASE 2'!M45+'GARMENT&TEXTILE PHASE 2'!J66+'GARMENT&TEXTILE PHASE 2'!M89+'GARMENT&TEXTILE PHASE 2'!H106+'GARMENT&TEXTILE PHASE 2'!H114+'GARMENT&TEXTILE PHASE 2'!H127+'GARMENT&TEXTILE PHASE 2'!L145","v":0},{"$f":"'GARMENT&TEXTILE PHASE 2'!N24+'GARMENT&TEXTILE PHASE 2'!N45+'GARMENT&TEXTILE PHASE 2'!K66+'GARMENT&TEXTILE PHASE 2'!N89+'GARMENT&TEXTILE PHASE 2'!I106+'GARMENT&TEXTILE PHASE 2'!I114+'GARMENT&TEXTILE PHASE 2'!I127+'GARMENT&TEXTILE PHASE 2'!M145","v":0},{"$f":"'GARMENT&TEXTILE PHASE 2'!O24+'GARMENT&TEXTILE PHASE 2'!O45+'GARMENT&TEXTILE PHASE 2'!L66+'GARMENT&TEXTILE PHASE 2'!O89+'GARMENT&TEXTILE PHASE 2'!J106+'GARMENT&TEXTILE PHASE 2'!J114+'GARMENT&TEXTILE PHASE 2'!J127+'GARMENT&TEXTILE PHASE 2'!N145","v":0},{"$f":"'GARMENT&TEXTILE PHASE 2'!P24+'GARMENT&TEXTILE PHASE 2'!P45+'GARMENT&TEXTILE PHASE 2'!M66+'GARMENT&TEXTILE PHASE 2'!P89+'GARMENT&TEXTILE PHASE 2'!K106+'GARMENT&TEXTILE PHASE 2'!K114+'GARMENT&TEXTILE PHASE 2'!K127+'GARMENT&TEXTILE PHASE 2'!O145","v":0},{"$f":"'GARMENT&TEXTILE PHASE 2'!Q24+'GARMENT&TEXTILE PHASE 2'!Q45+'GARMENT&TEXTILE PHASE 2'!N66+'GARMENT&TEXTILE PHASE 2'!Q89+'GARMENT&TEXTILE PHASE 2'!L106+'GARMENT&TEXTILE PHASE 2'!L114+'GARMENT&TEXTILE PHASE 2'!L127+'GARMENT&TEXTILE PHASE 2'!P145","v":0},{"$f":"'GARMENT&TEXTILE PHASE 2'!R24+'GARMENT&TEXTILE PHASE 2'!R45+'GARMENT&TEXTILE PHASE 2'!O66+'GARMENT&TEXTILE PHASE 2'!R89+'GARMENT&TEXTILE PHASE 2'!M106+'GARMENT&TEXTILE PHASE 2'!M114+'GARMENT&TEXTILE PHASE 2'!M127+'GARMENT&TEXTILE PHASE 2'!Q145","v":0},{"$f":"'GARMENT&TEXTILE PHASE 2'!S24+'GARMENT&TEXTILE PHASE 2'!S45+'GARMENT&TEXTILE PHASE 2'!P66+'GARMENT&TEXTILE PHASE 2'!S89+'GARMENT&TEXTILE PHASE 2'!N106+'GARMENT&TEXTILE PHASE 2'!N114+'GARMENT&TEXTILE PHASE 2'!N127+'GARMENT&TEXTILE PHASE 2'!R145","v":0},{"$f":"SUM(C32:N32)","v":0}]
["Phase 3","Distribution and retail",{"$f":"'GARMENT&TEXTILE PHASE 3'!G25","v":0},{"$f":"'GARMENT&TEXTILE PHASE 3'!H25","v":0},{"$f":"'GARMENT&TEXTILE PHASE 3'!I25","v":0},{"$f":"'GARMENT&TEXTILE PHASE 3'!J25","v":0},{"$f":"'GARMENT&TEXTILE PHASE 3'!K25","v":0},{"$f":"'GARMENT&TEXTILE PHASE 3'!L25","v":0},{"$f":"'GARMENT&TEXTILE PHASE 3'!M25","v":0},{"$f":"'GARMENT&TEXTILE PHASE 3'!N25","v":0},{"$f":"'GARMENT&TEXTILE PHASE 3'!O25","v":0},{"$f":"'GARMENT&TEXTILE PHASE 3'!P25","v":0},{"$f":"'GARMENT&TEXTILE PHASE 3'!Q25","v":0},{"$f":"'GARMENT&TEXTILE PHASE 3'!R25","v":0},{"$f":"SUM(C33:N33)","v":0}]
["Phase 4","Using product",{"$f":"'GARMENT&TEXTILE PHASE 4'!C33","v":0},{"$f":"'GARMENT&TEXTILE PHASE 4'!D33","v":0},{"$f":"'GARMENT&TEXTILE PHASE 4'!E33","v":0},{"$f":"'GARMENT&TEXTILE PHASE 4'!F33","v":0},{"$f":"'GARMENT&TEXTILE PHASE 4'!G33","v":0},{"$f":"'GARMENT&TEXTILE PHASE 4'!H33","v":0},{"$f":"'GARMENT&TEXTILE PHASE 4'!I33","v":0},{"$f":"'GARMENT&TEXTILE PHASE 4'!J33","v":0},{"$f":"'GARMENT&TEXTILE PHASE 4'!K33","v":0},{"$f":"'GARMENT&TEXTILE PHASE 4'!L33","v":0},{"$f":"'GARMENT&TEXTILE PHASE 4'!M33","v":0},{"$f":"'GARMENT&TEXTILE PHASE 4'!N33","v":0},{"$f":"SUM(C34:N34)","v":0}]
["Phase 5","Processing and Recyling",{"$f":"'GARMENT&TEXTILE PHASE 5'!C33","v":0},{"$f":"'GARMENT&TEXTILE PHASE 5'!D33","v":0},{"$f":"'GARMENT&TEXTILE PHASE 5'!E33","v":0},{"$f":"'GARMENT&TEXTILE PHASE 5'!F33","v":0},{"$f":"'GARMENT&TEXTILE PHASE 5'!G33","v":0},{"$f":"'GARMENT&TEXTILE PHASE 5'!H33","v":0},{"$f":"'GARMENT&TEXTILE PHASE 5'!I33","v":0},{"$f":"'GARMENT&TEXTILE PHASE 5'!J33","v":0},{"$f":"'GARMENT&TEXTILE PHASE 5'!K33","v":0},{"$f":"'GARMENT&TEXTILE PHASE 5'!L33","v":0},{"$f":"'GARMENT&TEXTILE PHASE 5'!M33","v":0},{"$f":"'GARMENT&TEXTILE PHASE 5'!N33","v":0},{"$f":"SUM(C35:N35)","v":0}]
["Total (Tons CO2eq)",null,{"$f":"SUM(C31:C35)","v":0},{"$f":"SUM(D31:D35)","v":0},0,0,0,0,0,0,0,0,0,0,{"$f":"SUM(O31:O35)","v":0}]
[]
[null,"EMISSIONS STRUCTURE BY PRODUCT LIFE CYCLE PHASES"]
[null,null,null,null,null,null,null,null,null,null,null,null,"Unit: %"]
["Stages in the product emissions life cycle",null,"Jan","Feb","March","April","May","June","July","Aug","Sep","Oct","Nov","Dec","Total"]
["Phase 1","Production and transportation of raw materials",{"$f":"IF($C$36<>0,C31/$C$36,0)","v":0},{"$f":"IF($D$36<>0,D31/$D$36,0)","v":0},{"$f":"IF($E$36<>0,E31/$E$36,0)","v":0},{"$f":"IF($F$36<>0,F31/$F$36,0)","v":0},{"$f":"IF($G$36<>0,G31/$G$36,0)","v":0},{"$f":"IF($H$36<>0,H31/$H$36,0)","v":0},{"$f":"IF($I$36,I31/$I$36,0)","v":0},{"$f":"IF($J$36<>0,J31/$J$36,0)","v":0},{"$f":"IF($K$36<>0,K31/$K$36,0)","v":0},{"$f":"IF($L$36<>0,L31/$L$36,0)","v":0},{"$f":"IF($M$36<>0,M31/$M$36,0)","v":0},{"$f":"IF($N$36<>0,N31/$N$36,0)","v":0},{"$f":"IF($O$36<>0,O31/$O$36,0)","v":0}]
["Phase 2","Product manufacturing",{"$f":"IF($C$36<>0,C32/$C$36,0)","v":0},{"$f":"IF($D$36<>0,D32/$D$36,0)","v":0},{"$f":"IF($E$36<>0,E32/$E$36,0)","v":0},{"$f":"IF($F$36<>0,F32/$F$36,0)","v":0},{"$f":"IF($G$36<>0,G32/$G$36,0)","v":0},{"$f":"IF($H$36<>0,H32/$H$36,0)","v":0},{"$f":"IF($I$36,I32/$I$36,0)","v":0},{"$f":"IF($J$36<>0,J32/$J$36,0)","v":0},{"$f":"IF($K$36<>0,K32/$K$36,0)","v":0},{"$f":"IF($L$36<>0,L32/$L$36,0)","v":0},{"$f":"IF($M$36<>0,M32/$M$36,0)","v":0},{"$f":"IF($N$36<>0,N32/$N$36,0)","v":0},{"$f":"IF($O$36<>0,O32/$O$36,0)","v":0}]
["Phase 3","Distribution and retail",{"$f":"IF($C$36<>0,C33/$C$36,0)","v":0},{"$f":"IF($D$36<>0,D33/$D$36,0)","v":0},{"$f":"IF($E$36<>0,E33/$E$36,0)","v":0},{"$f":"IF($F$36<>0,F33/$F$36,0)","v":0},{"$f":"IF($G$36<>0,G33/$G$36,0)","v":0},{"$f":"IF($H$36<>0,H33/$H$36,0)","v":0},{"$f":"IF($I$36,I33/$I$36,0)","v":0},{"$f":"IF($J$36<>0,J33/$J$36,0)","v":0},{"$f":"IF($K$36<>0,K33/$K$36,0)","v":0},{"$f":"IF($L$36<>0,L33/$L$36,0)","v":0},{"$f":"IF($M$36<>0,M33/$M$36,0)","v":0},{"$f":"IF($N$36<>0,N33/$N$36,0)","v":0},{"$f":"IF($O$36<>0,O33/$O$36,0)","v":0}]
["Phase 4","Using product",{"$f":"IF($C$36<>0,C34/$C$36,0)","v":0},{"$f":"IF($D$36<>0,D34/$D$36,0)","v":0},{"$f":"IF($E$36<>0,E34/$E$36,0)","v":0},{"$f":"IF($F$36<>0,F34/$F$36,0)","v":0},{"$f":"IF($G$36<>0,G34/$G$36,0)","v":0},{"$f":"IF($H$36<>0,H34/$H$36,0)","v":0},{"$f":"IF($I$36,I34/$I$36,0)","v":0},{"$f":"IF($J$36<>0,J34/$J$36,0)","v":0},{"$f":"IF($K$36<>0,K34/$K$36,0)","v":0},{"$f":"IF($L$36<>0,L34/$L$36,0)","v":0},{"$f":"IF($M$36<>0,M34/$M$36,0)","v":0},{"$f":"IF($N$36<>0,N34/$N$36,0)","v":0},{"$f":"IF($O$36<>0,O34/$O$36,0)","v":0}]
["Phase 5","Processing and Recyling",{"$f":"IF($C$36<>0,C35/$C$36,0)","v":0},{"$f":"IF($D$36<>0,D35/$D$36,0)","v":0},{"$f":"IF($E$36<>0,E35/$E$36,0)","v":0},{"$f":"IF($F$36<>0,F35/$F$36,0)","v":0},{"$f":"IF($G$36<>0,G35/$G$36,0)","v":0},{"$f":"IF($H$36<>0,H35/$H$36,0)","v":0},{"$f":"IF($I$36,I35/$I$36,0)","v":0},{"$f":"IF($J$36<>0,J35/$J$36,0)","v":0},{"$f":"IF($K$36<>0,K35/$K$36,0)","v":0},{"$f":"IF($L$36<>0,L35/$L$36,0)","v":0},{"$f":"IF($M$36<>0,M35/$M$36,0)","v":0},{"$f":"IF($N$36<>0,N35/$N$36,0)","v":0},{"$f":"IF($O$36<>0,O35/$O$36,0)","v":0}]
["Total (Tons CO2eq)",null,{"$f":"SUM(C41:C45)","v":0},{"$f":"SUM(D41:D45)","v":0},0,0,0,0,0,0,0,0,0,0,{"$f":"SUM(O41:O45)","v":0}]
[]
[{"$f":" \"kgCO2eq/\" & B26","v":"kgCO2eq/"},null,"EMISSIONS INTENSITY"]
[null,null,"Jan","Feb","March","April","May","June","July","Aug","Sep","Oct","Nov","Dec","Average annual emission intensity"]
["Product emission intensity",null,{"$f":"IF(C26<>0,C36/C26,0)","v":0},{"$f":"IF(D26<>0,D36/D26,0)","v":0},0,0,0,0,0,0,0,0,0,0,0]
[]
[]
[]
[]
[]
[]
[]
[]
[]
[]
[null,null,null,null,null,null,null,null,null,null,"GJ"]
[null,null,null,null,null,null,null,null,{"$f":"IF(AND('GARMENT&TEXTILE PHASE 2'!A13<>\"\",'GARMENT&TEXTILE PHASE 2'!B13<>\"\"),'GARMENT&TEXTILE PHASE 2'!A13,\"\")","v":""},null,{"$f":"IF(I62<>\"\",'GARMENT&TEXTILE PHASE 2'!T13*'GARMENT&TEXTILE PHASE 2'!C13,\"\")","v":""}]
[null,null,null,null,null,null,null,null,{"$f":"IF(AND('GARMENT&TEXTILE PHASE 2'!A14<>\"\",'GARMENT&TEXTILE PHASE 2'!B14<>\"\"),'GARMENT&TEXTILE PHASE 2'!A14,\"\")","v":""},null,{"$f":"IF(I63<>\"\",'GARMENT&TEXTILE PHASE 2'!T14*'GARMENT&TEXTILE PHASE 2'!C14,\"\")","v":""}]
[null,null,null,null,null,null,null,null,{"$f":"IF(AND('GARMENT&TEXTILE PHASE 2'!A15<>\"\",'GARMENT&TEXTILE PHASE 2'!B15<>\"\"),'GARMENT&TEXTILE PHASE 2'!A15,\"\")","v":""},null,{"$f":"IF(I64<>\"\",'GARMENT&TEXTILE PHASE 2'!#REF!*'GARMENT&TEXTILE PHASE 2'!#REF!,\"\")","v":""}]
[null,null,null,null,null,null,null,null,{"$f":"IF(AND('GARMENT&TEXTILE PHASE 2'!A16<>\"\",'GARMENT&TEXTILE PHASE 2'!B16<>\"\"),'GARMENT&TEXTILE PHASE 2'!A16,\"\")","v":""},null,{"$f":"IF(I65<>\"\",'GARMENT&TEXTILE PHASE 2'!#REF!*'GARMENT&TEXTILE PHASE 2'!#REF!,\"\")","v":""}]
[null,null,null,null,null,null,null,null,{"$f":"IF(AND('GARMENT&TEXTILE PHASE 2'!A17<>\"\",'GARMENT&TEXTILE PHASE 2'!B17<>\"\"),'GARMENT&TEXTILE PHASE 2'!A17,\"\")","v":""},null,{"$f":"IF(I66<>\"\",'GARMENT&TEXTILE PHASE 2'!#REF!*'GARMENT&TEXTILE PHASE 2'!#REF!,\"\")","v":""}]
[null,null,null,null,null,null,null,null,{"$f":"IF(AND('GARMENT&TEXTILE PHASE 2'!A18<>\"\",'GARMENT&TEXTILE PHASE 2'!B18<>\"\"),'GARMENT&TEXTILE PHASE 2'!A18,\"\")","v":""},null,{"$f":"IF(I67<>\"\",'GARMENT&TEXTILE PHASE 2'!#REF!*'GARMENT&TEXTILE PHASE 2'!#REF!,\"\")","v":""}]
[null,null,null,null,null,null,null,null,{"$f":"IF(AND('GARMENT&TEXTILE PHASE 2'!A19<>\"\",'GARMENT&TEXTILE PHASE 2'!B19<>\"\"),'GARMENT&TEXTILE PHASE 2'!A19,\"\")","v":""},null,{"$f":"IF(I68<>\"\",'GARMENT&TEXTILE PHASE 2'!#REF!*'GARMENT&TEXTILE PHASE 2'!#REF!,\"\")","v":""}]
[null,null,null,null,null,null,null,null,{"$f":"IF(AND('GARMENT&TEXTILE PHASE 2'!A20<>\"\",'GARMENT&TEXTILE PHASE 2'!B20<>\"\"),'GARMENT&TEXTILE PHASE 2'!A20,\"\")","v":""},null,{"$f":"IF(I69<>\"\",'GARMENT&TEXTILE PHASE 2'!#REF!*'GARMENT&TEXTILE PHASE 2'!#REF!,\"\")","v":""}]
[null,null,null,null,null,null,null,null,{"$f":"IF(AND('GARMENT&TEXTILE PHASE 2'!A21<>\"\",'GARMENT&TEXTILE PHASE 2'!B21<>\"\"),'GARMENT&TEXTILE PHASE 2'!A21,\"\")","v":""},null,{"$f":"IF(I70<>\"\",'GARMENT&TEXTILE PHASE 2'!T21*'GARMENT&TEXTILE PHASE 2'!C21,\"\")","v":""}]

{"sheet":"TÍNH TOÁN PHÂN ĐẠM","index":16,"n_rows":83,"n_cols":80,"rows_kept":83,"cut":false,"hidden":true,"merged":[[26,51,26,63],[69,46,69,58],[69,61,69,73],[11,2,11,15],[11,19,11,31],[11,35,11,47],[11,51,11,63],[26,2,26,15],[11,67,11,78],[69,1,69,13],[69,16,69,28],[69,31,69,43],[40,30,41,30],[26,18,27,18],[26,35,26,47],[54,15,54,27],[1,0,2,0],[1,1,2,1],[1,2,1,13],[1,14,2,14],[62,0,62,12],[11,0,12,0],[11,1,12,1],[54,0,54,12],[26,64,27,64],[26,66,27,66],[26,67,26,78],[26,79,27,79],[40,0,41,0],[40,1,41,1],[40,2,40,13],[40,14,41,14],[40,16,41,16],[26,32,27,32],[26,34,27,34],[26,48,27,48],[26,50,27,50],[26,0,27,0],[26,1,27,1],[26,16,27,16]]}
["Quy đổi đơn vị sản phẩm",null,null,null,null,null,null,null,null,null,null,null,null,null,null,null,null,null,null,null,null,null,null,null,null,null,null,null,null,null,null,null,null,null,"Quy đổi sản phẩm"]
["Loại sản phẩm","Đơn vị","Sản lượng sản phẩm",null,null,null,null,null,null,null,null,null,null,null,"Tổng"]
[null,null,"Tháng 1","Tháng 2","Tháng 3","Tháng 4","Tháng 5","Tháng 6","Tháng 7","Tháng 8","Tháng 9","Tháng 10","Tháng 11","Tháng 12"]
[null,null,null,null,null,null,null,null,null,null,null,null,null,null,{"$f":"SUM(C4:N4)","v":0}]
[null,null,null,null,null,null,null,null,null,null,null,null,null,null,0]
[null,null,null,null,null,null,null,null,null,null,null,null,null,null,0]
[null,null,null,null,null,null,null,null,null,null,null,null,null,null,0]
[null,null,2000,2500,null,200,null,null,null,3000,null,null,null,null,7700]
["Tổng",null,null,null,null,null,null,null,null,null,null,null,null,null,0]
[]
["Đốt nhiên liệu cố định",null,{"$f":"IF(AND(A11<>\"\",B11<>\"\"),VLOOKUP(A11&B11,'unit conversion'!$A$2:$F$267,5,0)*VLOOKUP(A11&B11,'unit conversion'!$A$2:$F$267,6,0),\"\")","v":""}]
["Nhiên liệu","Đơn vị","Quy đổi đơn vị (GJ)",null,null,null,null,null,null,null,null,null,null,null,null,null,"Tổng (Gg)",null,"Nhiên liệu","Phát thải CO2 (tấn CO2)",null,null,null,null,null,null,null,null,null,null,null,null,"Tổng (Gg)",null,"Nhiên liệu","Phát thải CH4 (kg CH4)",null,null,null,null,null,null,null,null,null,null,null,null,"Tổng (kg CH4)",null,"Nhiên liệu","Phát thải N2O",null,null,null,null,null,null,null,null,null,null,null,null,"Tổng (Gg)",null,"Nhiên liệu","Phát thải CO2tđ",null,null,null,null,null,null,null,null,null,null,null,"Tổng (Gg)"]
[null,null,"Gg/unit","GJ/Gg","Tháng 1","Tháng 2","Tháng 3","Tháng 4","Tháng 5","Tháng 6","Tháng 7","Tháng 8","Tháng 9","Tháng 10","Tháng 11","Tháng 12",null,null,null,"EF","Tháng 1","Tháng 2","Tháng 3","Tháng 4","Tháng 5","Tháng 6","Tháng 7","Tháng 8","Tháng 9","Tháng 10","Tháng 11","Tháng 12",null,null,null,"EF","Tháng 1","Tháng 2","Tháng 3","Tháng 4","Tháng 5","Tháng 6","Tháng 7","Tháng 8","Tháng 9","Tháng 10","Tháng 11","Tháng 12",null,null,null,"EF","Tháng 1","Tháng 2","Tháng 3","Tháng 4","Tháng 5","Tháng 6","Tháng 7","Tháng 8","Tháng 9","Tháng 10","Tháng 11","Tháng 12",null,null,null,"Tháng 1","Tháng 2","Tháng 3","Tháng 4","Tháng 5","Tháng 6","Tháng 7","Tháng 8","Tháng 9","Tháng 10","Tháng 11","Tháng 12"]
[{"$f":"IF(OFFSET('GARMENT&TEXTILE PHASE 2'!#REF!,1,0)<>\"Tổng (GJ)\",OFFSET('GARMENT&TEXTILE PHASE 2'!#REF!,1,0),0)","v":{"$error":"#REF!"}},{"$f":"IF(A14<>0,OFFSET('GARMENT&TEXTILE PHASE 2'!#REF!,1,0),0)","v":{"$error":"#REF!"}},{"$f":"IF(A14<>0,VLOOKUP(A14&B14,'unit conversion'!$A$2:$F$267,5,0),0)","v":{"$error":"#REF!"}},{"$f":"IF(A14<>0,VLOOKUP(A14&B14,'unit conversion'!$A$2:$F$267,6,0),0)","v":{"$error":"#REF!"}},{"$f":"IF(AND($A$14<>0,$B$14<>0),OFFSET('GARMENT&TEXTILE PHASE 2'!#REF!,0,0)*'TÍNH TOÁN PHÂN ĐẠM'!$C$14*'TÍNH TOÁN PHÂN ĐẠM'!$D$14,0)","v":{"$error":"#REF!"}},{"$f":"IF(AND($A$14<>0,$B$14<>0),OFFSET('GARMENT&TEXTILE PHASE 2'!#REF!,0,0)*'TÍNH TOÁN PHÂN ĐẠM'!$C$14*'TÍNH TOÁN PHÂN ĐẠM'!$D$14,0)","v":{"$error":"#REF!"}},{"$f":"IF(AND($A$14<>0,$B$14<>0),OFFSET('GARMENT&TEXTILE PHASE 2'!#REF!,0,0)*'TÍNH TOÁN PHÂN ĐẠM'!$C$14*'TÍNH TOÁN PHÂN ĐẠM'!$D$14,0)","v":{"$error":"#REF!"}},{"$f":"IF(AND($A$14<>0,$B$14<>0),OFFSET('GARMENT&TEXTILE PHASE 2'!#REF!,0,0)*'TÍNH TOÁN PHÂN ĐẠM'!$C$14*'TÍNH TOÁN PHÂN ĐẠM'!$D$14,0)","v":{"$error":"#REF!"}},{"$f":"IF(AND($A$14<>0,$B$14<>0),OFFSET('GARMENT&TEXTILE PHASE 2'!#REF!,0,0)*'TÍNH TOÁN PHÂN ĐẠM'!$C$14*'TÍNH TOÁN PHÂN ĐẠM'!$D$14,0)","v":{"$error":"#REF!"}},{"$f":"IF(AND($A$14<>0,$B$14<>0),OFFSET('GARMENT&TEXTILE PHASE 2'!#REF!,0,0)*'TÍNH TOÁN PHÂN ĐẠM'!$C$14*'TÍNH TOÁN PHÂN ĐẠM'!$D$14,0)","v":{"$error":"#REF!"}},{"$f":"IF(A13<>\"\",K13*C13*(D13+E13*EF!$M$4+F13*EF!$M$5)/1000,\"\")","v":""},{"$f":"IF(AND($A$14<>0,$B$14<>0),OFFSET('GARMENT&TEXTILE PHASE 2'!#REF!,0,0)*'TÍNH TOÁN PHÂN ĐẠM'!$C$14*'TÍNH TOÁN PHÂN ĐẠM'!$D$14,0)","v":{"$error":"#REF!"}},{"$f":"IF(AND($A$14<>0,$B$14<>0),OFFSET('GARMENT&TEXTILE PHASE 2'!#REF!,0,0)*'TÍNH TOÁN PHÂN ĐẠM'!$C$14*'TÍNH TOÁN PHÂN ĐẠM'!$D$14,0)","v":{"$error":"#REF!"}},{"$f":"IF(AND($A$14<>0,$B$14<>0),OFFSET('GARMENT&TEXTILE PHASE 2'!#REF!,0,0)*'TÍNH TOÁN PHÂN ĐẠM'!$C$14*'TÍNH TOÁN PHÂN ĐẠM'!$D$14,0)","v":{"$error":"#REF!"}},{"$f":"IF(AND($A$14<>0,$B$14<>0),OFFSET('GARMENT&TEXTILE PHASE 2'!#REF!,0,0)*'TÍNH TOÁN PHÂN ĐẠM'!$C$14*'TÍNH TOÁN PHÂN ĐẠM'!$D$14,0)","v":{"$error":"#REF!"}},{"$f":"IF(AND($A$14<>0,$B$14<>0),OFFSET('GARMENT&TEXTILE PHASE 2'!#REF!,0,0)*'TÍNH TOÁN PHÂN ĐẠM'!$C$14*'TÍNH TOÁN PHÂN ĐẠM'!$D$14,0)","v":{"$error":"#REF!"}},{"$f":"SUM(E14:P14)","v":{"$error":"#REF!"}},null,{"$f":"A14","v":{"$error":"#REF!"}},{"$f":"IF(S14<>0,VLOOKUP(S14,EF!$B$4:$H$55,2,0),0)","v":{"$error":"#REF!"}},{"$f":"E14*$T$14/1000","v":{"$error":"#REF!"}},{"$f":"F14*$T$14/1000","v":{"$error":"#REF!"}},{"$error":"#REF!"},{"$error":"#REF!"},{"$error":"#REF!"},{"$error":"#REF!"},{"$error":"#VALUE!"},{"$error":"#REF!"},{"$error":"#REF!"},{"$error":"#REF!"},{"$error":"#REF!"},{"$error":"#REF!"},{"$f":"SUM(U14:AF14)","v":{"$error":"#REF!"}},null,{"$f":"A14","v":{"$error":"#REF!"}},{"$f":"IF(AI14<>0,VLOOKUP(AI14,EF!$B$4:$E$55,3,0),0)","v":{"$error":"#REF!"}},{"$f":"E14*$AJ$14","v":{"$error":"#REF!"}},{"$f":"F14*$AJ$14","v":{"$error":"#REF!"}},{"$error":"#REF!"},{"$error":"#REF!"},{"$error":"#REF!"},{"$error":"#REF!"},{"$error":"#VALUE!"},{"$error":"#REF!"},{"$error":"#REF!"},{"$error":"#REF!"},{"$error":"#REF!"},{"$error":"#REF!"},{"$f":"SUM(AK14:AV14)","v":{"$error":"#REF!"}},null,{"$f":"A14","v":{"$error":"#REF!"}},{"$f":"IF(AY14<>0,VLOOKUP(AY14,EF!$B$4:$E$55,4,0),0)","v":{"$error":"#REF!"}},{"$f":"E14*$AZ$14","v":{"$error":"#REF!"}},{"$f":"F14*$AZ$14","v":{"$error":"#REF!"}},{"$error":"#REF!"},{"$error":"#REF!"},{"$error":"#REF!"},{"$error":"#REF!"},{"$error":"#VALUE!"},{"$error":"#REF!"},{"$error":"#REF!"},{"$error":"#REF!"},{"$error":"#REF!"},{"$error":"#REF!"},{"$f":"SUM(BA14:BL14)","v":{"$error":"#REF!"}},null,{"$f":"A14","v":{"$error":"#REF!"}},{"$f":"U14+AK14*EF!$M$4/1000+EF!$M$5*'TÍNH TOÁN PHÂN ĐẠM'!BA14/1000","v":{"$error":"#REF!"}},{"$f":"V14+AL14*EF!$M$4/1000+EF!$M$5*'TÍNH TOÁN PHÂN ĐẠM'!BB14/1000","v":{"$error":"#REF!"}},{"$f":"W14+AM14*EF!$M$4/1000+EF!$M$5*'TÍNH TOÁN PHÂN ĐẠM'!BC14/1000","v":{"$error":"#REF!"}},{"$f":"X14+AN14*EF!$M$4/1000+EF!$M$5*'TÍNH TOÁN PHÂN ĐẠM'!BD14/1000","v":{"$error":"#REF!"}},{"$f":"Y14+AO14*EF!$M$4/1000+EF!$M$5*'TÍNH TOÁN PHÂN ĐẠM'!BE14/1000","v":{"$error":"#REF!"}},{"$f":"Z14+AP14*EF!$M$4/1000+EF!$M$5*'TÍNH TOÁN PHÂN ĐẠM'!BF14/1000","v":{"$error":"#REF!"}},{"$f":"AA14+AQ14*EF!$M$4/1000+EF!$M$5*'TÍNH TOÁN PHÂN ĐẠM'!BG14/1000","v":{"$error":"#VALUE!"}},{"$f":"AB14+AR14*EF!$M$4/1000+EF!$M$5*'TÍNH TOÁN PHÂN ĐẠM'!BH14/1000","v":{"$error":"#REF!"}},{"$f":"AC14+AS14*EF!$M$4/1000+EF!$M$5*'TÍNH TOÁN PHÂN ĐẠM'!BI14/1000","v":{"$error":"#REF!"}},{"$f":"AD14+AT14*EF!$M$4/1000+EF!$M$5*'TÍNH TOÁN PHÂN ĐẠM'!BJ14/1000","v":{"$error":"#REF!"}},{"$f":"AE14+AU14*EF!$M$4/1000+EF!$M$5*'TÍNH TOÁN PHÂN ĐẠM'!BK14/1000","v":{"$error":"#REF!"}},{"$f":"AF14+AV14*EF!$M$4/1000+EF!$M$5*'TÍNH TOÁN PHÂN ĐẠM'!BL14/1000","v":{"$error":"#REF!"}},{"$f":"SUM(BP14:CA14)","v":{"$error":"#REF!"}}]
[{"$f":"IF(OFFSET('GARMENT&TEXTILE PHASE 2'!#REF!,2,0)<>\"Tổng (GJ)\",OFFSET('GARMENT&TEXTILE PHASE 2'!#REF!,2,0),0)","v":{"$error":"#REF!"}},{"$f":"IF(A15<>0,OFFSET('GARMENT&TEXTILE PHASE 2'!#REF!,2,0),0)","v":{"$error":"#REF!"}},{"$f":"IF(A15<>0,VLOOKUP(A15&B15,'unit conversion'!$A$2:$F$267,5,0),0)","v":{"$error":"#REF!"}},{"$f":"IF(A15<>0,VLOOKUP(A15&B15,'unit conversion'!$A$2:$F$267,6,0),0)","v":{"$error":"#REF!"}},{"$f":"IF(AND($A$15<>0,$B$15<>0),OFFSET('GARMENT&TEXTILE PHASE 2'!#REF!,1,0)*'TÍNH TOÁN PHÂN ĐẠM'!$C$15*'TÍNH TOÁN PHÂN ĐẠM'!$D$15,0)","v":{"$error":"#REF!"}},{"$f":"IF(AND($A$15<>0,$B$15<>0),OFFSET('GARMENT&TEXTILE PHASE 2'!#REF!,1,0)*'TÍNH TOÁN PHÂN ĐẠM'!$C$15*'TÍNH TOÁN PHÂN ĐẠM'!$D$15,0)","v":{"$error":"#REF!"}},{"$f":"IF(AND($A$15<>0,$B$15<>0),OFFSET('GARMENT&TEXTILE PHASE 2'!#REF!,1,0)*'TÍNH TOÁN PHÂN ĐẠM'!$C$15*'TÍNH TOÁN PHÂN ĐẠM'!$D$15,0)","v":{"$error":"#REF!"}},{"$f":"IF(AND($A$15<>0,$B$15<>0),OFFSET('GARMENT&TEXTILE PHASE 2'!#REF!,1,0)*'TÍNH TOÁN PHÂN ĐẠM'!$C$15*'TÍNH TOÁN PHÂN ĐẠM'!$D$15,0)","v":{"$error":"#REF!"}},{"$f":"IF(AND($A$15<>0,$B$15<>0),OFFSET('GARMENT&TEXTILE PHASE 2'!#REF!,1,0)*'TÍNH TOÁN PHÂN ĐẠM'!$C$15*'TÍNH TOÁN PHÂN ĐẠM'!$D$15,0)","v":{"$error":"#REF!"}},{"$f":"IF(AND($A$15<>0,$B$15<>0),OFFSET('GARMENT&TEXTILE PHASE 2'!#REF!,1,0)*'TÍNH TOÁN PHÂN ĐẠM'!$C$15*'TÍNH TOÁN PHÂN ĐẠM'!$D$15,0)","v":{"$error":"#REF!"}},{"$f":"IF(AND($A$15<>0,$B$15<>0),OFFSET('GARMENT&TEXTILE PHASE 2'!#REF!,1,0)*'TÍNH TOÁN PHÂN ĐẠM'!$C$15*'TÍNH TOÁN PHÂN ĐẠM'!$D$15,0)","v":{"$error":"#REF!"}},{"$f":"IF(AND($A$15<>0,$B$15<>0),OFFSET('GARMENT&TEXTILE PHASE 2'!#REF!,1,0)*'TÍNH TOÁN PHÂN ĐẠM'!$C$15*'TÍNH TOÁN PHÂN ĐẠM'!$D$15,0)","v":{"$error":"#REF!"}},{"$f":"IF(AND($A$15<>0,$B$15<>0),OFFSET('GARMENT&TEXTILE PHASE 2'!#REF!,1,0)*'TÍNH TOÁN PHÂN ĐẠM'!$C$15*'TÍNH TOÁN PHÂN ĐẠM'!$D$15,0)","v":{"$error":"#REF!"}},{"$f":"IF(AND($A$15<>0,$B$15<>0),OFFSET('GARMENT&TEXTILE PHASE 2'!#REF!,1,0)*'TÍNH TOÁN PHÂN ĐẠM'!$C$15*'TÍNH TOÁN PHÂN ĐẠM'!$D$15,0)","v":{"$error":"#REF!"}},{"$f":"IF(AND($A$15<>0,$B$15<>0),OFFSET('GARMENT&TEXTILE PHASE 2'!#REF!,1,0)*'TÍNH TOÁN PHÂN ĐẠM'!$C$15*'TÍNH TOÁN PHÂN ĐẠM'!$D$15,0)","v":{"$error":"#REF!"}},{"$f":"IF(AND($A$15<>0,$B$15<>0),OFFSET('GARMENT&TEXTILE PHASE 2'!#REF!,1,0)*'TÍNH TOÁN PHÂN ĐẠM'!$C$15*'TÍNH TOÁN PHÂN ĐẠM'!$D$15,0)","v":{"$error":"#REF!"}},{"$f":"SUM(E15:P15)","v":{"$error":"#REF!"}},null,{"$error":"#REF!"},{"$f":"IF(S15<>0,VLOOKUP(S15,EF!$B$4:$H$55,2,0),0)","v":{"$error":"#REF!"}},{"$f":"E15*$T$15/1000","v":{"$error":"#REF!"}},{"$f":"F15*$T$15/1000","v":{"$error":"#REF!"}},{"$error":"#REF!"},{"$error":"#REF!"},{"$error":"#REF!"},{"$error":"#REF!"},{"$error":"#REF!"},{"$error":"#REF!"},{"$error":"#REF!"},{"$error":"#REF!"},{"$error":"#REF!"},{"$error":"#REF!"},{"$f":"SUM(U15:AF15)","v":{"$error":"#REF!"}},null,{"$error":"#REF!"},{"$f":"IF(AI15<>0,VLOOKUP(AI15,EF!$B$4:$E$55,3,0),0)","v":{"$error":"#REF!"}},{"$f":"E15*$AJ$15","v":{"$error":"#REF!"}},{"$f":"F15*$AJ$15","v":{"$error":"#REF!"}},{"$error":"#REF!"},{"$error":"#REF!"},{"$error":"#REF!"},{"$error":"#REF!"},{"$error":"#REF!"},{"$error":"#REF!"},{"$error":"#REF!"},{"$error":"#REF!"},{"$error":"#REF!"},{"$error":"#REF!"},{"$f":"SUM(AK15:AV15)","v":{"$error":"#REF!"}},null,{"$error":"#REF!"},{"$f":"IF(AY15<>0,VLOOKUP(AY15,EF!$B$4:$E$55,4,0),0)","v":{"$error":"#REF!"}},{"$f":"E15*$AZ$15","v":{"$error":"#REF!"}},{"$f":"F15*$AZ$15","v":{"$error":"#REF!"}},{"$error":"#REF!"},{"$error":"#REF!"},{"$error":"#REF!"},{"$error":"#REF!"},{"$error":"#REF!"},{"$error":"#REF!"},{"$error":"#REF!"},{"$error":"#REF!"},{"$error":"#REF!"},{"$error":"#REF!"},{"$f":"SUM(BA15:BL15)","v":{"$error":"#REF!"}},null,{"$error":"#REF!"},{"$f":"U15+AK15*EF!$M$4/1000+EF!$M$5*'TÍNH TOÁN PHÂN ĐẠM'!BA15/1000","v":{"$error":"#REF!"}},{"$f":"V15+AL15*EF!$M$4/1000+EF!$M$5*'TÍNH TOÁN PHÂN ĐẠM'!BB15/1000","v":{"$error":"#REF!"}},{"$f":"W15+AM15*EF!$M$4/1000+EF!$M$5*'TÍNH TOÁN PHÂN ĐẠM'!BC15/1000","v":{"$error":"#REF!"}},{"$f":"X15+AN15*EF!$M$4/1000+EF!$M$5*'TÍNH TOÁN PHÂN ĐẠM'!BD15/1000","v":{"$error":"#REF!"}},{"$f":"Y15+AO15*EF!$M$4/1000+EF!$M$5*'TÍNH TOÁN PHÂN ĐẠM'!BE15/1000","v":{"$error":"#REF!"}},{"$f":"Z15+AP15*EF!$M$4/1000+EF!$M$5*'TÍNH TOÁN PHÂN ĐẠM'!BF15/1000","v":{"$error":"#REF!"}},{"$f":"AA15+AQ15*EF!$M$4/1000+EF!$M$5*'TÍNH TOÁN PHÂN ĐẠM'!BG15/1000","v":{"$error":"#REF!"}},{"$f":"AB15+AR15*EF!$M$4/1000+EF!$M$5*'TÍNH TOÁN PHÂN ĐẠM'!BH15/1000","v":{"$error":"#REF!"}},{"$f":"AC15+AS15*EF!$M$4/1000+EF!$M$5*'TÍNH TOÁN PHÂN ĐẠM'!BI15/1000","v":{"$error":"#REF!"}},{"$f":"AD15+AT15*EF!$M$4/1000+EF!$M$5*'TÍNH TOÁN PHÂN ĐẠM'!BJ15/1000","v":{"$error":"#REF!"}},{"$f":"AE15+AU15*EF!$M$4/1000+EF!$M$5*'TÍNH TOÁN PHÂN ĐẠM'!BK15/1000","v":{"$error":"#REF!"}},{"$f":"AF15+AV15*EF!$M$4/1000+EF!$M$5*'TÍNH TOÁN PHÂN ĐẠM'!BL15/1000","v":{"$error":"#REF!"}},{"$f":"SUM(BP15:CA15)","v":{"$error":"#REF!"}}]
[{"$f":"IF(OFFSET('GARMENT&TEXTILE PHASE 2'!#REF!,3,0)<>\"Tổng (GJ)\",OFFSET('GARMENT&TEXTILE PHASE 2'!#REF!,3,0),0)","v":{"$error":"#REF!"}},{"$f":"IF(A16<>0,OFFSET('GARMENT&TEXTILE PHASE 2'!#REF!,3,0),0)","v":{"$error":"#REF!"}},{"$f":"IF(A16<>0,VLOOKUP(A16&B16,'unit conversion'!$A$2:$F$267,5,0),0)","v":{"$error":"#REF!"}},{"$f":"IF(A16<>0,VLOOKUP(A16&B16,'unit conversion'!$A$2:$F$267,6,0),0)","v":{"$error":"#REF!"}},{"$f":"IF(AND($A$16<>0,$B$16<>0),OFFSET('GARMENT&TEXTILE PHASE 2'!#REF!,2,0)*'TÍNH TOÁN PHÂN ĐẠM'!$C$16*'TÍNH TOÁN PHÂN ĐẠM'!$D$16,0)","v":{"$error":"#REF!"}},{"$f":"IF(AND($A$16<>0,$B$16<>0),OFFSET('GARMENT&TEXTILE PHASE 2'!#REF!,2,0)*'TÍNH TOÁN PHÂN ĐẠM'!$C$16*'TÍNH TOÁN PHÂN ĐẠM'!$D$16,0)","v":{"$error":"#REF!"}},{"$f":"IF(AND($A$16<>0,$B$16<>0),OFFSET('GARMENT&TEXTILE PHASE 2'!#REF!,2,0)*'TÍNH TOÁN PHÂN ĐẠM'!$C$16*'TÍNH TOÁN PHÂN ĐẠM'!$D$16,0)","v":{"$error":"#REF!"}},{"$f":"IF(AND($A$16<>0,$B$16<>0),OFFSET('GARMENT&TEXTILE PHASE 2'!#REF!,2,0)*'TÍNH TOÁN PHÂN ĐẠM'!$C$16*'TÍNH TOÁN PHÂN ĐẠM'!$D$16,0)","v":{"$error":"#REF!"}},{"$f":"IF(AND($A$16<>0,$B$16<>0),OFFSET('GARMENT&TEXTILE PHASE 2'!#REF!,2,0)*'TÍNH TOÁN PHÂN ĐẠM'!$C$16*'TÍNH TOÁN PHÂN ĐẠM'!$D$16,0)","v":{"$error":"#REF!"}},{"$f":"IF(AND($A$16<>0,$B$16<>0),OFFSET('GARMENT&TEXTILE PHASE 2'!#REF!,2,0)*'TÍNH TOÁN PHÂN ĐẠM'!$C$16*'TÍNH TOÁN PHÂN ĐẠM'!$D$16,0)","v":{"$error":"#REF!"}},{"$f":"IF(AND($A$16<>0,$B$16<>0),OFFSET('GARMENT&TEXTILE PHASE 2'!#REF!,2,0)*'TÍNH TOÁN PHÂN ĐẠM'!$C$16*'TÍNH TOÁN PHÂN ĐẠM'!$D$16,0)","v":{"$error":"#REF!"}},{"$f":"IF(AND($A$16<>0,$B$16<>0),OFFSET('GARMENT&TEXTILE PHASE 2'!#REF!,2,0)*'TÍNH TOÁN PHÂN ĐẠM'!$C$16*'TÍNH TOÁN PHÂN ĐẠM'!$D$16,0)","v":{"$error":"#REF!"}},{"$f":"IF(AND($A$16<>0,$B$16<>0),OFFSET('GARMENT&TEXTILE PHASE 2'!#REF!,2,0)*'TÍNH TOÁN PHÂN ĐẠM'!$C$16*'TÍNH TOÁN PHÂN ĐẠM'!$D$16,0)","v":{"$error":"#REF!"}},{"$f":"IF(AND($A$16<>0,$B$16<>0),OFFSET('GARMENT&TEXTILE PHASE 2'!#REF!,2,0)*'TÍNH TOÁN PHÂN ĐẠM'!$C$16*'TÍNH TOÁN PHÂN ĐẠM'!$D$16,0)","v":{"$error":"#REF!"}},{"$f":"IF(AND($A$16<>0,$B$16<>0),OFFSET('GARMENT&TEXTILE PHASE 2'!#REF!,2,0)*'TÍNH TOÁN PHÂN ĐẠM'!$C$16*'TÍNH TOÁN PHÂN ĐẠM'!$D$16,0)","v":{"$error":"#REF!"}},{"$f":"IF(AND($A$16<>0,$B$16<>0),OFFSET('GARMENT&TEXTILE PHASE 2'!#REF!,2,0)*'TÍNH TOÁN PHÂN ĐẠM'!$C$16*'TÍNH TOÁN PHÂN ĐẠM'!$D$16,0)","v":{"$error":"#REF!"}},{"$error":"#REF!"},null,{"$error":"#REF!"},{"$f":"IF(S16<>0,VLOOKUP(S16,EF!$B$4:$H$55,2,0),0)","v":{"$error":"#REF!"}},{"$f":"E16*$T$16/1000","v":{"$error":"#REF!"}},{"$f":"F16*$T$16/1000","v":{"$error":"#REF!"}},{"$error":"#REF!"},{"$error":"#REF!"},{"$error":"#REF!"},{"$error":"#REF!"},{"$error":"#REF!"},{"$error":"#REF!"},{"$error":"#REF!"},{"$error":"#REF!"},{"$error":"#REF!"},{"$error":"#REF!"},{"$error":"#REF!"},null,{"$error":"#REF!"},{"$f":"IF(AI16<>0,VLOOKUP(AI16,EF!$B$4:$E$55,3,0),0)","v":{"$error":"#REF!"}},{"$f":"E16*$AJ$16","v":{"$error":"#REF!"}},{"$f":"F16*$AJ$16","v":{"$error":"#REF!"}},{"$error":"#REF!"},{"$error":"#REF!"},{"$error":"#REF!"},{"$error":"#REF!"},{"$error":"#REF!"},{"$error":"#REF!"},{"$error":"#REF!"},{"$error":"#REF!"},{"$error":"#REF!"},{"$error":"#REF!"},{"$error":"#REF!"},null,{"$error":"#REF!"},{"$f":"IF(AY16<>0,VLOOKUP(AY16,EF!$B$4:$E$55,4,0),0)","v":{"$error":"#REF!"}},{"$f":"E16*$AZ$16","v":{"$error":"#REF!"}},{"$f":"F16*$AZ$16","v":{"$error":"#REF!"}},{"$error":"#REF!"},{"$error":"#REF!"},{"$error":"#REF!"},{"$error":"#REF!"},{"$error":"#REF!"},{"$error":"#REF!"},{"$error":"#REF!"},{"$error":"#REF!"},{"$error":"#REF!"},{"$error":"#REF!"},{"$error":"#REF!"},null,{"$error":"#REF!"},{"$f":"U16+AK16*EF!$M$4/1000+EF!$M$5*'TÍNH TOÁN PHÂN ĐẠM'!BA16/1000","v":{"$error":"#REF!"}},{"$f":"V16+AL16*EF!$M$4/1000+EF!$M$5*'TÍNH TOÁN PHÂN ĐẠM'!BB16/1000","v":{"$error":"#REF!"}},{"$f":"W16+AM16*EF!$M$4/1000+EF!$M$5*'TÍNH TOÁN PHÂN ĐẠM'!BC16/1000","v":{"$error":"#REF!"}},{"$f":"X16+AN16*EF!$M$4/1000+EF!$M$5*'TÍNH TOÁN PHÂN ĐẠM'!BD16/1000","v":{"$error":"#REF!"}},{"$f":"Y16+AO16*EF!$M$4/1000+EF!$M$5*'TÍNH TOÁN PHÂN ĐẠM'!BE16/1000","v":{"$error":"#REF!"}},{"$f":"Z16+AP16*EF!$M$4/1000+EF!$M$5*'TÍNH TOÁN PHÂN ĐẠM'!BF16/1000","v":{"$error":"#REF!"}},{"$f":"AA16+AQ16*EF!$M$4/1000+EF!$M$5*'TÍNH TOÁN PHÂN ĐẠM'!BG16/1000","v":{"$error":"#REF!"}},{"$f":"AB16+AR16*EF!$M$4/1000+EF!$M$5*'TÍNH TOÁN PHÂN ĐẠM'!BH16/1000","v":{"$error":"#REF!"}},{"$f":"AC16+AS16*EF!$M$4/1000+EF!$M$5*'TÍNH TOÁN PHÂN ĐẠM'!BI16/1000","v":{"$error":"#REF!"}},{"$f":"AD16+AT16*EF!$M$4/1000+EF!$M$5*'TÍNH TOÁN PHÂN ĐẠM'!BJ16/1000","v":{"$error":"#REF!"}},{"$f":"AE16+AU16*EF!$M$4/1000+EF!$M$5*'TÍNH TOÁN PHÂN ĐẠM'!BK16/1000","v":{"$error":"#REF!"}},{"$f":"AF16+AV16*EF!$M$4/1000+EF!$M$5*'TÍNH TOÁN PHÂN ĐẠM'!BL16/1000","v":{"$error":"#REF!"}},{"$error":"#REF!"}]
[{"$f":"IF(OFFSET('GARMENT&TEXTILE PHASE 2'!#REF!,4,0)<>\"Tổng (GJ)\",OFFSET('GARMENT&TEXTILE PHASE 2'!#REF!,4,0),0)","v":{"$error":"#REF!"}},{"$f":"IF(A17<>0,OFFSET('GARMENT&TEXTILE PHASE 2'!#REF!,4,0),0)","v":{"$error":"#REF!"}},{"$f":"IF(A17<>0,VLOOKUP(A17&B17,'unit conversion'!$A$2:$F$267,5,0),0)","v":{"$error":"#REF!"}},{"$f":"IF(A17<>0,VLOOKUP(A17&B17,'unit conversion'!$A$2:$F$267,6,0),0)","v":{"$error":"#REF!"}},{"$f":"IF(AND(A17<>0,B17<>0),OFFSET('GARMENT&TEXTILE PHASE 2'!#REF!,3,0)*'TÍNH TOÁN PHÂN ĐẠM'!C17*'TÍNH TOÁN PHÂN ĐẠM'!D17,0)","v":{"$error":"#REF!"}},{"$f":"IF(AND($A$17<>0,$B$17<>0),OFFSET('GARMENT&TEXTILE PHASE 2'!#REF!,3,0)*'TÍNH TOÁN PHÂN ĐẠM'!$C$17*'TÍNH TOÁN PHÂN ĐẠM'!$D$17,0)","v":{"$error":"#REF!"}},{"$f":"IF(AND($A$17<>0,$B$17<>0),OFFSET('GARMENT&TEXTILE PHASE 2'!#REF!,3,0)*'TÍNH TOÁN PHÂN ĐẠM'!$C$17*'TÍNH TOÁN PHÂN ĐẠM'!$D$17,0)","v":{"$error":"#REF!"}},{"$f":"IF(AND($A$17<>0,$B$17<>0),OFFSET('GARMENT&TEXTILE PHASE 2'!#REF!,3,0)*'TÍNH TOÁN PHÂN ĐẠM'!$C$17*'TÍNH TOÁN PHÂN ĐẠM'!$D$17,0)","v":{"$error":"#REF!"}},{"$f":"IF(AND($A$17<>0,$B$17<>0),OFFSET('GARMENT&TEXTILE PHASE 2'!#REF!,3,0)*'TÍNH TOÁN PHÂN ĐẠM'!$C$17*'TÍNH TOÁN PHÂN ĐẠM'!$D$17,0)","v":{"$error":"#REF!"}},{"$f":"IF(AND($A$17<>0,$B$17<>0),OFFSET('GARMENT&TEXTILE PHASE 2'!#REF!,3,0)*'TÍNH TOÁN PHÂN ĐẠM'!$C$17*'TÍNH TOÁN PHÂN ĐẠM'!$D$17,0)","v":{"$error":"#REF!"}},{"$f":"IF(AND($A$17<>0,$B$17<>0),OFFSET('GARMENT&TEXTILE PHASE 2'!#REF!,3,0)*'TÍNH TOÁN PHÂN ĐẠM'!$C$17*'TÍNH TOÁN PHÂN ĐẠM'!$D$17,0)","v":{"$error":"#REF!"}},{"$f":"IF(AND($A$17<>0,$B$17<>0),OFFSET('GARMENT&TEXTILE PHASE 2'!#REF!,3,0)*'TÍNH TOÁN PHÂN ĐẠM'!$C$17*'TÍNH TOÁN PHÂN ĐẠM'!$D$17,0)","v":{"$error":"#REF!"}},{"$f":"IF(AND($A$17<>0,$B$17<>0),OFFSET('GARMENT&TEXTILE PHASE 2'!#REF!,3,0)*'TÍNH TOÁN PHÂN ĐẠM'!$C$17*'TÍNH TOÁN PHÂN ĐẠM'!$D$17,0)","v":{"$error":"#REF!"}},{"$f":"IF(AND($A$17<>0,$B$17<>0),OFFSET('GARMENT&TEXTILE PHASE 2'!#REF!,3,0)*'TÍNH TOÁN PHÂN ĐẠM'!$C$17*'TÍNH TOÁN PHÂN ĐẠM'!$D$17,0)","v":{"$error":"#REF!"}},{"$f":"IF(AND($A$17<>0,$B$17<>0),OFFSET('GARMENT&TEXTILE PHASE 2'!#REF!,3,0)*'TÍNH TOÁN PHÂN ĐẠM'!$C$17*'TÍNH TOÁN PHÂN ĐẠM'!$D$17,0)","v":{"$error":"#REF!"}},{"$f":"IF(AND($A$17<>0,$B$17<>0),OFFSET('GARMENT&TEXTILE PHASE 2'!#REF!,3,0)*'TÍNH TOÁN PHÂN ĐẠM'!$C$17*'TÍNH TOÁN PHÂN ĐẠM'!$D$17,0)","v":{"$error":"#REF!"}},{"$error":"#REF!"},null,{"$error":"#REF!"},{"$f":"IF(S17<>0,VLOOKUP(S17,EF!$B$4:$H$55,2,0),0)","v":{"$error":"#REF!"}},{"$f":"E17*$T$17/1000","v":{"$error":"#REF!"}},{"$f":"F17*$T$17/1000","v":{"$error":"#REF!"}},{"$error":"#REF!"},{"$error":"#REF!"},{"$error":"#REF!"},{"$error":"#REF!"},{"$error":"#REF!"},{"$error":"#REF!"},{"$error":"#REF!"},{"$error":"#REF!"},{"$error":"#REF!"},{"$error":"#REF!"},{"$error":"#REF!"},null,{"$error":"#REF!"},{"$f":"IF(AI17<>0,VLOOKUP(AI17,EF!$B$4:$E$55,3,0),0)","v":{"$error":"#REF!"}},{"$f":"E17*$AJ$17","v":{"$error":"#REF!"}},{"$f":"F17*$AJ$17","v":{"$error":"#REF!"}},{"$error":"#REF!"},{"$error":"#REF!"},{"$error":"#REF!"},{"$error":"#REF!"},{"$error":"#REF!"},{"$error":"#REF!"},{"$error":"#REF!"},{"$error":"#REF!"},{"$error":"#REF!"},{"$error":"#REF!"},{"$error":"#REF!"},null,{"$error":"#REF!"},{"$f":"IF(AY17<>0,VLOOKUP(AY17,EF!$B$4:$E$55,4,0),0)","v":{"$error":"#REF!"}},{"$f":"E17*$AZ$17","v":{"$error":"#REF!"}},{"$f":"F17*$AZ$17","v":{"$error":"#REF!"}},{"$error":"#REF!"},{"$error":"#REF!"},{"$error":"#REF!"},{"$error":"#REF!"},{"$error":"#REF!"},{"$error":"#REF!"},{"$error":"#REF!"},{"$error":"#REF!"},{"$error":"#REF!"},{"$error":"#REF!"},{"$error":"#REF!"},null,{"$error":"#REF!"},{"$f":"U17+AK17*EF!$M$4/1000+EF!$M$5*'TÍNH TOÁN PHÂN ĐẠM'!BA17/1000","v":{"$error":"#REF!"}},{"$f":"V17+AL17*EF!$M$4/1000+EF!$M$5*'TÍNH TOÁN PHÂN ĐẠM'!BB17/1000","v":{"$error":"#REF!"}},{"$f":"W17+AM17*EF!$M$4/1000+EF!$M$5*'TÍNH TOÁN PHÂN ĐẠM'!BC17/1000","v":{"$error":"#REF!"}},{"$f":"X17+AN17*EF!$M$4/1000+EF!$M$5*'TÍNH TOÁN PHÂN ĐẠM'!BD17/1000","v":{"$error":"#REF!"}},{"$f":"Y17+AO17*EF!$M$4/1000+EF!$M$5*'TÍNH TOÁN PHÂN ĐẠM'!BE17/1000","v":{"$error":"#REF!"}},{"$f":"Z17+AP17*EF!$M$4/1000+EF!$M$5*'TÍNH TOÁN PHÂN ĐẠM'!BF17/1000","v":{"$error":"#REF!"}},{"$f":"AA17+AQ17*EF!$M$4/1000+EF!$M$5*'TÍNH TOÁN PHÂN ĐẠM'!BG17/1000","v":{"$error":"#REF!"}},{"$f":"AB17+AR17*EF!$M$4/1000+EF!$M$5*'TÍNH TOÁN PHÂN ĐẠM'!BH17/1000","v":{"$error":"#REF!"}},{"$f":"AC17+AS17*EF!$M$4/1000+EF!$M$5*'TÍNH TOÁN PHÂN ĐẠM'!BI17/1000","v":{"$error":"#REF!"}},{"$f":"AD17+AT17*EF!$M$4/1000+EF!$M$5*'TÍNH TOÁN PHÂN ĐẠM'!BJ17/1000","v":{"$error":"#REF!"}},{"$f":"AE17+AU17*EF!$M$4/1000+EF!$M$5*'TÍNH TOÁN PHÂN ĐẠM'!BK17/1000","v":{"$error":"#REF!"}},{"$f":"AF17+AV17*EF!$M$4/1000+EF!$M$5*'TÍNH TOÁN PHÂN ĐẠM'!BL17/1000","v":{"$error":"#REF!"}},{"$error":"#REF!"}]
[{"$f":"IF(OFFSET('GARMENT&TEXTILE PHASE 2'!#REF!,5,0)<>\"Tổng (GJ)\",OFFSET('GARMENT&TEXTILE PHASE 2'!#REF!,5,0),0)","v":{"$error":"#REF!"}},{"$f":"IF(A18<>0,OFFSET('GARMENT&TEXTILE PHASE 2'!#REF!,5,0),0)","v":{"$error":"#REF!"}},{"$f":"IF(A18<>0,VLOOKUP(A18&B18,'unit conversion'!$A$2:$F$267,5,0),0)","v":{"$error":"#REF!"}},{"$f":"IF(A18<>0,VLOOKUP(A18&B18,'unit conversion'!$A$2:$F$267,6,0),0)","v":{"$error":"#REF!"}},{"$f":"IF(AND($A$18<>0,$B$18<>0),OFFSET('GARMENT&TEXTILE PHASE 2'!#REF!,4,0)*'TÍNH TOÁN PHÂN ĐẠM'!$C$18*'TÍNH TOÁN PHÂN ĐẠM'!$D$18,0)","v":{"$error":"#REF!"}},{"$f":"IF(AND($A$18<>0,$B$18<>0),OFFSET('GARMENT&TEXTILE PHASE 2'!#REF!,4,0)*'TÍNH TOÁN PHÂN ĐẠM'!$C$18*'TÍNH TOÁN PHÂN ĐẠM'!$D$18,0)","v":{"$error":"#REF!"}},{"$f":"IF(AND($A$18<>0,$B$18<>0),OFFSET('GARMENT&TEXTILE PHASE 2'!#REF!,4,0)*'TÍNH TOÁN PHÂN ĐẠM'!$C$18*'TÍNH TOÁN PHÂN ĐẠM'!$D$18,0)","v":{"$error":"#REF!"}},{"$f":"IF(AND($A$18<>0,$B$18<>0),OFFSET('GARMENT&TEXTILE PHASE 2'!#REF!,4,0)*'TÍNH TOÁN PHÂN ĐẠM'!$C$18*'TÍNH TOÁN PHÂN ĐẠM'!$D$18,0)","v":{"$error":"#REF!"}},{"$f":"IF(AND($A$18<>0,$B$18<>0),OFFSET('GARMENT&TEXTILE PHASE 2'!#REF!,4,0)*'TÍNH TOÁN PHÂN ĐẠM'!$C$18*'TÍNH TOÁN PHÂN ĐẠM'!$D$18,0)","v":{"$error":"#REF!"}},{"$f":"IF(AND($A$18<>0,$B$18<>0),OFFSET('GARMENT&TEXTILE PHASE 2'!#REF!,4,0)*'TÍNH TOÁN PHÂN ĐẠM'!$C$18*'TÍNH TOÁN PHÂN ĐẠM'!$D$18,0)","v":{"$error":"#REF!"}},{"$f":"IF(AND($A$18<>0,$B$18<>0),OFFSET('GARMENT&TEXTILE PHASE 2'!#REF!,4,0)*'TÍNH TOÁN PHÂN ĐẠM'!$C$18*'TÍNH TOÁN PHÂN ĐẠM'!$D$18,0)","v":{"$error":"#REF!"}},{"$f":"IF(AND($A$18<>0,$B$18<>0),OFFSET('GARMENT&TEXTILE PHASE 2'!#REF!,4,0)*'TÍNH TOÁN PHÂN ĐẠM'!$C$18*'TÍNH TOÁN PHÂN ĐẠM'!$D$18,0)","v":{"$error":"#REF!"}},{"$f":"IF(AND($A$18<>0,$B$18<>0),OFFSET('GARMENT&TEXTILE PHASE 2'!#REF!,4,0)*'TÍNH TOÁN PHÂN ĐẠM'!$C$18*'TÍNH TOÁN PHÂN ĐẠM'!$D$18,0)","v":{"$error":"#REF!"}},{"$f":"IF(AND($A$18<>0,$B$18<>0),OFFSET('GARMENT&TEXTILE PHASE 2'!#REF!,4,0)*'TÍNH TOÁN PHÂN ĐẠM'!$C$18*'TÍNH TOÁN PHÂN ĐẠM'!$D$18,0)","v":{"$error":"#REF!"}},{"$f":"IF(AND($A$18<>0,$B$18<>0),OFFSET('GARMENT&TEXTILE PHASE 2'!#REF!,4,0)*'TÍNH TOÁN PHÂN ĐẠM'!$C$18*'TÍNH TOÁN PHÂN ĐẠM'!$D$18,0)","v":{"$error":"#REF!"}},{"$f":"IF(AND($A$18<>0,$B$18<>0),OFFSET('GARMENT&TEXTILE PHASE 2'!#REF!,4,0)*'TÍNH TOÁN PHÂN ĐẠM'!$C$18*'TÍNH TOÁN PHÂN ĐẠM'!$D$18,0)","v":{"$error":"#REF!"}},{"$error":"#REF!"},null,{"$error":"#REF!"},{"$f":"IF(S18<>0,VLOOKUP(S18,EF!$B$4:$H$55,2,0),0)","v":{"$error":"#REF!"}},{"$f":"E18*$T$18/1000","v":{"$error":"#REF!"}},{"$f":"F18*$T$18/1000","v":{"$error":"#REF!"}},{"$error":"#REF!"},{"$error":"#REF!"},{"$error":"#REF!"},{"$error":"#REF!"},{"$error":"#REF!"},{"$error":"#REF!"},{"$error":"#REF!"},{"$error":"#REF!"},{"$error":"#REF!"},{"$error":"#REF!"},{"$error":"#REF!"},null,{"$error":"#REF!"},{"$f":"IF(AI18<>0,VLOOKUP(AI18,EF!$B$4:$E$55,3,0),0)","v":{"$error":"#REF!"}},{"$f":"E18*$AJ$18","v":{"$error":"#REF!"}},{"$f":"F18*$AJ$18","v":{"$error":"#REF!"}},{"$error":"#REF!"},{"$error":"#REF!"},{"$error":"#REF!"},{"$error":"#REF!"},{"$error":"#REF!"},{"$error":"#REF!"},{"$error":"#REF!"},{"$error":"#REF!"},{"$error":"#REF!"},{"$error":"#REF!"},{"$error":"#REF!"},null,{"$error":"#REF!"},{"$f":"IF(AY18<>0,VLOOKUP(AY18,EF!$B$4:$E$55,4,0),0)","v":{"$error":"#REF!"}},{"$f":"E18*$AZ$18","v":{"$error":"#REF!"}},{"$f":"F18*$AZ$18","v":{"$error":"#REF!"}},{"$error":"#REF!"},{"$error":"#REF!"},{"$error":"#REF!"},{"$error":"#REF!"},{"$error":"#REF!"},{"$error":"#REF!"},{"$error":"#REF!"},{"$error":"#REF!"},{"$error":"#REF!"},{"$error":"#REF!"},{"$error":"#REF!"},null,{"$error":"#REF!"},{"$f":"U18+AK18*EF!$M$4/1000+EF!$M$5*'TÍNH TOÁN PHÂN ĐẠM'!BA18/1000","v":{"$error":"#REF!"}},{"$f":"V18+AL18*EF!$M$4/1000+EF!$M$5*'TÍNH TOÁN PHÂN ĐẠM'!BB18/1000","v":{"$error":"#REF!"}},{"$f":"W18+AM18*EF!$M$4/1000+EF!$M$5*'TÍNH TOÁN PHÂN ĐẠM'!BC18/1000","v":{"$error":"#REF!"}},{"$f":"X18+AN18*EF!$M$4/1000+EF!$M$5*'TÍNH TOÁN PHÂN ĐẠM'!BD18/1000","v":{"$error":"#REF!"}},{"$f":"Y18+AO18*EF!$M$4/1000+EF!$M$5*'TÍNH TOÁN PHÂN ĐẠM'!BE18/1000","v":{"$error":"#REF!"}},{"$f":"Z18+AP18*EF!$M$4/1000+EF!$M$5*'TÍNH TOÁN PHÂN ĐẠM'!BF18/1000","v":{"$error":"#REF!"}},{"$f":"AA18+AQ18*EF!$M$4/1000+EF!$M$5*'TÍNH TOÁN PHÂN ĐẠM'!BG18/1000","v":{"$error":"#REF!"}},{"$f":"AB18+AR18*EF!$M$4/1000+EF!$M$5*'TÍNH TOÁN PHÂN ĐẠM'!BH18/1000","v":{"$error":"#REF!"}},{"$f":"AC18+AS18*EF!$M$4/1000+EF!$M$5*'TÍNH TOÁN PHÂN ĐẠM'!BI18/1000","v":{"$error":"#REF!"}},{"$f":"AD18+AT18*EF!$M$4/1000+EF!$M$5*'TÍNH TOÁN PHÂN ĐẠM'!BJ18/1000","v":{"$error":"#REF!"}},{"$f":"AE18+AU18*EF!$M$4/1000+EF!$M$5*'TÍNH TOÁN PHÂN ĐẠM'!BK18/1000","v":{"$error":"#REF!"}},{"$f":"AF18+AV18*EF!$M$4/1000+EF!$M$5*'TÍNH TOÁN PHÂN ĐẠM'!BL18/1000","v":{"$error":"#REF!"}},{"$error":"#REF!"}]
[{"$f":"IF(OFFSET('GARMENT&TEXTILE PHASE 2'!#REF!,6,0)<>\"Tổng (GJ)\",OFFSET('GARMENT&TEXTILE PHASE 2'!#REF!,6,0),0)","v":{"$error":"#REF!"}},{"$f":"IF(A19<>0,OFFSET('GARMENT&TEXTILE PHASE 2'!#REF!,6,0),0)","v":{"$error":"#REF!"}},{"$f":"IF(A19<>0,VLOOKUP(A19&B19,'unit conversion'!$A$2:$F$267,5,0),0)","v":{"$error":"#REF!"}},{"$f":"IF(A19<>0,VLOOKUP(A19&B19,'unit conversion'!$A$2:$F$267,6,0),0)","v":{"$error":"#REF!"}},{"$f":"IF(AND($A$19<>0,$B$19<>0),OFFSET('GARMENT&TEXTILE PHASE 2'!#REF!,5,0)*'TÍNH TOÁN PHÂN ĐẠM'!$C$19*'TÍNH TOÁN PHÂN ĐẠM'!$D$19,0)","v":{"$error":"#REF!"}},{"$f":"IF(AND($A$19<>0,$B$19<>0),OFFSET('GARMENT&TEXTILE PHASE 2'!#REF!,5,0)*'TÍNH TOÁN PHÂN ĐẠM'!$C$19*'TÍNH TOÁN PHÂN ĐẠM'!$D$19,0)","v":{"$error":"#REF!"}},{"$f":"IF(AND($A$19<>0,$B$19<>0),OFFSET('GARMENT&TEXTILE PHASE 2'!#REF!,5,0)*'TÍNH TOÁN PHÂN ĐẠM'!$C$19*'TÍNH TOÁN PHÂN ĐẠM'!$D$19,0)","v":{"$error":"#REF!"}},{"$f":"IF(AND($A$19<>0,$B$19<>0),OFFSET('GARMENT&TEXTILE PHASE 2'!#REF!,5,0)*'TÍNH TOÁN PHÂN ĐẠM'!$C$19*'TÍNH TOÁN PHÂN ĐẠM'!$D$19,0)","v":{"$error":"#REF!"}},{"$f":"IF(AND($A$19<>0,$B$19<>0),OFFSET('GARMENT&TEXTILE PHASE 2'!#REF!,5,0)*'TÍNH TOÁN PHÂN ĐẠM'!$C$19*'TÍNH TOÁN PHÂN ĐẠM'!$D$19,0)","v":{"$error":"#REF!"}},{"$f":"IF(AND($A$19<>0,$B$19<>0),OFFSET('GARMENT&TEXTILE PHASE 2'!#REF!,5,0)*'TÍNH TOÁN PHÂN ĐẠM'!$C$19*'TÍNH TOÁN PHÂN ĐẠM'!$D$19,0)","v":{"$error":"#REF!"}},{"$f":"IF(AND($A$19<>0,$B$19<>0),OFFSET('GARMENT&TEXTILE PHASE 2'!#REF!,5,0)*'TÍNH TOÁN PHÂN ĐẠM'!$C$19*'TÍNH TOÁN PHÂN ĐẠM'!$D$19,0)","v":{"$error":"#REF!"}},{"$f":"IF(AND($A$19<>0,$B$19<>0),OFFSET('GARMENT&TEXTILE PHASE 2'!#REF!,5,0)*'TÍNH TOÁN PHÂN ĐẠM'!$C$19*'TÍNH TOÁN PHÂN ĐẠM'!$D$19,0)","v":{"$error":"#REF!"}},{"$f":"IF(AND($A$19<>0,$B$19<>0),OFFSET('GARMENT&TEXTILE PHASE 2'!#REF!,5,0)*'TÍNH TOÁN PHÂN ĐẠM'!$C$19*'TÍNH TOÁN PHÂN ĐẠM'!$D$19,0)","v":{"$error":"#REF!"}},{"$f":"IF(AND($A$19<>0,$B$19<>0),OFFSET('GARMENT&TEXTILE PHASE 2'!#REF!,5,0)*'TÍNH TOÁN PHÂN ĐẠM'!$C$19*'TÍNH TOÁN PHÂN ĐẠM'!$D$19,0)","v":{"$error":"#REF!"}},{"$f":"IF(AND($A$19<>0,$B$19<>0),OFFSET('GARMENT&TEXTILE PHASE 2'!#REF!,5,0)*'TÍNH TOÁN PHÂN ĐẠM'!$C$19*'TÍNH TOÁN PHÂN ĐẠM'!$D$19,0)","v":{"$error":"#REF!"}},{"$f":"IF(AND($A$19<>0,$B$19<>0),OFFSET('GARMENT&TEXTILE PHASE 2'!#REF!,5,0)*'TÍNH TOÁN PHÂN ĐẠM'!$C$19*'TÍNH TOÁN PHÂN ĐẠM'!$D$19,0)","v":{"$error":"#REF!"}},{"$error":"#REF!"},null,{"$error":"#REF!"},{"$f":"IF(S19<>0,VLOOKUP(S19,EF!$B$4:$H$55,2,0),0)","v":{"$error":"#REF!"}},{"$f":"E19*$T$19/1000","v":{"$error":"#REF!"}},{"$f":"F19*$T$19/1000","v":{"$error":"#REF!"}},{"$error":"#REF!"},{"$error":"#REF!"},{"$error":"#REF!"},{"$error":"#REF!"},{"$error":"#REF!"},{"$error":"#REF!"},{"$error":"#REF!"},{"$error":"#REF!"},{"$error":"#REF!"},{"$error":"#REF!"},{"$error":"#REF!"},null,{"$error":"#REF!"},{"$f":"IF(AI19<>0,VLOOKUP(AI19,EF!$B$4:$E$55,3,0),0)","v":{"$error":"#REF!"}},{"$f":"E19*$AJ$19","v":{"$error":"#REF!"}},{"$f":"F19*$AJ$19","v":{"$error":"#REF!"}},{"$error":"#REF!"},{"$error":"#REF!"},{"$error":"#REF!"},{"$error":"#REF!"},{"$error":"#REF!"},{"$error":"#REF!"},{"$error":"#REF!"},{"$error":"#REF!"},{"$error":"#REF!"},{"$error":"#REF!"},{"$error":"#REF!"},null,{"$error":"#REF!"},{"$f":"IF(AY19<>0,VLOOKUP(AY19,EF!$B$4:$E$55,4,0),0)","v":{"$error":"#REF!"}},{"$f":"E19*$AZ$19","v":{"$error":"#REF!"}},{"$f":"F19*$AZ$19","v":{"$error":"#REF!"}},{"$error":"#REF!"},{"$error":"#REF!"},{"$error":"#REF!"},{"$error":"#REF!"},{"$error":"#REF!"},{"$error":"#REF!"},{"$error":"#REF!"},{"$error":"#REF!"},{"$error":"#REF!"},{"$error":"#REF!"},{"$error":"#REF!"},null,{"$error":"#REF!"},{"$f":"U19+AK19*EF!$M$4/1000+EF!$M$5*'TÍNH TOÁN PHÂN ĐẠM'!BA19/1000","v":{"$error":"#REF!"}},{"$f":"V19+AL19*EF!$M$4/1000+EF!$M$5*'TÍNH TOÁN PHÂN ĐẠM'!BB19/1000","v":{"$error":"#REF!"}},{"$f":"W19+AM19*EF!$M$4/1000+EF!$M$5*'TÍNH TOÁN PHÂN ĐẠM'!BC19/1000","v":{"$error":"#REF!"}},{"$f":"X19+AN19*EF!$M$4/1000+EF!$M$5*'TÍNH TOÁN PHÂN ĐẠM'!BD19/1000","v":{"$error":"#REF!"}},{"$f":"Y19+AO19*EF!$M$4/1000+EF!$M$5*'TÍNH TOÁN PHÂN ĐẠM'!BE19/1000","v":{"$error":"#REF!"}},{"$f":"Z19+AP19*EF!$M$4/1000+EF!$M$5*'TÍNH TOÁN PHÂN ĐẠM'!BF19/1000","v":{"$error":"#REF!"}},{"$f":"AA19+AQ19*EF!$M$4/1000+EF!$M$5*'TÍNH TOÁN PHÂN ĐẠM'!BG19/1000","v":{"$error":"#REF!"}},{"$f":"AB19+AR19*EF!$M$4/1000+EF!$M$5*'TÍNH TOÁN PHÂN ĐẠM'!BH19/1000","v":{"$error":"#REF!"}},{"$f":"AC19+AS19*EF!$M$4/1000+EF!$M$5*'TÍNH TOÁN PHÂN ĐẠM'!BI19/1000","v":{"$error":"#REF!"}},{"$f":"AD19+AT19*EF!$M$4/1000+EF!$M$5*'TÍNH TOÁN PHÂN ĐẠM'!BJ19/1000","v":{"$error":"#REF!"}},{"$f":"AE19+AU19*EF!$M$4/1000+EF!$M$5*'TÍNH TOÁN PHÂN ĐẠM'!BK19/1000","v":{"$error":"#REF!"}},{"$f":"AF19+AV19*EF!$M$4/1000+EF!$M$5*'TÍNH TOÁN PHÂN ĐẠM'!BL19/1000","v":{"$error":"#REF!"}},{"$error":"#REF!"}]
[{"$f":"IF(OFFSET('GARMENT&TEXTILE PHASE 2'!#REF!,7,0)<>\"Tổng (GJ)\",OFFSET('GARMENT&TEXTILE PHASE 2'!#REF!,7,0),0)","v":{"$error":"#REF!"}},{"$f":"IF(A20<>0,OFFSET('GARMENT&TEXTILE PHASE 2'!#REF!,7,0),0)","v":{"$error":"#REF!"}},{"$f":"IF(A20<>0,VLOOKUP(A20&B20,'unit conversion'!$A$2:$F$267,5,0),0)","v":{"$error":"#REF!"}},{"$f":"IF(A20<>0,VLOOKUP(A20&B20,'unit conversion'!$A$2:$F$267,6,0),0)","v":{"$error":"#REF!"}},{"$f":"IF(AND($A$20<>0,$B$20<>0),OFFSET('GARMENT&TEXTILE PHASE 2'!#REF!,6,0)*'TÍNH TOÁN PHÂN ĐẠM'!$C$20*'TÍNH TOÁN PHÂN ĐẠM'!$D$20,0)","v":{"$error":"#REF!"}},{"$f":"IF(AND($A$20<>0,$B$20<>0),OFFSET('GARMENT&TEXTILE PHASE 2'!#REF!,6,0)*'TÍNH TOÁN PHÂN ĐẠM'!$C$20*'TÍNH TOÁN PHÂN ĐẠM'!$D$20,0)","v":{"$error":"#REF!"}},{"$f":"IF(AND($A$20<>0,$B$20<>0),OFFSET('GARMENT&TEXTILE PHASE 2'!#REF!,6,0)*'TÍNH TOÁN PHÂN ĐẠM'!$C$20*'TÍNH TOÁN PHÂN ĐẠM'!$D$20,0)","v":{"$error":"#REF!"}},{"$f":"IF(AND($A$20<>0,$B$20<>0),OFFSET('GARMENT&TEXTILE PHASE 2'!#REF!,6,0)*'TÍNH TOÁN PHÂN ĐẠM'!$C$20*'TÍNH TOÁN PHÂN ĐẠM'!$D$20,0)","v":{"$error":"#REF!"}},{"$f":"IF(AND($A$20<>0,$B$20<>0),OFFSET('GARMENT&TEXTILE PHASE 2'!#REF!,6,0)*'TÍNH TOÁN PHÂN ĐẠM'!$C$20*'TÍNH TOÁN PHÂN ĐẠM'!$D$20,0)","v":{"$error":"#REF!"}},{"$f":"IF(AND($A$20<>0,$B$20<>0),OFFSET('GARMENT&TEXTILE PHASE 2'!#REF!,6,0)*'TÍNH TOÁN PHÂN ĐẠM'!$C$20*'TÍNH TOÁN PHÂN ĐẠM'!$D$20,0)","v":{"$error":"#REF!"}},{"$f":"IF(AND($A$20<>0,$B$20<>0),OFFSET('GARMENT&TEXTILE PHASE 2'!#REF!,6,0)*'TÍNH TOÁN PHÂN ĐẠM'!$C$20*'TÍNH TOÁN PHÂN ĐẠM'!$D$20,0)","v":{"$error":"#REF!"}},{"$f":"IF(AND($A$20<>0,$B$20<>0),OFFSET('GARMENT&TEXTILE PHASE 2'!#REF!,6,0)*'TÍNH TOÁN PHÂN ĐẠM'!$C$20*'TÍNH TOÁN PHÂN ĐẠM'!$D$20,0)","v":{"$error":"#REF!"}},{"$f":"IF(AND($A$20<>0,$B$20<>0),OFFSET('GARMENT&TEXTILE PHASE 2'!#REF!,6,0)*'TÍNH TOÁN PHÂN ĐẠM'!$C$20*'TÍNH TOÁN PHÂN ĐẠM'!$D$20,0)","v":{"$error":"#REF!"}},{"$f":"IF(AND($A$20<>0,$B$20<>0),OFFSET('GARMENT&TEXTILE PHASE 2'!#REF!,6,0)*'TÍNH TOÁN PHÂN ĐẠM'!$C$20*'TÍNH TOÁN PHÂN ĐẠM'!$D$20,0)","v":{"$error":"#REF!"}},{"$f":"IF(AND($A$20<>0,$B$20<>0),OFFSET('GARMENT&TEXTILE PHASE 2'!#REF!,6,0)*'TÍNH TOÁN PHÂN ĐẠM'!$C$20*'TÍNH TOÁN PHÂN ĐẠM'!$D$20,0)","v":{"$error":"#REF!"}},{"$f":"IF(AND($A$20<>0,$B$20<>0),OFFSET('GARMENT&TEXTILE PHASE 2'!#REF!,6,0)*'TÍNH TOÁN PHÂN ĐẠM'!$C$20*'TÍNH TOÁN PHÂN ĐẠM'!$D$20,0)","v":{"$error":"#REF!"}},{"$error":"#REF!"},null,{"$error":"#REF!"},{"$f":"IF(S20<>0,VLOOKUP(S20,EF!$B$4:$H$55,2,0),0)","v":{"$error":"#REF!"}},{"$f":"E20*$T$20/1000","v":{"$error":"#REF!"}},{"$f":"F20*$T$20/1000","v":{"$error":"#REF!"}},{"$error":"#REF!"},{"$error":"#REF!"},{"$error":"#REF!"},{"$error":"#REF!"},{"$error":"#REF!"},{"$error":"#REF!"},{"$error":"#REF!"},{"$error":"#REF!"},{"$error":"#REF!"},{"$error":"#REF!"},{"$error":"#REF!"},null,{"$error":"#REF!"},{"$f":"IF(AI20<>0,VLOOKUP(AI20,EF!$B$4:$E$55,3,0),0)","v":{"$error":"#REF!"}},{"$f":"E20*$AJ$20","v":{"$error":"#REF!"}},{"$f":"F20*$AJ$20","v":{"$error":"#REF!"}},{"$error":"#REF!"},{"$error":"#REF!"},{"$error":"#REF!"},{"$error":"#REF!"},{"$error":"#REF!"},{"$error":"#REF!"},{"$error":"#REF!"},{"$error":"#REF!"},{"$error":"#REF!"},{"$error":"#REF!"},{"$error":"#REF!"},null,{"$error":"#REF!"},{"$f":"IF(AY20<>0,VLOOKUP(AY20,EF!$B$4:$E$55,4,0),0)","v":{"$error":"#REF!"}},{"$f":"E20*$AZ$20","v":{"$error":"#REF!"}},{"$f":"F20*$AZ$20","v":{"$error":"#REF!"}},{"$error":"#REF!"},{"$error":"#REF!"},{"$error":"#REF!"},{"$error":"#REF!"},{"$error":"#REF!"},{"$error":"#REF!"},{"$error":"#REF!"},{"$error":"#REF!"},{"$error":"#REF!"},{"$error":"#REF!"},{"$error":"#REF!"},null,{"$error":"#REF!"},{"$f":"U20+AK20*EF!$M$4/1000+EF!$M$5*'TÍNH TOÁN PHÂN ĐẠM'!BA20/1000","v":{"$error":"#REF!"}},{"$f":"V20+AL20*EF!$M$4/1000+EF!$M$5*'TÍNH TOÁN PHÂN ĐẠM'!BB20/1000","v":{"$error":"#REF!"}},{"$f":"W20+AM20*EF!$M$4/1000+EF!$M$5*'TÍNH TOÁN PHÂN ĐẠM'!BC20/1000","v":{"$error":"#REF!"}},{"$f":"X20+AN20*EF!$M$4/1000+EF!$M$5*'TÍNH TOÁN PHÂN ĐẠM'!BD20/1000","v":{"$error":"#REF!"}},{"$f":"Y20+AO20*EF!$M$4/1000+EF!$M$5*'TÍNH TOÁN PHÂN ĐẠM'!BE20/1000","v":{"$error":"#REF!"}},{"$f":"Z20+AP20*EF!$M$4/1000+EF!$M$5*'TÍNH TOÁN PHÂN ĐẠM'!BF20/1000","v":{"$error":"#REF!"}},{"$f":"AA20+AQ20*EF!$M$4/1000+EF!$M$5*'TÍNH TOÁN PHÂN ĐẠM'!BG20/1000","v":{"$error":"#REF!"}},{"$f":"AB20+AR20*EF!$M$4/1000+EF!$M$5*'TÍNH TOÁN PHÂN ĐẠM'!BH20/1000","v":{"$error":"#REF!"}},{"$f":"AC20+AS20*EF!$M$4/1000+EF!$M$5*'TÍNH TOÁN PHÂN ĐẠM'!BI20/1000","v":{"$error":"#REF!"}},{"$f":"AD20+AT20*EF!$M$4/1000+EF!$M$5*'TÍNH TOÁN PHÂN ĐẠM'!BJ20/1000","v":{"$error":"#REF!"}},{"$f":"AE20+AU20*EF!$M$4/1000+EF!$M$5*'TÍNH TOÁN PHÂN ĐẠM'!BK20/1000","v":{"$error":"#REF!"}},{"$f":"AF20+AV20*EF!$M$4/1000+EF!$M$5*'TÍNH TOÁN PHÂN ĐẠM'!BL20/1000","v":{"$error":"#REF!"}},{"$error":"#REF!"}]
[{"$f":"IF(OFFSET('GARMENT&TEXTILE PHASE 2'!#REF!,8,0)<>\"Tổng (GJ)\",OFFSET('GARMENT&TEXTILE PHASE 2'!#REF!,8,0),0)","v":{"$error":"#REF!"}},{"$f":"IF(A21<>0,OFFSET('GARMENT&TEXTILE PHASE 2'!#REF!,8,0),0)","v":{"$error":"#REF!"}},{"$f":"IF(A21<>0,VLOOKUP(A21&B21,'unit conversion'!$A$2:$F$267,5,0),0)","v":{"$error":"#REF!"}},{"$f":"IF(A21<>0,VLOOKUP(A21&B21,'unit conversion'!$A$2:$F$267,6,0),0)","v":{"$error":"#REF!"}},{"$f":"IF(AND($A$21<>0,$B$21<>0),OFFSET('GARMENT&TEXTILE PHASE 2'!#REF!,7,0)*'TÍNH TOÁN PHÂN ĐẠM'!$C$21*'TÍNH TOÁN PHÂN ĐẠM'!$D$21,0)","v":{"$error":"#REF!"}},{"$f":"IF(AND($A$21<>0,$B$21<>0),OFFSET('GARMENT&TEXTILE PHASE 2'!#REF!,7,0)*'TÍNH TOÁN PHÂN ĐẠM'!$C$21*'TÍNH TOÁN PHÂN ĐẠM'!$D$21,0)","v":{"$error":"#REF!"}},{"$f":"IF(AND($A$21<>0,$B$21<>0),OFFSET('GARMENT&TEXTILE PHASE 2'!#REF!,7,0)*'TÍNH TOÁN PHÂN ĐẠM'!$C$21*'TÍNH TOÁN PHÂN ĐẠM'!$D$21,0)","v":{"$error":"#REF!"}},{"$f":"IF(AND($A$21<>0,$B$21<>0),OFFSET('GARMENT&TEXTILE PHASE 2'!#REF!,7,0)*'TÍNH TOÁN PHÂN ĐẠM'!$C$21*'TÍNH TOÁN PHÂN ĐẠM'!$D$21,0)","v":{"$error":"#REF!"}},{"$f":"IF(AND($A$21<>0,$B$21<>0),OFFSET('GARMENT&TEXTILE PHASE 2'!#REF!,7,0)*'TÍNH TOÁN PHÂN ĐẠM'!$C$21*'TÍNH TOÁN PHÂN ĐẠM'!$D$21,0)","v":{"$error":"#REF!"}},{"$f":"IF(AND($A$21<>0,$B$21<>0),OFFSET('GARMENT&TEXTILE PHASE 2'!#REF!,7,0)*'TÍNH TOÁN PHÂN ĐẠM'!$C$21*'TÍNH TOÁN PHÂN ĐẠM'!$D$21,0)","v":{"$error":"#REF!"}},{"$f":"IF(AND($A$21<>0,$B$21<>0),OFFSET('GARMENT&TEXTILE PHASE 2'!#REF!,7,0)*'TÍNH TOÁN PHÂN ĐẠM'!$C$21*'TÍNH TOÁN PHÂN ĐẠM'!$D$21,0)","v":{"$error":"#REF!"}},{"$f":"IF(AND($A$21<>0,$B$21<>0),OFFSET('GARMENT&TEXTILE PHASE 2'!#REF!,7,0)*'TÍNH TOÁN PHÂN ĐẠM'!$C$21*'TÍNH TOÁN PHÂN ĐẠM'!$D$21,0)","v":{"$error":"#REF!"}},{"$f":"IF(AND($A$21<>0,$B$21<>0),OFFSET('GARMENT&TEXTILE PHASE 2'!#REF!,7,0)*'TÍNH TOÁN PHÂN ĐẠM'!$C$21*'TÍNH TOÁN PHÂN ĐẠM'!$D$21,0)","v":{"$error":"#REF!"}},{"$f":"IF(AND($A$21<>0,$B$21<>0),OFFSET('GARMENT&TEXTILE PHASE 2'!#REF!,7,0)*'TÍNH TOÁN PHÂN ĐẠM'!$C$21*'TÍNH TOÁN PHÂN ĐẠM'!$D$21,0)","v":{"$error":"#REF!"}},{"$f":"IF(AND($A$21<>0,$B$21<>0),OFFSET('GARMENT&TEXTILE PHASE 2'!#REF!,7,0)*'TÍNH TOÁN PHÂN ĐẠM'!$C$21*'TÍNH TOÁN PHÂN ĐẠM'!$D$21,0)","v":{"$error":"#REF!"}},{"$f":"IF(AND($A$21<>0,$B$21<>0),OFFSET('GARMENT&TEXTILE PHASE 2'!#REF!,7,0)*'TÍNH TOÁN PHÂN ĐẠM'!$C$21*'TÍNH TOÁN PHÂN ĐẠM'!$D$21,0)","v":{"$error":"#REF!"}},{"$error":"#REF!"},null,{"$error":"#REF!"},{"$f":"IF(S21<>0,VLOOKUP(S21,EF!$B$4:$H$55,2,0),0)","v":{"$error":"#REF!"}},{"$f":"E21*$T$21/1000","v":{"$error":"#REF!"}},{"$f":"F21*$T$21/1000","v":{"$error":"#REF!"}},{"$error":"#REF!"},{"$error":"#REF!"},{"$error":"#REF!"},{"$error":"#REF!"},{"$error":"#REF!"},{"$error":"#REF!"},{"$error":"#REF!"},{"$error":"#REF!"},{"$error":"#REF!"},{"$error":"#REF!"},{"$error":"#REF!"},null,{"$error":"#REF!"},{"$f":"IF(AI21<>0,VLOOKUP(AI21,EF!$B$4:$E$55,3,0),0)","v":{"$error":"#REF!"}},{"$f":"E21*$AJ$21","v":{"$error":"#REF!"}},{"$f":"F21*$AJ$21","v":{"$error":"#REF!"}},{"$error":"#REF!"},{"$error":"#REF!"},{"$error":"#REF!"},{"$error":"#REF!"},{"$error":"#REF!"},{"$error":"#REF!"},{"$error":"#REF!"},{"$error":"#REF!"},{"$error":"#REF!"},{"$error":"#REF!"},{"$error":"#REF!"},null,{"$error":"#REF!"},{"$f":"IF(AY21<>0,VLOOKUP(AY21,EF!$B$4:$E$55,4,0),0)","v":{"$error":"#REF!"}},{"$f":"E21*$AZ$21","v":{"$error":"#REF!"}},{"$f":"F21*$AZ$21","v":{"$error":"#REF!"}},{"$error":"#REF!"},{"$error":"#REF!"},{"$error":"#REF!"},{"$error":"#REF!"},{"$error":"#REF!"},{"$error":"#REF!"},{"$error":"#REF!"},{"$error":"#REF!"},{"$error":"#REF!"},{"$error":"#REF!"},{"$error":"#REF!"},null,{"$error":"#REF!"},{"$f":"U21+AK21*EF!$M$4/1000+EF!$M$5*'TÍNH TOÁN PHÂN ĐẠM'!BA21/1000","v":{"$error":"#REF!"}},{"$f":"V21+AL21*EF!$M$4/1000+EF!$M$5*'TÍNH TOÁN PHÂN ĐẠM'!BB21/1000","v":{"$error":"#REF!"}},{"$f":"W21+AM21*EF!$M$4/1000+EF!$M$5*'TÍNH TOÁN PHÂN ĐẠM'!BC21/1000","v":{"$error":"#REF!"}},{"$f":"X21+AN21*EF!$M$4/1000+EF!$M$5*'TÍNH TOÁN PHÂN ĐẠM'!BD21/1000","v":{"$error":"#REF!"}},{"$f":"Y21+AO21*EF!$M$4/1000+EF!$M$5*'TÍNH TOÁN PHÂN ĐẠM'!BE21/1000","v":{"$error":"#REF!"}},{"$f":"Z21+AP21*EF!$M$4/1000+EF!$M$5*'TÍNH TOÁN PHÂN ĐẠM'!BF21/1000","v":{"$error":"#REF!"}},{"$f":"AA21+AQ21*EF!$M$4/1000+EF!$M$5*'TÍNH TOÁN PHÂN ĐẠM'!BG21/1000","v":{"$error":"#REF!"}},{"$f":"AB21+AR21*EF!$M$4/1000+EF!$M$5*'TÍNH TOÁN PHÂN ĐẠM'!BH21/1000","v":{"$error":"#REF!"}},{"$f":"AC21+AS21*EF!$M$4/1000+EF!$M$5*'TÍNH TOÁN PHÂN ĐẠM'!BI21/1000","v":{"$error":"#REF!"}},{"$f":"AD21+AT21*EF!$M$4/1000+EF!$M$5*'TÍNH TOÁN PHÂN ĐẠM'!BJ21/1000","v":{"$error":"#REF!"}},{"$f":"AE21+AU21*EF!$M$4/1000+EF!$M$5*'TÍNH TOÁN PHÂN ĐẠM'!BK21/1000","v":{"$error":"#REF!"}},{"$f":"AF21+AV21*EF!$M$4/1000+EF!$M$5*'TÍNH TOÁN PHÂN ĐẠM'!BL21/1000","v":{"$error":"#REF!"}},{"$error":"#REF!"}]
[{"$f":"IF(OFFSET('GARMENT&TEXTILE PHASE 2'!#REF!,9,0)<>\"Tổng (GJ)\",OFFSET('GARMENT&TEXTILE PHASE 2'!#REF!,9,0),0)","v":{"$error":"#REF!"}},{"$f":"IF(A22<>0,OFFSET('GARMENT&TEXTILE PHASE 2'!#REF!,9,0),0)","v":{"$error":"#REF!"}},{"$f":"IF(A22<>0,VLOOKUP(A22&B22,'unit conversion'!$A$2:$F$267,5,0),0)","v":{"$error":"#REF!"}},{"$f":"IF(A22<>0,VLOOKUP(A22&B22,'unit conversion'!$A$2:$F$267,6,0),0)","v":{"$error":"#REF!"}},{"$f":"IF(AND($A$22<>0,$B$22<>0),OFFSET('GARMENT&TEXTILE PHASE 2'!#REF!,8,0)*'TÍNH TOÁN PHÂN ĐẠM'!$C$22*'TÍNH TOÁN PHÂN ĐẠM'!$D$22,0)","v":{"$error":"#REF!"}},{"$f":"IF(AND($A$22<>0,$B$22<>0),OFFSET('GARMENT&TEXTILE PHASE 2'!#REF!,8,0)*'TÍNH TOÁN PHÂN ĐẠM'!$C$22*'TÍNH TOÁN PHÂN ĐẠM'!$D$22,0)","v":{"$error":"#REF!"}},{"$f":"IF(AND($A$22<>0,$B$22<>0),OFFSET('GARMENT&TEXTILE PHASE 2'!#REF!,8,0)*'TÍNH TOÁN PHÂN ĐẠM'!$C$22*'TÍNH TOÁN PHÂN ĐẠM'!$D$22,0)","v":{"$error":"#REF!"}},{"$f":"IF(AND($A$22<>0,$B$22<>0),OFFSET('GARMENT&TEXTILE PHASE 2'!#REF!,8,0)*'TÍNH TOÁN PHÂN ĐẠM'!$C$22*'TÍNH TOÁN PHÂN ĐẠM'!$D$22,0)","v":{"$error":"#REF!"}},{"$f":"IF(AND($A$22<>0,$B$22<>0),OFFSET('GARMENT&TEXTILE PHASE 2'!#REF!,8,0)*'TÍNH TOÁN PHÂN ĐẠM'!$C$22*'TÍNH TOÁN PHÂN ĐẠM'!$D$22,0)","v":{"$error":"#REF!"}},{"$f":"IF(AND($A$22<>0,$B$22<>0),OFFSET('GARMENT&TEXTILE PHASE 2'!#REF!,8,0)*'TÍNH TOÁN PHÂN ĐẠM'!$C$22*'TÍNH TOÁN PHÂN ĐẠM'!$D$22,0)","v":{"$error":"#REF!"}},{"$f":"IF(AND($A$22<>0,$B$22<>0),OFFSET('GARMENT&TEXTILE PHASE 2'!#REF!,8,0)*'TÍNH TOÁN PHÂN ĐẠM'!$C$22*'TÍNH TOÁN PHÂN ĐẠM'!$D$22,0)","v":{"$error":"#REF!"}},{"$f":"IF(AND($A$22<>0,$B$22<>0),OFFSET('GARMENT&TEXTILE PHASE 2'!#REF!,8,0)*'TÍNH TOÁN PHÂN ĐẠM'!$C$22*'TÍNH TOÁN PHÂN ĐẠM'!$D$22,0)","v":{"$error":"#REF!"}},{"$f":"IF(AND($A$22<>0,$B$22<>0),OFFSET('GARMENT&TEXTILE PHASE 2'!#REF!,8,0)*'TÍNH TOÁN PHÂN ĐẠM'!$C$22*'TÍNH TOÁN PHÂN ĐẠM'!$D$22,0)","v":{"$error":"#REF!"}},{"$f":"IF(AND($A$22<>0,$B$22<>0),OFFSET('GARMENT&TEXTILE PHASE 2'!#REF!,8,0)*'TÍNH TOÁN PHÂN ĐẠM'!$C$22*'TÍNH TOÁN PHÂN ĐẠM'!$D$22,0)","v":{"$error":"#REF!"}},{"$f":"IF(AND($A$22<>0,$B$22<>0),OFFSET('GARMENT&TEXTILE PHASE 2'!#REF!,8,0)*'TÍNH TOÁN PHÂN ĐẠM'!$C$22*'TÍNH TOÁN PHÂN ĐẠM'!$D$22,0)","v":{"$error":"#REF!"}},{"$f":"IF(AND($A$22<>0,$B$22<>0),OFFSET('GARMENT&TEXTILE PHASE 2'!#REF!,8,0)*'TÍNH TOÁN PHÂN ĐẠM'!$C$22*'TÍNH TOÁN PHÂN ĐẠM'!$D$22,0)","v":{"$error":"#REF!"}},{"$error":"#REF!"},null,{"$error":"#REF!"},{"$f":"IF(S22<>0,VLOOKUP(S22,EF!$B$4:$H$55,2,0),0)","v":{"$error":"#REF!"}},{"$f":"E22*$T$22/1000","v":{"$error":"#REF!"}},{"$f":"F22*$T$22/1000","v":{"$error":"#REF!"}},{"$error":"#REF!"},{"$error":"#REF!"},{"$error":"#REF!"},{"$error":"#REF!"},{"$error":"#REF!"},{"$error":"#REF!"},{"$error":"#REF!"},{"$error":"#REF!"},{"$error":"#REF!"},{"$error":"#REF!"},{"$error":"#REF!"},null,{"$error":"#REF!"},{"$f":"IF(AI22<>0,VLOOKUP(AI22,EF!$B$4:$E$55,3,0),0)","v":{"$error":"#REF!"}},{"$f":"E22*$AJ$22","v":{"$error":"#REF!"}},{"$f":"F22*$AJ$22","v":{"$error":"#REF!"}},{"$error":"#REF!"},{"$error":"#REF!"},{"$error":"#REF!"},{"$error":"#REF!"},{"$error":"#REF!"},{"$error":"#REF!"},{"$error":"#REF!"},{"$error":"#REF!"},{"$error":"#REF!"},{"$error":"#REF!"},{"$error":"#REF!"},null,{"$error":"#REF!"},{"$f":"IF(AY22<>0,VLOOKUP(AY22,EF!$B$4:$E$55,4,0),0)","v":{"$error":"#REF!"}},{"$f":"E22*$AZ$22","v":{"$error":"#REF!"}},{"$f":"F22*$AZ$22","v":{"$error":"#REF!"}},{"$error":"#REF!"},{"$error":"#REF!"},{"$error":"#REF!"},{"$error":"#REF!"},{"$error":"#REF!"},{"$error":"#REF!"},{"$error":"#REF!"},{"$error":"#REF!"},{"$error":"#REF!"},{"$error":"#REF!"},{"$error":"#REF!"},null,{"$error":"#REF!"},{"$f":"U22+AK22*EF!$M$4/1000+EF!$M$5*'TÍNH TOÁN PHÂN ĐẠM'!BA22/1000","v":{"$error":"#REF!"}},{"$f":"V22+AL22*EF!$M$4/1000+EF!$M$5*'TÍNH TOÁN PHÂN ĐẠM'!BB22/1000","v":{"$error":"#REF!"}},{"$f":"W22+AM22*EF!$M$4/1000+EF!$M$5*'TÍNH TOÁN PHÂN ĐẠM'!BC22/1000","v":{"$error":"#REF!"}},{"$f":"X22+AN22*EF!$M$4/1000+EF!$M$5*'TÍNH TOÁN PHÂN ĐẠM'!BD22/1000","v":{"$error":"#REF!"}},{"$f":"Y22+AO22*EF!$M$4/1000+EF!$M$5*'TÍNH TOÁN PHÂN ĐẠM'!BE22/1000","v":{"$error":"#REF!"}},{"$f":"Z22+AP22*EF!$M$4/1000+EF!$M$5*'TÍNH TOÁN PHÂN ĐẠM'!BF22/1000","v":{"$error":"#REF!"}},{"$f":"AA22+AQ22*EF!$M$4/1000+EF!$M$5*'TÍNH TOÁN PHÂN ĐẠM'!BG22/1000","v":{"$error":"#REF!"}},{"$f":"AB22+AR22*EF!$M$4/1000+EF!$M$5*'TÍNH TOÁN PHÂN ĐẠM'!BH22/1000","v":{"$error":"#REF!"}},{"$f":"AC22+AS22*EF!$M$4/1000+EF!$M$5*'TÍNH TOÁN PHÂN ĐẠM'!BI22/1000","v":{"$error":"#REF!"}},{"$f":"AD22+AT22*EF!$M$4/1000+EF!$M$5*'TÍNH TOÁN PHÂN ĐẠM'!BJ22/1000","v":{"$error":"#REF!"}},{"$f":"AE22+AU22*EF!$M$4/1000+EF!$M$5*'TÍNH TOÁN PHÂN ĐẠM'!BK22/1000","v":{"$error":"#REF!"}},{"$f":"AF22+AV22*EF!$M$4/1000+EF!$M$5*'TÍNH TOÁN PHÂN ĐẠM'!BL22/1000","v":{"$error":"#REF!"}},{"$error":"#REF!"}]
["Tổng (GJ)",null,null,null,{"$f":"SUM(E14:E22)","v":{"$error":"#REF!"}},{"$error":"#REF!"},{"$error":"#REF!"},{"$error":"#REF!"},{"$error":"#REF!"},{"$error":"#REF!"},{"$error":"#REF!"},{"$error":"#REF!"},{"$error":"#REF!"},{"$error":"#REF!"},{"$error":"#REF!"},{"$error":"#REF!"},{"$error":"#REF!"},null,"Tổng (tấn CO2)",null,{"$f":"SUM(U14:U22)","v":{"$error":"#REF!"}},{"$f":"SUM(V14:V22)","v":{"$error":"#REF!"}},{"$f":"SUM(W14:W22)","v":{"$error":"#REF!"}},{"$error":"#REF!"},{"$error":"#REF!"},{"$error":"#REF!"},{"$error":"#VALUE!"},{"$error":"#REF!"},{"$error":"#REF!"},{"$error":"#REF!"},{"$error":"#REF!"},{"$error":"#REF!"},{"$error":"#REF!"},null,"Tổng (kg CH4)",null,{"$f":"SUM(AK14:AK22)","v":{"$error":"#REF!"}},{"$error":"#REF!"},{"$error":"#REF!"},{"$error":"#REF!"},{"$error":"#REF!"},{"$error":"#REF!"},{"$error":"#VALUE!"},{"$error":"#REF!"},{"$error":"#REF!"},{"$error":"#REF!"},{"$error":"#REF!"},{"$error":"#REF!"},{"$error":"#REF!"},null,"Tổng (kg N2O)",null,{"$f":"SUM(BA14:BA22)","v":{"$error":"#REF!"}},{"$error":"#REF!"},{"$error":"#REF!"},{"$error":"#REF!"},{"$error":"#REF!"},{"$error":"#REF!"},{"$error":"#VALUE!"},{"$error":"#REF!"},{"$error":"#REF!"},{"$error":"#REF!"},{"$error":"#REF!"},{"$error":"#REF!"},{"$error":"#REF!"},null,"Tổng (tấn CO2 tđ)",{"$f":"SUM(BP14:BP22)","v":{"$error":"#REF!"}},{"$error":"#REF!"},{"$error":"#REF!"},{"$error":"#REF!"},{"$error":"#REF!"},{"$error":"#REF!"},{"$error":"#VALUE!"},{"$error":"#REF!"},{"$error":"#REF!"},{"$error":"#REF!"},{"$error":"#REF!"},{"$error":"#REF!"},{"$error":"#REF!"}]
[]
[]
["Đốt nhiên liệu di động"]
["Nhiên liệu","Đơn vị","Quy đổi đơn vị",null,null,null,null,null,null,null,null,null,null,null,null,null,"Tổng (GJ)",null,"Nhiên liệu",null,"Phát thải CO2 (tấn)",null,null,null,null,null,null,null,null,null,null,null,"Tổng (Gg)",null,"Nhiên liệu","Phát thải CH4 (kg)",null,null,null,null,null,null,null,null,null,null,null,null,"Tổng (Gg)",null,"Nhiên liệu","Phát thải N2O (kg)",null,null,null,null,null,null,null,null,null,null,null,null,"Tổng (Gg)",null,"Nhiên liệu","Phát thải CO2tđ (tấn)",null,null,null,null,null,null,null,null,null,null,null,"Tổng (Gg)"]
[null,null,"Gg/Unit","GJ/Gg","Tháng 1","Tháng 2","Tháng 3","Tháng 4","Tháng 5","Tháng 6","Tháng 7","Tháng 8","Tháng 9","Tháng 10","Tháng 11","Tháng 12",null,null,null,"EF","Tháng 1","Tháng 2","Tháng 3","Tháng 4","Tháng 5","Tháng 6","Tháng 7","Tháng 8","Tháng 9","Tháng 10","Tháng 11","Tháng 12",null,null,null,"EF","Tháng 1","Tháng 2","Tháng 3","Tháng 4","Tháng 5","Tháng 6","Tháng 7","Tháng 8","Tháng 9","Tháng 10","Tháng 11","Tháng 12",null,null,null,"EF","Tháng 1","Tháng 2","Tháng 3","Tháng 4","Tháng 5","Tháng 6","Tháng 7","Tháng 8","Tháng 9","Tháng 10","Tháng 11","Tháng 12",null,null,null,"Tháng 1","Tháng 2","Tháng 3","Tháng 4","Tháng 5","Tháng 6","Tháng 7","Tháng 8","Tháng 9","Tháng 10","Tháng 11","Tháng 12"]
[{"$f":"IF(OFFSET('GARMENT&TEXTILE PHASE 2'!#REF!,0,0)<>\"Tổng (GJ)\",OFFSET('GARMENT&TEXTILE PHASE 2'!#REF!,0,0),0)","v":{"$error":"#REF!"}},{"$f":"IF(A29<>0,OFFSET('GARMENT&TEXTILE PHASE 2'!#REF!,0,0),0)","v":{"$error":"#REF!"}},{"$f":"IF(A29<>0,VLOOKUP(A29&B29,'unit conversion'!$A$2:$F$267,5,0),0)","v":{"$error":"#REF!"}},{"$f":"IF(A29<>0,VLOOKUP(A29&B29,'unit conversion'!$A$2:$F$267,6,0),0)","v":{"$error":"#REF!"}},{"$f":"IF(AND($A$29<>0,$B$29<>0),OFFSET('GARMENT&TEXTILE PHASE 2'!#REF!,0,0)*'TÍNH TOÁN PHÂN ĐẠM'!$C$29*'TÍNH TOÁN PHÂN ĐẠM'!$D$29,0)","v":{"$error":"#REF!"}},{"$f":"IF(AND($A$29<>0,$B$29<>0),OFFSET('GARMENT&TEXTILE PHASE 2'!#REF!,0,0)*'TÍNH TOÁN PHÂN ĐẠM'!$C$29*'TÍNH TOÁN PHÂN ĐẠM'!$D$29,0)","v":{"$error":"#REF!"}},{"$f":"IF(AND($A$29<>0,$B$29<>0),OFFSET('GARMENT&TEXTILE PHASE 2'!#REF!,0,0)*'TÍNH TOÁN PHÂN ĐẠM'!$C$29*'TÍNH TOÁN PHÂN ĐẠM'!$D$29,0)","v":{"$error":"#REF!"}},{"$f":"IF(AND($A$29<>0,$B$29<>0),OFFSET('GARMENT&TEXTILE PHASE 2'!#REF!,0,0)*'TÍNH TOÁN PHÂN ĐẠM'!$C$29*'TÍNH TOÁN PHÂN ĐẠM'!$D$29,0)","v":{"$error":"#REF!"}},{"$f":"IF(AND($A$29<>0,$B$29<>0),OFFSET('GARMENT&TEXTILE PHASE 2'!#REF!,0,0)*'TÍNH TOÁN PHÂN ĐẠM'!$C$29*'TÍNH TOÁN PHÂN ĐẠM'!$D$29,0)","v":{"$error":"#REF!"}},{"$f":"IF(AND($A$29<>0,$B$29<>0),OFFSET('GARMENT&TEXTILE PHASE 2'!#REF!,0,0)*'TÍNH TOÁN PHÂN ĐẠM'!$C$29*'TÍNH TOÁN PHÂN ĐẠM'!$D$29,0)","v":{"$error":"#REF!"}},{"$f":"IF(AND($A$29<>0,$B$29<>0),OFFSET('GARMENT&TEXTILE PHASE 2'!#REF!,0,0)*'TÍNH TOÁN PHÂN ĐẠM'!$C$29*'TÍNH TOÁN PHÂN ĐẠM'!$D$29,0)","v":{"$error":"#REF!"}},{"$f":"IF(AND($A$29<>0,$B$29<>0),OFFSET('GARMENT&TEXTILE PHASE 2'!#REF!,0,0)*'TÍNH TOÁN PHÂN ĐẠM'!$C$29*'TÍNH TOÁN PHÂN ĐẠM'!$D$29,0)","v":{"$error":"#REF!"}},{"$f":"IF(AND($A$29<>0,$B$29<>0),OFFSET('GARMENT&TEXTILE PHASE 2'!#REF!,0,0)*'TÍNH TOÁN PHÂN ĐẠM'!$C$29*'TÍNH TOÁN PHÂN ĐẠM'!$D$29,0)","v":{"$error":"#REF!"}},{"$f":"IF(AND($A$29<>0,$B$29<>0),OFFSET('GARMENT&TEXTILE PHASE 2'!#REF!,0,0)*'TÍNH TOÁN PHÂN ĐẠM'!$C$29*'TÍNH TOÁN PHÂN ĐẠM'!$D$29,0)","v":{"$error":"#REF!"}},{"$f":"IF(AND($A$29<>0,$B$29<>0),OFFSET('GARMENT&TEXTILE PHASE 2'!#REF!,0,0)*'TÍNH TOÁN PHÂN ĐẠM'!$C$29*'TÍNH TOÁN PHÂN ĐẠM'!$D$29,0)","v":{"$error":"#REF!"}},{"$f":"IF(AND($A$29<>0,$B$29<>0),OFFSET('GARMENT&TEXTILE PHASE 2'!#REF!,0,0)*'TÍNH TOÁN PHÂN ĐẠM'!$C$29*'TÍNH TOÁN PHÂN ĐẠM'!$D$29,0)","v":{"$error":"#REF!"}},{"$f":"SUM(E29:P29)","v":{"$error":"#REF!"}},null,{"$f":"A29","v":{"$error":"#REF!"}},{"$f":"IF(S29<>0,VLOOKUP(S29,EF!$B$4:$H$55,2,0),0)","v":{"$error":"#REF!"}},{"$f":"E29*$T$29/1000","v":{"$error":"#REF!"}},{"$f":"F29*$T$29/1000","v":{"$error":"#REF!"}},{"$error":"#REF!"},{"$error":"#REF!"},{"$error":"#REF!"},{"$error":"#REF!"},{"$error":"#REF!"},{"$error":"#REF!"},{"$error":"#REF!"},{"$error":"#REF!"},{"$error":"#REF!"},{"$error":"#REF!"},{"$f":"SUM(U29:AF29)","v":{"$error":"#REF!"}},null,{"$f":"A29","v":{"$error":"#REF!"}},{"$f":"IF(AI29<>0,VLOOKUP(AI29,EF!$B$4:$E$55,3,0),0)","v":{"$error":"#REF!"}},{"$f":"E29*$AJ$29","v":{"$error":"#REF!"}},{"$f":"F29*$AJ$29","v":{"$error":"#REF!"}},{"$error":"#REF!"},{"$error":"#REF!"},{"$error":"#REF!"},{"$error":"#REF!"},{"$error":"#REF!"},{"$error":"#REF!"},{"$error":"#REF!"},{"$error":"#REF!"},{"$error":"#REF!"},{"$error":"#REF!"},{"$f":"SUM(AK29:AV29)","v":{"$error":"#REF!"}},null,{"$f":"A29","v":{"$error":"#REF!"}},{"$f":"IF(AY29<>0,VLOOKUP(AY29,EF!$B$4:$E$55,4,0),0)","v":{"$error":"#REF!"}},{"$f":"E29*$AZ$29","v":{"$error":"#REF!"}},{"$f":"F29*$AZ$29","v":{"$error":"#REF!"}},{"$error":"#REF!"},{"$error":"#REF!"},{"$error":"#REF!"},{"$error":"#REF!"},{"$error":"#REF!"},{"$error":"#REF!"},{"$error":"#REF!"},{"$error":"#REF!"},{"$error":"#REF!"},{"$error":"#REF!"},{"$f":"SUM(BA29:BL29)","v":{"$error":"#REF!"}},null,{"$f":"A29","v":{"$error":"#REF!"}},{"$f":"U29+AK29*EF!$M$4/1000+EF!$M$5*'TÍNH TOÁN PHÂN ĐẠM'!BA29/1000","v":{"$error":"#REF!"}},{"$f":"V29+AL29*EF!$M$4/1000+EF!$M$5*'TÍNH TOÁN PHÂN ĐẠM'!BB29/1000","v":{"$error":"#REF!"}},{"$f":"W29+AM29*EF!$M$4/1000+EF!$M$5*'TÍNH TOÁN PHÂN ĐẠM'!BC29/1000","v":{"$error":"#REF!"}},{"$f":"X29+AN29*EF!$M$4/1000+EF!$M$5*'TÍNH TOÁN PHÂN ĐẠM'!BD29/1000","v":{"$error":"#REF!"}},{"$f":"Y29+AO29*EF!$M$4/1000+EF!$M$5*'TÍNH TOÁN PHÂN ĐẠM'!BE29/1000","v":{"$error":"#REF!"}},{"$f":"Z29+AP29*EF!$M$4/1000+EF!$M$5*'TÍNH TOÁN PHÂN ĐẠM'!BF29/1000","v":{"$error":"#REF!"}},{"$f":"AA29+AQ29*EF!$M$4/1000+EF!$M$5*'TÍNH TOÁN PHÂN ĐẠM'!BG29/1000","v":{"$error":"#REF!"}},{"$f":"AB29+AR29*EF!$M$4/1000+EF!$M$5*'TÍNH TOÁN PHÂN ĐẠM'!BH29/1000","v":{"$error":"#REF!"}},{"$f":"AC29+AS29*EF!$M$4/1000+EF!$M$5*'TÍNH TOÁN PHÂN ĐẠM'!BI29/1000","v":{"$error":"#REF!"}},{"$f":"AD29+AT29*EF!$M$4/1000+EF!$M$5*'TÍNH TOÁN PHÂN ĐẠM'!BJ29/1000","v":{"$error":"#REF!"}},{"$f":"AE29+AU29*EF!$M$4/1000+EF!$M$5*'TÍNH TOÁN PHÂN ĐẠM'!BK29/1000","v":{"$error":"#REF!"}},{"$f":"AF29+AV29*EF!$M$4/1000+EF!$M$5*'TÍNH TOÁN PHÂN ĐẠM'!BL29/1000","v":{"$error":"#REF!"}},{"$f":"SUM(BP29:CA29)","v":{"$error":"#REF!"}}]
[{"$f":"IF(OFFSET('GARMENT&TEXTILE PHASE 2'!#REF!,1,0)<>\"Tổng (GJ)\",OFFSET('GARMENT&TEXTILE PHASE 2'!#REF!,1,0),0)","v":{"$error":"#REF!"}},{"$f":"IF(A30<>0,OFFSET('GARMENT&TEXTILE PHASE 2'!#REF!,1,0),0)","v":{"$error":"#REF!"}},{"$f":"IF(A30<>0,VLOOKUP(A30&B30,'unit conversion'!$A$2:$F$267,5,0),0)","v":{"$error":"#REF!"}},{"$f":"IF(A30<>0,VLOOKUP(A30&B30,'unit conversion'!$A$2:$F$267,6,0),0)","v":{"$error":"#REF!"}},{"$f":"IF(AND($A$30<>0,$B$30<>0),OFFSET('GARMENT&TEXTILE PHASE 2'!#REF!,1,0)*'TÍNH TOÁN PHÂN ĐẠM'!$C$30*'TÍNH TOÁN PHÂN ĐẠM'!$D$30,0)","v":{"$error":"#REF!"}},{"$f":"IF(AND($A$30<>0,$B$30<>0),OFFSET('GARMENT&TEXTILE PHASE 2'!#REF!,1,0)*'TÍNH TOÁN PHÂN ĐẠM'!$C$30*'TÍNH TOÁN PHÂN ĐẠM'!$D$30,0)","v":{"$error":"#REF!"}},{"$f":"IF(AND($A$30<>0,$B$30<>0),OFFSET('GARMENT&TEXTILE PHASE 2'!#REF!,1,0)*'TÍNH TOÁN PHÂN ĐẠM'!$C$30*'TÍNH TOÁN PHÂN ĐẠM'!$D$30,0)","v":{"$error":"#REF!"}},{"$f":"IF(AND($A$30<>0,$B$30<>0),OFFSET('GARMENT&TEXTILE PHASE 2'!#REF!,1,0)*'TÍNH TOÁN PHÂN ĐẠM'!$C$30*'TÍNH TOÁN PHÂN ĐẠM'!$D$30,0)","v":{"$error":"#REF!"}},{"$f":"IF(AND($A$30<>0,$B$30<>0),OFFSET('GARMENT&TEXTILE PHASE 2'!#REF!,1,0)*'TÍNH TOÁN PHÂN ĐẠM'!$C$30*'TÍNH TOÁN PHÂN ĐẠM'!$D$30,0)","v":{"$error":"#REF!"}},{"$f":"IF(AND($A$30<>0,$B$30<>0),OFFSET('GARMENT&TEXTILE PHASE 2'!#REF!,1,0)*'TÍNH TOÁN PHÂN ĐẠM'!$C$30*'TÍNH TOÁN PHÂN ĐẠM'!$D$30,0)","v":{"$error":"#REF!"}},{"$f":"IF(AND($A$30<>0,$B$30<>0),OFFSET('GARMENT&TEXTILE PHASE 2'!#REF!,1,0)*'TÍNH TOÁN PHÂN ĐẠM'!$C$30*'TÍNH TOÁN PHÂN ĐẠM'!$D$30,0)","v":{"$error":"#REF!"}},{"$f":"IF(AND($A$30<>0,$B$30<>0),OFFSET('GARMENT&TEXTILE PHASE 2'!#REF!,1,0)*'TÍNH TOÁN PHÂN ĐẠM'!$C$30*'TÍNH TOÁN PHÂN ĐẠM'!$D$30,0)","v":{"$error":"#REF!"}},{"$f":"IF(AND($A$30<>0,$B$30<>0),OFFSET('GARMENT&TEXTILE PHASE 2'!#REF!,1,0)*'TÍNH TOÁN PHÂN ĐẠM'!$C$30*'TÍNH TOÁN PHÂN ĐẠM'!$D$30,0)","v":{"$error":"#REF!"}},{"$f":"IF(AND($A$30<>0,$B$30<>0),OFFSET('GARMENT&TEXTILE PHASE 2'!#REF!,1,0)*'TÍNH TOÁN PHÂN ĐẠM'!$C$30*'TÍNH TOÁN PHÂN ĐẠM'!$D$30,0)","v":{"$error":"#REF!"}},{"$f":"IF(AND($A$30<>0,$B$30<>0),OFFSET('GARMENT&TEXTILE PHASE 2'!#REF!,1,0)*'TÍNH TOÁN PHÂN ĐẠM'!$C$30*'TÍNH TOÁN PHÂN ĐẠM'!$D$30,0)","v":{"$error":"#REF!"}},{"$f":"IF(AND($A$30<>0,$B$30<>0),OFFSET('GARMENT&TEXTILE PHASE 2'!#REF!,1,0)*'TÍNH TOÁN PHÂN ĐẠM'!$C$30*'TÍNH TOÁN PHÂN ĐẠM'!$D$30,0)","v":{"$error":"#REF!"}},{"$f":"SUM(E30:P30)","v":{"$error":"#REF!"}},null,{"$error":"#REF!"},{"$f":"IF(S30<>0,VLOOKUP(S30,EF!$B$4:$H$55,2,0),0)","v":{"$error":"#REF!"}},{"$f":"E30*$T$30/1000","v":{"$error":"#REF!"}},{"$f":"F30*$T$30/1000","v":{"$error":"#REF!"}},{"$error":"#REF!"},{"$error":"#REF!"},{"$error":"#REF!"},{"$error":"#REF!"},{"$error":"#REF!"},{"$error":"#REF!"},{"$error":"#REF!"},{"$error":"#REF!"},{"$error":"#REF!"},{"$error":"#REF!"},{"$f":"SUM(U30:AF30)","v":{"$error":"#REF!"}},null,{"$error":"#REF!"},null,{"$f":"E30*$AJ$30","v":{"$error":"#REF!"}},{"$f":"F30*$AJ$30","v":{"$error":"#REF!"}},{"$error":"#REF!"},{"$error":"#REF!"},{"$error":"#REF!"},{"$error":"#REF!"},{"$error":"#REF!"},{"$error":"#REF!"},{"$error":"#REF!"},{"$error":"#REF!"},{"$error":"#REF!"},{"$error":"#REF!"},{"$f":"SUM(AK30:AV30)","v":{"$error":"#REF!"}},null,{"$error":"#REF!"},{"$f":"IF(AY30<>0,VLOOKUP(AY30,EF!$B$4:$E$55,4,0),0)","v":{"$error":"#REF!"}},{"$f":"E30*$AZ$30","v":{"$error":"#REF!"}},{"$f":"F30*$AZ$30","v":{"$error":"#REF!"}},{"$error":"#REF!"},{"$error":"#REF!"},{"$error":"#REF!"},{"$error":"#REF!"},{"$error":"#REF!"},{"$error":"#REF!"},{"$error":"#REF!"},{"$error":"#REF!"},{"$error":"#REF!"},{"$error":"#REF!"},{"$f":"SUM(BA30:BL30)","v":{"$error":"#REF!"}},null,{"$error":"#REF!"},{"$f":"U30+AK30*EF!$M$4/1000+EF!$M$5*'TÍNH TOÁN PHÂN ĐẠM'!BA30/1000","v":{"$error":"#REF!"}},{"$f":"V30+AL30*EF!$M$4/1000+EF!$M$5*'TÍNH TOÁN PHÂN ĐẠM'!BB30/1000","v":{"$error":"#REF!"}},{"$f":"W30+AM30*EF!$M$4/1000+EF!$M$5*'TÍNH TOÁN PHÂN ĐẠM'!BC30/1000","v":{"$error":"#REF!"}},{"$f":"X30+AN30*EF!$M$4/1000+EF!$M$5*'TÍNH TOÁN PHÂN ĐẠM'!BD30/1000","v":{"$error":"#REF!"}},{"$f":"Y30+AO30*EF!$M$4/1000+EF!$M$5*'TÍNH TOÁN PHÂN ĐẠM'!BE30/1000","v":{"$error":"#REF!"}},{"$f":"Z30+AP30*EF!$M$4/1000+EF!$M$5*'TÍNH TOÁN PHÂN ĐẠM'!BF30/1000","v":{"$error":"#REF!"}},{"$f":"AA30+AQ30*EF!$M$4/1000+EF!$M$5*'TÍNH TOÁN PHÂN ĐẠM'!BG30/1000","v":{"$error":"#REF!"}},{"$f":"AB30+AR30*EF!$M$4/1000+EF!$M$5*'TÍNH TOÁN PHÂN ĐẠM'!BH30/1000","v":{"$error":"#REF!"}},{"$f":"AC30+AS30*EF!$M$4/1000+EF!$M$5*'TÍNH TOÁN PHÂN ĐẠM'!BI30/1000","v":{"$error":"#REF!"}},{"$f":"AD30+AT30*EF!$M$4/1000+EF!$M$5*'TÍNH TOÁN PHÂN ĐẠM'!BJ30/1000","v":{"$error":"#REF!"}},{"$f":"AE30+AU30*EF!$M$4/1000+EF!$M$5*'TÍNH TOÁN PHÂN ĐẠM'!BK30/1000","v":{"$error":"#REF!"}},{"$f":"AF30+AV30*EF!$M$4/1000+EF!$M$5*'TÍNH TOÁN PHÂN ĐẠM'!BL30/1000","v":{"$error":"#REF!"}},{"$f":"SUM(BP30:CA30)","v":{"$error":"#REF!"}}]
[{"$f":"IF(OFFSET('GARMENT&TEXTILE PHASE 2'!#REF!,2,0)<>\"Tổng (GJ)\",OFFSET('GARMENT&TEXTILE PHASE 2'!#REF!,2,0),0)","v":{"$error":"#REF!"}},{"$f":"IF(A31<>0,OFFSET('GARMENT&TEXTILE PHASE 2'!#REF!,2,0),0)","v":{"$error":"#REF!"}},{"$f":"IF(A31<>0,VLOOKUP(A31&B31,'unit conversion'!$A$2:$F$267,5,0),0)","v":{"$error":"#REF!"}},{"$f":"IF(A31<>0,VLOOKUP(A31&B31,'unit conversion'!$A$2:$F$267,6,0),0)","v":{"$error":"#REF!"}},{"$f":"IF(AND($A$31<>0,$B$31<>0),OFFSET('GARMENT&TEXTILE PHASE 2'!#REF!,2,0)*'TÍNH TOÁN PHÂN ĐẠM'!$C$31*'TÍNH TOÁN PHÂN ĐẠM'!$D$31,0)","v":{"$error":"#REF!"}},{"$f":"IF(AND($A$31<>0,$B$31<>0),OFFSET('GARMENT&TEXTILE PHASE 2'!#REF!,2,0)*'TÍNH TOÁN PHÂN ĐẠM'!$C$31*'TÍNH TOÁN PHÂN ĐẠM'!$D$31,0)","v":{"$error":"#REF!"}},{"$f":"IF(AND($A$31<>0,$B$31<>0),OFFSET('GARMENT&TEXTILE PHASE 2'!#REF!,2,0)*'TÍNH TOÁN PHÂN ĐẠM'!$C$31*'TÍNH TOÁN PHÂN ĐẠM'!$D$31,0)","v":{"$error":"#REF!"}},{"$f":"IF(AND($A$31<>0,$B$31<>0),OFFSET('GARMENT&TEXTILE PHASE 2'!#REF!,2,0)*'TÍNH TOÁN PHÂN ĐẠM'!$C$31*'TÍNH TOÁN PHÂN ĐẠM'!$D$31,0)","v":{"$error":"#REF!"}},{"$f":"IF(AND($A$31<>0,$B$31<>0),OFFSET('GARMENT&TEXTILE PHASE 2'!#REF!,2,0)*'TÍNH TOÁN PHÂN ĐẠM'!$C$31*'TÍNH TOÁN PHÂN ĐẠM'!$D$31,0)","v":{"$error":"#REF!"}},{"$f":"IF(AND($A$31<>0,$B$31<>0),OFFSET('GARMENT&TEXTILE PHASE 2'!#REF!,2,0)*'TÍNH TOÁN PHÂN ĐẠM'!$C$31*'TÍNH TOÁN PHÂN ĐẠM'!$D$31,0)","v":{"$error":"#REF!"}},{"$f":"IF(AND($A$31<>0,$B$31<>0),OFFSET('GARMENT&TEXTILE PHASE 2'!#REF!,2,0)*'TÍNH TOÁN PHÂN ĐẠM'!$C$31*'TÍNH TOÁN PHÂN ĐẠM'!$D$31,0)","v":{"$error":"#REF!"}},{"$f":"IF(AND($A$31<>0,$B$31<>0),OFFSET('GARMENT&TEXTILE PHASE 2'!#REF!,2,0)*'TÍNH TOÁN PHÂN ĐẠM'!$C$31*'TÍNH TOÁN PHÂN ĐẠM'!$D$31,0)","v":{"$error":"#REF!"}},{"$f":"IF(AND($A$31<>0,$B$31<>0),OFFSET('GARMENT&TEXTILE PHASE 2'!#REF!,2,0)*'TÍNH TOÁN PHÂN ĐẠM'!$C$31*'TÍNH TOÁN PHÂN ĐẠM'!$D$31,0)","v":{"$error":"#REF!"}},{"$f":"IF(AND($A$31<>0,$B$31<>0),OFFSET('GARMENT&TEXTILE PHASE 2'!#REF!,2,0)*'TÍNH TOÁN PHÂN ĐẠM'!$C$31*'TÍNH TOÁN PHÂN ĐẠM'!$D$31,0)","v":{"$error":"#REF!"}},{"$f":"IF(AND($A$31<>0,$B$31<>0),OFFSET('GARMENT&TEXTILE PHASE 2'!#REF!,2,0)*'TÍNH TOÁN PHÂN ĐẠM'!$C$31*'TÍNH TOÁN PHÂN ĐẠM'!$D$31,0)","v":{"$error":"#REF!"}},{"$f":"IF(AND($A$31<>0,$B$31<>0),OFFSET('GARMENT&TEXTILE PHASE 2'!#REF!,2,0)*'TÍNH TOÁN PHÂN ĐẠM'!$C$31*'TÍNH TOÁN PHÂN ĐẠM'!$D$31,0)","v":{"$error":"#REF!"}},{"$error":"#REF!"},null,{"$error":"#REF!"},{"$f":"IF(S31<>0,VLOOKUP(S31,EF!$B$4:$H$55,2,0),0)","v":{"$error":"#REF!"}},{"$f":"E31*$T$31/1000","v":{"$error":"#REF!"}},{"$f":"F31*$T$31/1000","v":{"$error":"#REF!"}},{"$error":"#REF!"},{"$error":"#REF!"},{"$error":"#REF!"},{"$error":"#REF!"},{"$error":"#REF!"},{"$error":"#REF!"},{"$error":"#REF!"},{"$error":"#REF!"},{"$error":"#REF!"},{"$error":"#REF!"},{"$error":"#REF!"},null,{"$error":"#REF!"},null,{"$f":"E31*$AJ$31","v":{"$error":"#REF!"}},{"$f":"F31*$AJ$31","v":{"$error":"#REF!"}},{"$error":"#REF!"},{"$error":"#REF!"},{"$error":"#REF!"},{"$error":"#REF!"},{"$error":"#REF!"},{"$error":"#REF!"},{"$error":"#REF!"},{"$error":"#REF!"},{"$error":"#REF!"},{"$error":"#REF!"},{"$error":"#REF!"},null,{"$error":"#REF!"},{"$f":"IF(AY31<>0,VLOOKUP(AY31,EF!$B$4:$E$55,4,0),0)","v":{"$error":"#REF!"}},{"$f":"E31*$AZ$31","v":{"$error":"#REF!"}},{"$f":"F31*$AZ$31","v":{"$error":"#REF!"}},{"$error":"#REF!"},{"$error":"#REF!"},{"$error":"#REF!"},{"$error":"#REF!"},{"$error":"#REF!"},{"$error":"#REF!"},{"$error":"#REF!"},{"$error":"#REF!"},{"$error":"#REF!"},{"$error":"#REF!"},{"$error":"#REF!"},null,{"$error":"#REF!"},{"$f":"U31+AK31*EF!$M$4/1000+EF!$M$5*'TÍNH TOÁN PHÂN ĐẠM'!BA31/1000","v":{"$error":"#REF!"}},{"$f":"V31+AL31*EF!$M$4/1000+EF!$M$5*'TÍNH TOÁN PHÂN ĐẠM'!BB31/1000","v":{"$error":"#REF!"}},{"$f":"W31+AM31*EF!$M$4/1000+EF!$M$5*'TÍNH TOÁN PHÂN ĐẠM'!BC31/1000","v":{"$error":"#REF!"}},{"$f":"X31+AN31*EF!$M$4/1000+EF!$M$5*'TÍNH TOÁN PHÂN ĐẠM'!BD31/1000","v":{"$error":"#REF!"}},{"$f":"Y31+AO31*EF!$M$4/1000+EF!$M$5*'TÍNH TOÁN PHÂN ĐẠM'!BE31/1000","v":{"$error":"#REF!"}},{"$f":"Z31+AP31*EF!$M$4/1000+EF!$M$5*'TÍNH TOÁN PHÂN ĐẠM'!BF31/1000","v":{"$error":"#REF!"}},{"$f":"AA31+AQ31*EF!$M$4/1000+EF!$M$5*'TÍNH TOÁN PHÂN ĐẠM'!BG31/1000","v":{"$error":"#REF!"}},{"$f":"AB31+AR31*EF!$M$4/1000+EF!$M$5*'TÍNH TOÁN PHÂN ĐẠM'!BH31/1000","v":{"$error":"#REF!"}},{"$f":"AC31+AS31*EF!$M$4/1000+EF!$M$5*'TÍNH TOÁN PHÂN ĐẠM'!BI31/1000","v":{"$error":"#REF!"}},{"$f":"AD31+AT31*EF!$M$4/1000+EF!$M$5*'TÍNH TOÁN PHÂN ĐẠM'!BJ31/1000","v":{"$error":"#REF!"}},{"$f":"AE31+AU31*EF!$M$4/1000+EF!$M$5*'TÍNH TOÁN PHÂN ĐẠM'!BK31/1000","v":{"$error":"#REF!"}},{"$f":"AF31+AV31*EF!$M$4/1000+EF!$M$5*'TÍNH TOÁN PHÂN ĐẠM'!BL31/1000","v":{"$error":"#REF!"}},{"$error":"#REF!"}]
[{"$f":"IF(OFFSET('GARMENT&TEXTILE PHASE 2'!#REF!,3,0)<>\"Tổng (GJ)\",OFFSET('GARMENT&TEXTILE PHASE 2'!#REF!,3,0),0)","v":{"$error":"#REF!"}},{"$f":"IF(A32<>0,OFFSET('GARMENT&TEXTILE PHASE 2'!#REF!,3,0),0)","v":{"$error":"#REF!"}},{"$f":"IF(A32<>0,VLOOKUP(A32&B32,'unit conversion'!$A$2:$F$267,5,0),0)","v":{"$error":"#REF!"}},{"$f":"IF(A32<>0,VLOOKUP(A32&B32,'unit conversion'!$A$2:$F$267,6,0),0)","v":{"$error":"#REF!"}},{"$f":"IF(AND($A$32<>0,$B$32<>0),OFFSET('GARMENT&TEXTILE PHASE 2'!#REF!,3,0)*'TÍNH TOÁN PHÂN ĐẠM'!$C$32*'TÍNH TOÁN PHÂN ĐẠM'!$D$32,0)","v":{"$error":"#REF!"}},{"$f":"IF(AND($A$32<>0,$B$32<>0),OFFSET('GARMENT&TEXTILE PHASE 2'!#REF!,3,0)*'TÍNH TOÁN PHÂN ĐẠM'!$C$32*'TÍNH TOÁN PHÂN ĐẠM'!$D$32,0)","v":{"$error":"#REF!"}},{"$f":"IF(AND($A$32<>0,$B$32<>0),OFFSET('GARMENT&TEXTILE PHASE 2'!#REF!,3,0)*'TÍNH TOÁN PHÂN ĐẠM'!$C$32*'TÍNH TOÁN PHÂN ĐẠM'!$D$32,0)","v":{"$error":"#REF!"}},{"$f":"IF(AND($A$32<>0,$B$32<>0),OFFSET('GARMENT&TEXTILE PHASE 2'!#REF!,3,0)*'TÍNH TOÁN PHÂN ĐẠM'!$C$32*'TÍNH TOÁN PHÂN ĐẠM'!$D$32,0)","v":{"$error":"#REF!"}},{"$f":"IF(AND($A$32<>0,$B$32<>0),OFFSET('GARMENT&TEXTILE PHASE 2'!#REF!,3,0)*'TÍNH TOÁN PHÂN ĐẠM'!$C$32*'TÍNH TOÁN PHÂN ĐẠM'!$D$32,0)","v":{"$error":"#REF!"}},{"$f":"IF(AND($A$32<>0,$B$32<>0),OFFSET('GARMENT&TEXTILE PHASE 2'!#REF!,3,0)*'TÍNH TOÁN PHÂN ĐẠM'!$C$32*'TÍNH TOÁN PHÂN ĐẠM'!$D$32,0)","v":{"$error":"#REF!"}},{"$f":"IF(AND($A$32<>0,$B$32<>0),OFFSET('GARMENT&TEXTILE PHASE 2'!#REF!,3,0)*'TÍNH TOÁN PHÂN ĐẠM'!$C$32*'TÍNH TOÁN PHÂN ĐẠM'!$D$32,0)","v":{"$error":"#REF!"}},{"$f":"IF(AND($A$32<>0,$B$32<>0),OFFSET('GARMENT&TEXTILE PHASE 2'!#REF!,3,0)*'TÍNH TOÁN PHÂN ĐẠM'!$C$32*'TÍNH TOÁN PHÂN ĐẠM'!$D$32,0)","v":{"$error":"#REF!"}},{"$f":"IF(AND($A$32<>0,$B$32<>0),OFFSET('GARMENT&TEXTILE PHASE 2'!#REF!,3,0)*'TÍNH TOÁN PHÂN ĐẠM'!$C$32*'TÍNH TOÁN PHÂN ĐẠM'!$D$32,0)","v":{"$error":"#REF!"}},{"$f":"IF(AND($A$32<>0,$B$32<>0),OFFSET('GARMENT&TEXTILE PHASE 2'!#REF!,3,0)*'TÍNH TOÁN PHÂN ĐẠM'!$C$32*'TÍNH TOÁN PHÂN ĐẠM'!$D$32,0)","v":{"$error":"#REF!"}},{"$f":"IF(AND($A$32<>0,$B$32<>0),OFFSET('GARMENT&TEXTILE PHASE 2'!#REF!,3,0)*'TÍNH TOÁN PHÂN ĐẠM'!$C$32*'TÍNH TOÁN PHÂN ĐẠM'!$D$32,0)","v":{"$error":"#REF!"}},{"$f":"IF(AND($A$32<>0,$B$32<>0),OFFSET('GARMENT&TEXTILE PHASE 2'!#REF!,3,0)*'TÍNH TOÁN PHÂN ĐẠM'!$C$32*'TÍNH TOÁN PHÂN ĐẠM'!$D$32,0)","v":{"$error":"#REF!"}},{"$error":"#REF!"},null,{"$error":"#REF!"},{"$f":"IF(S32<>0,VLOOKUP(S32,EF!$B$4:$H$55,2,0),0)","v":{"$error":"#REF!"}},{"$f":"E32*$T$32/1000","v":{"$error":"#REF!"}},{"$f":"F32*$T$32/1000","v":{"$error":"#REF!"}},{"$error":"#REF!"},{"$error":"#REF!"},{"$error":"#REF!"},{"$error":"#REF!"},{"$error":"#REF!"},{"$error":"#REF!"},{"$error":"#REF!"},{"$error":"#REF!"},{"$error":"#REF!"},{"$error":"#REF!"},{"$error":"#REF!"},null,{"$error":"#REF!"},null,{"$f":"E32*$AJ$32","v":{"$error":"#REF!"}},{"$f":"F32*$AJ$32","v":{"$error":"#REF!"}},{"$error":"#REF!"},{"$error":"#REF!"},{"$error":"#REF!"},{"$error":"#REF!"},{"$error":"#REF!"},{"$error":"#REF!"},{"$error":"#REF!"},{"$error":"#REF!"},{"$error":"#REF!"},{"$error":"#REF!"},{"$error":"#REF!"},null,{"$error":"#REF!"},{"$f":"IF(AY32<>0,VLOOKUP(AY32,EF!$B$4:$E$55,4,0),0)","v":{"$error":"#REF!"}},{"$f":"E32*$AZ$32","v":{"$error":"#REF!"}},{"$f":"F32*$AZ$32","v":{"$error":"#REF!"}},{"$error":"#REF!"},{"$error":"#REF!"},{"$error":"#REF!"},{"$error":"#REF!"},{"$error":"#REF!"},{"$error":"#REF!"},{"$error":"#REF!"},{"$error":"#REF!"},{"$error":"#REF!"},{"$error":"#REF!"},{"$error":"#REF!"},null,{"$error":"#REF!"},{"$f":"U32+AK32*EF!$M$4/1000+EF!$M$5*'TÍNH TOÁN PHÂN ĐẠM'!BA32/1000","v":{"$error":"#REF!"}},{"$f":"V32+AL32*EF!$M$4/1000+EF!$M$5*'TÍNH TOÁN PHÂN ĐẠM'!BB32/1000","v":{"$error":"#REF!"}},{"$f":"W32+AM32*EF!$M$4/1000+EF!$M$5*'TÍNH TOÁN PHÂN ĐẠM'!BC32/1000","v":{"$error":"#REF!"}},{"$f":"X32+AN32*EF!$M$4/1000+EF!$M$5*'TÍNH TOÁN PHÂN ĐẠM'!BD32/1000","v":{"$error":"#REF!"}},{"$f":"Y32+AO32*EF!$M$4/1000+EF!$M$5*'TÍNH TOÁN PHÂN ĐẠM'!BE32/1000","v":{"$error":"#REF!"}},{"$f":"Z32+AP32*EF!$M$4/1000+EF!$M$5*'TÍNH TOÁN PHÂN ĐẠM'!BF32/1000","v":{"$error":"#REF!"}},{"$f":"AA32+AQ32*EF!$M$4/1000+EF!$M$5*'TÍNH TOÁN PHÂN ĐẠM'!BG32/1000","v":{"$error":"#REF!"}},{"$f":"AB32+AR32*EF!$M$4/1000+EF!$M$5*'TÍNH TOÁN PHÂN ĐẠM'!BH32/1000","v":{"$error":"#REF!"}},{"$f":"AC32+AS32*EF!$M$4/1000+EF!$M$5*'TÍNH TOÁN PHÂN ĐẠM'!BI32/1000","v":{"$error":"#REF!"}},{"$f":"AD32+AT32*EF!$M$4/1000+EF!$M$5*'TÍNH TOÁN PHÂN ĐẠM'!BJ32/1000","v":{"$error":"#REF!"}},{"$f":"AE32+AU32*EF!$M$4/1000+EF!$M$5*'TÍNH TOÁN PHÂN ĐẠM'!BK32/1000","v":{"$error":"#REF!"}},{"$f":"AF32+AV32*EF!$M$4/1000+EF!$M$5*'TÍNH TOÁN PHÂN ĐẠM'!BL32/1000","v":{"$error":"#REF!"}},{"$error":"#REF!"}]
[{"$f":"IF(OFFSET('GARMENT&TEXTILE PHASE 2'!#REF!,4,0)<>\"Tổng (GJ)\",OFFSET('GARMENT&TEXTILE PHASE 2'!#REF!,4,0),0)","v":{"$error":"#REF!"}},{"$f":"IF(A33<>0,OFFSET('GARMENT&TEXTILE PHASE 2'!#REF!,4,0),0)","v":{"$error":"#REF!"}},{"$f":"IF(A33<>0,VLOOKUP(A33&B33,'unit conversion'!$A$2:$F$267,5,0),0)","v":{"$error":"#REF!"}},{"$f":"IF(A33<>0,VLOOKUP(A33&B33,'unit conversion'!$A$2:$F$267,6,0),0)","v":{"$error":"#REF!"}},{"$f":"IF(AND($A$33<>0,$B$33<>0),OFFSET('GARMENT&TEXTILE PHASE 2'!#REF!,4,0)*'TÍNH TOÁN PHÂN ĐẠM'!$C$33*'TÍNH TOÁN PHÂN ĐẠM'!$D$33,0)","v":{"$error":"#REF!"}},{"$f":"IF(AND($A$33<>0,$B$33<>0),OFFSET('GARMENT&TEXTILE PHASE 2'!#REF!,4,0)*'TÍNH TOÁN PHÂN ĐẠM'!$C$33*'TÍNH TOÁN PHÂN ĐẠM'!$D$33,0)","v":{"$error":"#REF!"}},{"$f":"IF(AND($A$33<>0,$B$33<>0),OFFSET('GARMENT&TEXTILE PHASE 2'!#REF!,4,0)*'TÍNH TOÁN PHÂN ĐẠM'!$C$33*'TÍNH TOÁN PHÂN ĐẠM'!$D$33,0)","v":{"$error":"#REF!"}},{"$f":"IF(AND($A$33<>0,$B$33<>0),OFFSET('GARMENT&TEXTILE PHASE 2'!#REF!,4,0)*'TÍNH TOÁN PHÂN ĐẠM'!$C$33*'TÍNH TOÁN PHÂN ĐẠM'!$D$33,0)","v":{"$error":"#REF!"}},{"$f":"IF(AND($A$33<>0,$B$33<>0),OFFSET('GARMENT&TEXTILE PHASE 2'!#REF!,4,0)*'TÍNH TOÁN PHÂN ĐẠM'!$C$33*'TÍNH TOÁN PHÂN ĐẠM'!$D$33,0)","v":{"$error":"#REF!"}},{"$f":"IF(AND($A$33<>0,$B$33<>0),OFFSET('GARMENT&TEXTILE PHASE 2'!#REF!,4,0)*'TÍNH TOÁN PHÂN ĐẠM'!$C$33*'TÍNH TOÁN PHÂN ĐẠM'!$D$33,0)","v":{"$error":"#REF!"}},{"$f":"IF(AND($A$33<>0,$B$33<>0),OFFSET('GARMENT&TEXTILE PHASE 2'!#REF!,4,0)*'TÍNH TOÁN PHÂN ĐẠM'!$C$33*'TÍNH TOÁN PHÂN ĐẠM'!$D$33,0)","v":{"$error":"#REF!"}},{"$f":"IF(AND($A$33<>0,$B$33<>0),OFFSET('GARMENT&TEXTILE PHASE 2'!#REF!,4,0)*'TÍNH TOÁN PHÂN ĐẠM'!$C$33*'TÍNH TOÁN PHÂN ĐẠM'!$D$33,0)","v":{"$error":"#REF!"}},{"$f":"IF(AND($A$33<>0,$B$33<>0),OFFSET('GARMENT&TEXTILE PHASE 2'!#REF!,4,0)*'TÍNH TOÁN PHÂN ĐẠM'!$C$33*'TÍNH TOÁN PHÂN ĐẠM'!$D$33,0)","v":{"$error":"#REF!"}},{"$f":"IF(AND($A$33<>0,$B$33<>0),OFFSET('GARMENT&TEXTILE PHASE 2'!#REF!,4,0)*'TÍNH TOÁN PHÂN ĐẠM'!$C$33*'TÍNH TOÁN PHÂN ĐẠM'!$D$33,0)","v":{"$error":"#REF!"}},{"$f":"IF(AND($A$33<>0,$B$33<>0),OFFSET('GARMENT&TEXTILE PHASE 2'!#REF!,4,0)*'TÍNH TOÁN PHÂN ĐẠM'!$C$33*'TÍNH TOÁN PHÂN ĐẠM'!$D$33,0)","v":{"$error":"#REF!"}},{"$f":"IF(AND($A$33<>0,$B$33<>0),OFFSET('GARMENT&TEXTILE PHASE 2'!#REF!,4,0)*'TÍNH TOÁN PHÂN ĐẠM'!$C$33*'TÍNH TOÁN PHÂN ĐẠM'!$D$33,0)","v":{"$error":"#REF!"}},{"$error":"#REF!"},null,{"$error":"#REF!"},{"$f":"IF(S33<>0,VLOOKUP(S33,EF!$B$4:$H$55,2,0),0)","v":{"$error":"#REF!"}},{"$f":"E33*$T$33/1000","v":{"$error":"#REF!"}},{"$f":"F33*$T$33/1000","v":{"$error":"#REF!"}},{"$error":"#REF!"},{"$error":"#REF!"},{"$error":"#REF!"},{"$error":"#REF!"},{"$error":"#REF!"},{"$error":"#REF!"},{"$error":"#REF!"},{"$error":"#REF!"},{"$error":"#REF!"},{"$error":"#REF!"},{"$error":"#REF!"},null,{"$error":"#REF!"},null,{"$f":"E33*$AJ$33","v":{"$error":"#REF!"}},{"$f":"F33*$AJ$33","v":{"$error":"#REF!"}},{"$error":"#REF!"},{"$error":"#REF!"},{"$error":"#REF!"},{"$error":"#REF!"},{"$error":"#REF!"},{"$error":"#REF!"},{"$error":"#REF!"},{"$error":"#REF!"},{"$error":"#REF!"},{"$error":"#REF!"},{"$error":"#REF!"},null,{"$error":"#REF!"},{"$f":"IF(AY33<>0,VLOOKUP(AY33,EF!$B$4:$E$55,4,0),0)","v":{"$error":"#REF!"}},{"$f":"E33*$AZ$33","v":{"$error":"#REF!"}},{"$f":"F33*$AZ$33","v":{"$error":"#REF!"}},{"$error":"#REF!"},{"$error":"#REF!"},{"$error":"#REF!"},{"$error":"#REF!"},{"$error":"#REF!"},{"$error":"#REF!"},{"$error":"#REF!"},{"$error":"#REF!"},{"$error":"#REF!"},{"$error":"#REF!"},{"$error":"#REF!"},null,{"$error":"#REF!"},{"$f":"U33+AK33*EF!$M$4/1000+EF!$M$5*'TÍNH TOÁN PHÂN ĐẠM'!BA33/1000","v":{"$error":"#REF!"}},{"$f":"V33+AL33*EF!$M$4/1000+EF!$M$5*'TÍNH TOÁN PHÂN ĐẠM'!BB33/1000","v":{"$error":"#REF!"}},{"$f":"W33+AM33*EF!$M$4/1000+EF!$M$5*'TÍNH TOÁN PHÂN ĐẠM'!BC33/1000","v":{"$error":"#REF!"}},{"$f":"X33+AN33*EF!$M$4/1000+EF!$M$5*'TÍNH TOÁN PHÂN ĐẠM'!BD33/1000","v":{"$error":"#REF!"}},{"$f":"Y33+AO33*EF!$M$4/1000+EF!$M$5*'TÍNH TOÁN PHÂN ĐẠM'!BE33/1000","v":{"$error":"#REF!"}},{"$f":"Z33+AP33*EF!$M$4/1000+EF!$M$5*'TÍNH TOÁN PHÂN ĐẠM'!BF33/1000","v":{"$error":"#REF!"}},{"$f":"AA33+AQ33*EF!$M$4/1000+EF!$M$5*'TÍNH TOÁN PHÂN ĐẠM'!BG33/1000","v":{"$error":"#REF!"}},{"$f":"AB33+AR33*EF!$M$4/1000+EF!$M$5*'TÍNH TOÁN PHÂN ĐẠM'!BH33/1000","v":{"$error":"#REF!"}},{"$f":"AC33+AS33*EF!$M$4/1000+EF!$M$5*'TÍNH TOÁN PHÂN ĐẠM'!BI33/1000","v":{"$error":"#REF!"}},{"$f":"AD33+AT33*EF!$M$4/1000+EF!$M$5*'TÍNH TOÁN PHÂN ĐẠM'!BJ33/1000","v":{"$error":"#REF!"}},{"$f":"AE33+AU33*EF!$M$4/1000+EF!$M$5*'TÍNH TOÁN PHÂN ĐẠM'!BK33/1000","v":{"$error":"#REF!"}},{"$f":"AF33+AV33*EF!$M$4/1000+EF!$M$5*'TÍNH TOÁN PHÂN ĐẠM'!BL33/1000","v":{"$error":"#REF!"}},{"$error":"#REF!"}]
[{"$f":"IF(OFFSET('GARMENT&TEXTILE PHASE 2'!#REF!,5,0)<>\"Tổng (GJ)\",OFFSET('GARMENT&TEXTILE PHASE 2'!#REF!,5,0),0)","v":{"$error":"#REF!"}},{"$f":"IF(A34<>0,OFFSET('GARMENT&TEXTILE PHASE 2'!#REF!,5,0),0)","v":{"$error":"#REF!"}},{"$f":"IF(A34<>0,VLOOKUP(A34&B34,'unit conversion'!$A$2:$F$267,5,0),0)","v":{"$error":"#REF!"}},{"$f":"IF(A34<>0,VLOOKUP(A34&B34,'unit conversion'!$A$2:$F$267,6,0),0)","v":{"$error":"#REF!"}},{"$f":"IF(AND($A$34<>0,$B$34<>0),OFFSET('GARMENT&TEXTILE PHASE 2'!#REF!,5,0)*'TÍNH TOÁN PHÂN ĐẠM'!$C$34*'TÍNH TOÁN PHÂN ĐẠM'!$D$34,0)","v":{"$error":"#REF!"}},{"$f":"IF(AND($A$34<>0,$B$34<>0),OFFSET('GARMENT&TEXTILE PHASE 2'!#REF!,5,0)*'TÍNH TOÁN PHÂN ĐẠM'!$C$34*'TÍNH TOÁN PHÂN ĐẠM'!$D$34,0)","v":{"$error":"#REF!"}},{"$f":"IF(AND($A$34<>0,$B$34<>0),OFFSET('GARMENT&TEXTILE PHASE 2'!#REF!,5,0)*'TÍNH TOÁN PHÂN ĐẠM'!$C$34*'TÍNH TOÁN PHÂN ĐẠM'!$D$34,0)","v":{"$error":"#REF!"}},{"$f":"IF(AND($A$34<>0,$B$34<>0),OFFSET('GARMENT&TEXTILE PHASE 2'!#REF!,5,0)*'TÍNH TOÁN PHÂN ĐẠM'!$C$34*'TÍNH TOÁN PHÂN ĐẠM'!$D$34,0)","v":{"$error":"#REF!"}},{"$f":"IF(AND($A$34<>0,$B$34<>0),OFFSET('GARMENT&TEXTILE PHASE 2'!#REF!,5,0)*'TÍNH TOÁN PHÂN ĐẠM'!$C$34*'TÍNH TOÁN PHÂN ĐẠM'!$D$34,0)","v":{"$error":"#REF!"}},{"$f":"IF(AND($A$34<>0,$B$34<>0),OFFSET('GARMENT&TEXTILE PHASE 2'!#REF!,5,0)*'TÍNH TOÁN PHÂN ĐẠM'!$C$34*'TÍNH TOÁN PHÂN ĐẠM'!$D$34,0)","v":{"$error":"#REF!"}},{"$f":"IF(AND($A$34<>0,$B$34<>0),OFFSET('GARMENT&TEXTILE PHASE 2'!#REF!,5,0)*'TÍNH TOÁN PHÂN ĐẠM'!$C$34*'TÍNH TOÁN PHÂN ĐẠM'!$D$34,0)","v":{"$error":"#REF!"}},{"$f":"IF(AND($A$34<>0,$B$34<>0),OFFSET('GARMENT&TEXTILE PHASE 2'!#REF!,5,0)*'TÍNH TOÁN PHÂN ĐẠM'!$C$34*'TÍNH TOÁN PHÂN ĐẠM'!$D$34,0)","v":{"$error":"#REF!"}},{"$f":"IF(AND($A$34<>0,$B$34<>0),OFFSET('GARMENT&TEXTILE PHASE 2'!#REF!,5,0)*'TÍNH TOÁN PHÂN ĐẠM'!$C$34*'TÍNH TOÁN PHÂN ĐẠM'!$D$34,0)","v":{"$error":"#REF!"}},{"$f":"IF(AND($A$34<>0,$B$34<>0),OFFSET('GARMENT&TEXTILE PHASE 2'!#REF!,5,0)*'TÍNH TOÁN PHÂN ĐẠM'!$C$34*'TÍNH TOÁN PHÂN ĐẠM'!$D$34,0)","v":{"$error":"#REF!"}},{"$f":"IF(AND($A$34<>0,$B$34<>0),OFFSET('GARMENT&TEXTILE PHASE 2'!#REF!,5,0)*'TÍNH TOÁN PHÂN ĐẠM'!$C$34*'TÍNH TOÁN PHÂN ĐẠM'!$D$34,0)","v":{"$error":"#REF!"}},{"$f":"IF(AND($A$34<>0,$B$34<>0),OFFSET('GARMENT&TEXTILE PHASE 2'!#REF!,5,0)*'TÍNH TOÁN PHÂN ĐẠM'!$C$34*'TÍNH TOÁN PHÂN ĐẠM'!$D$34,0)","v":{"$error":"#REF!"}},{"$error":"#REF!"},null,{"$error":"#REF!"},{"$f":"IF(S34<>0,VLOOKUP(S34,EF!$B$4:$H$55,2,0),0)","v":{"$error":"#REF!"}},{"$f":"E34*$T$34/1000","v":{"$error":"#REF!"}},{"$f":"F34*$T$34/1000","v":{"$error":"#REF!"}},{"$error":"#REF!"},{"$error":"#REF!"},{"$error":"#REF!"},{"$error":"#REF!"},{"$error":"#REF!"},{"$error":"#REF!"},{"$error":"#REF!"},{"$error":"#REF!"},{"$error":"#REF!"},{"$error":"#REF!"},{"$error":"#REF!"},null,{"$error":"#REF!"},null,{"$f":"E34*$AJ$34","v":{"$error":"#REF!"}},{"$f":"F34*$AJ$34","v":{"$error":"#REF!"}},{"$error":"#REF!"},{"$error":"#REF!"},{"$error":"#REF!"},{"$error":"#REF!"},{"$error":"#REF!"},{"$error":"#REF!"},{"$error":"#REF!"},{"$error":"#REF!"},{"$error":"#REF!"},{"$error":"#REF!"},{"$error":"#REF!"},null,{"$error":"#REF!"},{"$f":"IF(AY34<>0,VLOOKUP(AY34,EF!$B$4:$E$55,4,0),0)","v":{"$error":"#REF!"}},{"$f":"E34*$AZ$34","v":{"$error":"#REF!"}},{"$f":"F34*$AZ$34","v":{"$error":"#REF!"}},{"$error":"#REF!"},{"$error":"#REF!"},{"$error":"#REF!"},{"$error":"#REF!"},{"$error":"#REF!"},{"$error":"#REF!"},{"$error":"#REF!"},{"$error":"#REF!"},{"$error":"#REF!"},{"$error":"#REF!"},{"$error":"#REF!"},null,{"$error":"#REF!"},{"$f":"U34+AK34*EF!$M$4/1000+EF!$M$5*'TÍNH TOÁN PHÂN ĐẠM'!BA34/1000","v":{"$error":"#REF!"}},{"$f":"V34+AL34*EF!$M$4/1000+EF!$M$5*'TÍNH TOÁN PHÂN ĐẠM'!BB34/1000","v":{"$error":"#REF!"}},{"$f":"W34+AM34*EF!$M$4/1000+EF!$M$5*'TÍNH TOÁN PHÂN ĐẠM'!BC34/1000","v":{"$error":"#REF!"}},{"$f":"X34+AN34*EF!$M$4/1000+EF!$M$5*'TÍNH TOÁN PHÂN ĐẠM'!BD34/1000","v":{"$error":"#REF!"}},{"$f":"Y34+AO34*EF!$M$4/1000+EF!$M$5*'TÍNH TOÁN PHÂN ĐẠM'!BE34/1000","v":{"$error":"#REF!"}},{"$f":"Z34+AP34*EF!$M$4/1000+EF!$M$5*'TÍNH TOÁN PHÂN ĐẠM'!BF34/1000","v":{"$error":"#REF!"}},{"$f":"AA34+AQ34*EF!$M$4/1000+EF!$M$5*'TÍNH TOÁN PHÂN ĐẠM'!BG34/1000","v":{"$error":"#REF!"}},{"$f":"AB34+AR34*EF!$M$4/1000+EF!$M$5*'TÍNH TOÁN PHÂN ĐẠM'!BH34/1000","v":{"$error":"#REF!"}},{"$f":"AC34+AS34*EF!$M$4/1000+EF!$M$5*'TÍNH TOÁN PHÂN ĐẠM'!BI34/1000","v":{"$error":"#REF!"}},{"$f":"AD34+AT34*EF!$M$4/1000+EF!$M$5*'TÍNH TOÁN PHÂN ĐẠM'!BJ34/1000","v":{"$error":"#REF!"}},{"$f":"AE34+AU34*EF!$M$4/1000+EF!$M$5*'TÍNH TOÁN PHÂN ĐẠM'!BK34/1000","v":{"$error":"#REF!"}},{"$f":"AF34+AV34*EF!$M$4/1000+EF!$M$5*'TÍNH TOÁN PHÂN ĐẠM'!BL34/1000","v":{"$error":"#REF!"}},{"$error":"#REF!"}]
[{"$f":"IF(OFFSET('GARMENT&TEXTILE PHASE 2'!#REF!,6,0)<>\"Tổng (GJ)\",OFFSET('GARMENT&TEXTILE PHASE 2'!#REF!,6,0),0)","v":{"$error":"#REF!"}},{"$f":"IF(A35<>0,OFFSET('GARMENT&TEXTILE PHASE 2'!#REF!,6,0),0)","v":{"$error":"#REF!"}},{"$f":"IF(A35<>0,VLOOKUP(A35&B35,'unit conversion'!$A$2:$F$267,5,0),0)","v":{"$error":"#REF!"}},{"$f":"IF(A35<>0,VLOOKUP(A35&B35,'unit conversion'!$A$2:$F$267,6,0),0)","v":{"$error":"#REF!"}},{"$f":"IF(AND($A$35<>0,$B$35<>0),OFFSET('GARMENT&TEXTILE PHASE 2'!#REF!,6,0)*'TÍNH TOÁN PHÂN ĐẠM'!$C$35*'TÍNH TOÁN PHÂN ĐẠM'!$D$35,0)","v":{"$error":"#REF!"}},{"$f":"IF(AND($A$35<>0,$B$35<>0),OFFSET('GARMENT&TEXTILE PHASE 2'!#REF!,6,0)*'TÍNH TOÁN PHÂN ĐẠM'!$C$35*'TÍNH TOÁN PHÂN ĐẠM'!$D$35,0)","v":{"$error":"#REF!"}},{"$f":"IF(AND($A$35<>0,$B$35<>0),OFFSET('GARMENT&TEXTILE PHASE 2'!#REF!,6,0)*'TÍNH TOÁN PHÂN ĐẠM'!$C$35*'TÍNH TOÁN PHÂN ĐẠM'!$D$35,0)","v":{"$error":"#REF!"}},{"$f":"IF(AND($A$35<>0,$B$35<>0),OFFSET('GARMENT&TEXTILE PHASE 2'!#REF!,6,0)*'TÍNH TOÁN PHÂN ĐẠM'!$C$35*'TÍNH TOÁN PHÂN ĐẠM'!$D$35,0)","v":{"$error":"#REF!"}},{"$f":"IF(AND($A$35<>0,$B$35<>0),OFFSET('GARMENT&TEXTILE PHASE 2'!#REF!,6,0)*'TÍNH TOÁN PHÂN ĐẠM'!$C$35*'TÍNH TOÁN PHÂN ĐẠM'!$D$35,0)","v":{"$error":"#REF!"}},{"$f":"IF(AND($A$35<>0,$B$35<>0),OFFSET('GARMENT&TEXTILE PHASE 2'!#REF!,6,0)*'TÍNH TOÁN PHÂN ĐẠM'!$C$35*'TÍNH TOÁN PHÂN ĐẠM'!$D$35,0)","v":{"$error":"#REF!"}},{"$f":"IF(AND($A$35<>0,$B$35<>0),OFFSET('GARMENT&TEXTILE PHASE 2'!#REF!,6,0)*'TÍNH TOÁN PHÂN ĐẠM'!$C$35*'TÍNH TOÁN PHÂN ĐẠM'!$D$35,0)","v":{"$error":"#REF!"}},{"$f":"IF(AND($A$35<>0,$B$35<>0),OFFSET('GARMENT&TEXTILE PHASE 2'!#REF!,6,0)*'TÍNH TOÁN PHÂN ĐẠM'!$C$35*'TÍNH TOÁN PHÂN ĐẠM'!$D$35,0)","v":{"$error":"#REF!"}},{"$f":"IF(AND($A$35<>0,$B$35<>0),OFFSET('GARMENT&TEXTILE PHASE 2'!#REF!,6,0)*'TÍNH TOÁN PHÂN ĐẠM'!$C$35*'TÍNH TOÁN PHÂN ĐẠM'!$D$35,0)","v":{"$error":"#REF!"}},{"$f":"IF(AND($A$35<>0,$B$35<>0),OFFSET('GARMENT&TEXTILE PHASE 2'!#REF!,6,0)*'TÍNH TOÁN PHÂN ĐẠM'!$C$35*'TÍNH TOÁN PHÂN ĐẠM'!$D$35,0)","v":{"$error":"#REF!"}},{"$f":"IF(AND($A$35<>0,$B$35<>0),OFFSET('GARMENT&TEXTILE PHASE 2'!#REF!,6,0)*'TÍNH TOÁN PHÂN ĐẠM'!$C$35*'TÍNH TOÁN PHÂN ĐẠM'!$D$35,0)","v":{"$error":"#REF!"}},{"$f":"IF(AND($A$35<>0,$B$35<>0),OFFSET('GARMENT&TEXTILE PHASE 2'!#REF!,6,0)*'TÍNH TOÁN PHÂN ĐẠM'!$C$35*'TÍNH TOÁN PHÂN ĐẠM'!$D$35,0)","v":{"$error":"#REF!"}},{"$error":"#REF!"},null,{"$error":"#REF!"},{"$f":"IF(S35<>0,VLOOKUP(S35,EF!$B$4:$H$55,2,0),0)","v":{"$error":"#REF!"}},{"$f":"E35*$T$35/1000","v":{"$error":"#REF!"}},{"$f":"F35*$T$35/1000","v":{"$error":"#REF!"}},{"$error":"#REF!"},{"$error":"#REF!"},{"$error":"#REF!"},{"$error":"#REF!"},{"$error":"#REF!"},{"$error":"#REF!"},{"$error":"#REF!"},{"$error":"#REF!"},{"$error":"#REF!"},{"$error":"#REF!"},{"$error":"#REF!"},null,{"$error":"#REF!"},null,{"$f":"E35*$AJ$35","v":{"$error":"#REF!"}},{"$f":"F35*$AJ$35","v":{"$error":"#REF!"}},{"$error":"#REF!"},{"$error":"#REF!"},{"$error":"#REF!"},{"$error":"#REF!"},{"$error":"#REF!"},{"$error":"#REF!"},{"$error":"#REF!"},{"$error":"#REF!"},{"$error":"#REF!"},{"$error":"#REF!"},{"$error":"#REF!"},null,{"$error":"#REF!"},{"$f":"IF(AY35<>0,VLOOKUP(AY35,EF!$B$4:$E$55,4,0),0)","v":{"$error":"#REF!"}},{"$f":"E35*$AZ$35","v":{"$error":"#REF!"}},{"$f":"F35*$AZ$35","v":{"$error":"#REF!"}},{"$error":"#REF!"},{"$error":"#REF!"},{"$error":"#REF!"},{"$error":"#REF!"},{"$error":"#REF!"},{"$error":"#REF!"},{"$error":"#REF!"},{"$error":"#REF!"},{"$error":"#REF!"},{"$error":"#REF!"},{"$error":"#REF!"},null,{"$error":"#REF!"},{"$f":"U35+AK35*EF!$M$4/1000+EF!$M$5*'TÍNH TOÁN PHÂN ĐẠM'!BA35/1000","v":{"$error":"#REF!"}},{"$f":"V35+AL35*EF!$M$4/1000+EF!$M$5*'TÍNH TOÁN PHÂN ĐẠM'!BB35/1000","v":{"$error":"#REF!"}},{"$f":"W35+AM35*EF!$M$4/1000+EF!$M$5*'TÍNH TOÁN PHÂN ĐẠM'!BC35/1000","v":{"$error":"#REF!"}},{"$f":"X35+AN35*EF!$M$4/1000+EF!$M$5*'TÍNH TOÁN PHÂN ĐẠM'!BD35/1000","v":{"$error":"#REF!"}},{"$f":"Y35+AO35*EF!$M$4/1000+EF!$M$5*'TÍNH TOÁN PHÂN ĐẠM'!BE35/1000","v":{"$error":"#REF!"}},{"$f":"Z35+AP35*EF!$M$4/1000+EF!$M$5*'TÍNH TOÁN PHÂN ĐẠM'!BF35/1000","v":{"$error":"#REF!"}},{"$f":"AA35+AQ35*EF!$M$4/1000+EF!$M$5*'TÍNH TOÁN PHÂN ĐẠM'!BG35/1000","v":{"$error":"#REF!"}},{"$f":"AB35+AR35*EF!$M$4/1000+EF!$M$5*'TÍNH TOÁN PHÂN ĐẠM'!BH35/1000","v":{"$error":"#REF!"}},{"$f":"AC35+AS35*EF!$M$4/1000+EF!$M$5*'TÍNH TOÁN PHÂN ĐẠM'!BI35/1000","v":{"$error":"#REF!"}},{"$f":"AD35+AT35*EF!$M$4/1000+EF!$M$5*'TÍNH TOÁN PHÂN ĐẠM'!BJ35/1000","v":{"$error":"#REF!"}},{"$f":"AE35+AU35*EF!$M$4/1000+EF!$M$5*'TÍNH TOÁN PHÂN ĐẠM'!BK35/1000","v":{"$error":"#REF!"}},{"$f":"AF35+AV35*EF!$M$4/1000+EF!$M$5*'TÍNH TOÁN PHÂN ĐẠM'!BL35/1000","v":{"$error":"#REF!"}},{"$error":"#REF!"}]
[{"$f":"IF(OFFSET('GARMENT&TEXTILE PHASE 2'!#REF!,7,0)<>\"Tổng (GJ)\",OFFSET('GARMENT&TEXTILE PHASE 2'!#REF!,7,0),0)","v":{"$error":"#REF!"}},{"$f":"IF(A36<>0,OFFSET('GARMENT&TEXTILE PHASE 2'!#REF!,7,0),0)","v":{"$error":"#REF!"}},{"$f":"IF(A36<>0,VLOOKUP(A36&B36,'unit conversion'!$A$2:$F$267,5,0),0)","v":{"$error":"#REF!"}},{"$f":"IF(A36<>0,VLOOKUP(A36&B36,'unit conversion'!$A$2:$F$267,6,0),0)","v":{"$error":"#REF!"}},{"$f":"IF(AND($A$36<>0,$B$36<>0),OFFSET('GARMENT&TEXTILE PHASE 2'!#REF!,7,0)*'TÍNH TOÁN PHÂN ĐẠM'!$C$36*'TÍNH TOÁN PHÂN ĐẠM'!$D$36,0)","v":{"$error":"#REF!"}},{"$f":"IF(AND($A$36<>0,$B$36<>0),OFFSET('GARMENT&TEXTILE PHASE 2'!#REF!,7,0)*'TÍNH TOÁN PHÂN ĐẠM'!$C$36*'TÍNH TOÁN PHÂN ĐẠM'!$D$36,0)","v":{"$error":"#REF!"}},{"$f":"IF(AND($A$36<>0,$B$36<>0),OFFSET('GARMENT&TEXTILE PHASE 2'!#REF!,7,0)*'TÍNH TOÁN PHÂN ĐẠM'!$C$36*'TÍNH TOÁN PHÂN ĐẠM'!$D$36,0)","v":{"$error":"#REF!"}},{"$f":"IF(AND($A$36<>0,$B$36<>0),OFFSET('GARMENT&TEXTILE PHASE 2'!#REF!,7,0)*'TÍNH TOÁN PHÂN ĐẠM'!$C$36*'TÍNH TOÁN PHÂN ĐẠM'!$D$36,0)","v":{"$error":"#REF!"}},{"$f":"IF(AND($A$36<>0,$B$36<>0),OFFSET('GARMENT&TEXTILE PHASE 2'!#REF!,7,0)*'TÍNH TOÁN PHÂN ĐẠM'!$C$36*'TÍNH TOÁN PHÂN ĐẠM'!$D$36,0)","v":{"$error":"#REF!"}},{"$f":"IF(AND($A$36<>0,$B$36<>0),OFFSET('GARMENT&TEXTILE PHASE 2'!#REF!,7,0)*'TÍNH TOÁN PHÂN ĐẠM'!$C$36*'TÍNH TOÁN PHÂN ĐẠM'!$D$36,0)","v":{"$error":"#REF!"}},{"$f":"IF(AND($A$36<>0,$B$36<>0),OFFSET('GARMENT&TEXTILE PHASE 2'!#REF!,7,0)*'TÍNH TOÁN PHÂN ĐẠM'!$C$36*'TÍNH TOÁN PHÂN ĐẠM'!$D$36,0)","v":{"$error":"#REF!"}},{"$f":"IF(AND($A$36<>0,$B$36<>0),OFFSET('GARMENT&TEXTILE PHASE 2'!#REF!,7,0)*'TÍNH TOÁN PHÂN ĐẠM'!$C$36*'TÍNH TOÁN PHÂN ĐẠM'!$D$36,0)","v":{"$error":"#REF!"}},{"$f":"IF(AND($A$36<>0,$B$36<>0),OFFSET('GARMENT&TEXTILE PHASE 2'!#REF!,7,0)*'TÍNH TOÁN PHÂN ĐẠM'!$C$36*'TÍNH TOÁN PHÂN ĐẠM'!$D$36,0)","v":{"$error":"#REF!"}},{"$f":"IF(AND($A$36<>0,$B$36<>0),OFFSET('GARMENT&TEXTILE PHASE 2'!#REF!,7,0)*'TÍNH TOÁN PHÂN ĐẠM'!$C$36*'TÍNH TOÁN PHÂN ĐẠM'!$D$36,0)","v":{"$error":"#REF!"}},{"$f":"IF(AND($A$36<>0,$B$36<>0),OFFSET('GARMENT&TEXTILE PHASE 2'!#REF!,7,0)*'TÍNH TOÁN PHÂN ĐẠM'!$C$36*'TÍNH TOÁN PHÂN ĐẠM'!$D$36,0)","v":{"$error":"#REF!"}},{"$f":"IF(AND($A$36<>0,$B$36<>0),OFFSET('GARMENT&TEXTILE PHASE 2'!#REF!,7,0)*'TÍNH TOÁN PHÂN ĐẠM'!$C$36*'TÍNH TOÁN PHÂN ĐẠM'!$D$36,0)","v":{"$error":"#REF!"}},{"$error":"#REF!"},null,{"$error":"#REF!"},{"$f":"IF(S36<>0,VLOOKUP(S36,EF!$B$4:$H$55,2,0),0)","v":{"$error":"#REF!"}},{"$f":"E36*$T$36/1000","v":{"$error":"#REF!"}},{"$f":"F36*$T$36/1000","v":{"$error":"#REF!"}},{"$error":"#REF!"},{"$error":"#REF!"},{"$error":"#REF!"},{"$error":"#REF!"},{"$error":"#REF!"},{"$error":"#REF!"},{"$error":"#REF!"},{"$error":"#REF!"},{"$error":"#REF!"},{"$error":"#REF!"},{"$error":"#REF!"},null,{"$error":"#REF!"},null,{"$f":"E36*$AJ$36","v":{"$error":"#REF!"}},{"$f":"F36*$AJ$36","v":{"$error":"#REF!"}},{"$error":"#REF!"},{"$error":"#REF!"},{"$error":"#REF!"},{"$error":"#REF!"},{"$error":"#REF!"},{"$error":"#REF!"},{"$error":"#REF!"},{"$error":"#REF!"},{"$error":"#REF!"},{"$error":"#REF!"},{"$error":"#REF!"},null,{"$error":"#REF!"},{"$f":"IF(AY36<>0,VLOOKUP(AY36,EF!$B$4:$E$55,4,0),0)","v":{"$error":"#REF!"}},{"$f":"E36*$AZ$36","v":{"$error":"#REF!"}},{"$f":"F36*$AZ$36","v":{"$error":"#REF!"}},{"$error":"#REF!"},{"$error":"#REF!"},{"$error":"#REF!"},{"$error":"#REF!"},{"$error":"#REF!"},{"$error":"#REF!"},{"$error":"#REF!"},{"$error":"#REF!"},{"$error":"#REF!"},{"$error":"#REF!"},{"$error":"#REF!"},null,{"$error":"#REF!"},{"$f":"U36+AK36*EF!$M$4/1000+EF!$M$5*'TÍNH TOÁN PHÂN ĐẠM'!BA36/1000","v":{"$error":"#REF!"}},{"$f":"V36+AL36*EF!$M$4/1000+EF!$M$5*'TÍNH TOÁN PHÂN ĐẠM'!BB36/1000","v":{"$error":"#REF!"}},{"$f":"W36+AM36*EF!$M$4/1000+EF!$M$5*'TÍNH TOÁN PHÂN ĐẠM'!BC36/1000","v":{"$error":"#REF!"}},{"$f":"X36+AN36*EF!$M$4/1000+EF!$M$5*'TÍNH TOÁN PHÂN ĐẠM'!BD36/1000","v":{"$error":"#REF!"}},{"$f":"Y36+AO36*EF!$M$4/1000+EF!$M$5*'TÍNH TOÁN PHÂN ĐẠM'!BE36/1000","v":{"$error":"#REF!"}},{"$f":"Z36+AP36*EF!$M$4/1000+EF!$M$5*'TÍNH TOÁN PHÂN ĐẠM'!BF36/1000","v":{"$error":"#REF!"}},{"$f":"AA36+AQ36*EF!$M$4/1000+EF!$M$5*'TÍNH TOÁN PHÂN ĐẠM'!BG36/1000","v":{"$error":"#REF!"}},{"$f":"AB36+AR36*EF!$M$4/1000+EF!$M$5*'TÍNH TOÁN PHÂN ĐẠM'!BH36/1000","v":{"$error":"#REF!"}},{"$f":"AC36+AS36*EF!$M$4/1000+EF!$M$5*'TÍNH TOÁN PHÂN ĐẠM'!BI36/1000","v":{"$error":"#REF!"}},{"$f":"AD36+AT36*EF!$M$4/1000+EF!$M$5*'TÍNH TOÁN PHÂN ĐẠM'!BJ36/1000","v":{"$error":"#REF!"}},{"$f":"AE36+AU36*EF!$M$4/1000+EF!$M$5*'TÍNH TOÁN PHÂN ĐẠM'!BK36/1000","v":{"$error":"#REF!"}},{"$f":"AF36+AV36*EF!$M$4/1000+EF!$M$5*'TÍNH TOÁN PHÂN ĐẠM'!BL36/1000","v":{"$error":"#REF!"}},{"$error":"#REF!"}]
[{"$f":"IF(OFFSET('GARMENT&TEXTILE PHASE 2'!#REF!,8,0)<>\"Tổng (GJ)\",OFFSET('GARMENT&TEXTILE PHASE 2'!#REF!,8,0),0)","v":{"$error":"#REF!"}},{"$f":"IF(A37<>0,OFFSET('GARMENT&TEXTILE PHASE 2'!#REF!,8,0),0)","v":{"$error":"#REF!"}},{"$f":"IF(A37<>0,VLOOKUP(A37&B37,'unit conversion'!$A$2:$F$267,5,0),0)","v":{"$error":"#REF!"}},{"$f":"IF(A37<>0,VLOOKUP(A37&B37,'unit conversion'!$A$2:$F$267,6,0),0)","v":{"$error":"#REF!"}},{"$f":"IF(AND($A$37<>0,$B$37<>0),OFFSET('GARMENT&TEXTILE PHASE 2'!#REF!,8,0)*'TÍNH TOÁN PHÂN ĐẠM'!$C$37*'TÍNH TOÁN PHÂN ĐẠM'!$D$37,0)","v":{"$error":"#REF!"}},{"$f":"IF(AND($A$37<>0,$B$37<>0),OFFSET('GARMENT&TEXTILE PHASE 2'!#REF!,8,0)*'TÍNH TOÁN PHÂN ĐẠM'!$C$37*'TÍNH TOÁN PHÂN ĐẠM'!$D$37,0)","v":{"$error":"#REF!"}},{"$f":"IF(AND($A$37<>0,$B$37<>0),OFFSET('GARMENT&TEXTILE PHASE 2'!#REF!,8,0)*'TÍNH TOÁN PHÂN ĐẠM'!$C$37*'TÍNH TOÁN PHÂN ĐẠM'!$D$37,0)","v":{"$error":"#REF!"}},{"$f":"IF(AND($A$37<>0,$B$37<>0),OFFSET('GARMENT&TEXTILE PHASE 2'!#REF!,8,0)*'TÍNH TOÁN PHÂN ĐẠM'!$C$37*'TÍNH TOÁN PHÂN ĐẠM'!$D$37,0)","v":{"$error":"#REF!"}},{"$f":"IF(AND($A$37<>0,$B$37<>0),OFFSET('GARMENT&TEXTILE PHASE 2'!#REF!,8,0)*'TÍNH TOÁN PHÂN ĐẠM'!$C$37*'TÍNH TOÁN PHÂN ĐẠM'!$D$37,0)","v":{"$error":"#REF!"}},{"$f":"IF(AND($A$37<>0,$B$37<>0),OFFSET('GARMENT&TEXTILE PHASE 2'!#REF!,8,0)*'TÍNH TOÁN PHÂN ĐẠM'!$C$37*'TÍNH TOÁN PHÂN ĐẠM'!$D$37,0)","v":{"$error":"#REF!"}},{"$f":"IF(AND($A$37<>0,$B$37<>0),OFFSET('GARMENT&TEXTILE PHASE 2'!#REF!,8,0)*'TÍNH TOÁN PHÂN ĐẠM'!$C$37*'TÍNH TOÁN PHÂN ĐẠM'!$D$37,0)","v":{"$error":"#REF!"}},{"$f":"IF(AND($A$37<>0,$B$37<>0),OFFSET('GARMENT&TEXTILE PHASE 2'!#REF!,8,0)*'TÍNH TOÁN PHÂN ĐẠM'!$C$37*'TÍNH TOÁN PHÂN ĐẠM'!$D$37,0)","v":{"$error":"#REF!"}},{"$f":"IF(AND($A$37<>0,$B$37<>0),OFFSET('GARMENT&TEXTILE PHASE 2'!#REF!,8,0)*'TÍNH TOÁN PHÂN ĐẠM'!$C$37*'TÍNH TOÁN PHÂN ĐẠM'!$D$37,0)","v":{"$error":"#REF!"}},{"$f":"IF(AND($A$37<>0,$B$37<>0),OFFSET('GARMENT&TEXTILE PHASE 2'!#REF!,8,0)*'TÍNH TOÁN PHÂN ĐẠM'!$C$37*'TÍNH TOÁN PHÂN ĐẠM'!$D$37,0)","v":{"$error":"#REF!"}},{"$f":"IF(AND($A$37<>0,$B$37<>0),OFFSET('GARMENT&TEXTILE PHASE 2'!#REF!,8,0)*'TÍNH TOÁN PHÂN ĐẠM'!$C$37*'TÍNH TOÁN PHÂN ĐẠM'!$D$37,0)","v":{"$error":"#REF!"}},{"$f":"IF(AND($A$37<>0,$B$37<>0),OFFSET('GARMENT&TEXTILE PHASE 2'!#REF!,8,0)*'TÍNH TOÁN PHÂN ĐẠM'!$C$37*'TÍNH TOÁN PHÂN ĐẠM'!$D$37,0)","v":{"$error":"#REF!"}},{"$error":"#REF!"},null,{"$error":"#REF!"},{"$f":"IF(S37<>0,VLOOKUP(S37,EF!$B$4:$H$55,2,0),0)","v":{"$error":"#REF!"}},{"$f":"E37*$T$37/1000","v":{"$error":"#REF!"}},{"$f":"F37*$T$37/1000","v":{"$error":"#REF!"}},{"$error":"#REF!"},{"$error":"#REF!"},{"$error":"#REF!"},{"$error":"#REF!"},{"$error":"#REF!"},{"$error":"#REF!"},{"$error":"#REF!"},{"$error":"#REF!"},{"$error":"#REF!"},{"$error":"#REF!"},{"$error":"#REF!"},null,{"$error":"#REF!"},null,{"$f":"E37*$AJ$37","v":{"$error":"#REF!"}},{"$f":"F37*$AJ$37","v":{"$error":"#REF!"}},{"$error":"#REF!"},{"$error":"#REF!"},{"$error":"#REF!"},{"$error":"#REF!"},{"$error":"#REF!"},{"$error":"#REF!"},{"$error":"#REF!"},{"$error":"#REF!"},{"$error":"#REF!"},{"$error":"#REF!"},{"$error":"#REF!"},null,{"$error":"#REF!"},{"$f":"IF(AY37<>0,VLOOKUP(AY37,EF!$B$4:$E$55,4,0),0)","v":{"$error":"#REF!"}},{"$f":"E37*$AZ$37","v":{"$error":"#REF!"}},{"$f":"F37*$AZ$37","v":{"$error":"#REF!"}},{"$error":"#REF!"},{"$error":"#REF!"},{"$error":"#REF!"},{"$error":"#REF!"},{"$error":"#REF!"},{"$error":"#REF!"},{"$error":"#REF!"},{"$error":"#REF!"},{"$error":"#REF!"},{"$error":"#REF!"},{"$error":"#REF!"},null,{"$error":"#REF!"},{"$f":"U37+AK37*EF!$M$4/1000+EF!$M$5*'TÍNH TOÁN PHÂN ĐẠM'!BA37/1000","v":{"$error":"#REF!"}},{"$f":"V37+AL37*EF!$M$4/1000+EF!$M$5*'TÍNH TOÁN PHÂN ĐẠM'!BB37/1000","v":{"$error":"#REF!"}},{"$f":"W37+AM37*EF!$M$4/1000+EF!$M$5*'TÍNH TOÁN PHÂN ĐẠM'!BC37/1000","v":{"$error":"#REF!"}},{"$f":"X37+AN37*EF!$M$4/1000+EF!$M$5*'TÍNH TOÁN PHÂN ĐẠM'!BD37/1000","v":{"$error":"#REF!"}},{"$f":"Y37+AO37*EF!$M$4/1000+EF!$M$5*'TÍNH TOÁN PHÂN ĐẠM'!BE37/1000","v":{"$error":"#REF!"}},{"$f":"Z37+AP37*EF!$M$4/1000+EF!$M$5*'TÍNH TOÁN PHÂN ĐẠM'!BF37/1000","v":{"$error":"#REF!"}},{"$f":"AA37+AQ37*EF!$M$4/1000+EF!$M$5*'TÍNH TOÁN PHÂN ĐẠM'!BG37/1000","v":{"$error":"#REF!"}},{"$f":"AB37+AR37*EF!$M$4/1000+EF!$M$5*'TÍNH TOÁN PHÂN ĐẠM'!BH37/1000","v":{"$error":"#REF!"}},{"$f":"AC37+AS37*EF!$M$4/1000+EF!$M$5*'TÍNH TOÁN PHÂN ĐẠM'!BI37/1000","v":{"$error":"#REF!"}},{"$f":"AD37+AT37*EF!$M$4/1000+EF!$M$5*'TÍNH TOÁN PHÂN ĐẠM'!BJ37/1000","v":{"$error":"#REF!"}},{"$f":"AE37+AU37*EF!$M$4/1000+EF!$M$5*'TÍNH TOÁN PHÂN ĐẠM'!BK37/1000","v":{"$error":"#REF!"}},{"$f":"AF37+AV37*EF!$M$4/1000+EF!$M$5*'TÍNH TOÁN PHÂN ĐẠM'!BL37/1000","v":{"$error":"#REF!"}},{"$error":"#REF!"}]
["Tổng (GJ)",null,null,null,{"$f":"SUM(E29:E37)","v":{"$error":"#REF!"}},{"$f":"SUM(F29:F37)","v":{"$error":"#REF!"}},{"$error":"#REF!"},{"$error":"#REF!"},{"$error":"#REF!"},{"$error":"#REF!"},{"$error":"#REF!"},{"$error":"#REF!"},{"$error":"#REF!"},{"$error":"#REF!"},{"$error":"#REF!"},{"$error":"#REF!"},{"$error":"#REF!"},null,"Tổng (Gg)",null,{"$f":"SUM(U29:U37)","v":{"$error":"#REF!"}},{"$f":"SUM(V29:V37)","v":{"$error":"#REF!"}},{"$error":"#REF!"},{"$error":"#REF!"},{"$error":"#REF!"},{"$error":"#REF!"},{"$error":"#REF!"},{"$error":"#REF!"},{"$error":"#REF!"},{"$error":"#REF!"},{"$error":"#REF!"},{"$error":"#REF!"},{"$error":"#REF!"},null,"Tổng (Gg)",null,{"$f":"SUM(AK29:AK37)","v":{"$error":"#REF!"}},{"$f":"SUM(AL29:AL37)","v":{"$error":"#REF!"}},{"$error":"#REF!"},{"$error":"#REF!"},{"$error":"#REF!"},{"$error":"#REF!"},{"$error":"#REF!"},{"$error":"#REF!"},{"$error":"#REF!"},{"$error":"#REF!"},{"$error":"#REF!"},{"$error":"#REF!"},{"$error":"#REF!"},null,"Tổng (Gg)",null,{"$f":"SUM(BA29:BA37)","v":{"$error":"#REF!"}},{"$f":"SUM(BB29:BB37)","v":{"$error":"#REF!"}},{"$error":"#REF!"},{"$error":"#REF!"},{"$error":"#REF!"},{"$error":"#REF!"},{"$error":"#REF!"},{"$error":"#REF!"},{"$error":"#REF!"},{"$error":"#REF!"},{"$error":"#REF!"},{"$error":"#REF!"},{"$error":"#REF!"},null,"Tổng (TẤN)",{"$f":"SUM(BP29:BP37)","v":{"$error":"#REF!"}},{"$f":"SUM(BQ29:BQ37)","v":{"$error":"#REF!"}},{"$error":"#REF!"},{"$error":"#REF!"},{"$error":"#REF!"},{"$error":"#REF!"},{"$error":"#REF!"},{"$error":"#REF!"},{"$error":"#REF!"},{"$error":"#REF!"},{"$error":"#REF!"},{"$error":"#REF!"},{"$error":"#REF!"}]
[]
["Rò rì các môi chất làm lạnh"]
["Nhiên liệu","Đơn vị","Quy đổi đơn vị",null,null,null,null,null,null,null,null,null,null,null,"Tổng ",null,"Nhiên liệu",null,"Phát thải CO2tđ (tấn)",null,null,null,null,null,null,null,null,null,null,null,"Tổng (Gg)"]
[null,null,"Tháng 1","Tháng 2","Tháng 3","Tháng 4","Tháng 5","Tháng 6","Tháng 7","Tháng 8","Tháng 9","Tháng 10","Tháng 11","Tháng 12",null,null,null,"EF","Tháng 1","Tháng 2","Tháng 3","Tháng 4","Tháng 5","Tháng 6","Tháng 7","Tháng 8","Tháng 9","Tháng 10","Tháng 11","Tháng 12"]
[{"$f":"IF(OFFSET('GARMENT&TEXTILE PHASE 2'!#REF!,0,0)<>\"\",OFFSET('GARMENT&TEXTILE PHASE 2'!#REF!,0,0),0)","v":{"$error":"#REF!"}},{"$f":"IF(A43<>0,\"kg\",0)","v":{"$error":"#REF!"}},{"$f":"IF(AND($A$43<>0,$B$43<>0),OFFSET('GARMENT&TEXTILE PHASE 2'!#REF!,0,0),0)","v":{"$error":"#REF!"}},{"$f":"IF(AND($A$43<>0,$B$43<>0),OFFSET('GARMENT&TEXTILE PHASE 2'!#REF!,0,0),0)","v":{"$error":"#REF!"}},{"$f":"IF(AND($A$43<>0,$B$43<>0),OFFSET('GARMENT&TEXTILE PHASE 2'!#REF!,0,0),0)","v":{"$error":"#REF!"}},{"$f":"IF(AND($A$43<>0,$B$43<>0),OFFSET('GARMENT&TEXTILE PHASE 2'!#REF!,0,0),0)","v":{"$error":"#REF!"}},{"$f":"IF(AND($A$43<>0,$B$43<>0),OFFSET('GARMENT&TEXTILE PHASE 2'!#REF!,0,0),0)","v":{"$error":"#REF!"}},{"$f":"IF(AND($A$43<>0,$B$43<>0),OFFSET('GARMENT&TEXTILE PHASE 2'!#REF!,0,0),0)","v":{"$error":"#REF!"}},{"$f":"IF(AND($A$43<>0,$B$43<>0),OFFSET('GARMENT&TEXTILE PHASE 2'!#REF!,0,0),0)","v":{"$error":"#REF!"}},{"$f":"IF(AND($A$43<>0,$B$43<>0),OFFSET('GARMENT&TEXTILE PHASE 2'!#REF!,0,0),0)","v":{"$error":"#REF!"}},{"$f":"IF(AND($A$43<>0,$B$43<>0),OFFSET('GARMENT&TEXTILE PHASE 2'!#REF!,0,0),0)","v":{"$error":"#REF!"}},{"$f":"IF(AND($A$43<>0,$B$43<>0),OFFSET('GARMENT&TEXTILE PHASE 2'!#REF!,0,0),0)","v":{"$error":"#REF!"}},{"$f":"IF(AND($A$43<>0,$B$43<>0),OFFSET('GARMENT&TEXTILE PHASE 2'!#REF!,0,0),0)","v":{"$error":"#REF!"}},{"$f":"IF(AND($A$43<>0,$B$43<>0),OFFSET('GARMENT&TEXTILE PHASE 2'!#REF!,0,0),0)","v":{"$error":"#REF!"}},{"$f":"SUM(C43:N43)","v":{"$error":"#REF!"}},null,{"$f":"A43","v":{"$error":"#REF!"}},{"$f":"IF(Q43<>0,VLOOKUP(Q43,EF!$K$8:$M$16,3,0),0)","v":{"$error":"#REF!"}},{"$f":"C43*$R$43/1000","v":{"$error":"#REF!"}},{"$f":"D43*$R$43/1000","v":{"$error":"#REF!"}},{"$error":"#REF!"},{"$error":"#REF!"},{"$error":"#REF!"},{"$error":"#REF!"},{"$error":"#REF!"},{"$error":"#REF!"},{"$error":"#REF!"},{"$error":"#REF!"},{"$error":"#REF!"},{"$error":"#REF!"},{"$f":"SUM(S43:AD43)","v":{"$error":"#REF!"}}]
[{"$f":"IF(OFFSET('GARMENT&TEXTILE PHASE 2'!#REF!,1,0)<>\"\",OFFSET('GARMENT&TEXTILE PHASE 2'!#REF!,1,0),0)","v":{"$error":"#REF!"}},{"$f":"IF(A44<>0,\"kg\",0)","v":{"$error":"#REF!"}},{"$f":"IF(AND($A$44<>0,$B$44<>0),OFFSET('GARMENT&TEXTILE PHASE 2'!#REF!,1,0),0)","v":{"$error":"#REF!"}},{"$f":"IF(AND($A$44<>0,$B$44<>0),OFFSET('GARMENT&TEXTILE PHASE 2'!#REF!,1,0),0)","v":{"$error":"#REF!"}},{"$f":"IF(AND($A$44<>0,$B$44<>0),OFFSET('GARMENT&TEXTILE PHASE 2'!#REF!,1,0),0)","v":{"$error":"#REF!"}},{"$f":"IF(AND($A$44<>0,$B$44<>0),OFFSET('GARMENT&TEXTILE PHASE 2'!#REF!,1,0),0)","v":{"$error":"#REF!"}},{"$f":"IF(AND($A$44<>0,$B$44<>0),OFFSET('GARMENT&TEXTILE PHASE 2'!#REF!,1,0),0)","v":{"$error":"#REF!"}},{"$f":"IF(AND($A$44<>0,$B$44<>0),OFFSET('GARMENT&TEXTILE PHASE 2'!#REF!,1,0),0)","v":{"$error":"#REF!"}},{"$f":"IF(AND($A$44<>0,$B$44<>0),OFFSET('GARMENT&TEXTILE PHASE 2'!#REF!,1,0),0)","v":{"$error":"#REF!"}},{"$f":"IF(AND($A$44<>0,$B$44<>0),OFFSET('GARMENT&TEXTILE PHASE 2'!#REF!,1,0),0)","v":{"$error":"#REF!"}},{"$f":"IF(AND($A$44<>0,$B$44<>0),OFFSET('GARMENT&TEXTILE PHASE 2'!#REF!,1,0),0)","v":{"$error":"#REF!"}},{"$f":"IF(AND($A$44<>0,$B$44<>0),OFFSET('GARMENT&TEXTILE PHASE 2'!#REF!,1,0),0)","v":{"$error":"#REF!"}},{"$f":"IF(AND($A$44<>0,$B$44<>0),OFFSET('GARMENT&TEXTILE PHASE 2'!#REF!,1,0),0)","v":{"$error":"#REF!"}},{"$f":"IF(AND($A$44<>0,$B$44<>0),OFFSET('GARMENT&TEXTILE PHASE 2'!#REF!,1,0),0)","v":{"$error":"#REF!"}},{"$f":"SUM(C44:N44)","v":{"$error":"#REF!"}},null,{"$f":"A44","v":{"$error":"#REF!"}},{"$f":"IF(Q44<>0,VLOOKUP(Q44,EF!$K$8:$M$16,3,0),0)","v":{"$error":"#REF!"}},{"$f":"C44*$R$44/1000","v":{"$error":"#REF!"}},{"$f":"D44*$R$44/1000","v":{"$error":"#REF!"}},{"$error":"#REF!"},{"$error":"#REF!"},{"$error":"#REF!"},{"$error":"#REF!"},{"$error":"#REF!"},{"$error":"#REF!"},{"$error":"#REF!"},{"$error":"#REF!"},{"$error":"#REF!"},{"$error":"#REF!"},{"$f":"SUM(S44:AD44)","v":{"$error":"#REF!"}}]
[{"$f":"IF(OFFSET('GARMENT&TEXTILE PHASE 2'!#REF!,2,0)<>\"\",OFFSET('GARMENT&TEXTILE PHASE 2'!#REF!,2,0),0)","v":{"$error":"#REF!"}},{"$error":"#REF!"},{"$f":"IF(AND($A$45<>0,$B$45<>0),OFFSET('GARMENT&TEXTILE PHASE 2'!#REF!,2,0),0)","v":{"$error":"#REF!"}},{"$f":"IF(AND($A$45<>0,$B$45<>0),OFFSET('GARMENT&TEXTILE PHASE 2'!#REF!,2,0),0)","v":{"$error":"#REF!"}},{"$f":"IF(AND($A$45<>0,$B$45<>0),OFFSET('GARMENT&TEXTILE PHASE 2'!#REF!,2,0),0)","v":{"$error":"#REF!"}},{"$f":"IF(AND($A$45<>0,$B$45<>0),OFFSET('GARMENT&TEXTILE PHASE 2'!#REF!,2,0),0)","v":{"$error":"#REF!"}},{"$f":"IF(AND($A$45<>0,$B$45<>0),OFFSET('GARMENT&TEXTILE PHASE 2'!#REF!,2,0),0)","v":{"$error":"#REF!"}},{"$f":"IF(AND($A$45<>0,$B$45<>0),OFFSET('GARMENT&TEXTILE PHASE 2'!#REF!,2,0),0)","v":{"$error":"#REF!"}},{"$f":"IF(AND($A$45<>0,$B$45<>0),OFFSET('GARMENT&TEXTILE PHASE 2'!#REF!,2,0),0)","v":{"$error":"#REF!"}},{"$f":"IF(AND($A$45<>0,$B$45<>0),OFFSET('GARMENT&TEXTILE PHASE 2'!#REF!,2,0),0)","v":{"$error":"#REF!"}},{"$f":"IF(AND($A$45<>0,$B$45<>0),OFFSET('GARMENT&TEXTILE PHASE 2'!#REF!,2,0),0)","v":{"$error":"#REF!"}},{"$f":"IF(AND($A$45<>0,$B$45<>0),OFFSET('GARMENT&TEXTILE PHASE 2'!#REF!,2,0),0)","v":{"$error":"#REF!"}},{"$f":"IF(AND($A$45<>0,$B$45<>0),OFFSET('GARMENT&TEXTILE PHASE 2'!#REF!,2,0),0)","v":{"$error":"#REF!"}},{"$f":"IF(AND($A$45<>0,$B$45<>0),OFFSET('GARMENT&TEXTILE PHASE 2'!#REF!,2,0),0)","v":{"$error":"#REF!"}},{"$error":"#REF!"},null,{"$error":"#REF!"},{"$f":"IF(Q45<>0,VLOOKUP(Q45,EF!$K$8:$M$16,3,0),0)","v":{"$error":"#REF!"}},{"$f":"C45*$R$45/1000","v":{"$error":"#REF!"}},{"$f":"D45*$R$45/1000","v":{"$error":"#REF!"}},{"$error":"#REF!"},{"$error":"#REF!"},{"$error":"#REF!"},{"$error":"#REF!"},{"$error":"#REF!"},{"$error":"#REF!"},{"$error":"#REF!"},{"$error":"#REF!"},{"$error":"#REF!"},{"$error":"#REF!"},{"$error":"#REF!"}]
[{"$f":"IF(OFFSET('GARMENT&TEXTILE PHASE 2'!#REF!,3,0)<>\"\",OFFSET('GARMENT&TEXTILE PHASE 2'!#REF!,3,0),0)","v":{"$error":"#REF!"}},{"$error":"#REF!"},{"$f":"IF(AND($A$46<>0,$B$46<>0),OFFSET('GARMENT&TEXTILE PHASE 2'!#REF!,3,0),0)","v":{"$error":"#REF!"}},{"$f":"IF(AND($A$46<>0,$B$46<>0),OFFSET('GARMENT&TEXTILE PHASE 2'!#REF!,3,0),0)","v":{"$error":"#REF!"}},{"$f":"IF(AND($A$46<>0,$B$46<>0),OFFSET('GARMENT&TEXTILE PHASE 2'!#REF!,3,0),0)","v":{"$error":"#REF!"}},{"$f":"IF(AND($A$46<>0,$B$46<>0),OFFSET('GARMENT&TEXTILE PHASE 2'!#REF!,3,0),0)","v":{"$error":"#REF!"}},{"$f":"IF(AND($A$46<>0,$B$46<>0),OFFSET('GARMENT&TEXTILE PHASE 2'!#REF!,3,0),0)","v":{"$error":"#REF!"}},{"$f":"IF(AND($A$46<>0,$B$46<>0),OFFSET('GARMENT&TEXTILE PHASE 2'!#REF!,3,0),0)","v":{"$error":"#REF!"}},{"$f":"IF(AND($A$46<>0,$B$46<>0),OFFSET('GARMENT&TEXTILE PHASE 2'!#REF!,3,0),0)","v":{"$error":"#REF!"}},{"$f":"IF(AND($A$46<>0,$B$46<>0),OFFSET('GARMENT&TEXTILE PHASE 2'!#REF!,3,0),0)","v":{"$error":"#REF!"}},{"$f":"IF(AND($A$46<>0,$B$46<>0),OFFSET('GARMENT&TEXTILE PHASE 2'!#REF!,3,0),0)","v":{"$error":"#REF!"}},{"$f":"IF(AND($A$46<>0,$B$46<>0),OFFSET('GARMENT&TEXTILE PHASE 2'!#REF!,3,0),0)","v":{"$error":"#REF!"}},{"$f":"IF(AND($A$46<>0,$B$46<>0),OFFSET('GARMENT&TEXTILE PHASE 2'!#REF!,3,0),0)","v":{"$error":"#REF!"}},{"$f":"IF(AND($A$46<>0,$B$46<>0),OFFSET('GARMENT&TEXTILE PHASE 2'!#REF!,3,0),0)","v":{"$error":"#REF!"}},{"$error":"#REF!"},null,{"$error":"#REF!"},{"$f":"IF(Q46<>0,VLOOKUP(Q46,EF!$K$8:$M$16,3,0),0)","v":{"$error":"#REF!"}},{"$f":"C46*$R$46/1000","v":{"$error":"#REF!"}},{"$f":"D46*$R$46/1000","v":{"$error":"#REF!"}},{"$error":"#REF!"},{"$error":"#REF!"},{"$error":"#REF!"},{"$error":"#REF!"},{"$error":"#REF!"},{"$error":"#REF!"},{"$error":"#REF!"},{"$error":"#REF!"},{"$error":"#REF!"},{"$error":"#REF!"},{"$error":"#REF!"}]
[{"$f":"IF(OFFSET('GARMENT&TEXTILE PHASE 2'!#REF!,4,0)<>\"\",OFFSET('GARMENT&TEXTILE PHASE 2'!#REF!,4,0),0)","v":{"$error":"#REF!"}},{"$error":"#REF!"},{"$f":"IF(AND($A$47<>0,$B$47<>0),OFFSET('GARMENT&TEXTILE PHASE 2'!#REF!,4,0),0)","v":{"$error":"#REF!"}},{"$f":"IF(AND($A$47<>0,$B$47<>0),OFFSET('GARMENT&TEXTILE PHASE 2'!#REF!,4,0),0)","v":{"$error":"#REF!"}},{"$f":"IF(AND($A$47<>0,$B$47<>0),OFFSET('GARMENT&TEXTILE PHASE 2'!#REF!,4,0),0)","v":{"$error":"#REF!"}},{"$f":"IF(AND($A$47<>0,$B$47<>0),OFFSET('GARMENT&TEXTILE PHASE 2'!#REF!,4,0),0)","v":{"$error":"#REF!"}},{"$f":"IF(AND($A$47<>0,$B$47<>0),OFFSET('GARMENT&TEXTILE PHASE 2'!#REF!,4,0),0)","v":{"$error":"#REF!"}},{"$f":"IF(AND($A$47<>0,$B$47<>0),OFFSET('GARMENT&TEXTILE PHASE 2'!#REF!,4,0),0)","v":{"$error":"#REF!"}},{"$f":"IF(AND($A$47<>0,$B$47<>0),OFFSET('GARMENT&TEXTILE PHASE 2'!#REF!,4,0),0)","v":{"$error":"#REF!"}},{"$f":"IF(AND($A$47<>0,$B$47<>0),OFFSET('GARMENT&TEXTILE PHASE 2'!#REF!,4,0),0)","v":{"$error":"#REF!"}},{"$f":"IF(AND($A$47<>0,$B$47<>0),OFFSET('GARMENT&TEXTILE PHASE 2'!#REF!,4,0),0)","v":{"$error":"#REF!"}},{"$f":"IF(AND($A$47<>0,$B$47<>0),OFFSET('GARMENT&TEXTILE PHASE 2'!#REF!,4,0),0)","v":{"$error":"#REF!"}},{"$f":"IF(AND($A$47<>0,$B$47<>0),OFFSET('GARMENT&TEXTILE PHASE 2'!#REF!,4,0),0)","v":{"$error":"#REF!"}},{"$f":"IF(AND($A$47<>0,$B$47<>0),OFFSET('GARMENT&TEXTILE PHASE 2'!#REF!,4,0),0)","v":{"$error":"#REF!"}},{"$error":"#REF!"},null,{"$error":"#REF!"},{"$f":"IF(Q47<>0,VLOOKUP(Q47,EF!$K$8:$M$16,3,0),0)","v":{"$error":"#REF!"}},{"$f":"C47*$R$47/1000","v":{"$error":"#REF!"}},{"$f":"D47*$R$47/1000","v":{"$error":"#REF!"}},{"$error":"#REF!"},{"$error":"#REF!"},{"$error":"#REF!"},{"$error":"#REF!"},{"$error":"#REF!"},{"$error":"#REF!"},{"$error":"#REF!"},{"$error":"#REF!"},{"$error":"#REF!"},{"$error":"#REF!"},{"$error":"#REF!"}]
[{"$f":"IF(OFFSET('GARMENT&TEXTILE PHASE 2'!#REF!,5,0)<>\"\",OFFSET('GARMENT&TEXTILE PHASE 2'!#REF!,5,0),0)","v":{"$error":"#REF!"}},{"$error":"#REF!"},{"$f":"IF(AND($A$48<>0,$B$48<>0),OFFSET('GARMENT&TEXTILE PHASE 2'!#REF!,5,0),0)","v":{"$error":"#REF!"}},{"$f":"IF(AND($A$48<>0,$B$48<>0),OFFSET('GARMENT&TEXTILE PHASE 2'!#REF!,5,0),0)","v":{"$error":"#REF!"}},{"$f":"IF(AND($A$48<>0,$B$48<>0),OFFSET('GARMENT&TEXTILE PHASE 2'!#REF!,5,0),0)","v":{"$error":"#REF!"}},{"$f":"IF(AND($A$48<>0,$B$48<>0),OFFSET('GARMENT&TEXTILE PHASE 2'!#REF!,5,0),0)","v":{"$error":"#REF!"}},{"$f":"IF(AND($A$48<>0,$B$48<>0),OFFSET('GARMENT&TEXTILE PHASE 2'!#REF!,5,0),0)","v":{"$error":"#REF!"}},{"$f":"IF(AND($A$48<>0,$B$48<>0),OFFSET('GARMENT&TEXTILE PHASE 2'!#REF!,5,0),0)","v":{"$error":"#REF!"}},{"$f":"IF(AND($A$48<>0,$B$48<>0),OFFSET('GARMENT&TEXTILE PHASE 2'!#REF!,5,0),0)","v":{"$error":"#REF!"}},{"$f":"IF(AND($A$48<>0,$B$48<>0),OFFSET('GARMENT&TEXTILE PHASE 2'!#REF!,5,0),0)","v":{"$error":"#REF!"}},{"$f":"IF(AND($A$48<>0,$B$48<>0),OFFSET('GARMENT&TEXTILE PHASE 2'!#REF!,5,0),0)","v":{"$error":"#REF!"}},{"$f":"IF(AND($A$48<>0,$B$48<>0),OFFSET('GARMENT&TEXTILE PHASE 2'!#REF!,5,0),0)","v":{"$error":"#REF!"}},{"$f":"IF(AND($A$48<>0,$B$48<>0),OFFSET('GARMENT&TEXTILE PHASE 2'!#REF!,5,0),0)","v":{"$error":"#REF!"}},{"$f":"IF(AND($A$48<>0,$B$48<>0),OFFSET('GARMENT&TEXTILE PHASE 2'!#REF!,5,0),0)","v":{"$error":"#REF!"}},{"$error":"#REF!"},null,{"$error":"#REF!"},{"$f":"IF(Q48<>0,VLOOKUP(Q48,EF!$K$8:$M$16,3,0),0)","v":{"$error":"#REF!"}},{"$f":"C48*$R$48/1000","v":{"$error":"#REF!"}},{"$f":"D48*$R$48/1000","v":{"$error":"#REF!"}},{"$error":"#REF!"},{"$error":"#REF!"},{"$error":"#REF!"},{"$error":"#REF!"},{"$error":"#REF!"},{"$error":"#REF!"},{"$error":"#REF!"},{"$error":"#REF!"},{"$error":"#REF!"},{"$error":"#REF!"},{"$error":"#REF!"}]
[{"$f":"IF(OFFSET('GARMENT&TEXTILE PHASE 2'!#REF!,6,0)<>\"\",OFFSET('GARMENT&TEXTILE PHASE 2'!#REF!,6,0),0)","v":{"$error":"#REF!"}},{"$error":"#REF!"},{"$f":"IF(AND($A$49<>0,$B$49<>0),OFFSET('GARMENT&TEXTILE PHASE 2'!#REF!,6,0),0)","v":{"$error":"#REF!"}},{"$f":"IF(AND($A$49<>0,$B$49<>0),OFFSET('GARMENT&TEXTILE PHASE 2'!#REF!,6,0),0)","v":{"$error":"#REF!"}},{"$f":"IF(AND($A$49<>0,$B$49<>0),OFFSET('GARMENT&TEXTILE PHASE 2'!#REF!,6,0),0)","v":{"$error":"#REF!"}},{"$f":"IF(AND($A$49<>0,$B$49<>0),OFFSET('GARMENT&TEXTILE PHASE 2'!#REF!,6,0),0)","v":{"$error":"#REF!"}},{"$f":"IF(AND($A$49<>0,$B$49<>0),OFFSET('GARMENT&TEXTILE PHASE 2'!#REF!,6,0),0)","v":{"$error":"#REF!"}},{"$f":"IF(AND($A$49<>0,$B$49<>0),OFFSET('GARMENT&TEXTILE PHASE 2'!#REF!,6,0),0)","v":{"$error":"#REF!"}},{"$f":"IF(AND($A$49<>0,$B$49<>0),OFFSET('GARMENT&TEXTILE PHASE 2'!#REF!,6,0),0)","v":{"$error":"#REF!"}},{"$f":"IF(AND($A$49<>0,$B$49<>0),OFFSET('GARMENT&TEXTILE PHASE 2'!#REF!,6,0),0)","v":{"$error":"#REF!"}},{"$f":"IF(AND($A$49<>0,$B$49<>0),OFFSET('GARMENT&TEXTILE PHASE 2'!#REF!,6,0),0)","v":{"$error":"#REF!"}},{"$f":"IF(AND($A$49<>0,$B$49<>0),OFFSET('GARMENT&TEXTILE PHASE 2'!#REF!,6,0),0)","v":{"$error":"#REF!"}},{"$f":"IF(AND($A$49<>0,$B$49<>0),OFFSET('GARMENT&TEXTILE PHASE 2'!#REF!,6,0),0)","v":{"$error":"#REF!"}},{"$f":"IF(AND($A$49<>0,$B$49<>0),OFFSET('GARMENT&TEXTILE PHASE 2'!#REF!,6,0),0)","v":{"$error":"#REF!"}},{"$error":"#REF!"},null,{"$error":"#REF!"},{"$f":"IF(Q49<>0,VLOOKUP(Q49,EF!$K$8:$M$16,3,0),0)","v":{"$error":"#REF!"}},{"$f":"C49*$R$49/1000","v":{"$error":"#REF!"}},{"$f":"D49*$R$49/1000","v":{"$error":"#REF!"}},{"$error":"#REF!"},{"$error":"#REF!"},{"$error":"#REF!"},{"$error":"#REF!"},{"$error":"#REF!"},{"$error":"#REF!"},{"$error":"#REF!"},{"$error":"#REF!"},{"$error":"#REF!"},{"$error":"#REF!"},{"$error":"#REF!"}]
[{"$f":"IF(OFFSET('GARMENT&TEXTILE PHASE 2'!#REF!,7,0)<>\"\",OFFSET('GARMENT&TEXTILE PHASE 2'!#REF!,7,0),0)","v":{"$error":"#REF!"}},{"$error":"#REF!"},{"$f":"IF(AND($A$50<>0,$B$50<>0),OFFSET('GARMENT&TEXTILE PHASE 2'!#REF!,7,0),0)","v":{"$error":"#REF!"}},{"$f":"IF(AND($A$50<>0,$B$50<>0),OFFSET('GARMENT&TEXTILE PHASE 2'!#REF!,7,0),0)","v":{"$error":"#REF!"}},{"$f":"IF(AND($A$50<>0,$B$50<>0),OFFSET('GARMENT&TEXTILE PHASE 2'!#REF!,7,0),0)","v":{"$error":"#REF!"}},{"$f":"IF(AND($A$50<>0,$B$50<>0),OFFSET('GARMENT&TEXTILE PHASE 2'!#REF!,7,0),0)","v":{"$error":"#REF!"}},{"$f":"IF(AND($A$50<>0,$B$50<>0),OFFSET('GARMENT&TEXTILE PHASE 2'!#REF!,7,0),0)","v":{"$error":"#REF!"}},{"$f":"IF(AND($A$50<>0,$B$50<>0),OFFSET('GARMENT&TEXTILE PHASE 2'!#REF!,7,0),0)","v":{"$error":"#REF!"}},{"$f":"IF(AND($A$50<>0,$B$50<>0),OFFSET('GARMENT&TEXTILE PHASE 2'!#REF!,7,0),0)","v":{"$error":"#REF!"}},{"$f":"IF(AND($A$50<>0,$B$50<>0),OFFSET('GARMENT&TEXTILE PHASE 2'!#REF!,7,0),0)","v":{"$error":"#REF!"}},{"$f":"IF(AND($A$50<>0,$B$50<>0),OFFSET('GARMENT&TEXTILE PHASE 2'!#REF!,7,0),0)","v":{"$error":"#REF!"}},{"$f":"IF(AND($A$50<>0,$B$50<>0),OFFSET('GARMENT&TEXTILE PHASE 2'!#REF!,7,0),0)","v":{"$error":"#REF!"}},{"$f":"IF(AND($A$50<>0,$B$50<>0),OFFSET('GARMENT&TEXTILE PHASE 2'!#REF!,7,0),0)","v":{"$error":"#REF!"}},{"$f":"IF(AND($A$50<>0,$B$50<>0),OFFSET('GARMENT&TEXTILE PHASE 2'!#REF!,7,0),0)","v":{"$error":"#REF!"}},{"$error":"#REF!"},null,{"$error":"#REF!"},{"$f":"IF(Q50<>0,VLOOKUP(Q50,EF!$K$8:$M$16,3,0),0)","v":{"$error":"#REF!"}},{"$f":"C50*$R$50/1000","v":{"$error":"#REF!"}},{"$f":"D50*$R$50/1000","v":{"$error":"#REF!"}},{"$error":"#REF!"},{"$error":"#REF!"},{"$error":"#REF!"},{"$error":"#REF!"},{"$error":"#REF!"},{"$error":"#REF!"},{"$error":"#REF!"},{"$error":"#REF!"},{"$error":"#REF!"},{"$error":"#REF!"},{"$error":"#REF!"}]
["Tổng ",null,{"$f":"SUM(C43:C50)","v":{"$error":"#REF!"}},{"$error":"#REF!"},{"$error":"#REF!"},{"$error":"#REF!"},{"$error":"#REF!"},{"$error":"#REF!"},{"$error":"#REF!"},{"$error":"#REF!"},{"$error":"#REF!"},{"$error":"#REF!"},{"$error":"#REF!"},{"$error":"#REF!"},{"$error":"#REF!"},null,"Tổng ",null,{"$f":"SUM(S43:S50)","v":{"$error":"#REF!"}},{"$f":"SUM(T43:T50)","v":{"$error":"#REF!"}},{"$error":"#REF!"},{"$error":"#REF!"},{"$error":"#REF!"},{"$error":"#REF!"},{"$error":"#REF!"},{"$error":"#REF!"},{"$error":"#REF!"},{"$error":"#REF!"},{"$error":"#REF!"},{"$error":"#REF!"},{"$error":"#REF!"}]
[]
[]
["Phát thải từ xử lý nước thải"]
["Phát thải CH4 (kg)",null,null,null,null,null,null,null,null,null,null,null,null,null,null,"Phát thải CO2tđ (tấn)"]
["Tháng 1","Tháng 2","Tháng 3","Tháng 4","Tháng 5","Tháng 6","Tháng 7","Tháng 8","Tháng 9","Tháng 10","Tháng 11","Tháng 12","Tổng",null,null,"Tháng 1","Tháng 2","Tháng 3","Tháng 4","Tháng 5","Tháng 6","Tháng 7","Tháng 8","Tháng 9","Tháng 10","Tháng 11","Tháng 12","Tổng"]
[{"$f":"('GARMENT&TEXTILE PHASE 2'!#REF!*'GARMENT&TEXTILE PHASE 2'!#REF!-EF!$P$23)*'TÍNH TOÁN PHÂN ĐẠM'!$B$60*EF!$P$21-'GARMENT&TEXTILE PHASE 2'!#REF!","v":{"$error":"#REF!"}},{"$f":"('GARMENT&TEXTILE PHASE 2'!#REF!*'GARMENT&TEXTILE PHASE 2'!#REF!-EF!$P$23)*'TÍNH TOÁN PHÂN ĐẠM'!$B$60*EF!$P$21-'GARMENT&TEXTILE PHASE 2'!#REF!","v":{"$error":"#REF!"}},{"$f":"('GARMENT&TEXTILE PHASE 2'!#REF!*'GARMENT&TEXTILE PHASE 2'!#REF!-EF!$P$23)*'TÍNH TOÁN PHÂN ĐẠM'!$B$60*EF!$P$21-'GARMENT&TEXTILE PHASE 2'!#REF!","v":{"$error":"#REF!"}},{"$f":"('GARMENT&TEXTILE PHASE 2'!#REF!*'GARMENT&TEXTILE PHASE 2'!#REF!-EF!$P$23)*'TÍNH TOÁN PHÂN ĐẠM'!$B$60*EF!$P$21-'GARMENT&TEXTILE PHASE 2'!#REF!","v":{"$error":"#REF!"}},{"$f":"('GARMENT&TEXTILE PHASE 2'!#REF!*'GARMENT&TEXTILE PHASE 2'!#REF!-EF!$P$23)*'TÍNH TOÁN PHÂN ĐẠM'!$B$60*EF!$P$21-'GARMENT&TEXTILE PHASE 2'!#REF!","v":{"$error":"#REF!"}},{"$f":"('GARMENT&TEXTILE PHASE 2'!#REF!*'GARMENT&TEXTILE PHASE 2'!#REF!-EF!$P$23)*'TÍNH TOÁN PHÂN ĐẠM'!$B$60*EF!$P$21-'GARMENT&TEXTILE PHASE 2'!#REF!","v":{"$error":"#REF!"}},{"$f":"('GARMENT&TEXTILE PHASE 2'!#REF!*'GARMENT&TEXTILE PHASE 2'!#REF!-EF!$P$23)*'TÍNH TOÁN PHÂN ĐẠM'!$B$60*EF!$P$21-'GARMENT&TEXTILE PHASE 2'!#REF!","v":{"$error":"#REF!"}},{"$f":"('GARMENT&TEXTILE PHASE 2'!#REF!*'GARMENT&TEXTILE PHASE 2'!#REF!-EF!$P$23)*'TÍNH TOÁN PHÂN ĐẠM'!$B$60*EF!$P$21-'GARMENT&TEXTILE PHASE 2'!#REF!","v":{"$error":"#REF!"}},{"$f":"('GARMENT&TEXTILE PHASE 2'!#REF!*'GARMENT&TEXTILE PHASE 2'!#REF!-EF!$P$23)*'TÍNH TOÁN PHÂN ĐẠM'!$B$60*EF!$P$21-'GARMENT&TEXTILE PHASE 2'!#REF!","v":{"$error":"#REF!"}},{"$f":"('GARMENT&TEXTILE PHASE 2'!#REF!*'GARMENT&TEXTILE PHASE 2'!#REF!-EF!$P$23)*'TÍNH TOÁN PHÂN ĐẠM'!$B$60*EF!$P$21-'GARMENT&TEXTILE PHASE 2'!#REF!","v":{"$error":"#REF!"}},{"$f":"('GARMENT&TEXTILE PHASE 2'!#REF!*'GARMENT&TEXTILE PHASE 2'!#REF!-EF!$P$23)*'TÍNH TOÁN PHÂN ĐẠM'!$B$60*EF!$P$21-'GARMENT&TEXTILE PHASE 2'!#REF!","v":{"$error":"#REF!"}},{"$f":"('GARMENT&TEXTILE PHASE 2'!#REF!*'GARMENT&TEXTILE PHASE 2'!#REF!-EF!$P$23)*'TÍNH TOÁN PHÂN ĐẠM'!$B$60*EF!$P$21-'GARMENT&TEXTILE PHASE 2'!#REF!","v":{"$error":"#REF!"}},{"$f":"SUM(A57:L57)","v":{"$error":"#REF!"}},null,null,{"$f":"A57*EF!$M$4/1000","v":{"$error":"#REF!"}},{"$f":"B57*EF!$M$4/1000","v":{"$error":"#REF!"}},{"$f":"C57*EF!$M$4/1000","v":{"$error":"#REF!"}},{"$f":"D57*EF!$M$4/1000","v":{"$error":"#REF!"}},{"$f":"E57*EF!$M$4/1000","v":{"$error":"#REF!"}},{"$f":"F57*EF!$M$4/1000","v":{"$error":"#REF!"}},{"$f":"G57*EF!$M$4/1000","v":{"$error":"#REF!"}},{"$f":"H57*EF!$M$4/1000","v":{"$error":"#REF!"}},{"$f":"I57*EF!$M$4/1000","v":{"$error":"#REF!"}},{"$f":"J57*EF!$M$4/1000","v":{"$error":"#REF!"}},{"$f":"K57*EF!$M$4/1000","v":{"$error":"#REF!"}},{"$f":"L57*EF!$M$4/1000","v":{"$error":"#REF!"}},{"$f":"SUM(P57:AA57)","v":{"$error":"#REF!"}}]
[]
["Biện pháp",{"$f":"'GARMENT&TEXTILE PHASE 2'!#REF!","v":{"$error":"#REF!"}}]
["MCF",{"$f":"VLOOKUP(B59,EF!K22:M28,3,0)","v":{"$error":"#REF!"}}]
[]
["Phát thải từ mua điện"]
["Phát thải CO2 (tấn)"]
["Tháng 1","Tháng 2","Tháng 3","Tháng 4","Tháng 5","Tháng 6","Tháng 7","Tháng 8","Tháng 9","Tháng 10","Tháng 11","Tháng 12","Tổng"]
[{"$f":"IF($B$67<>0,'GARMENT&TEXTILE PHASE 2'!#REF!/1000*$B$66,0)","v":{"$error":"#REF!"}},{"$f":"IF($B$67<>0,'GARMENT&TEXTILE PHASE 2'!#REF!/1000*$B$66,0)","v":{"$error":"#REF!"}},{"$f":"IF($B$67<>0,'GARMENT&TEXTILE PHASE 2'!#REF!/1000*$B$66,0)","v":{"$error":"#REF!"}},{"$f":"IF($B$67<>0,'GARMENT&TEXTILE PHASE 2'!#REF!/1000*$B$66,0)","v":{"$error":"#REF!"}},{"$f":"IF($B$67<>0,'GARMENT&TEXTILE PHASE 2'!#REF!/1000*$B$66,0)","v":{"$error":"#REF!"}},{"$f":"IF($B$67<>0,'GARMENT&TEXTILE PHASE 2'!#REF!/1000*$B$66,0)","v":{"$error":"#REF!"}},{"$f":"IF($B$67<>0,'GARMENT&TEXTILE PHASE 2'!#REF!/1000*$B$66,0)","v":{"$error":"#REF!"}},{"$f":"IF($B$67<>0,'GARMENT&TEXTILE PHASE 2'!#REF!/1000*$B$66,0)","v":{"$error":"#REF!"}},{"$f":"IF($B$67<>0,'GARMENT&TEXTILE PHASE 2'!#REF!/1000*$B$66,0)","v":{"$error":"#REF!"}},{"$f":"IF($B$67<>0,'GARMENT&TEXTILE PHASE 2'!#REF!/1000*$B$66,0)","v":{"$error":"#REF!"}},{"$f":"IF($B$67<>0,'GARMENT&TEXTILE PHASE 2'!#REF!/1000*$B$66,0)","v":{"$error":"#REF!"}},{"$f":"IF($B$67<>0,'GARMENT&TEXTILE PHASE 2'!#REF!/1000*$B$66,0)","v":{"$error":"#REF!"}},{"$f":"SUM(A65:L65)","v":{"$error":"#REF!"}}]
["Hệ số phát thải lưới điện",{"$f":"HLOOKUP(B67,EF!L34:Q35,2)","v":{"$error":"#REF!"}},"kgCO2/Kwh"]
["Năm",{"$f":"'GARMENT&TEXTILE PRODUCTS'!#REF!","v":{"$error":"#REF!"}}]
[]
["Phát thải từ mua hơi nước"]
[null,"Nhiệt lượng  (GJ)",null,null,null,null,null,null,null,null,null,null,null,null,null,null,"Phát thải CO2 (tấn CO2)",null,null,null,null,null,null,null,null,null,null,null,null,null,null,"Phát thải CH4 (kg CH4)",null,null,null,null,null,null,null,null,null,null,null,null,null,null,"Phát thải N2O (kg N2O)",null,null,null,null,null,null,null,null,null,null,null,null,null,null,"Phát thải CO2tđ (tấn CO2tđ)"]
[null,"Tháng 1","Tháng 2","Tháng 3","Tháng 4","Tháng 5","Tháng 6","Tháng 7","Tháng 8","Tháng 9","Tháng 10","Tháng 11","Tháng 12","Tổng",null,null,"Tháng 1","Tháng 2","Tháng 3","Tháng 4","Tháng 5","Tháng 6","Tháng 7","Tháng 8","Tháng 9","Tháng 10","Tháng 11","Tháng 12","Tổng",null,null,"Tháng 1","Tháng 2","Tháng 3","Tháng 4","Tháng 5","Tháng 6","Tháng 7","Tháng 8","Tháng 9","Tháng 10","Tháng 11","Tháng 12","Tổng",null,null,"Tháng 1","Tháng 2","Tháng 3","Tháng 4","Tháng 5","Tháng 6","Tháng 7","Tháng 8","Tháng 9","Tháng 10","Tháng 11","Tháng 12","Tổng",null,null,"Tháng 1","Tháng 2","Tháng 3","Tháng 4","Tháng 5","Tháng 6","Tháng 7","Tháng 8","Tháng 9","Tháng 10","Tháng 11","Tháng 12","Tổng"]
["Lượng nhiệt sinh ra",{"$f":"'GARMENT&TEXTILE PHASE 2'!#REF!*$C$78*$C$77/('GARMENT&TEXTILE PHASE 2'!#REF!/100*10^3)","v":{"$error":"#REF!"}},{"$f":"'GARMENT&TEXTILE PHASE 2'!#REF!*$C$78*$C$77/('GARMENT&TEXTILE PHASE 2'!#REF!/100*10^3)","v":{"$error":"#REF!"}},{"$f":"'GARMENT&TEXTILE PHASE 2'!#REF!*$C$78*$C$77/('GARMENT&TEXTILE PHASE 2'!#REF!/100*10^3)","v":{"$error":"#REF!"}},{"$f":"'GARMENT&TEXTILE PHASE 2'!#REF!*$C$78*$C$77/('GARMENT&TEXTILE PHASE 2'!#REF!/100*10^3)","v":{"$error":"#REF!"}},{"$f":"'GARMENT&TEXTILE PHASE 2'!#REF!*$C$78*$C$77/('GARMENT&TEXTILE PHASE 2'!#REF!/100*10^3)","v":{"$error":"#REF!"}},{"$f":"'GARMENT&TEXTILE PHASE 2'!#REF!*$C$78*$C$77/('GARMENT&TEXTILE PHASE 2'!#REF!/100*10^3)","v":{"$error":"#REF!"}},{"$f":"'GARMENT&TEXTILE PHASE 2'!#REF!*$C$78*$C$77/('GARMENT&TEXTILE PHASE 2'!#REF!/100*10^3)","v":{"$error":"#REF!"}},{"$f":"'GARMENT&TEXTILE PHASE 2'!#REF!*$C$78*$C$77/('GARMENT&TEXTILE PHASE 2'!#REF!/100*10^3)","v":{"$error":"#REF!"}},{"$f":"'GARMENT&TEXTILE PHASE 2'!#REF!*$C$78*$C$77/('GARMENT&TEXTILE PHASE 2'!#REF!/100*10^3)","v":{"$error":"#REF!"}},{"$f":"'GARMENT&TEXTILE PHASE 2'!#REF!*$C$78*$C$77/('GARMENT&TEXTILE PHASE 2'!#REF!/100*10^3)","v":{"$error":"#REF!"}},{"$f":"'GARMENT&TEXTILE PHASE 2'!#REF!*$C$78*$C$77/('GARMENT&TEXTILE PHASE 2'!#REF!/100*10^3)","v":{"$error":"#REF!"}},{"$f":"'GARMENT&TEXTILE PHASE 2'!#REF!*$C$78*$C$77/('GARMENT&TEXTILE PHASE 2'!#REF!/100*10^3)","v":{"$error":"#REF!"}},{"$f":"SUM(B72:M72)","v":{"$error":"#REF!"}},null,"Phát thải CO2 (tấn CO2)",{"$f":"B72*$C$74/1000","v":{"$error":"#REF!"}},{"$f":"C72*$C$74/1000","v":{"$error":"#REF!"}},{"$error":"#REF!"},{"$error":"#REF!"},{"$error":"#REF!"},{"$error":"#REF!"},{"$error":"#REF!"},{"$error":"#REF!"},{"$error":"#REF!"},{"$error":"#REF!"},{"$error":"#REF!"},{"$error":"#REF!"},{"$f":"SUM(Q72:AB72)","v":{"$error":"#REF!"}},null,"kg CH4",{"$f":"B72*$C$75","v":{"$error":"#REF!"}},{"$f":"C72*$C$75","v":{"$error":"#REF!"}},{"$error":"#REF!"},{"$error":"#REF!"},{"$error":"#REF!"},{"$error":"#REF!"},{"$error":"#REF!"},{"$error":"#REF!"},{"$error":"#REF!"},{"$error":"#REF!"},{"$error":"#REF!"},{"$error":"#REF!"},{"$f":"SUM(AF72:AQ72)","v":{"$error":"#REF!"}},null,"kg N2O",{"$f":"B72*$C$76","v":{"$error":"#REF!"}},{"$f":"C72*$C$76","v":{"$error":"#REF!"}},{"$error":"#REF!"},{"$error":"#REF!"},{"$error":"#REF!"},{"$error":"#REF!"},{"$error":"#REF!"},{"$error":"#REF!"},{"$error":"#REF!"},{"$error":"#REF!"},{"$error":"#REF!"},{"$error":"#REF!"},{"$f":"SUM(AU72:BF72)","v":{"$error":"#REF!"}},null,"tấn CO2tđ",{"$f":"Q72+AF72/1000*EF!$M$4+EF!$M$5*#REF!/1000","v":{"$error":"#REF!"}},{"$f":"R72+AG72/1000*EF!$M$4+EF!$M$5*#REF!/1000","v":{"$error":"#REF!"}},{"$f":"S72+AH72/1000*EF!$M$4+EF!$M$5*#REF!/1000","v":{"$error":"#REF!"}},{"$f":"T72+AI72/1000*EF!$M$4+EF!$M$5*#REF!/1000","v":{"$error":"#REF!"}},{"$f":"U72+AJ72/1000*EF!$M$4+EF!$M$5*#REF!/1000","v":{"$error":"#REF!"}},{"$f":"V72+AK72/1000*EF!$M$4+EF!$M$5*#REF!/1000","v":{"$error":"#REF!"}},{"$f":"W72+AL72/1000*EF!$M$4+EF!$M$5*#REF!/1000","v":{"$error":"#REF!"}},{"$f":"X72+AM72/1000*EF!$M$4+EF!$M$5*#REF!/1000","v":{"$error":"#REF!"}},{"$f":"Y72+AN72/1000*EF!$M$4+EF!$M$5*#REF!/1000","v":{"$error":"#REF!"}},{"$f":"Z72+AO72/1000*EF!$M$4+EF!$M$5*#REF!/1000","v":{"$error":"#REF!"}},{"$f":"AA72+AP72/1000*EF!$M$4+EF!$M$5*#REF!/1000","v":{"$error":"#REF!"}},{"$f":"AB72+AQ72/1000*EF!$M$4+EF!$M$5*#REF!/1000","v":{"$error":"#REF!"}},{"$f":"SUM(BJ72:BU72)","v":{"$error":"#REF!"}}]
[]
[null,"Hệ số phát thải CO2",{"$f":"VLOOKUP('GARMENT&TEXTILE PHASE 2'!#REF!,EF!$B$4:$E$55,2,0)","v":{"$error":"#REF!"}},"kgCO2/GJ"]
[null,"Hệ số phát thải CH4",{"$f":"VLOOKUP('GARMENT&TEXTILE PHASE 2'!#REF!,EF!$B$4:$E$55,3,0)","v":{"$error":"#REF!"}}]
[null,"Hệ số phát thải N2O",{"$f":"VLOOKUP('GARMENT&TEXTILE PHASE 2'!#REF!,EF!$B$4:$E$55,4,0)","v":{"$error":"#REF!"}}]
[null,"Enthanti",{"$f":"VLOOKUP('GARMENT&TEXTILE PHASE 2'!#REF!,EF!A79:D146,3)","v":{"$error":"#REF!"}},"KJ/kg"]
[null,"Hệ số chuyển đổi đơn vị",{"$f":"IF('GARMENT&TEXTILE PHASE 2'!#REF!=\"m3\",VLOOKUP('GARMENT&TEXTILE PHASE 2'!#REF!,EF!A79:B145,2,0),1000)","v":{"$error":"#REF!"}}]
[]
["Economic allocation",null,{"$f":"COUNTA('GARMENT&TEXTILE PRODUCTS'!A27:A32)","v":0},null,null,null,"Washing machine","Yarns","Roll steel","Mono"]
["Physical allocation ",null,null,null,null,null,"Microwave oven","Cotton","Tubular steel","Poly"]
["Other relationships",null,null,null,null,null,"Fridge","Vest","Rebar steel","Thin-film"]
[null,null,null,null,null,null,"Television"]

{"sheet":"IRON & STEEL PRODUCTS","index":17,"n_rows":57,"n_cols":15,"rows_kept":57,"cut":false,"hidden":true,"merged":[[55,0,55,1],[50,0,50,3],[50,4,50,7],[24,0,25,0],[24,1,25,1],[24,2,24,13],[52,0,52,1],[24,14,25,14],[40,0,41,0],[40,1,40,12],[12,2,12,14],[14,2,14,14],[17,0,17,2],[19,0,19,5],[21,0,21,3],[21,4,21,8],[22,0,22,14],[10,2,10,14],[1,0,1,15],[3,0,3,2],[4,2,4,14],[6,2,6,14],[8,2,8,14]]}
[]
["PRODUCT DATA FOR IRON & STEEL MANUFACTURING"]
[]
["A. COMPANY INFORMATION"]
[null,"Company name:"]
[]
[null,"Sector:"]
[]
[null,"Address:"]
[]
[null,"Phone number:"]
[]
[null,"Email:"]
[]
[null,"Year:"]
[]
[]
["B. PRODUCT DATA"]
[]
["Company products"]
[]
["Choose a allocation co-products method"]
["Economic allocation: Inputs and emissions are allocated to the product and co-product(s) based on the market value of each when they exit the common process\n\nPhysical allocation: Inputs and emissions are allocated to the product and by-product(s) based on quantity/volume of products\n\nOther relationships: Inputs and emissions are allocated to products and by-product(s) based on established relationships and detailed calculations according to parameters. The enterprise's production inputs have been identified rather than its physical or economic relationships. Therefore, users can manually fill in the emission allocation rate of this product type."]
[]
["Product","Unit","Output/Revenue of products",null,null,null,null,null,null,null,null,null,null,null,"Total"]
[null,null,"Jan","Feb","March","April","May","June","July","Aug","Sep","Oct","Nov","Dec"]
[null,{"$f":"IF(AND($E$22=\"Economic allocation\",A27<>\"\"),\"Million VND\",\"\")","v":""},null,null,null,null,null,null,null,null,null,null,null,null,{"$f":"SUM(C27:N27)","v":0}]
[null,"",null,null,null,null,null,null,null,null,null,null,null,null,0]
[null,"",null,null,null,null,null,null,null,null,null,null,null,null,0]
[null,"",null,null,null,null,null,null,null,null,null,null,null,null,0]
[null,"",null,null,null,null,null,null,null,null,null,null,null,null,0]
[null,"",null,null,null,null,null,null,null,null,null,null,null,null,0]
["Tổng ","",{"$f":"SUM(C27:C32)","v":0},0,0,0,0,0,0,0,0,0,0,0,0]
["Tổng ","",1,1,1,1,1,1,1,1,1,1,1,1,1]
[]
[]
[]
[]
[]
[]
["Product","Rate"]
[null,"Jan","Feb","March","April","May","June","July","Aug","Sep","Oct","Nov","Dec"]
[{"$f":"IF(A27<>\"\",A27,\"\")","v":""},{"$f":"IF(AND($C$33<>0,$C$34=1),C27/$C$33,0)","v":0},{"$f":"IF(AND($D$33<>0,$D$34=1),D27/$D$33,0)","v":0},{"$f":"IF(AND($E$33<>0,$E$34=1),E27/$E$33,0)","v":0},{"$f":"IF(AND($F$33<>0,$F$34=1),F27/$F$33,0)","v":0},{"$f":"IF(AND($G$33<>0,$G$34=1),G27/$G$33,0)","v":0},{"$f":"IF(AND($H$33<>0,$H$34=1),H27/$H$33,0)","v":0},{"$f":"IF(AND($I$33<>0,$I$34=1),I27/$I$33,0)","v":0},{"$f":"IF(AND($J$33<>0,$J$34=1),J27/$J$33,0)","v":0},{"$f":"IF(AND($K$33<>0,$K$34=1),K27/$K$33,0)","v":0},{"$f":"IF(AND($L$33<>0,$L$34=1),L27/$L$33,0)","v":0},{"$f":"IF(AND($M$33<>0,$M$34=1),M27/$M$33,0)","v":0},{"$f":"IF(AND($N$33<>0,$N$34=1),N27/$N$33,0)","v":0}]
[{"$f":"IF(A28<>\"\",A28,\"\")","v":""},{"$f":"IF(AND($C$33<>0,$C$34=1),C28/$C$33,0)","v":0},{"$f":"IF(AND($D$33<>0,$D$34=1),D28/$D$33,0)","v":0},{"$f":"IF(AND($E$33<>0,$E$34=1),E28/$E$33,0)","v":0},{"$f":"IF(AND($F$33<>0,$F$34=1),F28/$F$33,0)","v":0},{"$f":"IF(AND($G$33<>0,$G$34=1),G28/$G$33,0)","v":0},{"$f":"IF(AND($H$33<>0,$H$34=1),H28/$H$33,0)","v":0},{"$f":"IF(AND($I$33<>0,$I$34=1),I28/$I$33,0)","v":0},{"$f":"IF(AND($J$33<>0,$J$34=1),J28/$J$33,0)","v":0},{"$f":"IF(AND($K$33<>0,$K$34=1),K28/$K$33,0)","v":0},{"$f":"IF(AND($L$33<>0,$L$34=1),L28/$L$33,0)","v":0},{"$f":"IF(AND($M$33<>0,$M$34=1),M28/$M$33,0)","v":0},{"$f":"IF(AND($N$33<>0,$N$34=1),N28/$N$33,0)","v":0}]
[{"$f":"IF(A29<>\"\",A29,\"\")","v":""},0,0,0,0,0,0,0,0,0,0,0,0]
[{"$f":"IF(A30<>\"\",A30,\"\")","v":""},0,0,0,0,0,0,0,0,0,0,0,0]
[{"$f":"IF(A31<>\"\",A31,\"\")","v":""},0,0,0,0,0,0,0,0,0,0,0,0]
[null,{"$f":"IF($C$33<>0,C32/$C$33,0)","v":0},{"$f":"IF($D$33<>0,D32/$D$33,0)","v":0},0,0,{"$f":"IF($G$33<>0,G32/$G$33,0)","v":0},{"$f":"IF($H$33<>0,H32/$H$33,0)","v":0},{"$f":"IF($I$33<>0,I32/$I$33,0)","v":0},{"$f":"IF($J$33<>0,J32/$J$33,0)","v":0},0,{"$f":"IF($L$33<>0,L32/$L$33,0)","v":0},{"$f":"IF($M$33<>0,M32/$M$33,0)","v":0},0]
["Total",{"$f":"SUM(B43:B48)","v":0},0,0,0,0,0,0,0,0,0,0,0]
[]
["Select a product for life cycle GHG calculations"]
[]
[null,null,"Tháng 1","Tháng 2","Tháng 3","Tháng 4","Tháng 5","Tháng 6","Tháng 7","Tháng 8","Tháng 9","Tháng 10","Tháng 11","Tháng 12"]
["Tỷ lệ phát thải từ sản phẩm",null,0,0,0,0,0,0,0,0,0,0,0,0]
[]
[null,null,"Jan","Feb","March","April","May","June","July","Aug","Sep","Oct","Nov","Dec"]
["Emission rate product",null,{"$f":"IF($E$51<>0,VLOOKUP($E$51,$A$43:$M$49,2,0),0)","v":0},{"$f":"IF($E$51<>0,VLOOKUP($E$51,$A$43:$M$49,3,0),0)","v":0},{"$f":"IF($E$51<>0,VLOOKUP($E$51,$A$43:$M$49,4,0),0)","v":0},{"$f":"IF($E$51<>0,VLOOKUP($E$51,$A$43:$M$49,7,0),0)","v":0},{"$f":"IF($E$51<>0,VLOOKUP($E$51,$A$43:$M$49,6,0),0)","v":0},{"$f":"IF($E$51<>0,VLOOKUP($E$51,$A$43:$M$49,7,0),0)","v":0},{"$f":"IF($E$51<>0,VLOOKUP($E$51,$A$43:$M$49,8,0),0)","v":0},{"$f":"IF($E$51<>0,VLOOKUP($E$51,$A$43:$M$49,9,0),0)","v":0},{"$f":"IF($E$51<>0,VLOOKUP($E$51,$A$43:$M$49,10,0),0)","v":0},{"$f":"IF($E$51<>0,VLOOKUP($E$51,$A$43:$M$49,11,0),0)","v":0},{"$f":"IF($E$51<>0,VLOOKUP($E$51,$A$43:$M$49,12,0),0)","v":0},{"$f":"IF($E$51<>0,VLOOKUP($E$51,$A$43:$M$49,13,0),0)","v":0}]

{"sheet":"IRON & STEEL PHASE 1","index":18,"n_rows":33,"n_cols":18,"rows_kept":33,"cut":false,"hidden":true,"merged":[[24,1,25,1],[24,2,24,13],[24,14,25,14],[1,0,1,19],[11,1,12,1],[11,3,12,3],[11,4,12,4],[11,5,11,16],[11,17,12,17],[11,2,12,2],[19,1,19,4]]}
[]
["INPUT DATA PHASE 1: PRODUCTION AND TRANSPORTATION OF RAW MATERIALS"]
[]
[]
[]
[]
[]
[]
[]
[]
[]
[null,"Fuel","Describe","Unit","Emission Factor (tCO2eq/unit)","Fuel quantity",null,null,null,null,null,null,null,null,null,null,null,"Total"]
[null,null,null,null,null,"Jan","Feb","March","April","May","June","July","Aug","Sep","Oct","Nov","Dec"]
[null,null,null,null,null,null,null,null,null,null,null,null,null,null,null,null,null,{"$f":"SUM(F14:Q14)","v":0}]
[null,null,null,null,null,null,null,null,null,null,null,null,null,null,null,null,null,{"$f":"SUM(F15:Q15)","v":0}]
[null,null,null,null,null,null,null,null,null,null,null,null,null,null,null,null,null,{"$f":"SUM(F16:Q16)","v":0}]
[null,null,null,null,null,null,null,null,null,null,null,null,null,null,null,null,null,{"$f":"SUM(F17:Q17)","v":0}]
[null,null,null,null,null,null,null,null,null,null,null,null,null,null,null,null,null,{"$f":"SUM(F18:Q18)","v":0}]
[]
[null,"Total",null,null,null,{"$f":"SUM(F14:F19)","v":0},{"$f":"SUM(G14:G19)","v":0},0,0,0,0,0,0,0,0,0,0,0]
[]
[]
[]
[]
[null,"Fuel","Emissions from phase 1: Production and transportation of raw materials to produce products (tons CO2eq)",null,null,null,null,null,null,null,null,null,null,null,"Total"]
[null,null,"Jan","Feb","March","April","May","June","July","Aug","Sep","Oct","Nov","Dec"]
[null,{"$f":"IF(B14<>\"\",B14,\"\")","v":""},{"$f":"IF('IRON & STEEL PRODUCTS'!$D$34=1,F14*E14*'IRON & STEEL PRODUCTS'!$D$57,F14*E14*'IRON & STEEL PRODUCTS'!$D$54)","v":0},{"$f":"IF('IRON & STEEL PRODUCTS'!$D$34=1,G14*E14*'IRON & STEEL PRODUCTS'!$D$57,G14*E14*'IRON & STEEL PRODUCTS'!$D$54)","v":0},{"$f":"IF('IRON & STEEL PRODUCTS'!$E$34=1,H14*E14*'IRON & STEEL PRODUCTS'!$E$57,H14*E14*'IRON & STEEL PRODUCTS'!$E$54)","v":0},{"$f":"IF('IRON & STEEL PRODUCTS'!$F$34=1,I14*E14*'IRON & STEEL PRODUCTS'!$F$57,I14*E14*'IRON & STEEL PRODUCTS'!$F$54)","v":0},{"$f":"IF('IRON & STEEL PRODUCTS'!$G$34=1,J14*E14*'IRON & STEEL PRODUCTS'!$G$57,J14*E14*'IRON & STEEL PRODUCTS'!$G$54)","v":0},{"$f":"IF('IRON & STEEL PRODUCTS'!$H$34=1,K14*E14*'IRON & STEEL PRODUCTS'!$H$57,K14*E14*'IRON & STEEL PRODUCTS'!$H$54)","v":0},{"$f":"IF('IRON & STEEL PRODUCTS'!$I$34=1,L14*E14*'IRON & STEEL PRODUCTS'!$I$57,L14*E14*'IRON & STEEL PRODUCTS'!$I$54)","v":0},{"$f":"IF('IRON & STEEL PRODUCTS'!$J$34=1,M14*E14*'IRON & STEEL PRODUCTS'!$J$57,M14*E14*'IRON & STEEL PRODUCTS'!$J$54)","v":0},{"$f":"IF('IRON & STEEL PRODUCTS'!$K$34=1,N14*E14*'IRON & STEEL PRODUCTS'!$K$57,N14*E14*'IRON & STEEL PRODUCTS'!$K$54)","v":0},{"$f":"IF('IRON & STEEL PRODUCTS'!$L$34=1,O14*E14*'IRON & STEEL PRODUCTS'!$L$57,O14*E14*'IRON & STEEL PRODUCTS'!$L$54)","v":0},{"$f":"IF('IRON & STEEL PRODUCTS'!$M$34=1,P14*E14*'IRON & STEEL PRODUCTS'!$M$57,P14*E14*'IRON & STEEL PRODUCTS'!$M$54)","v":0},{"$f":"IF('IRON & STEEL PRODUCTS'!$N$34, Q14*E14*'IRON & STEEL PRODUCTS'!$N$57, Q14*E14*'IRON & STEEL PRODUCTS'!$N$54)","v":0},{"$f":"SUM(C27:N27)","v":0}]
[null,{"$f":"IF(B15<>\"\",B15,\"\")","v":""},{"$f":"IF('IRON & STEEL PRODUCTS'!$D$34=1,F15*E15*'IRON & STEEL PRODUCTS'!$D$57,F15*E15*'IRON & STEEL PRODUCTS'!$D$54)","v":0},{"$f":"IF('IRON & STEEL PRODUCTS'!$D$34=1,G15*E15*'IRON & STEEL PRODUCTS'!$D$57,G15*E15*'IRON & STEEL PRODUCTS'!$D$54)","v":0},{"$f":"IF('IRON & STEEL PRODUCTS'!$E$34=1,H15*E15*'IRON & STEEL PRODUCTS'!$E$57,H15*E15*'IRON & STEEL PRODUCTS'!$E$54)","v":0},{"$f":"IF('IRON & STEEL PRODUCTS'!$F$34=1,I15*E15*'IRON & STEEL PRODUCTS'!$F$57,I15*E15*'IRON & STEEL PRODUCTS'!$F$54)","v":0},{"$f":"IF('IRON & STEEL PRODUCTS'!$G$34=1,J15*E15*'IRON & STEEL PRODUCTS'!$G$57,J15*E15*'IRON & STEEL PRODUCTS'!$G$54)","v":0},{"$f":"IF('IRON & STEEL PRODUCTS'!$H$34=1,K15*E15*'IRON & STEEL PRODUCTS'!$H$57,K15*E15*'IRON & STEEL PRODUCTS'!$H$54)","v":0},{"$f":"IF('IRON & STEEL PRODUCTS'!$I$34=1,L15*E15*'IRON & STEEL PRODUCTS'!$I$57,L15*E15*'IRON & STEEL PRODUCTS'!$I$54)","v":0},{"$f":"IF('IRON & STEEL PRODUCTS'!$J$34=1,M15*E15*'IRON & STEEL PRODUCTS'!$J$57,M15*E15*'IRON & STEEL PRODUCTS'!$J$54)","v":0},{"$f":"IF('IRON & STEEL PRODUCTS'!$K$34=1,N15*E15*'IRON & STEEL PRODUCTS'!$K$57,N15*E15*'IRON & STEEL PRODUCTS'!$K$54)","v":0},{"$f":"IF('IRON & STEEL PRODUCTS'!$L$34=1,O15*E15*'IRON & STEEL PRODUCTS'!$L$57,O15*E15*'IRON & STEEL PRODUCTS'!$L$54)","v":0},{"$f":"IF('IRON & STEEL PRODUCTS'!$M$34=1,P15*E15*'IRON & STEEL PRODUCTS'!$M$57,P15*E15*'IRON & STEEL PRODUCTS'!$M$54)","v":0},{"$f":"IF('IRON & STEEL PRODUCTS'!$N$34, Q15*E15*'IRON & STEEL PRODUCTS'!$N$57, Q15*E15*'IRON & STEEL PRODUCTS'!$N$54)","v":0},{"$f":"SUM(C28:N28)","v":0}]
[null,{"$f":"IF(B16<>\"\",B16,\"\")","v":""},{"$f":"IF('IRON & STEEL PRODUCTS'!$D$34=1,F16*E16*'IRON & STEEL PRODUCTS'!$D$57,F16*E16*'IRON & STEEL PRODUCTS'!$D$54)","v":0},{"$f":"IF('IRON & STEEL PRODUCTS'!$D$34=1,G16*E16*'IRON & STEEL PRODUCTS'!$D$57,G16*E16*'IRON & STEEL PRODUCTS'!$D$54)","v":0},{"$f":"IF('IRON & STEEL PRODUCTS'!$E$34=1,H16*E16*'IRON & STEEL PRODUCTS'!$E$57,H16*E16*'IRON & STEEL PRODUCTS'!$E$54)","v":0},{"$f":"IF('IRON & STEEL PRODUCTS'!$F$34=1,I16*E16*'IRON & STEEL PRODUCTS'!$F$57,I16*E16*'IRON & STEEL PRODUCTS'!$F$54)","v":0},{"$f":"IF('IRON & STEEL PRODUCTS'!$G$34=1,J16*E16*'IRON & STEEL PRODUCTS'!$G$57,J16*E16*'IRON & STEEL PRODUCTS'!$G$54)","v":0},{"$f":"IF('IRON & STEEL PRODUCTS'!$H$34=1,K16*E16*'IRON & STEEL PRODUCTS'!$H$57,K16*E16*'IRON & STEEL PRODUCTS'!$H$54)","v":0},{"$f":"IF('IRON & STEEL PRODUCTS'!$I$34=1,L16*E16*'IRON & STEEL PRODUCTS'!$I$57,L16*E16*'IRON & STEEL PRODUCTS'!$I$54)","v":0},{"$f":"IF('IRON & STEEL PRODUCTS'!$J$34=1,M16*E16*'IRON & STEEL PRODUCTS'!$J$57,M16*E16*'IRON & STEEL PRODUCTS'!$J$54)","v":0},{"$f":"IF('IRON & STEEL PRODUCTS'!$K$34=1,N16*E16*'IRON & STEEL PRODUCTS'!$K$57,N16*E16*'IRON & STEEL PRODUCTS'!$K$54)","v":0},{"$f":"IF('IRON & STEEL PRODUCTS'!$L$34=1,O16*E16*'IRON & STEEL PRODUCTS'!$L$57,O16*E16*'IRON & STEEL PRODUCTS'!$L$54)","v":0},{"$f":"IF('IRON & STEEL PRODUCTS'!$M$34=1,P16*E16*'IRON & STEEL PRODUCTS'!$M$57,P16*E16*'IRON & STEEL PRODUCTS'!$M$54)","v":0},{"$f":"IF('IRON & STEEL PRODUCTS'!$N$34, Q16*E16*'IRON & STEEL PRODUCTS'!$N$57, Q16*E16*'IRON & STEEL PRODUCTS'!$N$54)","v":0},{"$f":"SUM(C29:N29)","v":0}]
[null,{"$f":"IF(B17<>\"\",B17,\"\")","v":""},{"$f":"IF('IRON & STEEL PRODUCTS'!$D$34=1,F17*E17*'IRON & STEEL PRODUCTS'!$D$57,F17*E17*'IRON & STEEL PRODUCTS'!$D$54)","v":0},{"$f":"IF('IRON & STEEL PRODUCTS'!$D$34=1,G17*E17*'IRON & STEEL PRODUCTS'!$D$57,G17*E17*'IRON & STEEL PRODUCTS'!$D$54)","v":0},{"$f":"IF('IRON & STEEL PRODUCTS'!$E$34=1,H17*E17*'IRON & STEEL PRODUCTS'!$E$57,H17*E17*'IRON & STEEL PRODUCTS'!$E$54)","v":0},{"$f":"IF('IRON & STEEL PRODUCTS'!$F$34=1,I17*E17*'IRON & STEEL PRODUCTS'!$F$57,I17*E17*'IRON & STEEL PRODUCTS'!$F$54)","v":0},{"$f":"IF('IRON & STEEL PRODUCTS'!$G$34=1,J17*E17*'IRON & STEEL PRODUCTS'!$G$57,J17*E17*'IRON & STEEL PRODUCTS'!$G$54)","v":0},{"$f":"IF('IRON & STEEL PRODUCTS'!$H$34=1,K17*E17*'IRON & STEEL PRODUCTS'!$H$57,K17*E17*'IRON & STEEL PRODUCTS'!$H$54)","v":0},{"$f":"IF('IRON & STEEL PRODUCTS'!$I$34=1,L17*E17*'IRON & STEEL PRODUCTS'!$I$57,L17*E17*'IRON & STEEL PRODUCTS'!$I$54)","v":0},{"$f":"IF('IRON & STEEL PRODUCTS'!$J$34=1,M17*E17*'IRON & STEEL PRODUCTS'!$J$57,M17*E17*'IRON & STEEL PRODUCTS'!$J$54)","v":0},{"$f":"IF('IRON & STEEL PRODUCTS'!$K$34=1,N17*E17*'IRON & STEEL PRODUCTS'!$K$57,N17*E17*'IRON & STEEL PRODUCTS'!$K$54)","v":0},{"$f":"IF('IRON & STEEL PRODUCTS'!$L$34=1,O17*E17*'IRON & STEEL PRODUCTS'!$L$57,O17*E17*'IRON & STEEL PRODUCTS'!$L$54)","v":0},{"$f":"IF('IRON & STEEL PRODUCTS'!$M$34=1,P17*E17*'IRON & STEEL PRODUCTS'!$M$57,P17*E17*'IRON & STEEL PRODUCTS'!$M$54)","v":0},{"$f":"IF('IRON & STEEL PRODUCTS'!$N$34, Q17*E17*'IRON & STEEL PRODUCTS'!$N$57, Q17*E17*'IRON & STEEL PRODUCTS'!$N$54)","v":0},{"$f":"SUM(C30:N30)","v":0}]
[null,{"$f":"IF(B18<>\"\",B18,\"\")","v":""},{"$f":"IF('IRON & STEEL PRODUCTS'!$D$34=1,F18*E18*'IRON & STEEL PRODUCTS'!$D$57,F18*E18*'IRON & STEEL PRODUCTS'!$D$54)","v":0},{"$f":"IF('IRON & STEEL PRODUCTS'!$D$34=1,G18*E18*'IRON & STEEL PRODUCTS'!$D$57,G18*E18*'IRON & STEEL PRODUCTS'!$D$54)","v":0},{"$f":"IF('IRON & STEEL PRODUCTS'!$E$34=1,H18*E18*'IRON & STEEL PRODUCTS'!$E$57,H18*E18*'IRON & STEEL PRODUCTS'!$E$54)","v":0},{"$f":"IF('IRON & STEEL PRODUCTS'!$F$34=1,I18*E18*'IRON & STEEL PRODUCTS'!$F$57,I18*E18*'IRON & STEEL PRODUCTS'!$F$54)","v":0},{"$f":"IF('IRON & STEEL PRODUCTS'!$G$34=1,J18*E18*'IRON & STEEL PRODUCTS'!$G$57,J18*E18*'IRON & STEEL PRODUCTS'!$G$54)","v":0},{"$f":"IF('IRON & STEEL PRODUCTS'!$H$34=1,K18*E18*'IRON & STEEL PRODUCTS'!$H$57,K18*E18*'IRON & STEEL PRODUCTS'!$H$54)","v":0},{"$f":"IF('IRON & STEEL PRODUCTS'!$I$34=1,L18*E18*'IRON & STEEL PRODUCTS'!$I$57,L18*E18*'IRON & STEEL PRODUCTS'!$I$54)","v":0},{"$f":"IF('IRON & STEEL PRODUCTS'!$J$34=1,M18*E18*'IRON & STEEL PRODUCTS'!$J$57,M18*E18*'IRON & STEEL PRODUCTS'!$J$54)","v":0},{"$f":"IF('IRON & STEEL PRODUCTS'!$K$34=1,N18*E18*'IRON & STEEL PRODUCTS'!$K$57,N18*E18*'IRON & STEEL PRODUCTS'!$K$54)","v":0},{"$f":"IF('IRON & STEEL PRODUCTS'!$L$34=1,O18*E18*'IRON & STEEL PRODUCTS'!$L$57,O18*E18*'IRON & STEEL PRODUCTS'!$L$54)","v":0},{"$f":"IF('IRON & STEEL PRODUCTS'!$M$34=1,P18*E18*'IRON & STEEL PRODUCTS'!$M$57,P18*E18*'IRON & STEEL PRODUCTS'!$M$54)","v":0},{"$f":"IF('IRON & STEEL PRODUCTS'!$N$34, Q18*E18*'IRON & STEEL PRODUCTS'!$N$57, Q18*E18*'IRON & STEEL PRODUCTS'!$N$54)","v":0},{"$f":"SUM(C31:N31)","v":0}]
[]
[null,"Total",{"$f":"SUM(C27:C32)","v":0},0,0,0,0,0,0,0,0,0,0,0,0]

{"sheet":"IRON & STEEL PHASE 2","index":19,"n_rows":142,"n_cols":20,"rows_kept":142,"cut":false,"hidden":true,"merged":[[141,0,141,4],[136,0,137,0],[136,1,137,1],[136,2,137,2],[136,3,137,3],[136,4,137,4],[138,0,139,0],[138,1,139,1],[138,2,139,2],[138,3,139,3],[138,4,139,4],[132,0,133,0],[132,1,133,1],[132,2,133,2],[132,3,133,3],[132,4,133,4],[134,0,135,0],[134,1,135,1],[134,2,135,2],[134,3,135,3],[134,4,135,4],[128,0,129,0],[128,1,129,1],[128,2,129,2],[128,3,129,3],[128,4,129,4],[128,5,129,5],[128,6,128,17],[130,0,131,0],[130,1,131,1],[130,2,131,2],[130,3,131,3],[130,4,131,4],[118,0,118,1],[118,2,118,3],[114,0,114,1],[114,2,114,3],[115,0,115,1],[115,2,115,3],[116,0,116,1],[116,2,116,3],[90,0,90,4],[92,3,92,8],[93,0,93,2],[113,0,113,1],[113,2,113,3],[60,0,61,0],[60,1,61,1],[60,2,61,2],[117,0,117,1],[117,2,117,3],[37,0,38,0],[37,1,38,1],[37,2,38,2],[37,3,38,3],[52,0,53,0],[52,1,53,1],[52,2,53,2],[58,0,59,0],[58,1,59,1],[58,2,59,2],[56,0,57,0],[56,1,57,1],[56,2,57,2],[54,0,55,0],[54,1,55,1],[54,2,55,2],[42,0,42,6],[48,0,48,4],[50,0,51,0],[50,1,51,1],[50,2,51,2],[50,4,50,15],[39,0,40,0],[39,1,40,1],[39,2,40,2],[39,3,40,3],[39,4,40,4],[29,19,30,19],[35,5,36,5],[33,0,34,0],[33,1,34,1],[33,2,34,2],[33,3,34,3],[33,4,34,4],[33,5,34,5],[31,0,32,0],[31,1,32,1],[31,2,32,2],[31,3,32,3],[31,4,32,4],[31,5,32,5],[35,0,36,0],[35,1,36,1],[29,6,30,6],[63,0,63,3],[1,0,1,19],[6,0,6,5],[10,0,11,0],[10,1,11,1],[10,2,11,2],[10,3,11,3],[10,4,11,4],[10,5,11,5],[10,6,11,6],[10,7,10,18],[10,19,11,19],[18,5,19,5],[18,0,19,0],[18,1,19,1],[18,2,19,2],[18,3,19,3],[18,4,19,4],[37,4,38,4],[37,5,38,5],[29,7,29,18],[50,16,51,16],[39,5,40,5],[12,0,13,0],[12,1,13,1],[12,2,13,2],[12,3,13,3],[12,4,13,4],[12,5,13,5],[23,0,23,6],[29,0,30,0],[29,1,30,1],[29,2,30,2],[29,3,30,3],[16,0,17,0],[16,1,17,1],[16,2,17,2],[16,3,17,3],[16,4,17,4],[16,5,17,5],[20,0,21,0],[20,1,21,1],[20,2,21,2],[20,3,21,3],[20,4,21,4],[29,4,30,4],[29,5,30,5],[35,2,36,2],[35,3,36,3],[35,4,36,4],[14,0,15,0],[14,1,15,1],[14,2,15,2],[14,3,15,3],[14,4,15,4],[14,5,15,5],[20,5,21,5],[67,0,67,4],[69,0,70,0],[69,1,70,1],[69,2,70,2],[69,3,70,3],[69,4,70,4],[69,5,70,5],[69,6,69,17],[69,18,70,18],[71,0,72,0],[71,1,72,1],[71,2,72,2],[71,3,72,3],[71,4,72,4],[73,0,74,0],[73,1,74,1],[73,2,74,2],[73,3,74,3],[73,4,74,4],[75,0,76,0],[75,1,76,1],[75,2,76,2],[75,3,76,3],[75,4,76,4],[77,0,78,0],[77,1,78,1],[77,2,78,2],[77,3,78,3],[77,4,78,4],[84,0,84,5],[79,0,80,0],[79,1,80,1],[79,2,80,2],[79,3,80,3],[79,4,80,4],[81,0,82,0],[81,1,82,1],[81,2,82,2],[81,3,82,3],[81,4,82,4]]}
[]
["INPUT DATA PHASE 2: PRODUCT PRODUCTION"]
[]
[]
[]
[]
["I. Direct fossil fuel combustion activities"]
[]
["1.1 Fuel used in the combustion process comes from a stationary source. For example: Boiler firing, heating, etc."]
[]
["Fuel","Unit","NCV (GJ/unit)","EF CO2 \n(kg CO2/GJ)","EF CH4 \n(kg CO4/GJ)","EF N2O (kg N2O/GJ)",null,"Fuel consumption and GHG emissions from stationary combustion",null,null,null,null,null,null,null,null,null,null,null,"Total"]
[null,null,null,null,null,null,null,"Jan","Feb","March","April","May","June","July","Aug","Sep","Oct","Nov","Dec"]
[null,null,{"$f":"IF(AND(A13<>\"\",B13<>\"\"),VLOOKUP(A13&B13,'unit conversion'!$A$2:$F$267,5,0)*VLOOKUP(A13&B13,'unit conversion'!$A$2:$F$267,6,0),\"\")","v":""},{"$f":"IF(AND(A13<>\"\",B13<>\"\"),VLOOKUP(A13,EF!$B$4:$E$55,2,0),\"\")","v":""},{"$f":"IF(AND(A13<>\"\",B13<>\"\"),VLOOKUP(A13,EF!$B$4:$E$55,3,0),\"\")","v":""},{"$f":"IF(AND(A13<>\"\",B13<>\"\"),VLOOKUP(A13,EF!$B$4:$E$55,4,0),\"\")","v":""},"Fuel consumption",null,null,null,null,null,null,null,null,null,null,null,null,{"$f":"SUM(H13:S13)","v":0}]
[null,null,null,null,null,null,"Emission (tons CO2eq)",{"$f":"IF(A13<>\"\",IF('IRON & STEEL PRODUCTS'!$C$34=1,H13*C13*(D13+E13*EF!$M$4+F13*EF!$M$5)*'IRON & STEEL PRODUCTS'!$C$57/1000,H13*C13*(D13+E13*EF!$M$4+F13*EF!$M$5)*'IRON & STEEL PRODUCTS'!$C$54/1000),\"\")","v":""},{"$f":"IF(A13<>\"\",IF('IRON & STEEL PRODUCTS'!$D$34=1,I13*C13*(D13+E13*EF!$M$4+F13*EF!$M$5)*'IRON & STEEL PRODUCTS'!$D$57/1000,I13*C13*(D13+E13*EF!$M$4+F13*EF!$M$5)*'IRON & STEEL PRODUCTS'!$D$54/1000),\"\")","v":""},{"$f":"IF(A13<>\"\",IF('IRON & STEEL PRODUCTS'!$E$34=1,J13*C13*(D13+E13*EF!$M$4+F13*EF!$M$5)*'IRON & STEEL PRODUCTS'!$E$57/1000,J13*C13*(D13+E13*EF!$M$4+F13*EF!$M$5)*'IRON & STEEL PRODUCTS'!$E$54/1000),\"\")","v":""},{"$f":"IF(A13<>\"\",IF('IRON & STEEL PRODUCTS'!$F$34=1,K13*C13*(D13+E13*EF!$M$4+F13*EF!$M$5)*'IRON & STEEL PRODUCTS'!$F$57/1000,K13*C13*(D13+E13*EF!$M$4+F13*EF!$M$5)*'IRON & STEEL PRODUCTS'!$F$54/1000),\"\")","v":""},{"$f":"IF(A13<>\"\",IF('IRON & STEEL PRODUCTS'!$G$34=1,L13*C13*(D13+E13*EF!$M$4+F13*EF!$M$5)*'IRON & STEEL PRODUCTS'!$G$57/1000,L13*C13*(D13+E13*EF!$M$4+F13*EF!$M$5)*'IRON & STEEL PRODUCTS'!$G$54/1000),\"\")","v":""},{"$f":"IF(A13<>\"\",IF('IRON & STEEL PRODUCTS'!$H$34=1,M13*C13*(D13+E13*EF!$M$4+F13*EF!$M$5)*'IRON & STEEL PRODUCTS'!$H$57/1000,M13*C13*(D13+E13*EF!$M$4+F13*EF!$M$5)*'IRON & STEEL PRODUCTS'!$H$54/1000),\"\")","v":""},{"$f":"IF(A13<>\"\",IF('IRON & STEEL PRODUCTS'!$I$34=1,N13*C13*(D13+E13*EF!$M$4+F13*EF!$M$5)*'IRON & STEEL PRODUCTS'!$I$57/1000,N13*C13*(D13+E13*EF!$M$4+F13*EF!$M$5)*'IRON & STEEL PRODUCTS'!$I$54/1000),\"\")","v":""},{"$f":"IF(A13<>\"\",IF('IRON & STEEL PRODUCTS'!$J$34=1,O13*C13*(D13+E13*EF!$M$4+F13*EF!$M$5)*'IRON & STEEL PRODUCTS'!$J$57/1000,O13*C13*(D13+E13*EF!$M$4+F13*EF!$M$5)*'IRON & STEEL PRODUCTS'!$J$54/1000),\"\")","v":""},{"$f":"IF(A13<>\"\",IF('IRON & STEEL PRODUCTS'!$K$34=1,P13*C13*(D13+E13*EF!$M$4+F13*EF!$M$5)*'IRON & STEEL PRODUCTS'!$K$57/1000,P13*C13*(D13+E13*EF!$M$4+F13*EF!$M$5)*'IRON & STEEL PRODUCTS'!$K$54/1000),\"\")","v":""},{"$f":"IF(A13<>\"\",IF('IRON & STEEL PRODUCTS'!$L$34=1,Q13*C13*(D13+E13*EF!$M$4+F13*EF!$M$5)*'IRON & STEEL PRODUCTS'!$L$57/1000,Q13*C13*(D13+E13*EF!$M$4+F13*EF!$M$5)*'IRON & STEEL PRODUCTS'!$L$54/1000),\"\")","v":""},{"$f":"IF(A13<>\"\",IF('IRON & STEEL PRODUCTS'!$M$34=1,R13*C13*(D13+E13*EF!$M$4+F13*EF!$M$5)*'IRON & STEEL PRODUCTS'!$M$57/1000,R13*C13*(D13+E13*EF!$M$4+F13*EF!$M$5)*'IRON & STEEL PRODUCTS'!$M$54/1000),\"\")","v":""},{"$f":"IF(A13<>\"\",IF('IRON & STEEL PRODUCTS'!$N$34=1,S13*C13*(D13+E13*EF!$M$4+F13*EF!$M$5)*'IRON & STEEL PRODUCTS'!$N$57/1000,S13*C13*(D13+E13*EF!$M$4+F13*EF!$M$5)*'IRON & STEEL PRODUCTS'!$N$54/1000),\"\")","v":""},0]
[null,null,{"$f":"IF(AND(A15<>\"\",B15<>\"\"),VLOOKUP(A15&B15,'unit conversion'!$A$2:$F$267,5,0)*VLOOKUP(A15&B15,'unit conversion'!$A$2:$F$267,6,0),\"\")","v":""},{"$f":"IF(AND(A15<>\"\",B15<>\"\"),VLOOKUP(A15,EF!$B$4:$E$55,2,0),\"\")","v":""},{"$f":"IF(AND(A15<>\"\",B15<>\"\"),VLOOKUP(A15,EF!$B$4:$E$55,3,0),\"\")","v":""},{"$f":"IF(AND(A15<>\"\",B15<>\"\"),VLOOKUP(A15,EF!$B$4:$E$55,4,0),\"\")","v":""},"Fuel consumption",null,null,null,null,null,null,null,null,null,null,null,null,0]
[null,null,null,null,null,null,"Emission (tons CO2eq)",{"$f":"IF(A15<>\"\",IF('IRON & STEEL PRODUCTS'!$C$34=1,H15*C15*(D15+E15*EF!$M$4+F15*EF!$M$5)*'IRON & STEEL PRODUCTS'!$C$57/1000,H15*C15*(D15+E15*EF!$M$4+F15*EF!$M$5)*'IRON & STEEL PRODUCTS'!$C$54/1000),\"\")","v":""},{"$f":"IF(A15<>\"\",IF('IRON & STEEL PRODUCTS'!$D$34=1,I15*C15*(D15+E15*EF!$M$4+F15*EF!$M$5)*'IRON & STEEL PRODUCTS'!$D$57/1000,I15*C15*(D15+E15*EF!$M$4+F15*EF!$M$5)*'IRON & STEEL PRODUCTS'!$D$54/1000),\"\")","v":""},{"$f":"IF(A15<>\"\",IF('IRON & STEEL PRODUCTS'!$E$34=1,J15*C15*(D15+E15*EF!$M$4+F15*EF!$M$5)*'IRON & STEEL PRODUCTS'!$E$57/1000,J15*C15*(D15+E15*EF!$M$4+F15*EF!$M$5)*'IRON & STEEL PRODUCTS'!$E$54/1000),\"\")","v":""},{"$f":"IF(A15<>\"\",IF('IRON & STEEL PRODUCTS'!$F$34=1,K15*C15*(D15+E15*EF!$M$4+F15*EF!$M$5)*'IRON & STEEL PRODUCTS'!$F$57/1000,K15*C15*(D15+E15*EF!$M$4+F15*EF!$M$5)*'IRON & STEEL PRODUCTS'!$F$54/1000),\"\")","v":""},{"$f":"IF(A15<>\"\",IF('IRON & STEEL PRODUCTS'!$G$34=1,L15*C15*(D15+E15*EF!$M$4+F15*EF!$M$5)*'IRON & STEEL PRODUCTS'!$G$57/1000,L15*C15*(D15+E15*EF!$M$4+F15*EF!$M$5)*'IRON & STEEL PRODUCTS'!$G$54/1000),\"\")","v":""},{"$f":"IF(A15<>\"\",IF('IRON & STEEL PRODUCTS'!$H$34=1,M15*C15*(D15+E15*EF!$M$4+F15*EF!$M$5)*'IRON & STEEL PRODUCTS'!$H$57/1000,M15*C15*(D15+E15*EF!$M$4+F15*EF!$M$5)*'IRON & STEEL PRODUCTS'!$H$54/1000),\"\")","v":""},{"$f":"IF(A15<>\"\",IF('IRON & STEEL PRODUCTS'!$I$34=1,N15*C15*(D15+E15*EF!$M$4+F15*EF!$M$5)*'IRON & STEEL PRODUCTS'!$I$57/1000,N15*C15*(D15+E15*EF!$M$4+F15*EF!$M$5)*'IRON & STEEL PRODUCTS'!$I$54/1000),\"\")","v":""},{"$f":"IF(A15<>\"\",IF('IRON & STEEL PRODUCTS'!$J$34=1,O15*C15*(D15+E15*EF!$M$4+F15*EF!$M$5)*'IRON & STEEL PRODUCTS'!$J$57/1000,O15*C15*(D15+E15*EF!$M$4+F15*EF!$M$5)*'IRON & STEEL PRODUCTS'!$J$54/1000),\"\")","v":""},{"$f":"IF(A15<>\"\",IF('IRON & STEEL PRODUCTS'!$K$34=1,P15*C15*(D15+E15*EF!$M$4+F15*EF!$M$5)*'IRON & STEEL PRODUCTS'!$K$57/1000,P15*C15*(D15+E15*EF!$M$4+F15*EF!$M$5)*'IRON & STEEL PRODUCTS'!$K$54/1000),\"\")","v":""},{"$f":"IF(A15<>\"\",IF('IRON & STEEL PRODUCTS'!$L$34=1,Q15*C15*(D15+E15*EF!$M$4+F15*EF!$M$5)*'IRON & STEEL PRODUCTS'!$L$57/1000,Q15*C15*(D15+E15*EF!$M$4+F15*EF!$M$5)*'IRON & STEEL PRODUCTS'!$L$54/1000),\"\")","v":""},{"$f":"IF(A15<>\"\",IF('IRON & STEEL PRODUCTS'!$M$34=1,R15*C15*(D15+E15*EF!$M$4+F15*EF!$M$5)*'IRON & STEEL PRODUCTS'!$M$57/1000,R15*C15*(D15+E15*EF!$M$4+F15*EF!$M$5)*'IRON & STEEL PRODUCTS'!$M$54/1000),\"\")","v":""},{"$f":"IF(A15<>\"\",IF('IRON & STEEL PRODUCTS'!$N$34=1,S15*C15*(D15+E15*EF!$M$4+F15*EF!$M$5)*'IRON & STEEL PRODUCTS'!$N$57/1000,S15*C15*(D15+E15*EF!$M$4+F15*EF!$M$5)*'IRON & STEEL PRODUCTS'!$N$54/1000),\"\")","v":""},0]
[null,null,{"$f":"IF(AND(A17<>\"\",B17<>\"\"),VLOOKUP(A17&B17,'unit conversion'!$A$2:$F$267,5,0)*VLOOKUP(A17&B17,'unit conversion'!$A$2:$F$267,6,0),\"\")","v":""},{"$f":"IF(AND(A17<>\"\",B17<>\"\"),VLOOKUP(A17,EF!$B$4:$E$55,2,0),\"\")","v":""},{"$f":"IF(AND(A17<>\"\",B17<>\"\"),VLOOKUP(A17,EF!$B$4:$E$55,3,0),\"\")","v":""},{"$f":"IF(AND(A17<>\"\",B17<>\"\"),VLOOKUP(A17,EF!$B$4:$E$55,4,0),\"\")","v":""},"Fuel consumption",null,null,null,null,null,null,null,null,null,null,null,null,0]
[null,null,null,null,null,null,"Emission (tons CO2eq)",{"$f":"IF(A17<>\"\",IF('IRON & STEEL PRODUCTS'!$C$34=1,H17*C17*(D17+E17*EF!$M$4+F17*EF!$M$5)*'IRON & STEEL PRODUCTS'!$C$57/1000,H17*C17*(D17+E17*EF!$M$4+F17*EF!$M$5)*'IRON & STEEL PRODUCTS'!$C$54/1000),\"\")","v":""},{"$f":"IF(A17<>\"\",IF('IRON & STEEL PRODUCTS'!$D$34=1,I17*C17*(D17+E17*EF!$M$4+F17*EF!$M$5)*'IRON & STEEL PRODUCTS'!$D$57/1000,I17*C17*(D17+E17*EF!$M$4+F17*EF!$M$5)*'IRON & STEEL PRODUCTS'!$D$54/1000),\"\")","v":""},{"$f":"IF(A17<>\"\",IF('IRON & STEEL PRODUCTS'!$E$34=1,J17*C17*(D17+E17*EF!$M$4+F17*EF!$M$5)*'IRON & STEEL PRODUCTS'!$E$57/1000,J17*C17*(D17+E17*EF!$M$4+F17*EF!$M$5)*'IRON & STEEL PRODUCTS'!$E$54/1000),\"\")","v":""},{"$f":"IF(A17<>\"\",IF('IRON & STEEL PRODUCTS'!$F$34=1,K17*C17*(D17+E17*EF!$M$4+F17*EF!$M$5)*'IRON & STEEL PRODUCTS'!$F$57/1000,K17*C17*(D17+E17*EF!$M$4+F17*EF!$M$5)*'IRON & STEEL PRODUCTS'!$F$54/1000),\"\")","v":""},{"$f":"IF(A17<>\"\",IF('IRON & STEEL PRODUCTS'!$G$34=1,L17*C17*(D17+E17*EF!$M$4+F17*EF!$M$5)*'IRON & STEEL PRODUCTS'!$G$57/1000,L17*C17*(D17+E17*EF!$M$4+F17*EF!$M$5)*'IRON & STEEL PRODUCTS'!$G$54/1000),\"\")","v":""},{"$f":"IF(A17<>\"\",IF('IRON & STEEL PRODUCTS'!$H$34=1,M17*C17*(D17+E17*EF!$M$4+F17*EF!$M$5)*'IRON & STEEL PRODUCTS'!$H$57/1000,M17*C17*(D17+E17*EF!$M$4+F17*EF!$M$5)*'IRON & STEEL PRODUCTS'!$H$54/1000),\"\")","v":""},{"$f":"IF(A17<>\"\",IF('IRON & STEEL PRODUCTS'!$I$34=1,N17*C17*(D17+E17*EF!$M$4+F17*EF!$M$5)*'IRON & STEEL PRODUCTS'!$I$57/1000,N17*C17*(D17+E17*EF!$M$4+F17*EF!$M$5)*'IRON & STEEL PRODUCTS'!$I$54/1000),\"\")","v":""},{"$f":"IF(A17<>\"\",IF('IRON & STEEL PRODUCTS'!$J$34=1,O17*C17*(D17+E17*EF!$M$4+F17*EF!$M$5)*'IRON & STEEL PRODUCTS'!$J$57/1000,O17*C17*(D17+E17*EF!$M$4+F17*EF!$M$5)*'IRON & STEEL PRODUCTS'!$J$54/1000),\"\")","v":""},{"$f":"IF(A17<>\"\",IF('IRON & STEEL PRODUCTS'!$K$34=1,P17*C17*(D17+E17*EF!$M$4+F17*EF!$M$5)*'IRON & STEEL PRODUCTS'!$K$57/1000,P17*C17*(D17+E17*EF!$M$4+F17*EF!$M$5)*'IRON & STEEL PRODUCTS'!$K$54/1000),\"\")","v":""},{"$f":"IF(A17<>\"\",IF('IRON & STEEL PRODUCTS'!$L$34=1,Q17*C17*(D17+E17*EF!$M$4+F17*EF!$M$5)*'IRON & STEEL PRODUCTS'!$L$57/1000,Q17*C17*(D17+E17*EF!$M$4+F17*EF!$M$5)*'IRON & STEEL PRODUCTS'!$L$54/1000),\"\")","v":""},{"$f":"IF(A17<>\"\",IF('IRON & STEEL PRODUCTS'!$M$34=1,R17*C17*(D17+E17*EF!$M$4+F17*EF!$M$5)*'IRON & STEEL PRODUCTS'!$M$57/1000,R17*C17*(D17+E17*EF!$M$4+F17*EF!$M$5)*'IRON & STEEL PRODUCTS'!$M$54/1000),\"\")","v":""},{"$f":"IF(A17<>\"\",IF('IRON & STEEL PRODUCTS'!$N$34=1,S17*C17*(D17+E17*EF!$M$4+F17*EF!$M$5)*'IRON & STEEL PRODUCTS'!$N$57/1000,S17*C17*(D17+E17*EF!$M$4+F17*EF!$M$5)*'IRON & STEEL PRODUCTS'!$N$54/1000),\"\")","v":""},0]
[null,null,{"$f":"IF(AND(A19<>\"\",B19<>\"\"),VLOOKUP(A19&B19,'unit conversion'!$A$2:$F$267,5,0)*VLOOKUP(A19&B19,'unit conversion'!$A$2:$F$267,6,0),\"\")","v":""},{"$f":"IF(AND(A19<>\"\",B19<>\"\"),VLOOKUP(A19,EF!$B$4:$E$55,2,0),\"\")","v":""},{"$f":"IF(AND(A19<>\"\",B19<>\"\"),VLOOKUP(A19,EF!$B$4:$E$55,3,0),\"\")","v":""},{"$f":"IF(AND(A19<>\"\",B19<>\"\"),VLOOKUP(A19,EF!$B$4:$E$55,4,0),\"\")","v":""},"Fuel consumption",null,null,null,null,null,null,null,null,null,null,null,null,0]
[null,null,null,null,null,null,"Emission (tons CO2eq)",{"$f":"IF(A19<>\"\",IF('IRON & STEEL PRODUCTS'!$C$34=1,H19*C19*(D19+E19*EF!$M$4+F19*EF!$M$5)*'IRON & STEEL PRODUCTS'!$C$57/1000,H19*C19*(D19+E19*EF!$M$4+F19*EF!$M$5)*'IRON & STEEL PRODUCTS'!$C$54/1000),\"\")","v":""},{"$f":"IF(A19<>\"\",IF('IRON & STEEL PRODUCTS'!$D$34=1,I19*C19*(D19+E19*EF!$M$4+F19*EF!$M$5)*'IRON & STEEL PRODUCTS'!$D$57/1000,I19*C19*(D19+E19*EF!$M$4+F19*EF!$M$5)*'IRON & STEEL PRODUCTS'!$D$54/1000),\"\")","v":""},{"$f":"IF(A19<>\"\",IF('IRON & STEEL PRODUCTS'!$E$34=1,J19*C19*(D19+E19*EF!$M$4+F19*EF!$M$5)*'IRON & STEEL PRODUCTS'!$E$57/1000,J19*C19*(D19+E19*EF!$M$4+F19*EF!$M$5)*'IRON & STEEL PRODUCTS'!$E$54/1000),\"\")","v":""},{"$f":"IF(A19<>\"\",IF('IRON & STEEL PRODUCTS'!$F$34=1,K19*C19*(D19+E19*EF!$M$4+F19*EF!$M$5)*'IRON & STEEL PRODUCTS'!$F$57/1000,K19*C19*(D19+E19*EF!$M$4+F19*EF!$M$5)*'IRON & STEEL PRODUCTS'!$F$54/1000),\"\")","v":""},{"$f":"IF(A19<>\"\",IF('IRON & STEEL PRODUCTS'!$G$34=1,L19*C19*(D19+E19*EF!$M$4+F19*EF!$M$5)*'IRON & STEEL PRODUCTS'!$G$57/1000,L19*C19*(D19+E19*EF!$M$4+F19*EF!$M$5)*'IRON & STEEL PRODUCTS'!$G$54/1000),\"\")","v":""},{"$f":"IF(A19<>\"\",IF('IRON & STEEL PRODUCTS'!$H$34=1,M19*C19*(D19+E19*EF!$M$4+F19*EF!$M$5)*'IRON & STEEL PRODUCTS'!$H$57/1000,M19*C19*(D19+E19*EF!$M$4+F19*EF!$M$5)*'IRON & STEEL PRODUCTS'!$H$54/1000),\"\")","v":""},{"$f":"IF(A19<>\"\",IF('IRON & STEEL PRODUCTS'!$I$34=1,N19*C19*(D19+E19*EF!$M$4+F19*EF!$M$5)*'IRON & STEEL PRODUCTS'!$I$57/1000,N19*C19*(D19+E19*EF!$M$4+F19*EF!$M$5)*'IRON & STEEL PRODUCTS'!$I$54/1000),\"\")","v":""},{"$f":"IF(A19<>\"\",IF('IRON & STEEL PRODUCTS'!$J$34=1,O19*C19*(D19+E19*EF!$M$4+F19*EF!$M$5)*'IRON & STEEL PRODUCTS'!$J$57/1000,O19*C19*(D19+E19*EF!$M$4+F19*EF!$M$5)*'IRON & STEEL PRODUCTS'!$J$54/1000),\"\")","v":""},{"$f":"IF(A19<>\"\",IF('IRON & STEEL PRODUCTS'!$K$34=1,P19*C19*(D19+E19*EF!$M$4+F19*EF!$M$5)*'IRON & STEEL PRODUCTS'!$K$57/1000,P19*C19*(D19+E19*EF!$M$4+F19*EF!$M$5)*'IRON & STEEL PRODUCTS'!$K$54/1000),\"\")","v":""},{"$f":"IF(A19<>\"\",IF('IRON & STEEL PRODUCTS'!$L$34=1,Q19*C19*(D19+E19*EF!$M$4+F19*EF!$M$5)*'IRON & STEEL PRODUCTS'!$L$57/1000,Q19*C19*(D19+E19*EF!$M$4+F19*EF!$M$5)*'IRON & STEEL PRODUCTS'!$L$54/1000),\"\")","v":""},{"$f":"IF(A19<>\"\",IF('IRON & STEEL PRODUCTS'!$M$34=1,R19*C19*(D19+E19*EF!$M$4+F19*EF!$M$5)*'IRON & STEEL PRODUCTS'!$M$57/1000,R19*C19*(D19+E19*EF!$M$4+F19*EF!$M$5)*'IRON & STEEL PRODUCTS'!$M$54/1000),\"\")","v":""},{"$f":"IF(A19<>\"\",IF('IRON & STEEL PRODUCTS'!$N$34=1,S19*C19*(D19+E19*EF!$M$4+F19*EF!$M$5)*'IRON & STEEL PRODUCTS'!$N$57/1000,S19*C19*(D19+E19*EF!$M$4+F19*EF!$M$5)*'IRON & STEEL PRODUCTS'!$N$54/1000),\"\")","v":""},0]
[null,null,{"$f":"IF(AND(A21<>\"\",B21<>\"\"),VLOOKUP(A21&B21,'unit conversion'!$A$2:$F$267,5,0)*VLOOKUP(A21&B21,'unit conversion'!$A$2:$F$267,6,0),\"\")","v":""},{"$f":"IF(AND(A21<>\"\",B21<>\"\"),VLOOKUP(A21,EF!$B$4:$E$55,2,0),\"\")","v":""},{"$f":"IF(AND(A21<>\"\",B21<>\"\"),VLOOKUP(A21,EF!$B$4:$E$55,3,0),\"\")","v":""},{"$f":"IF(AND(A21<>\"\",B21<>\"\"),VLOOKUP(A21,EF!$B$4:$E$55,4,0),\"\")","v":""},"Fuel consumption",null,null,null,null,null,null,null,null,null,null,null,null,0]
[null,null,null,null,null,null,"Emission (tons CO2eq)",{"$f":"IF(A21<>\"\",IF('IRON & STEEL PRODUCTS'!$C$34=1,H21*C21*(D21+E21*EF!$M$4+F21*EF!$M$5)*'IRON & STEEL PRODUCTS'!$C$57/1000,H21*C21*(D21+E21*EF!$M$4+F21*EF!$M$5)*'IRON & STEEL PRODUCTS'!$C$54/1000),\"\")","v":""},{"$f":"IF(A21<>\"\",IF('IRON & STEEL PRODUCTS'!$D$34=1,I21*C21*(D21+E21*EF!$M$4+F21*EF!$M$5)*'IRON & STEEL PRODUCTS'!$D$57/1000,I21*C21*(D21+E21*EF!$M$4+F21*EF!$M$5)*'IRON & STEEL PRODUCTS'!$D$54/1000),\"\")","v":""},{"$f":"IF(A21<>\"\",IF('IRON & STEEL PRODUCTS'!$E$34=1,J21*C21*(D21+E21*EF!$M$4+F21*EF!$M$5)*'IRON & STEEL PRODUCTS'!$E$57/1000,J21*C21*(D21+E21*EF!$M$4+F21*EF!$M$5)*'IRON & STEEL PRODUCTS'!$E$54/1000),\"\")","v":""},{"$f":"IF(A21<>\"\",IF('IRON & STEEL PRODUCTS'!$F$34=1,K21*C21*(D21+E21*EF!$M$4+F21*EF!$M$5)*'IRON & STEEL PRODUCTS'!$F$57/1000,K21*C21*(D21+E21*EF!$M$4+F21*EF!$M$5)*'IRON & STEEL PRODUCTS'!$F$54/1000),\"\")","v":""},{"$f":"IF(A21<>\"\",IF('IRON & STEEL PRODUCTS'!$G$34=1,L21*C21*(D21+E21*EF!$M$4+F21*EF!$M$5)*'IRON & STEEL PRODUCTS'!$G$57/1000,L21*C21*(D21+E21*EF!$M$4+F21*EF!$M$5)*'IRON & STEEL PRODUCTS'!$G$54/1000),\"\")","v":""},{"$f":"IF(A21<>\"\",IF('IRON & STEEL PRODUCTS'!$H$34=1,M21*C21*(D21+E21*EF!$M$4+F21*EF!$M$5)*'IRON & STEEL PRODUCTS'!$H$57/1000,M21*C21*(D21+E21*EF!$M$4+F21*EF!$M$5)*'IRON & STEEL PRODUCTS'!$H$54/1000),\"\")","v":""},{"$f":"IF(A21<>\"\",IF('IRON & STEEL PRODUCTS'!$I$34=1,N21*C21*(D21+E21*EF!$M$4+F21*EF!$M$5)*'IRON & STEEL PRODUCTS'!$I$57/1000,N21*C21*(D21+E21*EF!$M$4+F21*EF!$M$5)*'IRON & STEEL PRODUCTS'!$I$54/1000),\"\")","v":""},{"$f":"IF(A21<>\"\",IF('IRON & STEEL PRODUCTS'!$J$34=1,O21*C21*(D21+E21*EF!$M$4+F21*EF!$M$5)*'IRON & STEEL PRODUCTS'!$J$57/1000,O21*C21*(D21+E21*EF!$M$4+F21*EF!$M$5)*'IRON & STEEL PRODUCTS'!$J$54/1000),\"\")","v":""},{"$f":"IF(A21<>\"\",IF('IRON & STEEL PRODUCTS'!$K$34=1,P21*C21*(D21+E21*EF!$M$4+F21*EF!$M$5)*'IRON & STEEL PRODUCTS'!$K$57/1000,P21*C21*(D21+E21*EF!$M$4+F21*EF!$M$5)*'IRON & STEEL PRODUCTS'!$K$54/1000),\"\")","v":""},{"$f":"IF(A21<>\"\",IF('IRON & STEEL PRODUCTS'!$L$34=1,Q21*C21*(D21+E21*EF!$M$4+F21*EF!$M$5)*'IRON & STEEL PRODUCTS'!$L$57/1000,Q21*C21*(D21+E21*EF!$M$4+F21*EF!$M$5)*'IRON & STEEL PRODUCTS'!$L$54/1000),\"\")","v":""},{"$f":"IF(A21<>\"\",IF('IRON & STEEL PRODUCTS'!$M$34=1,R21*C21*(D21+E21*EF!$M$4+F21*EF!$M$5)*'IRON & STEEL PRODUCTS'!$M$57/1000,R21*C21*(D21+E21*EF!$M$4+F21*EF!$M$5)*'IRON & STEEL PRODUCTS'!$M$54/1000),\"\")","v":""},{"$f":"IF(A21<>\"\",IF('IRON & STEEL PRODUCTS'!$N$34=1,S21*C21*(D21+E21*EF!$M$4+F21*EF!$M$5)*'IRON & STEEL PRODUCTS'!$N$57/1000,S21*C21*(D21+E21*EF!$M$4+F21*EF!$M$5)*'IRON & STEEL PRODUCTS'!$N$54/1000),\"\")","v":""},0]
[]
["Total (tons CO2eq)",null,null,null,null,null,null,{"$f":"SUMIF($G$13:$G$23,$G$14,H13:H23)","v":0},0,0,0,0,0,0,0,0,0,0,0,0]
[]
[]
[]
["1.2 Fuel consumption for means of transportation (mobile fossil fuel combustion)"]
[]
["Fuel","Unit","NCV (GJ/unit)","EF CO2 \n(kg CO2/GJ)","EF CH4 \n(kg CO4/GJ)","EF N2O (kg N2O/GJ)",null,"Fuel consumption and GHG emissions from stationary combustion",null,null,null,null,null,null,null,null,null,null,null,"Total"]
[null,null,null,null,null,null,null,"Jan","Feb","March","April","May","June","July","Aug","Sep","Oct","Nov","Dec"]
[null,null,{"$f":"IF(AND(A32<>\"\",B32<>\"\"),VLOOKUP(A32&B32,'unit conversion'!$A$2:$F$267,5,0)*VLOOKUP(A32&B32,'unit conversion'!$A$2:$F$267,6,0),\"\")","v":""},{"$f":"IF(AND(A32<>\"\",B32<>\"\"),VLOOKUP(A32,EF!$B$4:$E$55,2,0),\"\")","v":""},{"$f":"IF(AND(A32<>\"\",B32<>\"\"),VLOOKUP(A32,EF!$B$4:$E$55,3,0),\"\")","v":""},{"$f":"IF(AND(A32<>\"\",B32<>\"\"),VLOOKUP(A32,EF!$B$4:$E$55,4,0),\"\")","v":""},"Fuel consumption",null,null,null,null,null,null,null,null,null,null,null,null,{"$f":"SUM(H32:S32)","v":0}]
[null,null,null,null,null,null,"Emission (tons CO2eq)",{"$f":"IF(A32<>\"\",IF('IRON & STEEL PRODUCTS'!$C$34=1,H32*C32*(D32+E32*EF!$M$4+F32*EF!$M$5)*'IRON & STEEL PRODUCTS'!$C$57/1000,H32*C32*(D32+E32*EF!$M$4+F32*EF!$M$5)*'IRON & STEEL PRODUCTS'!$C$54/1000),\"\")","v":""},{"$f":"IF(A32<>\"\",IF('IRON & STEEL PRODUCTS'!$D$34=1,I32*C32*(D32+E32*EF!$M$4+F32*EF!$M$5)*'IRON & STEEL PRODUCTS'!$D$57/1000,I32*C32*(D32+E32*EF!$M$4+F32*EF!$M$5)*'IRON & STEEL PRODUCTS'!$D$54/1000),\"\")","v":""},{"$f":"IF(A32<>\"\",IF('IRON & STEEL PRODUCTS'!$E$34=1,J32*C32*(D32+E32*EF!$M$4+F32*EF!$M$5)*'IRON & STEEL PRODUCTS'!$E$57/1000,J32*C32*(D32+E32*EF!$M$4+F32*EF!$M$5)*'IRON & STEEL PRODUCTS'!$E$54/1000),\"\")","v":""},{"$f":"IF(A32<>\"\",IF('IRON & STEEL PRODUCTS'!$F$34=1,K32*C32*(D32+E32*EF!$M$4+F32*EF!$M$5)*'IRON & STEEL PRODUCTS'!$F$57/1000,K32*C32*(D32+E32*EF!$M$4+F32*EF!$M$5)*'IRON & STEEL PRODUCTS'!$F$54/1000),\"\")","v":""},{"$f":"IF(A32<>\"\",IF('IRON & STEEL PRODUCTS'!$G$34=1,L32*C32*(D32+E32*EF!$M$4+F32*EF!$M$5)*'IRON & STEEL PRODUCTS'!$G$57/1000,L32*C32*(D32+E32*EF!$M$4+F32*EF!$M$5)*'IRON & STEEL PRODUCTS'!$G$54/1000),\"\")","v":""},{"$f":"IF(A32<>\"\",IF('IRON & STEEL PRODUCTS'!$H$34=1,M32*C32*(D32+E32*EF!$M$4+F32*EF!$M$5)*'IRON & STEEL PRODUCTS'!$H$57/1000,M32*C32*(D32+E32*EF!$M$4+F32*EF!$M$5)*'IRON & STEEL PRODUCTS'!$H$54/1000),\"\")","v":""},{"$f":"IF(A32<>\"\",IF('IRON & STEEL PRODUCTS'!$I$34=1,N32*C32*(D32+E32*EF!$M$4+F32*EF!$M$5)*'IRON & STEEL PRODUCTS'!$I$57/1000,N32*C32*(D32+E32*EF!$M$4+F32*EF!$M$5)*'IRON & STEEL PRODUCTS'!$I$54/1000),\"\")","v":""},{"$f":"IF(A32<>\"\",IF('IRON & STEEL PRODUCTS'!$J$34=1,O32*C32*(D32+E32*EF!$M$4+F32*EF!$M$5)*'IRON & STEEL PRODUCTS'!$J$57/1000,O32*C32*(D32+E32*EF!$M$4+F32*EF!$M$5)*'IRON & STEEL PRODUCTS'!$J$54/1000),\"\")","v":""},{"$f":"IF(A32<>\"\",IF('IRON & STEEL PRODUCTS'!$K$34=1,P32*C32*(D32+E32*EF!$M$4+F32*EF!$M$5)*'IRON & STEEL PRODUCTS'!$K$57/1000,P32*C32*(D32+E32*EF!$M$4+F32*EF!$M$5)*'IRON & STEEL PRODUCTS'!$K$54/1000),\"\")","v":""},{"$f":"IF(A32<>\"\",IF('IRON & STEEL PRODUCTS'!$L$34=1,Q32*C32*(D32+E32*EF!$M$4+F32*EF!$M$5)*'IRON & STEEL PRODUCTS'!$L$57/1000,Q32*C32*(D32+E32*EF!$M$4+F32*EF!$M$5)*'IRON & STEEL PRODUCTS'!$L$54/1000),\"\")","v":""},{"$f":"IF(A32<>\"\",IF('IRON & STEEL PRODUCTS'!$M$34=1,R32*C32*(D32+E32*EF!$M$4+F32*EF!$M$5)*'IRON & STEEL PRODUCTS'!$M$57/1000,R32*C32*(D32+E32*EF!$M$4+F32*EF!$M$5)*'IRON & STEEL PRODUCTS'!$M$54/1000),\"\")","v":""},{"$f":"IF(A32<>\"\",IF('IRON & STEEL PRODUCTS'!$N$34=1,S32*C32*(D32+E32*EF!$M$4+F32*EF!$M$5)*'IRON & STEEL PRODUCTS'!$N$57/1000,S32*C32*(D32+E32*EF!$M$4+F32*EF!$M$5)*'IRON & STEEL PRODUCTS'!$N$54/1000),\"\")","v":""},0]
[null,null,{"$f":"IF(AND(A34<>\"\",B34<>\"\"),VLOOKUP(A34&B34,'unit conversion'!$A$2:$F$267,5,0)*VLOOKUP(A34&B34,'unit conversion'!$A$2:$F$267,6,0),\"\")","v":""},{"$f":"IF(AND(A34<>\"\",B34<>\"\"),VLOOKUP(A34,EF!$B$4:$E$55,2,0),\"\")","v":""},{"$f":"IF(AND(A34<>\"\",B34<>\"\"),VLOOKUP(A34,EF!$B$4:$E$55,3,0),\"\")","v":""},{"$f":"IF(AND(A34<>\"\",B34<>\"\"),VLOOKUP(A34,EF!$B$4:$E$55,4,0),\"\")","v":""},"Fuel consumption",null,null,null,null,null,null,null,null,null,null,null,null,0]
[null,null,null,null,null,null,"Emission (tons CO2eq)",{"$f":"IF(A34<>\"\",IF('IRON & STEEL PRODUCTS'!$C$34=1,H34*C34*(D34+E34*EF!$M$4+F34*EF!$M$5)*'IRON & STEEL PRODUCTS'!$C$57/1000,H34*C34*(D34+E34*EF!$M$4+F34*EF!$M$5)*'IRON & STEEL PRODUCTS'!$C$54/1000),\"\")","v":""},{"$f":"IF(A34<>\"\",IF('IRON & STEEL PRODUCTS'!$D$34=1,I34*C34*(D34+E34*EF!$M$4+F34*EF!$M$5)*'IRON & STEEL PRODUCTS'!$D$57/1000,I34*C34*(D34+E34*EF!$M$4+F34*EF!$M$5)*'IRON & STEEL PRODUCTS'!$D$54/1000),\"\")","v":""},{"$f":"IF(A34<>\"\",IF('IRON & STEEL PRODUCTS'!$E$34=1,J34*C34*(D34+E34*EF!$M$4+F34*EF!$M$5)*'IRON & STEEL PRODUCTS'!$E$57/1000,J34*C34*(D34+E34*EF!$M$4+F34*EF!$M$5)*'IRON & STEEL PRODUCTS'!$E$54/1000),\"\")","v":""},{"$f":"IF(A34<>\"\",IF('IRON & STEEL PRODUCTS'!$F$34=1,K34*C34*(D34+E34*EF!$M$4+F34*EF!$M$5)*'IRON & STEEL PRODUCTS'!$F$57/1000,K34*C34*(D34+E34*EF!$M$4+F34*EF!$M$5)*'IRON & STEEL PRODUCTS'!$F$54/1000),\"\")","v":""},{"$f":"IF(A34<>\"\",IF('IRON & STEEL PRODUCTS'!$G$34=1,L34*C34*(D34+E34*EF!$M$4+F34*EF!$M$5)*'IRON & STEEL PRODUCTS'!$G$57/1000,L34*C34*(D34+E34*EF!$M$4+F34*EF!$M$5)*'IRON & STEEL PRODUCTS'!$G$54/1000),\"\")","v":""},{"$f":"IF(A34<>\"\",IF('IRON & STEEL PRODUCTS'!$H$34=1,M34*C34*(D34+E34*EF!$M$4+F34*EF!$M$5)*'IRON & STEEL PRODUCTS'!$H$57/1000,M34*C34*(D34+E34*EF!$M$4+F34*EF!$M$5)*'IRON & STEEL PRODUCTS'!$H$54/1000),\"\")","v":""},{"$f":"IF(A34<>\"\",IF('IRON & STEEL PRODUCTS'!$I$34=1,N34*C34*(D34+E34*EF!$M$4+F34*EF!$M$5)*'IRON & STEEL PRODUCTS'!$I$57/1000,N34*C34*(D34+E34*EF!$M$4+F34*EF!$M$5)*'IRON & STEEL PRODUCTS'!$I$54/1000),\"\")","v":""},{"$f":"IF(A34<>\"\",IF('IRON & STEEL PRODUCTS'!$J$34=1,O34*C34*(D34+E34*EF!$M$4+F34*EF!$M$5)*'IRON & STEEL PRODUCTS'!$J$57/1000,O34*C34*(D34+E34*EF!$M$4+F34*EF!$M$5)*'IRON & STEEL PRODUCTS'!$J$54/1000),\"\")","v":""},{"$f":"IF(A34<>\"\",IF('IRON & STEEL PRODUCTS'!$K$34=1,P34*C34*(D34+E34*EF!$M$4+F34*EF!$M$5)*'IRON & STEEL PRODUCTS'!$K$57/1000,P34*C34*(D34+E34*EF!$M$4+F34*EF!$M$5)*'IRON & STEEL PRODUCTS'!$K$54/1000),\"\")","v":""},{"$f":"IF(A34<>\"\",IF('IRON & STEEL PRODUCTS'!$L$34=1,Q34*C34*(D34+E34*EF!$M$4+F34*EF!$M$5)*'IRON & STEEL PRODUCTS'!$L$57/1000,Q34*C34*(D34+E34*EF!$M$4+F34*EF!$M$5)*'IRON & STEEL PRODUCTS'!$L$54/1000),\"\")","v":""},{"$f":"IF(A34<>\"\",IF('IRON & STEEL PRODUCTS'!$M$34=1,R34*C34*(D34+E34*EF!$M$4+F34*EF!$M$5)*'IRON & STEEL PRODUCTS'!$M$57/1000,R34*C34*(D34+E34*EF!$M$4+F34*EF!$M$5)*'IRON & STEEL PRODUCTS'!$M$54/1000),\"\")","v":""},{"$f":"IF(A34<>\"\",IF('IRON & STEEL PRODUCTS'!$N$34=1,S34*C34*(D34+E34*EF!$M$4+F34*EF!$M$5)*'IRON & STEEL PRODUCTS'!$N$57/1000,S34*C34*(D34+E34*EF!$M$4+F34*EF!$M$5)*'IRON & STEEL PRODUCTS'!$N$54/1000),\"\")","v":""},0]
[null,null,{"$f":"IF(AND(A36<>\"\",B36<>\"\"),VLOOKUP(A36&B36,'unit conversion'!$A$2:$F$267,5,0)*VLOOKUP(A36&B36,'unit conversion'!$A$2:$F$267,6,0),\"\")","v":""},{"$f":"IF(AND(A36<>\"\",B36<>\"\"),VLOOKUP(A36,EF!$B$4:$E$55,2,0),\"\")","v":""},{"$f":"IF(AND(A36<>\"\",B36<>\"\"),VLOOKUP(A36,EF!$B$4:$E$55,3,0),\"\")","v":""},{"$f":"IF(AND(A36<>\"\",B36<>\"\"),VLOOKUP(A36,EF!$B$4:$E$55,4,0),\"\")","v":""},"Fuel consumption",null,null,null,null,null,null,null,null,null,null,null,null,0]
[null,null,null,null,null,null,"Emission (tons CO2eq)",{"$f":"IF(A36<>\"\",IF('IRON & STEEL PRODUCTS'!$C$34=1,H36*C36*(D36+E36*EF!$M$4+F36*EF!$M$5)*'IRON & STEEL PRODUCTS'!$C$57/1000,H36*C36*(D36+E36*EF!$M$4+F36*EF!$M$5)*'IRON & STEEL PRODUCTS'!$C$54/1000),\"\")","v":""},{"$f":"IF(A36<>\"\",IF('IRON & STEEL PRODUCTS'!$D$34=1,I36*C36*(D36+E36*EF!$M$4+F36*EF!$M$5)*'IRON & STEEL PRODUCTS'!$D$57/1000,I36*C36*(D36+E36*EF!$M$4+F36*EF!$M$5)*'IRON & STEEL PRODUCTS'!$D$54/1000),\"\")","v":""},{"$f":"IF(A36<>\"\",IF('IRON & STEEL PRODUCTS'!$E$34=1,J36*C36*(D36+E36*EF!$M$4+F36*EF!$M$5)*'IRON & STEEL PRODUCTS'!$E$57/1000,J36*C36*(D36+E36*EF!$M$4+F36*EF!$M$5)*'IRON & STEEL PRODUCTS'!$E$54/1000),\"\")","v":""},{"$f":"IF(A36<>\"\",IF('IRON & STEEL PRODUCTS'!$F$34=1,K36*C36*(D36+E36*EF!$M$4+F36*EF!$M$5)*'IRON & STEEL PRODUCTS'!$F$57/1000,K36*C36*(D36+E36*EF!$M$4+F36*EF!$M$5)*'IRON & STEEL PRODUCTS'!$F$54/1000),\"\")","v":""},{"$f":"IF(A36<>\"\",IF('IRON & STEEL PRODUCTS'!$G$34=1,L36*C36*(D36+E36*EF!$M$4+F36*EF!$M$5)*'IRON & STEEL PRODUCTS'!$G$57/1000,L36*C36*(D36+E36*EF!$M$4+F36*EF!$M$5)*'IRON & STEEL PRODUCTS'!$G$54/1000),\"\")","v":""},{"$f":"IF(A36<>\"\",IF('IRON & STEEL PRODUCTS'!$H$34=1,M36*C36*(D36+E36*EF!$M$4+F36*EF!$M$5)*'IRON & STEEL PRODUCTS'!$H$57/1000,M36*C36*(D36+E36*EF!$M$4+F36*EF!$M$5)*'IRON & STEEL PRODUCTS'!$H$54/1000),\"\")","v":""},{"$f":"IF(A36<>\"\",IF('IRON & STEEL PRODUCTS'!$I$34=1,N36*C36*(D36+E36*EF!$M$4+F36*EF!$M$5)*'IRON & STEEL PRODUCTS'!$I$57/1000,N36*C36*(D36+E36*EF!$M$4+F36*EF!$M$5)*'IRON & STEEL PRODUCTS'!$I$54/1000),\"\")","v":""},{"$f":"IF(A36<>\"\",IF('IRON & STEEL PRODUCTS'!$J$34=1,O36*C36*(D36+E36*EF!$M$4+F36*EF!$M$5)*'IRON & STEEL PRODUCTS'!$J$57/1000,O36*C36*(D36+E36*EF!$M$4+F36*EF!$M$5)*'IRON & STEEL PRODUCTS'!$J$54/1000),\"\")","v":""},{"$f":"IF(A36<>\"\",IF('IRON & STEEL PRODUCTS'!$K$34=1,P36*C36*(D36+E36*EF!$M$4+F36*EF!$M$5)*'IRON & STEEL PRODUCTS'!$K$57/1000,P36*C36*(D36+E36*EF!$M$4+F36*EF!$M$5)*'IRON & STEEL PRODUCTS'!$K$54/1000),\"\")","v":""},{"$f":"IF(A36<>\"\",IF('IRON & STEEL PRODUCTS'!$L$34=1,Q36*C36*(D36+E36*EF!$M$4+F36*EF!$M$5)*'IRON & STEEL PRODUCTS'!$L$57/1000,Q36*C36*(D36+E36*EF!$M$4+F36*EF!$M$5)*'IRON & STEEL PRODUCTS'!$L$54/1000),\"\")","v":""},{"$f":"IF(A36<>\"\",IF('IRON & STEEL PRODUCTS'!$M$34=1,R36*C36*(D36+E36*EF!$M$4+F36*EF!$M$5)*'IRON & STEEL PRODUCTS'!$M$57/1000,R36*C36*(D36+E36*EF!$M$4+F36*EF!$M$5)*'IRON & STEEL PRODUCTS'!$M$54/1000),\"\")","v":""},{"$f":"IF(A36<>\"\",IF('IRON & STEEL PRODUCTS'!$N$34=1,S36*C36*(D36+E36*EF!$M$4+F36*EF!$M$5)*'IRON & STEEL PRODUCTS'!$N$57/1000,S36*C36*(D36+E36*EF!$M$4+F36*EF!$M$5)*'IRON & STEEL PRODUCTS'!$N$54/1000),\"\")","v":""},0]
[null,null,{"$f":"IF(AND(A38<>\"\",B38<>\"\"),VLOOKUP(A38&B38,'unit conversion'!$A$2:$F$267,5,0)*VLOOKUP(A38&B38,'unit conversion'!$A$2:$F$267,6,0),\"\")","v":""},{"$f":"IF(AND(A38<>\"\",B38<>\"\"),VLOOKUP(A38,EF!$B$4:$E$55,2,0),\"\")","v":""},{"$f":"IF(AND(A38<>\"\",B38<>\"\"),VLOOKUP(A38,EF!$B$4:$E$55,3,0),\"\")","v":""},{"$f":"IF(AND(A38<>\"\",B38<>\"\"),VLOOKUP(A38,EF!$B$4:$E$55,4,0),\"\")","v":""},"Fuel consumption",null,null,null,null,null,null,null,null,null,null,null,null,0]
[null,null,null,null,null,null,"Emission (tons CO2eq)",{"$f":"IF(A38<>\"\",IF('IRON & STEEL PRODUCTS'!$C$34=1,H38*C38*(D38+E38*EF!$M$4+F38*EF!$M$5)*'IRON & STEEL PRODUCTS'!$C$57/1000,H38*C38*(D38+E38*EF!$M$4+F38*EF!$M$5)*'IRON & STEEL PRODUCTS'!$C$54/1000),\"\")","v":""},{"$f":"IF(A38<>\"\",IF('IRON & STEEL PRODUCTS'!$D$34=1,I38*C38*(D38+E38*EF!$M$4+F38*EF!$M$5)*'IRON & STEEL PRODUCTS'!$D$57/1000,I38*C38*(D38+E38*EF!$M$4+F38*EF!$M$5)*'IRON & STEEL PRODUCTS'!$D$54/1000),\"\")","v":""},{"$f":"IF(A38<>\"\",IF('IRON & STEEL PRODUCTS'!$E$34=1,J38*C38*(D38+E38*EF!$M$4+F38*EF!$M$5)*'IRON & STEEL PRODUCTS'!$E$57/1000,J38*C38*(D38+E38*EF!$M$4+F38*EF!$M$5)*'IRON & STEEL PRODUCTS'!$E$54/1000),\"\")","v":""},{"$f":"IF(A38<>\"\",IF('IRON & STEEL PRODUCTS'!$F$34=1,K38*C38*(D38+E38*EF!$M$4+F38*EF!$M$5)*'IRON & STEEL PRODUCTS'!$F$57/1000,K38*C38*(D38+E38*EF!$M$4+F38*EF!$M$5)*'IRON & STEEL PRODUCTS'!$F$54/1000),\"\")","v":""},{"$f":"IF(A38<>\"\",IF('IRON & STEEL PRODUCTS'!$G$34=1,L38*C38*(D38+E38*EF!$M$4+F38*EF!$M$5)*'IRON & STEEL PRODUCTS'!$G$57/1000,L38*C38*(D38+E38*EF!$M$4+F38*EF!$M$5)*'IRON & STEEL PRODUCTS'!$G$54/1000),\"\")","v":""},{"$f":"IF(A38<>\"\",IF('IRON & STEEL PRODUCTS'!$H$34=1,M38*C38*(D38+E38*EF!$M$4+F38*EF!$M$5)*'IRON & STEEL PRODUCTS'!$H$57/1000,M38*C38*(D38+E38*EF!$M$4+F38*EF!$M$5)*'IRON & STEEL PRODUCTS'!$H$54/1000),\"\")","v":""},{"$f":"IF(A38<>\"\",IF('IRON & STEEL PRODUCTS'!$I$34=1,N38*C38*(D38+E38*EF!$M$4+F38*EF!$M$5)*'IRON & STEEL PRODUCTS'!$I$57/1000,N38*C38*(D38+E38*EF!$M$4+F38*EF!$M$5)*'IRON & STEEL PRODUCTS'!$I$54/1000),\"\")","v":""},{"$f":"IF(A38<>\"\",IF('IRON & STEEL PRODUCTS'!$J$34=1,O38*C38*(D38+E38*EF!$M$4+F38*EF!$M$5)*'IRON & STEEL PRODUCTS'!$J$57/1000,O38*C38*(D38+E38*EF!$M$4+F38*EF!$M$5)*'IRON & STEEL PRODUCTS'!$J$54/1000),\"\")","v":""},{"$f":"IF(A38<>\"\",IF('IRON & STEEL PRODUCTS'!$K$34=1,P38*C38*(D38+E38*EF!$M$4+F38*EF!$M$5)*'IRON & STEEL PRODUCTS'!$K$57/1000,P38*C38*(D38+E38*EF!$M$4+F38*EF!$M$5)*'IRON & STEEL PRODUCTS'!$K$54/1000),\"\")","v":""},{"$f":"IF(A38<>\"\",IF('IRON & STEEL PRODUCTS'!$L$34=1,Q38*C38*(D38+E38*EF!$M$4+F38*EF!$M$5)*'IRON & STEEL PRODUCTS'!$L$57/1000,Q38*C38*(D38+E38*EF!$M$4+F38*EF!$M$5)*'IRON & STEEL PRODUCTS'!$L$54/1000),\"\")","v":""},{"$f":"IF(A38<>\"\",IF('IRON & STEEL PRODUCTS'!$M$34=1,R38*C38*(D38+E38*EF!$M$4+F38*EF!$M$5)*'IRON & STEEL PRODUCTS'!$M$57/1000,R38*C38*(D38+E38*EF!$M$4+F38*EF!$M$5)*'IRON & STEEL PRODUCTS'!$M$54/1000),\"\")","v":""},{"$f":"IF(A38<>\"\",IF('IRON & STEEL PRODUCTS'!$N$34=1,S38*C38*(D38+E38*EF!$M$4+F38*EF!$M$5)*'IRON & STEEL PRODUCTS'!$N$57/1000,S38*C38*(D38+E38*EF!$M$4+F38*EF!$M$5)*'IRON & STEEL PRODUCTS'!$N$54/1000),\"\")","v":""},0]
[null,null,{"$f":"IF(AND(A40<>\"\",B40<>\"\"),VLOOKUP(A40&B40,'unit conversion'!$A$2:$F$267,5,0)*VLOOKUP(A40&B40,'unit conversion'!$A$2:$F$267,6,0),\"\")","v":""},{"$f":"IF(AND(A40<>\"\",B40<>\"\"),VLOOKUP(A40,EF!$B$4:$E$55,2,0),\"\")","v":""},{"$f":"IF(AND(A40<>\"\",B40<>\"\"),VLOOKUP(A40,EF!$B$4:$E$55,3,0),\"\")","v":""},{"$f":"IF(AND(A40<>\"\",B40<>\"\"),VLOOKUP(A40,EF!$B$4:$E$55,4,0),\"\")","v":""},"Fuel consumption",null,null,null,null,null,null,null,null,null,null,null,null,0]
[null,null,null,null,null,null,"Emission (tons CO2eq)",{"$f":"IF(A40<>\"\",IF('IRON & STEEL PRODUCTS'!$C$34=1,H40*C40*(D40+E40*EF!$M$4+F40*EF!$M$5)*'IRON & STEEL PRODUCTS'!$C$57/1000,H40*C40*(D40+E40*EF!$M$4+F40*EF!$M$5)*'IRON & STEEL PRODUCTS'!$C$54/1000),\"\")","v":""},{"$f":"IF(A40<>\"\",IF('IRON & STEEL PRODUCTS'!$D$34=1,I40*C40*(D40+E40*EF!$M$4+F40*EF!$M$5)*'IRON & STEEL PRODUCTS'!$D$57/1000,I40*C40*(D40+E40*EF!$M$4+F40*EF!$M$5)*'IRON & STEEL PRODUCTS'!$D$54/1000),\"\")","v":""},{"$f":"IF(A40<>\"\",IF('IRON & STEEL PRODUCTS'!$E$34=1,J40*C40*(D40+E40*EF!$M$4+F40*EF!$M$5)*'IRON & STEEL PRODUCTS'!$E$57/1000,J40*C40*(D40+E40*EF!$M$4+F40*EF!$M$5)*'IRON & STEEL PRODUCTS'!$E$54/1000),\"\")","v":""},{"$f":"IF(A40<>\"\",IF('IRON & STEEL PRODUCTS'!$F$34=1,K40*C40*(D40+E40*EF!$M$4+F40*EF!$M$5)*'IRON & STEEL PRODUCTS'!$F$57/1000,K40*C40*(D40+E40*EF!$M$4+F40*EF!$M$5)*'IRON & STEEL PRODUCTS'!$F$54/1000),\"\")","v":""},{"$f":"IF(A40<>\"\",IF('IRON & STEEL PRODUCTS'!$G$34=1,L40*C40*(D40+E40*EF!$M$4+F40*EF!$M$5)*'IRON & STEEL PRODUCTS'!$G$57/1000,L40*C40*(D40+E40*EF!$M$4+F40*EF!$M$5)*'IRON & STEEL PRODUCTS'!$G$54/1000),\"\")","v":""},{"$f":"IF(A40<>\"\",IF('IRON & STEEL PRODUCTS'!$H$34=1,M40*C40*(D40+E40*EF!$M$4+F40*EF!$M$5)*'IRON & STEEL PRODUCTS'!$H$57/1000,M40*C40*(D40+E40*EF!$M$4+F40*EF!$M$5)*'IRON & STEEL PRODUCTS'!$H$54/1000),\"\")","v":""},{"$f":"IF(A40<>\"\",IF('IRON & STEEL PRODUCTS'!$I$34=1,N40*C40*(D40+E40*EF!$M$4+F40*EF!$M$5)*'IRON & STEEL PRODUCTS'!$I$57/1000,N40*C40*(D40+E40*EF!$M$4+F40*EF!$M$5)*'IRON & STEEL PRODUCTS'!$I$54/1000),\"\")","v":""},{"$f":"IF(A40<>\"\",IF('IRON & STEEL PRODUCTS'!$J$34=1,O40*C40*(D40+E40*EF!$M$4+F40*EF!$M$5)*'IRON & STEEL PRODUCTS'!$J$57/1000,O40*C40*(D40+E40*EF!$M$4+F40*EF!$M$5)*'IRON & STEEL PRODUCTS'!$J$54/1000),\"\")","v":""},{"$f":"IF(A40<>\"\",IF('IRON & STEEL PRODUCTS'!$K$34=1,P40*C40*(D40+E40*EF!$M$4+F40*EF!$M$5)*'IRON & STEEL PRODUCTS'!$K$57/1000,P40*C40*(D40+E40*EF!$M$4+F40*EF!$M$5)*'IRON & STEEL PRODUCTS'!$K$54/1000),\"\")","v":""},{"$f":"IF(A40<>\"\",IF('IRON & STEEL PRODUCTS'!$L$34=1,Q40*C40*(D40+E40*EF!$M$4+F40*EF!$M$5)*'IRON & STEEL PRODUCTS'!$L$57/1000,Q40*C40*(D40+E40*EF!$M$4+F40*EF!$M$5)*'IRON & STEEL PRODUCTS'!$L$54/1000),\"\")","v":""},{"$f":"IF(A40<>\"\",IF('IRON & STEEL PRODUCTS'!$M$34=1,R40*C40*(D40+E40*EF!$M$4+F40*EF!$M$5)*'IRON & STEEL PRODUCTS'!$M$57/1000,R40*C40*(D40+E40*EF!$M$4+F40*EF!$M$5)*'IRON & STEEL PRODUCTS'!$M$54/1000),\"\")","v":""},{"$f":"IF(A40<>\"\",IF('IRON & STEEL PRODUCTS'!$N$34=1,S40*C40*(D40+E40*EF!$M$4+F40*EF!$M$5)*'IRON & STEEL PRODUCTS'!$N$57/1000,S40*C40*(D40+E40*EF!$M$4+F40*EF!$M$5)*'IRON & STEEL PRODUCTS'!$N$54/1000),\"\")","v":""},0]
[]
["Total (tons CO2eq)",null,null,null,null,null,null,{"$f":"SUMIF($G$32:$G$42,$G$33,H32:H42)","v":0},0,0,0,0,0,0,0,0,0,0,0,0]
[]
[]
[]
[]
[]
["II. Refrigerants loaded into refrigeration equipment"]
[]
["Refrigerants","Unit","GWP",null,"Quantity of solvents loaded into refrigeration equipment and GHG emissions",null,null,null,null,null,null,null,null,null,null,null,"Total"]
[null,null,null,null,"Jan","Feb","March","April","May","June","July","Aug","Sep","Oct","Nov","Dec"]
[null,{"$f":"IF(A53<>\"\",\"kg\",\"\")","v":""},{"$f":"IF(A53<>\"\",VLOOKUP(A53,EF!$K$8:$M$16,3,0),0)","v":0},"Quantity of solvents",null,null,null,null,null,null,null,null,null,null,null,null,{"$f":"SUM(E53:P53)","v":0}]
[null,null,null,"Emission (tons CO2eq)",{"$f":"IF('IRON & STEEL PRODUCTS'!$C$34=1,E53*C53*'IRON & STEEL PRODUCTS'!$C$57/1000,E53*C53*'IRON & STEEL PRODUCTS'!$C$54/1000)","v":0},{"$f":"IF('IRON & STEEL PRODUCTS'!$D$34=1,F53*C53*'IRON & STEEL PRODUCTS'!$D$57/1000,F53*C53*'IRON & STEEL PRODUCTS'!$D$54/1000)","v":0},{"$f":"IF('IRON & STEEL PRODUCTS'!$E$34,G53*C53/1000*'IRON & STEEL PRODUCTS'!$E$57,G53*C53/1000*'IRON & STEEL PRODUCTS'!$E$54)","v":0},{"$f":"IF('IRON & STEEL PRODUCTS'!$F$34=1,H53*C53/1000*'IRON & STEEL PRODUCTS'!$F$57,H53*C53/1000*'IRON & STEEL PRODUCTS'!$F$54)","v":0},{"$f":"IF('IRON & STEEL PRODUCTS'!$G$34=1,I53*C53/1000*'IRON & STEEL PRODUCTS'!$G$57,I53*C53/1000*'IRON & STEEL PRODUCTS'!$G$54)","v":0},{"$f":"IF('IRON & STEEL PRODUCTS'!$H$34=1,J53*C53/1000*'IRON & STEEL PRODUCTS'!$H$57,J53*C53/1000*'IRON & STEEL PRODUCTS'!$H$54)","v":0},{"$f":"IF('IRON & STEEL PRODUCTS'!$I$34=1,K53*C53/1000*'IRON & STEEL PRODUCTS'!$I$57,K53*C53/1000*'IRON & STEEL PRODUCTS'!$I$54)","v":0},{"$f":"IF('IRON & STEEL PRODUCTS'!$J$34=1,L53*C53/1000*'IRON & STEEL PRODUCTS'!$J$57,L53*C53/1000*'IRON & STEEL PRODUCTS'!$J$54)","v":0},{"$f":"IF('IRON & STEEL PRODUCTS'!$K$34=1,M53*C53/1000*'IRON & STEEL PRODUCTS'!$K$57,M53*C53/1000*'IRON & STEEL PRODUCTS'!$K$54)","v":0},{"$f":"IF('IRON & STEEL PRODUCTS'!$L$34=1,N53*C53/1000*'IRON & STEEL PRODUCTS'!$L$57,N53*C53/1000*'IRON & STEEL PRODUCTS'!$L$54)","v":0},{"$f":"IF('IRON & STEEL PRODUCTS'!$M$34=1,O53*C53/1000*'IRON & STEEL PRODUCTS'!$M$57,O53*C53/1000*'IRON & STEEL PRODUCTS'!$M$54)","v":0},{"$f":"IF('IRON & STEEL PRODUCTS'!$N$34=1,P53*C53/1000*'IRON & STEEL PRODUCTS'!$N$57,P53*C53/1000*'IRON & STEEL PRODUCTS'!$N$54)","v":0},0]
[null,{"$f":"IF(A55<>\"\",\"kg\",\"\")","v":""},{"$f":"IF(A55<>\"\",VLOOKUP(A55,EF!$K$8:$M$16,3,0),0)","v":0},"Quantity of solvents",null,null,null,null,null,null,null,null,null,null,null,null,0]
[null,null,null,"Emission (tons CO2eq)",{"$f":"IF('IRON & STEEL PRODUCTS'!$C$34=1,E55*C55*'IRON & STEEL PRODUCTS'!$C$57/1000,E55*C55*'IRON & STEEL PRODUCTS'!$C$54/1000)","v":0},{"$f":"IF('IRON & STEEL PRODUCTS'!$D$34=1,F55*C55*'IRON & STEEL PRODUCTS'!$D$57/1000,F55*C55*'IRON & STEEL PRODUCTS'!$D$54/1000)","v":0},{"$f":"IF('IRON & STEEL PRODUCTS'!$E$34,G55*C55/1000*'IRON & STEEL PRODUCTS'!$E$57,G55*C55/1000*'IRON & STEEL PRODUCTS'!$E$54)","v":0},{"$f":"IF('IRON & STEEL PRODUCTS'!$F$34=1,H55*C55/1000*'IRON & STEEL PRODUCTS'!$F$57,H55*C55/1000*'IRON & STEEL PRODUCTS'!$F$54)","v":0},{"$f":"IF('IRON & STEEL PRODUCTS'!$G$34=1,I55*C55/1000*'IRON & STEEL PRODUCTS'!$G$57,I55*C55/1000*'IRON & STEEL PRODUCTS'!$G$54)","v":0},{"$f":"IF('IRON & STEEL PRODUCTS'!$H$34=1,J55*C55/1000*'IRON & STEEL PRODUCTS'!$H$57,J55*C55/1000*'IRON & STEEL PRODUCTS'!$H$54)","v":0},{"$f":"IF('IRON & STEEL PRODUCTS'!$I$34=1,K55*C55/1000*'IRON & STEEL PRODUCTS'!$I$57,K55*C55/1000*'IRON & STEEL PRODUCTS'!$I$54)","v":0},{"$f":"IF('IRON & STEEL PRODUCTS'!$J$34=1,L55*C55/1000*'IRON & STEEL PRODUCTS'!$J$57,L55*C55/1000*'IRON & STEEL PRODUCTS'!$J$54)","v":0},{"$f":"IF('IRON & STEEL PRODUCTS'!$K$34=1,M55*C55/1000*'IRON & STEEL PRODUCTS'!$K$57,M55*C55/1000*'IRON & STEEL PRODUCTS'!$K$54)","v":0},{"$f":"IF('IRON & STEEL PRODUCTS'!$L$34=1,N55*C55/1000*'IRON & STEEL PRODUCTS'!$L$57,N55*C55/1000*'IRON & STEEL PRODUCTS'!$L$54)","v":0},{"$f":"IF('IRON & STEEL PRODUCTS'!$M$34=1,O55*C55/1000*'IRON & STEEL PRODUCTS'!$M$57,O55*C55/1000*'IRON & STEEL PRODUCTS'!$M$54)","v":0},{"$f":"IF('IRON & STEEL PRODUCTS'!$N$34=1,P55*C55/1000*'IRON & STEEL PRODUCTS'!$N$57,P55*C55/1000*'IRON & STEEL PRODUCTS'!$N$54)","v":0},0]
[null,{"$f":"IF(A57<>\"\",\"kg\",\"\")","v":""},{"$f":"IF(A57<>\"\",VLOOKUP(A57,EF!$K$8:$M$16,3,0),0)","v":0},"Quantity of solvents",null,null,null,null,null,null,null,null,null,null,null,null,0]
[null,null,null,"Emission (tons CO2eq)",{"$f":"IF('IRON & STEEL PRODUCTS'!$C$34=1,E57*C57*'IRON & STEEL PRODUCTS'!$C$57/1000,E57*C57*'IRON & STEEL PRODUCTS'!$C$54/1000)","v":0},{"$f":"IF('IRON & STEEL PRODUCTS'!$D$34=1,F57*C57*'IRON & STEEL PRODUCTS'!$D$57/1000,F57*C57*'IRON & STEEL PRODUCTS'!$D$54/1000)","v":0},{"$f":"IF('IRON & STEEL PRODUCTS'!$E$34,G57*C57/1000*'IRON & STEEL PRODUCTS'!$E$57,G57*C57/1000*'IRON & STEEL PRODUCTS'!$E$54)","v":0},{"$f":"IF('IRON & STEEL PRODUCTS'!$F$34=1,H57*C57/1000*'IRON & STEEL PRODUCTS'!$F$57,H57*C57/1000*'IRON & STEEL PRODUCTS'!$F$54)","v":0},{"$f":"IF('IRON & STEEL PRODUCTS'!$G$34=1,I57*C57/1000*'IRON & STEEL PRODUCTS'!$G$57,I57*C57/1000*'IRON & STEEL PRODUCTS'!$G$54)","v":0},{"$f":"IF('IRON & STEEL PRODUCTS'!$H$34=1,J57*C57/1000*'IRON & STEEL PRODUCTS'!$H$57,J57*C57/1000*'IRON & STEEL PRODUCTS'!$H$54)","v":0},{"$f":"IF('IRON & STEEL PRODUCTS'!$I$34=1,K57*C57/1000*'IRON & STEEL PRODUCTS'!$I$57,K57*C57/1000*'IRON & STEEL PRODUCTS'!$I$54)","v":0},{"$f":"IF('IRON & STEEL PRODUCTS'!$J$34=1,L57*C57/1000*'IRON & STEEL PRODUCTS'!$J$57,L57*C57/1000*'IRON & STEEL PRODUCTS'!$J$54)","v":0},{"$f":"IF('IRON & STEEL PRODUCTS'!$K$34=1,M57*C57/1000*'IRON & STEEL PRODUCTS'!$K$57,M57*C57/1000*'IRON & STEEL PRODUCTS'!$K$54)","v":0},{"$f":"IF('IRON & STEEL PRODUCTS'!$L$34=1,N57*C57/1000*'IRON & STEEL PRODUCTS'!$L$57,N57*C57/1000*'IRON & STEEL PRODUCTS'!$L$54)","v":0},{"$f":"IF('IRON & STEEL PRODUCTS'!$M$34=1,O57*C57/1000*'IRON & STEEL PRODUCTS'!$M$57,O57*C57/1000*'IRON & STEEL PRODUCTS'!$M$54)","v":0},{"$f":"IF('IRON & STEEL PRODUCTS'!$N$34=1,P57*C57/1000*'IRON & STEEL PRODUCTS'!$N$57,P57*C57/1000*'IRON & STEEL PRODUCTS'!$N$54)","v":0},0]
[null,{"$f":"IF(A59<>\"\",\"kg\",\"\")","v":""},{"$f":"IF(A59<>\"\",VLOOKUP(A59,EF!$K$8:$M$16,3,0),0)","v":0},"Quantity of solvents",null,null,null,null,null,null,null,null,null,null,null,null,0]
[null,null,null,"Emission (tons CO2eq)",{"$f":"IF('IRON & STEEL PRODUCTS'!$C$34=1,E59*C59*'IRON & STEEL PRODUCTS'!$C$57/1000,E59*C59*'IRON & STEEL PRODUCTS'!$C$54/1000)","v":0},{"$f":"IF('IRON & STEEL PRODUCTS'!$D$34=1,F59*C59*'IRON & STEEL PRODUCTS'!$D$57/1000,F59*C59*'IRON & STEEL PRODUCTS'!$D$54/1000)","v":0},{"$f":"IF('IRON & STEEL PRODUCTS'!$E$34,G59*C59/1000*'IRON & STEEL PRODUCTS'!$E$57,G59*C59/1000*'IRON & STEEL PRODUCTS'!$E$54)","v":0},{"$f":"IF('IRON & STEEL PRODUCTS'!$F$34=1,H59*C59/1000*'IRON & STEEL PRODUCTS'!$F$57,H59*C59/1000*'IRON & STEEL PRODUCTS'!$F$54)","v":0},{"$f":"IF('IRON & STEEL PRODUCTS'!$G$34=1,I59*C59/1000*'IRON & STEEL PRODUCTS'!$G$57,I59*C59/1000*'IRON & STEEL PRODUCTS'!$G$54)","v":0},{"$f":"IF('IRON & STEEL PRODUCTS'!$H$34=1,J59*C59/1000*'IRON & STEEL PRODUCTS'!$H$57,J59*C59/1000*'IRON & STEEL PRODUCTS'!$H$54)","v":0},{"$f":"IF('IRON & STEEL PRODUCTS'!$I$34=1,K59*C59/1000*'IRON & STEEL PRODUCTS'!$I$57,K59*C59/1000*'IRON & STEEL PRODUCTS'!$I$54)","v":0},{"$f":"IF('IRON & STEEL PRODUCTS'!$J$34=1,L59*C59/1000*'IRON & STEEL PRODUCTS'!$J$57,L59*C59/1000*'IRON & STEEL PRODUCTS'!$J$54)","v":0},{"$f":"IF('IRON & STEEL PRODUCTS'!$K$34=1,M59*C59/1000*'IRON & STEEL PRODUCTS'!$K$57,M59*C59/1000*'IRON & STEEL PRODUCTS'!$K$54)","v":0},{"$f":"IF('IRON & STEEL PRODUCTS'!$L$34=1,N59*C59/1000*'IRON & STEEL PRODUCTS'!$L$57,N59*C59/1000*'IRON & STEEL PRODUCTS'!$L$54)","v":0},{"$f":"IF('IRON & STEEL PRODUCTS'!$M$34=1,O59*C59/1000*'IRON & STEEL PRODUCTS'!$M$57,O59*C59/1000*'IRON & STEEL PRODUCTS'!$M$54)","v":0},{"$f":"IF('IRON & STEEL PRODUCTS'!$N$34=1,P59*C59/1000*'IRON & STEEL PRODUCTS'!$N$57,P59*C59/1000*'IRON & STEEL PRODUCTS'!$N$54)","v":0},0]
[null,{"$f":"IF(A61<>\"\",\"kg\",\"\")","v":""},{"$f":"IF(A61<>\"\",VLOOKUP(A61,EF!$K$8:$M$16,3,0),0)","v":0},"Quantity of solvents",null,null,null,null,null,null,null,null,null,null,null,null,0]
[null,null,null,"Emission (tons CO2eq)",{"$f":"IF('IRON & STEEL PRODUCTS'!$C$34=1,E61*C61*'IRON & STEEL PRODUCTS'!$C$57/1000,E61*C61*'IRON & STEEL PRODUCTS'!$C$54/1000)","v":0},{"$f":"IF('IRON & STEEL PRODUCTS'!$D$34=1,F61*C61*'IRON & STEEL PRODUCTS'!$D$57/1000,F61*C61*'IRON & STEEL PRODUCTS'!$D$54/1000)","v":0},{"$f":"IF('IRON & STEEL PRODUCTS'!$E$34,G61*C61/1000*'IRON & STEEL PRODUCTS'!$E$57,G61*C61/1000*'IRON & STEEL PRODUCTS'!$E$54)","v":0},{"$f":"IF('IRON & STEEL PRODUCTS'!$F$34=1,H61*C61/1000*'IRON & STEEL PRODUCTS'!$F$57,H61*C61/1000*'IRON & STEEL PRODUCTS'!$F$54)","v":0},{"$f":"IF('IRON & STEEL PRODUCTS'!$G$34=1,I61*C61/1000*'IRON & STEEL PRODUCTS'!$G$57,I61*C61/1000*'IRON & STEEL PRODUCTS'!$G$54)","v":0},{"$f":"IF('IRON & STEEL PRODUCTS'!$H$34=1,J61*C61/1000*'IRON & STEEL PRODUCTS'!$H$57,J61*C61/1000*'IRON & STEEL PRODUCTS'!$H$54)","v":0},{"$f":"IF('IRON & STEEL PRODUCTS'!$I$34=1,K61*C61/1000*'IRON & STEEL PRODUCTS'!$I$57,K61*C61/1000*'IRON & STEEL PRODUCTS'!$I$54)","v":0},{"$f":"IF('IRON & STEEL PRODUCTS'!$J$34=1,L61*C61/1000*'IRON & STEEL PRODUCTS'!$J$57,L61*C61/1000*'IRON & STEEL PRODUCTS'!$J$54)","v":0},{"$f":"IF('IRON & STEEL PRODUCTS'!$K$34=1,M61*C61/1000*'IRON & STEEL PRODUCTS'!$K$57,M61*C61/1000*'IRON & STEEL PRODUCTS'!$K$54)","v":0},{"$f":"IF('IRON & STEEL PRODUCTS'!$L$34=1,N61*C61/1000*'IRON & STEEL PRODUCTS'!$L$57,N61*C61/1000*'IRON & STEEL PRODUCTS'!$L$54)","v":0},{"$f":"IF('IRON & STEEL PRODUCTS'!$M$34=1,O61*C61/1000*'IRON & STEEL PRODUCTS'!$M$57,O61*C61/1000*'IRON & STEEL PRODUCTS'!$M$54)","v":0},{"$f":"IF('IRON & STEEL PRODUCTS'!$N$34=1,P61*C61/1000*'IRON & STEEL PRODUCTS'!$N$57,P61*C61/1000*'IRON & STEEL PRODUCTS'!$N$54)","v":0},0]
[]
["Total (tons CO2eq)",null,null,null,{"$f":"SUMIF($D$53:$D$63,$D$54,E53:E63)","v":0},0,0,0,0,0,0,0,0,0,0,0,0]
[]
[]
[]
["III. Emissions from industrial production processes"]
[]
["Processes","Unit of output from the process","EF CO2 \n(kg CO2/unit)","EF CH4 \n(kg CO4/unit)","EF N2O (kg N2O/unit)",null,"Output of production processes and GHG emissions from those processes",null,null,null,null,null,null,null,null,null,null,null,"Total"]
[null,null,null,null,null,null,"Jan","Feb","March","April","May","June","July","Aug","Sep","Oct","Nov","Dec"]
[null,{"$f":"IF(A72<>0,VLOOKUP(A72,EF!$A$148:$B$168,2,0),\"\")","v":""},{"$f":"IF(A72<>\"\",VLOOKUP(A72,EF!$A$148:$E$168,3,0),\"\")","v":""},{"$f":"IF(A72<>\"\",VLOOKUP(A72,EF!$A$148:$E$168,4,0),\"\")","v":""},{"$f":"IF(A72<>\"\",VLOOKUP(A72,EF!$A$148:$E$168,5,0),\"\")","v":""},"Quantity of Outputs",null,null,null,null,null,null,null,null,null,null,null,null,{"$f":"SUM(G72:R72)","v":0}]
[null,null,null,null,null,"Emission (tons CO2eq)",{"$f":"IF(A72<>0,IF('IRON & STEEL PRODUCTS'!$C$34=1,G72*(C72+D72*EF!$M$4+E72*EF!$M$5)*'IRON & STEEL PRODUCTS'!$C$57/1000, G72*(C72+D72*EF!$M$4+E72*EF!$M$5)*'IRON & STEEL PRODUCTS'!$C$54/1000),\"\")","v":""},{"$f":"IF(A72<>\"\",IF('IRON & STEEL PRODUCTS'!$D$34=1,H72*(C72+D72*EF!$M$4+E72*EF!$M$5)*'IRON & STEEL PRODUCTS'!$D$57/1000, H72*(C72+D72*EF!$M$4+E72*EF!$M$5)*'IRON & STEEL PRODUCTS'!$D$54/1000),\"\")","v":""},{"$f":"IF(A72<>\"\",IF('IRON & STEEL PRODUCTS'!$E$34=1, I72*(C72+D72*EF!$M$4+E72*EF!$M$5)*'IRON & STEEL PRODUCTS'!$E$57/1000, I72*(C72+D72*EF!$M$4+E72*EF!$M$5)*'IRON & STEEL PRODUCTS'!$E$54/1000),\"\")","v":""},{"$f":"IF(A72<>\"\",IF('IRON & STEEL PRODUCTS'!$F$34=1,J72*(C72+D72*EF!$M$4+E72*EF!$M$5)*'IRON & STEEL PRODUCTS'!$F$57/1000, J72*(C72+D72*EF!$M$4+E72*EF!$M$5)*'IRON & STEEL PRODUCTS'!$F$54/1000),\"\")","v":""},{"$f":"IF(A72<>\"\",IF('IRON & STEEL PRODUCTS'!$G$34=1, K72*(C72+D72*EF!$M$4+E72*EF!$M$5)*'IRON & STEEL PRODUCTS'!$G$57/1000,K72*(C72+D72*EF!$M$4+E72*EF!$M$5)*'IRON & STEEL PRODUCTS'!$G$54/1000),\"\")","v":""},{"$f":"IF(A72<>\"\",IF('IRON & STEEL PRODUCTS'!$H$34=1,L72*(C72+D72*EF!$M$4+E72*EF!$M$5)*'IRON & STEEL PRODUCTS'!$H$57/1000,L72*(C72+D72*EF!$M$4+E72*EF!$M$5)*'IRON & STEEL PRODUCTS'!$H$54/1000),\"\")","v":""},{"$f":"IF(A72<>\"\",IF('IRON & STEEL PRODUCTS'!$I$34=1,M72*(C72+D72*EF!$M$4+E72*EF!$M$5)*'IRON & STEEL PRODUCTS'!$I$57/1000,M72*(C72+D72*EF!$M$4+E72*EF!$M$5)*'IRON & STEEL PRODUCTS'!$I$54/1000),\"\")","v":""},{"$f":"IF(A72<>\"\",IF('IRON & STEEL PRODUCTS'!$J$34=1,N72*(C72+D72*EF!$M$4+E72*EF!$M$5)*'IRON & STEEL PRODUCTS'!$J$57/1000,N72*(C72+D72*EF!$M$4+E72*EF!$M$5)*'IRON & STEEL PRODUCTS'!$J$54/1000),\"\")","v":""},{"$f":"IF(A72<>\"\",IF('IRON & STEEL PRODUCTS'!$K$34=1,O72*(C72+D72*EF!$M$4+E72*EF!$M$5)*'IRON & STEEL PRODUCTS'!$K$57/1000,O72*(C72+D72*EF!$M$4+E72*EF!$M$5)*'IRON & STEEL PRODUCTS'!$K$54/1000),\"\")","v":""},{"$f":"IF(A72<>\"\",IF('IRON & STEEL PRODUCTS'!$L$34=1,P72*(C72+D72*EF!$M$4+E72*EF!$M$5)*'IRON & STEEL PRODUCTS'!$L$57/1000,P72*(C72+D72*EF!$M$4+E72*EF!$M$5)*'IRON & STEEL PRODUCTS'!$L$54/1000),\"\")","v":""},{"$f":"IF(A72<>\"\",IF('IRON & STEEL PRODUCTS'!$M$34=1,Q72*(C72+D72*EF!$M$4+E72*EF!$M$5)*'IRON & STEEL PRODUCTS'!$M$57/1000,Q72*(C72+D72*EF!$M$4+E72*EF!$M$5)*'IRON & STEEL PRODUCTS'!$M$54/1000),\"\")","v":""},{"$f":"IF(A72<>\"\",IF('IRON & STEEL PRODUCTS'!$N$34=1,R72*(C72+D72*EF!$M$4+E72*EF!$M$5)*'IRON & STEEL PRODUCTS'!$N$57/1000,R72*(C72+D72*EF!$M$4+E72*EF!$M$5)*'IRON & STEEL PRODUCTS'!$N$54/1000),\"\")","v":""},0]
[null,{"$f":"IF(A74<>0,VLOOKUP(A74,EF!$A$148:$B$168,2,0),\"\")","v":""},{"$f":"IF(A74<>\"\",VLOOKUP(A74,EF!$A$148:$E$168,3,0),\"\")","v":""},{"$f":"IF(A74<>\"\",VLOOKUP(A74,EF!$A$148:$E$168,4,0),\"\")","v":""},{"$f":"IF(A74<>\"\",VLOOKUP(A74,EF!$A$148:$E$168,5,0),\"\")","v":""},"Quantity of Outputs",null,null,null,null,null,null,null,null,null,null,null,null,0]
[null,null,null,null,null,"Emission (tons CO2eq)",{"$f":"IF(A74<>0,IF('IRON & STEEL PRODUCTS'!$C$34=1,G74*(C74+D74*EF!$M$4+E74*EF!$M$5)*'IRON & STEEL PRODUCTS'!$C$57/1000, G74*(C74+D74*EF!$M$4+E74*EF!$M$5)*'IRON & STEEL PRODUCTS'!$C$54/1000),\"\")","v":""},{"$f":"IF(A74<>\"\",IF('IRON & STEEL PRODUCTS'!$D$34=1,H74*(C74+D74*EF!$M$4+E74*EF!$M$5)*'IRON & STEEL PRODUCTS'!$D$57/1000, H74*(C74+D74*EF!$M$4+E74*EF!$M$5)*'IRON & STEEL PRODUCTS'!$D$54/1000),\"\")","v":""},{"$f":"IF(A74<>\"\",IF('IRON & STEEL PRODUCTS'!$E$34=1, I74*(C74+D74*EF!$M$4+E74*EF!$M$5)*'IRON & STEEL PRODUCTS'!$E$57/1000, I74*(C74+D74*EF!$M$4+E74*EF!$M$5)*'IRON & STEEL PRODUCTS'!$E$54/1000),\"\")","v":""},{"$f":"IF(A74<>\"\",IF('IRON & STEEL PRODUCTS'!$F$34=1,J74*(C74+D74*EF!$M$4+E74*EF!$M$5)*'IRON & STEEL PRODUCTS'!$F$57/1000, J74*(C74+D74*EF!$M$4+E74*EF!$M$5)*'IRON & STEEL PRODUCTS'!$F$54/1000),\"\")","v":""},{"$f":"IF(A74<>\"\",IF('IRON & STEEL PRODUCTS'!$G$34=1, K74*(C74+D74*EF!$M$4+E74*EF!$M$5)*'IRON & STEEL PRODUCTS'!$G$57/1000,K74*(C74+D74*EF!$M$4+E74*EF!$M$5)*'IRON & STEEL PRODUCTS'!$G$54/1000),\"\")","v":""},{"$f":"IF(A74<>\"\",IF('IRON & STEEL PRODUCTS'!$H$34=1,L74*(C74+D74*EF!$M$4+E74*EF!$M$5)*'IRON & STEEL PRODUCTS'!$H$57/1000,L74*(C74+D74*EF!$M$4+E74*EF!$M$5)*'IRON & STEEL PRODUCTS'!$H$54/1000),\"\")","v":""},{"$f":"IF(A74<>\"\",IF('IRON & STEEL PRODUCTS'!$I$34=1,M74*(C74+D74*EF!$M$4+E74*EF!$M$5)*'IRON & STEEL PRODUCTS'!$I$57/1000,M74*(C74+D74*EF!$M$4+E74*EF!$M$5)*'IRON & STEEL PRODUCTS'!$I$54/1000),\"\")","v":""},{"$f":"IF(A74<>\"\",IF('IRON & STEEL PRODUCTS'!$J$34=1,N74*(C74+D74*EF!$M$4+E74*EF!$M$5)*'IRON & STEEL PRODUCTS'!$J$57/1000,N74*(C74+D74*EF!$M$4+E74*EF!$M$5)*'IRON & STEEL PRODUCTS'!$J$54/1000),\"\")","v":""},{"$f":"IF(A74<>\"\",IF('IRON & STEEL PRODUCTS'!$K$34=1,O74*(C74+D74*EF!$M$4+E74*EF!$M$5)*'IRON & STEEL PRODUCTS'!$K$57/1000,O74*(C74+D74*EF!$M$4+E74*EF!$M$5)*'IRON & STEEL PRODUCTS'!$K$54/1000),\"\")","v":""},{"$f":"IF(A74<>\"\",IF('IRON & STEEL PRODUCTS'!$L$34=1,P74*(C74+D74*EF!$M$4+E74*EF!$M$5)*'IRON & STEEL PRODUCTS'!$L$57/1000,P74*(C74+D74*EF!$M$4+E74*EF!$M$5)*'IRON & STEEL PRODUCTS'!$L$54/1000),\"\")","v":""},{"$f":"IF(A74<>\"\",IF('IRON & STEEL PRODUCTS'!$M$34=1,Q74*(C74+D74*EF!$M$4+E74*EF!$M$5)*'IRON & STEEL PRODUCTS'!$M$57/1000,Q74*(C74+D74*EF!$M$4+E74*EF!$M$5)*'IRON & STEEL PRODUCTS'!$M$54/1000),\"\")","v":""},{"$f":"IF(A74<>\"\",IF('IRON & STEEL PRODUCTS'!$N$34=1,R74*(C74+D74*EF!$M$4+E74*EF!$M$5)*'IRON & STEEL PRODUCTS'!$N$57/1000,R74*(C74+D74*EF!$M$4+E74*EF!$M$5)*'IRON & STEEL PRODUCTS'!$N$54/1000),\"\")","v":""},0]
[null,{"$f":"IF(A76<>0,VLOOKUP(A76,EF!$A$148:$B$168,2,0),\"\")","v":""},{"$f":"IF(A76<>\"\",VLOOKUP(A76,EF!$A$148:$E$168,3,0),\"\")","v":""},{"$f":"IF(A76<>\"\",VLOOKUP(A76,EF!$A$148:$E$168,4,0),\"\")","v":""},{"$f":"IF(A76<>\"\",VLOOKUP(A76,EF!$A$148:$E$168,5,0),\"\")","v":""},"Quantity of Outputs",null,null,null,null,null,null,null,null,null,null,null,null,0]
[null,null,null,null,null,"Emission (tons CO2eq)",{"$f":"IF(A76<>0,IF('IRON & STEEL PRODUCTS'!$C$34=1,G76*(C76+D76*EF!$M$4+E76*EF!$M$5)*'IRON & STEEL PRODUCTS'!$C$57/1000, G76*(C76+D76*EF!$M$4+E76*EF!$M$5)*'IRON & STEEL PRODUCTS'!$C$54/1000),\"\")","v":""},{"$f":"IF(A76<>\"\",IF('IRON & STEEL PRODUCTS'!$D$34=1,H76*(C76+D76*EF!$M$4+E76*EF!$M$5)*'IRON & STEEL PRODUCTS'!$D$57/1000, H76*(C76+D76*EF!$M$4+E76*EF!$M$5)*'IRON & STEEL PRODUCTS'!$D$54/1000),\"\")","v":""},{"$f":"IF(A76<>\"\",IF('IRON & STEEL PRODUCTS'!$E$34=1, I76*(C76+D76*EF!$M$4+E76*EF!$M$5)*'IRON & STEEL PRODUCTS'!$E$57/1000, I76*(C76+D76*EF!$M$4+E76*EF!$M$5)*'IRON & STEEL PRODUCTS'!$E$54/1000),\"\")","v":""},{"$f":"IF(A76<>\"\",IF('IRON & STEEL PRODUCTS'!$F$34=1,J76*(C76+D76*EF!$M$4+E76*EF!$M$5)*'IRON & STEEL PRODUCTS'!$F$57/1000, J76*(C76+D76*EF!$M$4+E76*EF!$M$5)*'IRON & STEEL PRODUCTS'!$F$54/1000),\"\")","v":""},{"$f":"IF(A76<>\"\",IF('IRON & STEEL PRODUCTS'!$G$34=1, K76*(C76+D76*EF!$M$4+E76*EF!$M$5)*'IRON & STEEL PRODUCTS'!$G$57/1000,K76*(C76+D76*EF!$M$4+E76*EF!$M$5)*'IRON & STEEL PRODUCTS'!$G$54/1000),\"\")","v":""},{"$f":"IF(A76<>\"\",IF('IRON & STEEL PRODUCTS'!$H$34=1,L76*(C76+D76*EF!$M$4+E76*EF!$M$5)*'IRON & STEEL PRODUCTS'!$H$57/1000,L76*(C76+D76*EF!$M$4+E76*EF!$M$5)*'IRON & STEEL PRODUCTS'!$H$54/1000),\"\")","v":""},{"$f":"IF(A76<>\"\",IF('IRON & STEEL PRODUCTS'!$I$34=1,M76*(C76+D76*EF!$M$4+E76*EF!$M$5)*'IRON & STEEL PRODUCTS'!$I$57/1000,M76*(C76+D76*EF!$M$4+E76*EF!$M$5)*'IRON & STEEL PRODUCTS'!$I$54/1000),\"\")","v":""},{"$f":"IF(A76<>\"\",IF('IRON & STEEL PRODUCTS'!$J$34=1,N76*(C76+D76*EF!$M$4+E76*EF!$M$5)*'IRON & STEEL PRODUCTS'!$J$57/1000,N76*(C76+D76*EF!$M$4+E76*EF!$M$5)*'IRON & STEEL PRODUCTS'!$J$54/1000),\"\")","v":""},{"$f":"IF(A76<>\"\",IF('IRON & STEEL PRODUCTS'!$K$34=1,O76*(C76+D76*EF!$M$4+E76*EF!$M$5)*'IRON & STEEL PRODUCTS'!$K$57/1000,O76*(C76+D76*EF!$M$4+E76*EF!$M$5)*'IRON & STEEL PRODUCTS'!$K$54/1000),\"\")","v":""},{"$f":"IF(A76<>\"\",IF('IRON & STEEL PRODUCTS'!$L$34=1,P76*(C76+D76*EF!$M$4+E76*EF!$M$5)*'IRON & STEEL PRODUCTS'!$L$57/1000,P76*(C76+D76*EF!$M$4+E76*EF!$M$5)*'IRON & STEEL PRODUCTS'!$L$54/1000),\"\")","v":""},{"$f":"IF(A76<>\"\",IF('IRON & STEEL PRODUCTS'!$M$34=1,Q76*(C76+D76*EF!$M$4+E76*EF!$M$5)*'IRON & STEEL PRODUCTS'!$M$57/1000,Q76*(C76+D76*EF!$M$4+E76*EF!$M$5)*'IRON & STEEL PRODUCTS'!$M$54/1000),\"\")","v":""},{"$f":"IF(A76<>\"\",IF('IRON & STEEL PRODUCTS'!$N$34=1,R76*(C76+D76*EF!$M$4+E76*EF!$M$5)*'IRON & STEEL PRODUCTS'!$N$57/1000,R76*(C76+D76*EF!$M$4+E76*EF!$M$5)*'IRON & STEEL PRODUCTS'!$N$54/1000),\"\")","v":""},0]
[null,{"$f":"IF(A78<>0,VLOOKUP(A78,EF!$A$148:$B$168,2,0),\"\")","v":""},{"$f":"IF(A78<>\"\",VLOOKUP(A78,EF!$A$148:$E$168,3,0),\"\")","v":""},{"$f":"IF(A78<>\"\",VLOOKUP(A78,EF!$A$148:$E$168,4,0),\"\")","v":""},{"$f":"IF(A78<>\"\",VLOOKUP(A78,EF!$A$148:$E$168,5,0),\"\")","v":""},"Quantity of Outputs",null,null,null,null,null,null,null,null,null,null,null,null,0]
[null,null,null,null,null,"Emission (tons CO2eq)",{"$f":"IF(A78<>0,IF('IRON & STEEL PRODUCTS'!$C$34=1,G78*(C78+D78*EF!$M$4+E78*EF!$M$5)*'IRON & STEEL PRODUCTS'!$C$57/1000, G78*(C78+D78*EF!$M$4+E78*EF!$M$5)*'IRON & STEEL PRODUCTS'!$C$54/1000),\"\")","v":""},{"$f":"IF(A78<>\"\",IF('IRON & STEEL PRODUCTS'!$D$34=1,H78*(C78+D78*EF!$M$4+E78*EF!$M$5)*'IRON & STEEL PRODUCTS'!$D$57/1000, H78*(C78+D78*EF!$M$4+E78*EF!$M$5)*'IRON & STEEL PRODUCTS'!$D$54/1000),\"\")","v":""},{"$f":"IF(A78<>\"\",IF('IRON & STEEL PRODUCTS'!$E$34=1, I78*(C78+D78*EF!$M$4+E78*EF!$M$5)*'IRON & STEEL PRODUCTS'!$E$57/1000, I78*(C78+D78*EF!$M$4+E78*EF!$M$5)*'IRON & STEEL PRODUCTS'!$E$54/1000),\"\")","v":""},{"$f":"IF(A78<>\"\",IF('IRON & STEEL PRODUCTS'!$F$34=1,J78*(C78+D78*EF!$M$4+E78*EF!$M$5)*'IRON & STEEL PRODUCTS'!$F$57/1000, J78*(C78+D78*EF!$M$4+E78*EF!$M$5)*'IRON & STEEL PRODUCTS'!$F$54/1000),\"\")","v":""},{"$f":"IF(A78<>\"\",IF('IRON & STEEL PRODUCTS'!$G$34=1, K78*(C78+D78*EF!$M$4+E78*EF!$M$5)*'IRON & STEEL PRODUCTS'!$G$57/1000,K78*(C78+D78*EF!$M$4+E78*EF!$M$5)*'IRON & STEEL PRODUCTS'!$G$54/1000),\"\")","v":""},{"$f":"IF(A78<>\"\",IF('IRON & STEEL PRODUCTS'!$H$34=1,L78*(C78+D78*EF!$M$4+E78*EF!$M$5)*'IRON & STEEL PRODUCTS'!$H$57/1000,L78*(C78+D78*EF!$M$4+E78*EF!$M$5)*'IRON & STEEL PRODUCTS'!$H$54/1000),\"\")","v":""},{"$f":"IF(A78<>\"\",IF('IRON & STEEL PRODUCTS'!$I$34=1,M78*(C78+D78*EF!$M$4+E78*EF!$M$5)*'IRON & STEEL PRODUCTS'!$I$57/1000,M78*(C78+D78*EF!$M$4+E78*EF!$M$5)*'IRON & STEEL PRODUCTS'!$I$54/1000),\"\")","v":""},{"$f":"IF(A78<>\"\",IF('IRON & STEEL PRODUCTS'!$J$34=1,N78*(C78+D78*EF!$M$4+E78*EF!$M$5)*'IRON & STEEL PRODUCTS'!$J$57/1000,N78*(C78+D78*EF!$M$4+E78*EF!$M$5)*'IRON & STEEL PRODUCTS'!$J$54/1000),\"\")","v":""},{"$f":"IF(A78<>\"\",IF('IRON & STEEL PRODUCTS'!$K$34=1,O78*(C78+D78*EF!$M$4+E78*EF!$M$5)*'IRON & STEEL PRODUCTS'!$K$57/1000,O78*(C78+D78*EF!$M$4+E78*EF!$M$5)*'IRON & STEEL PRODUCTS'!$K$54/1000),\"\")","v":""},{"$f":"IF(A78<>\"\",IF('IRON & STEEL PRODUCTS'!$L$34=1,P78*(C78+D78*EF!$M$4+E78*EF!$M$5)*'IRON & STEEL PRODUCTS'!$L$57/1000,P78*(C78+D78*EF!$M$4+E78*EF!$M$5)*'IRON & STEEL PRODUCTS'!$L$54/1000),\"\")","v":""},{"$f":"IF(A78<>\"\",IF('IRON & STEEL PRODUCTS'!$M$34=1,Q78*(C78+D78*EF!$M$4+E78*EF!$M$5)*'IRON & STEEL PRODUCTS'!$M$57/1000,Q78*(C78+D78*EF!$M$4+E78*EF!$M$5)*'IRON & STEEL PRODUCTS'!$M$54/1000),\"\")","v":""},{"$f":"IF(A78<>\"\",IF('IRON & STEEL PRODUCTS'!$N$34=1,R78*(C78+D78*EF!$M$4+E78*EF!$M$5)*'IRON & STEEL PRODUCTS'!$N$57/1000,R78*(C78+D78*EF!$M$4+E78*EF!$M$5)*'IRON & STEEL PRODUCTS'!$N$54/1000),\"\")","v":""},0]
[null,{"$f":"IF(A80<>0,VLOOKUP(A80,EF!$A$148:$B$168,2,0),\"\")","v":""},{"$f":"IF(A80<>\"\",VLOOKUP(A80,EF!$A$148:$E$168,3,0),\"\")","v":""},{"$f":"IF(A80<>\"\",VLOOKUP(A80,EF!$A$148:$E$168,4,0),\"\")","v":""},{"$f":"IF(A80<>\"\",VLOOKUP(A80,EF!$A$148:$E$168,5,0),\"\")","v":""},"Quantity of Outputs",null,null,null,null,null,null,null,null,null,null,null,null,0]
[null,null,null,null,null,"Emission (tons CO2eq)",{"$f":"IF(A80<>0,IF('IRON & STEEL PRODUCTS'!$C$34=1,G80*(C80+D80*EF!$M$4+E80*EF!$M$5)*'IRON & STEEL PRODUCTS'!$C$57/1000, G80*(C80+D80*EF!$M$4+E80*EF!$M$5)*'IRON & STEEL PRODUCTS'!$C$54/1000),\"\")","v":""},{"$f":"IF(A80<>\"\",IF('IRON & STEEL PRODUCTS'!$D$34=1,H80*(C80+D80*EF!$M$4+E80*EF!$M$5)*'IRON & STEEL PRODUCTS'!$D$57/1000, H80*(C80+D80*EF!$M$4+E80*EF!$M$5)*'IRON & STEEL PRODUCTS'!$D$54/1000),\"\")","v":""},{"$f":"IF(A80<>\"\",IF('IRON & STEEL PRODUCTS'!$E$34=1, I80*(C80+D80*EF!$M$4+E80*EF!$M$5)*'IRON & STEEL PRODUCTS'!$E$57/1000, I80*(C80+D80*EF!$M$4+E80*EF!$M$5)*'IRON & STEEL PRODUCTS'!$E$54/1000),\"\")","v":""},{"$f":"IF(A80<>\"\",IF('IRON & STEEL PRODUCTS'!$F$34=1,J80*(C80+D80*EF!$M$4+E80*EF!$M$5)*'IRON & STEEL PRODUCTS'!$F$57/1000, J80*(C80+D80*EF!$M$4+E80*EF!$M$5)*'IRON & STEEL PRODUCTS'!$F$54/1000),\"\")","v":""},{"$f":"IF(A80<>\"\",IF('IRON & STEEL PRODUCTS'!$G$34=1, K80*(C80+D80*EF!$M$4+E80*EF!$M$5)*'IRON & STEEL PRODUCTS'!$G$57/1000,K80*(C80+D80*EF!$M$4+E80*EF!$M$5)*'IRON & STEEL PRODUCTS'!$G$54/1000),\"\")","v":""},{"$f":"IF(A80<>\"\",IF('IRON & STEEL PRODUCTS'!$H$34=1,L80*(C80+D80*EF!$M$4+E80*EF!$M$5)*'IRON & STEEL PRODUCTS'!$H$57/1000,L80*(C80+D80*EF!$M$4+E80*EF!$M$5)*'IRON & STEEL PRODUCTS'!$H$54/1000),\"\")","v":""},{"$f":"IF(A80<>\"\",IF('IRON & STEEL PRODUCTS'!$I$34=1,M80*(C80+D80*EF!$M$4+E80*EF!$M$5)*'IRON & STEEL PRODUCTS'!$I$57/1000,M80*(C80+D80*EF!$M$4+E80*EF!$M$5)*'IRON & STEEL PRODUCTS'!$I$54/1000),\"\")","v":""},{"$f":"IF(A80<>\"\",IF('IRON & STEEL PRODUCTS'!$J$34=1,N80*(C80+D80*EF!$M$4+E80*EF!$M$5)*'IRON & STEEL PRODUCTS'!$J$57/1000,N80*(C80+D80*EF!$M$4+E80*EF!$M$5)*'IRON & STEEL PRODUCTS'!$J$54/1000),\"\")","v":""},{"$f":"IF(A80<>\"\",IF('IRON & STEEL PRODUCTS'!$K$34=1,O80*(C80+D80*EF!$M$4+E80*EF!$M$5)*'IRON & STEEL PRODUCTS'!$K$57/1000,O80*(C80+D80*EF!$M$4+E80*EF!$M$5)*'IRON & STEEL PRODUCTS'!$K$54/1000),\"\")","v":""},{"$f":"IF(A80<>\"\",IF('IRON & STEEL PRODUCTS'!$L$34=1,P80*(C80+D80*EF!$M$4+E80*EF!$M$5)*'IRON & STEEL PRODUCTS'!$L$57/1000,P80*(C80+D80*EF!$M$4+E80*EF!$M$5)*'IRON & STEEL PRODUCTS'!$L$54/1000),\"\")","v":""},{"$f":"IF(A80<>\"\",IF('IRON & STEEL PRODUCTS'!$M$34=1,Q80*(C80+D80*EF!$M$4+E80*EF!$M$5)*'IRON & STEEL PRODUCTS'!$M$57/1000,Q80*(C80+D80*EF!$M$4+E80*EF!$M$5)*'IRON & STEEL PRODUCTS'!$M$54/1000),\"\")","v":""},{"$f":"IF(A80<>\"\",IF('IRON & STEEL PRODUCTS'!$N$34=1,R80*(C80+D80*EF!$M$4+E80*EF!$M$5)*'IRON & STEEL PRODUCTS'!$N$57/1000,R80*(C80+D80*EF!$M$4+E80*EF!$M$5)*'IRON & STEEL PRODUCTS'!$N$54/1000),\"\")","v":""},0]
[null,{"$f":"IF(A82<>0,VLOOKUP(A82,EF!$A$148:$B$168,2,0),\"\")","v":""},{"$f":"IF(A82<>\"\",VLOOKUP(A82,EF!$A$148:$E$168,3,0),\"\")","v":""},{"$f":"IF(A82<>\"\",VLOOKUP(A82,EF!$A$148:$E$168,4,0),\"\")","v":""},{"$f":"IF(A82<>\"\",VLOOKUP(A82,EF!$A$148:$E$168,5,0),\"\")","v":""},"Quantity of Outputs",null,null,null,null,null,null,null,null,null,null,null,null,0]
[null,null,null,null,null,"Emission (tons CO2eq)",{"$f":"IF(A82<>0,IF('IRON & STEEL PRODUCTS'!$C$34=1,G82*(C82+D82*EF!$M$4+E82*EF!$M$5)*'IRON & STEEL PRODUCTS'!$C$57/1000, G82*(C82+D82*EF!$M$4+E82*EF!$M$5)*'IRON & STEEL PRODUCTS'!$C$54/1000),\"\")","v":""},{"$f":"IF(A82<>\"\",IF('IRON & STEEL PRODUCTS'!$D$34=1,H82*(C82+D82*EF!$M$4+E82*EF!$M$5)*'IRON & STEEL PRODUCTS'!$D$57/1000, H82*(C82+D82*EF!$M$4+E82*EF!$M$5)*'IRON & STEEL PRODUCTS'!$D$54/1000),\"\")","v":""},{"$f":"IF(A82<>\"\",IF('IRON & STEEL PRODUCTS'!$E$34=1, I82*(C82+D82*EF!$M$4+E82*EF!$M$5)*'IRON & STEEL PRODUCTS'!$E$57/1000, I82*(C82+D82*EF!$M$4+E82*EF!$M$5)*'IRON & STEEL PRODUCTS'!$E$54/1000),\"\")","v":""},{"$f":"IF(A82<>\"\",IF('IRON & STEEL PRODUCTS'!$F$34=1,J82*(C82+D82*EF!$M$4+E82*EF!$M$5)*'IRON & STEEL PRODUCTS'!$F$57/1000, J82*(C82+D82*EF!$M$4+E82*EF!$M$5)*'IRON & STEEL PRODUCTS'!$F$54/1000),\"\")","v":""},{"$f":"IF(A82<>\"\",IF('IRON & STEEL PRODUCTS'!$G$34=1, K82*(C82+D82*EF!$M$4+E82*EF!$M$5)*'IRON & STEEL PRODUCTS'!$G$57/1000,K82*(C82+D82*EF!$M$4+E82*EF!$M$5)*'IRON & STEEL PRODUCTS'!$G$54/1000),\"\")","v":""},{"$f":"IF(A82<>\"\",IF('IRON & STEEL PRODUCTS'!$H$34=1,L82*(C82+D82*EF!$M$4+E82*EF!$M$5)*'IRON & STEEL PRODUCTS'!$H$57/1000,L82*(C82+D82*EF!$M$4+E82*EF!$M$5)*'IRON & STEEL PRODUCTS'!$H$54/1000),\"\")","v":""},{"$f":"IF(A82<>\"\",IF('IRON & STEEL PRODUCTS'!$I$34=1,M82*(C82+D82*EF!$M$4+E82*EF!$M$5)*'IRON & STEEL PRODUCTS'!$I$57/1000,M82*(C82+D82*EF!$M$4+E82*EF!$M$5)*'IRON & STEEL PRODUCTS'!$I$54/1000),\"\")","v":""},{"$f":"IF(A82<>\"\",IF('IRON & STEEL PRODUCTS'!$J$34=1,N82*(C82+D82*EF!$M$4+E82*EF!$M$5)*'IRON & STEEL PRODUCTS'!$J$57/1000,N82*(C82+D82*EF!$M$4+E82*EF!$M$5)*'IRON & STEEL PRODUCTS'!$J$54/1000),\"\")","v":""},{"$f":"IF(A82<>\"\",IF('IRON & STEEL PRODUCTS'!$K$34=1,O82*(C82+D82*EF!$M$4+E82*EF!$M$5)*'IRON & STEEL PRODUCTS'!$K$57/1000,O82*(C82+D82*EF!$M$4+E82*EF!$M$5)*'IRON & STEEL PRODUCTS'!$K$54/1000),\"\")","v":""},{"$f":"IF(A82<>\"\",IF('IRON & STEEL PRODUCTS'!$L$34=1,P82*(C82+D82*EF!$M$4+E82*EF!$M$5)*'IRON & STEEL PRODUCTS'!$L$57/1000,P82*(C82+D82*EF!$M$4+E82*EF!$M$5)*'IRON & STEEL PRODUCTS'!$L$54/1000),\"\")","v":""},{"$f":"IF(A82<>\"\",IF('IRON & STEEL PRODUCTS'!$M$34=1,Q82*(C82+D82*EF!$M$4+E82*EF!$M$5)*'IRON & STEEL PRODUCTS'!$M$57/1000,Q82*(C82+D82*EF!$M$4+E82*EF!$M$5)*'IRON & STEEL PRODUCTS'!$M$54/1000),\"\")","v":""},{"$f":"IF(A82<>\"\",IF('IRON & STEEL PRODUCTS'!$N$34=1,R82*(C82+D82*EF!$M$4+E82*EF!$M$5)*'IRON & STEEL PRODUCTS'!$N$57/1000,R82*(C82+D82*EF!$M$4+E82*EF!$M$5)*'IRON & STEEL PRODUCTS'!$N$54/1000),\"\")","v":""},0]
[]
["Total (tons CO2eq)",null,null,null,null,null,{"$f":"SUMIF($F$72:$F$84,$F$73,G72:G84)","v":0},{"$f":"SUMIF($F$72:$F$84,$F$73,H72:H84)","v":0},0,0,0,0,0,0,0,0,0,0,0,{"$f":"SUMIF($G$32:$G$44,$G$43,T72:T84)","v":0}]
[]
[]
[]
[]
[]
["IV. Wastewater treatment activities"]
[]
["Enterprise wastewater treatment measures"]
["If there is no measure your business is using or you need to edit the coefficients, please click"]
[]
[null,"Unit","Jan","Feb","March","April","May","June","July","Aug","Sep","Oct","Nov","Dec","Total"]
["Amount of wastewater","m3",null,null,null,null,null,null,null,null,null,null,null,null,{"$f":"SUM(C97:N97)","v":0}]
["Chemical Oxygen Demand (COD)","kgCOD/m3"]
["CH4 is recovered in the treatment system","kg"]
["MCF",null,{"$f":"IF($D$93<>\"\",VLOOKUP($D$93,EF!$K$22:$M$28,3,0),0)","v":0},{"$f":"IF($D$93<>\"\",VLOOKUP($D$93,EF!$K$22:$M$28,3,0),0)","v":0},{"$f":"IF($D$93<>\"\",VLOOKUP($D$93,EF!$K$22:$M$28,3,0),0)","v":0},{"$f":"IF($D$93<>\"\",VLOOKUP($D$93,EF!$K$22:$M$28,3,0),0)","v":0},{"$f":"IF($D$93<>\"\",VLOOKUP($D$93,EF!$K$22:$M$28,3,0),0)","v":0},{"$f":"IF($D$93<>\"\",VLOOKUP($D$93,EF!$K$22:$M$28,3,0),0)","v":0},{"$f":"IF($D$93<>\"\",VLOOKUP($D$93,EF!$K$22:$M$28,3,0),0)","v":0},{"$f":"IF($D$93<>\"\",VLOOKUP($D$93,EF!$K$22:$M$28,3,0),0)","v":0},{"$f":"IF($D$93<>\"\",VLOOKUP($D$93,EF!$K$22:$M$28,3,0),0)","v":0},{"$f":"IF($D$93<>\"\",VLOOKUP($D$93,EF!$K$22:$M$28,3,0),0)","v":0},{"$f":"IF($D$93<>\"\",VLOOKUP($D$93,EF!$K$22:$M$28,3,0),0)","v":0},{"$f":"IF($D$93<>\"\",VLOOKUP($D$93,EF!$K$22:$M$28,3,0),0)","v":0}]
["Maximum methane production capacity","(kg CH4/kg COD)",0.25,0.25,0.25,0.25,0.25,0.25,0.25,0.25,0.25,0.25,0.25,0.25]
["Sludge is removed","kg COD/month"]
["Emission","tons CO2eq",{"$f":"IF('IRON & STEEL PRODUCTS'!$C$34=1,((C97*C98-C102)*C100*C101-C99)*'IRON & STEEL PRODUCTS'!C57,((C97*C98-C102)*C100*C101-C99)*'IRON & STEEL PRODUCTS'!C54)","v":0},{"$f":"IF('IRON & STEEL PRODUCTS'!$C$34=1,((D97*D98-D102)*D100*D101-D99)*'IRON & STEEL PRODUCTS'!D57,((D97*D98-D102)*D100*D101-D99)*'IRON & STEEL PRODUCTS'!D54)","v":0},{"$f":"IF('IRON & STEEL PRODUCTS'!$C$34=1,((E97*E98-E102)*E100*E101-E99)*'IRON & STEEL PRODUCTS'!E57,((E97*E98-E102)*E100*E101-E99)*'IRON & STEEL PRODUCTS'!E54)","v":0},{"$f":"IF('IRON & STEEL PRODUCTS'!$C$34=1,((F97*F98-F102)*F100*F101-F99)*'IRON & STEEL PRODUCTS'!F57,((F97*F98-F102)*F100*F101-F99)*'IRON & STEEL PRODUCTS'!F54)","v":0},{"$f":"IF('IRON & STEEL PRODUCTS'!$C$34=1,((G97*G98-G102)*G100*G101-G99)*'IRON & STEEL PRODUCTS'!G57,((G97*G98-G102)*G100*G101-G99)*'IRON & STEEL PRODUCTS'!G54)","v":0},{"$f":"IF('IRON & STEEL PRODUCTS'!$C$34=1,((H97*H98-H102)*H100*H101-H99)*'IRON & STEEL PRODUCTS'!H57,((H97*H98-H102)*H100*H101-H99)*'IRON & STEEL PRODUCTS'!H54)","v":0},{"$f":"IF('IRON & STEEL PRODUCTS'!$C$34=1,((I97*I98-I102)*I100*I101-I99)*'IRON & STEEL PRODUCTS'!I57,((I97*I98-I102)*I100*I101-I99)*'IRON & STEEL PRODUCTS'!I54)","v":0},{"$f":"IF('IRON & STEEL PRODUCTS'!$C$34=1,((J97*J98-J102)*J100*J101-J99)*'IRON & STEEL PRODUCTS'!J57,((J97*J98-J102)*J100*J101-J99)*'IRON & STEEL PRODUCTS'!J54)","v":0},{"$f":"IF('IRON & STEEL PRODUCTS'!$C$34=1,((K97*K98-K102)*K100*K101-K99)*'IRON & STEEL PRODUCTS'!K57,((K97*K98-K102)*K100*K101-K99)*'IRON & STEEL PRODUCTS'!K54)","v":0},{"$f":"IF('IRON & STEEL PRODUCTS'!$C$34=1,((L97*L98-L102)*L100*L101-L99)*'IRON & STEEL PRODUCTS'!L57,((L97*L98-L102)*L100*L101-L99)*'IRON & STEEL PRODUCTS'!L54)","v":0},{"$f":"IF('IRON & STEEL PRODUCTS'!$C$34=1,((M97*M98-M102)*M100*M101-M99)*'IRON & STEEL PRODUCTS'!M57,((M97*M98-M102)*M100*M101-M99)*'IRON & STEEL PRODUCTS'!M54)","v":0},{"$f":"IF('IRON & STEEL PRODUCTS'!$C$34=1,((N97*N98-N102)*N100*N101-N99)*'IRON & STEEL PRODUCTS'!N57,((N97*N98-N102)*N100*N101-N99)*'IRON & STEEL PRODUCTS'!N54)","v":0},{"$f":"SUM(C103:N103)","v":0}]
[]
[]
["IV. Amount of steam purchased from outside and electricity purchased from the grid"]
[]
[null,"Unit","Jan","Feb","March","April","May","June","July","Aug","Sep","Oct","Nov","Dec","Total"]
["Generation","kWh",null,null,null,null,null,null,null,null,null,null,null,null,{"$f":"SUM(C109:N109)","v":0}]
["Emission Factor","tCO2/MWh",{"$f":"IF('IRON & STEEL PRODUCTS'!$C$15<>\"\",HLOOKUP('IRON & STEEL PRODUCTS'!$C$15,EF!$L$34:$Q$35,2,0),0)","v":0},{"$f":"IF('IRON & STEEL PRODUCTS'!$C$15<>\"\",HLOOKUP('IRON & STEEL PRODUCTS'!$C$15,EF!$L$34:$Q$35,2,0),0)","v":0},{"$f":"IF('IRON & STEEL PRODUCTS'!$C$15<>\"\",HLOOKUP('IRON & STEEL PRODUCTS'!$C$15,EF!$L$34:$Q$35,2,0),0)","v":0},{"$f":"IF('IRON & STEEL PRODUCTS'!$C$15<>\"\",HLOOKUP('IRON & STEEL PRODUCTS'!$C$15,EF!$L$34:$Q$35,2,0),0)","v":0},{"$f":"IF('IRON & STEEL PRODUCTS'!$C$15<>\"\",HLOOKUP('IRON & STEEL PRODUCTS'!$C$15,EF!$L$34:$Q$35,2,0),0)","v":0},{"$f":"IF('IRON & STEEL PRODUCTS'!$C$15<>\"\",HLOOKUP('IRON & STEEL PRODUCTS'!$C$15,EF!$L$34:$Q$35,2,0),0)","v":0},{"$f":"IF('IRON & STEEL PRODUCTS'!$C$15<>\"\",HLOOKUP('IRON & STEEL PRODUCTS'!$C$15,EF!$L$34:$Q$35,2,0),0)","v":0},{"$f":"IF('IRON & STEEL PRODUCTS'!$C$15<>\"\",HLOOKUP('IRON & STEEL PRODUCTS'!$C$15,EF!$L$34:$Q$35,2,0),0)","v":0},{"$f":"IF('IRON & STEEL PRODUCTS'!$C$15<>\"\",HLOOKUP('IRON & STEEL PRODUCTS'!$C$15,EF!$L$34:$Q$35,2,0),0)","v":0},{"$f":"IF('IRON & STEEL PRODUCTS'!$C$15<>\"\",HLOOKUP('IRON & STEEL PRODUCTS'!$C$15,EF!$L$34:$Q$35,2,0),0)","v":0},{"$f":"IF('IRON & STEEL PRODUCTS'!$C$15<>\"\",HLOOKUP('IRON & STEEL PRODUCTS'!$C$15,EF!$L$34:$Q$35,2,0),0)","v":0},{"$f":"IF('IRON & STEEL PRODUCTS'!$C$15<>\"\",HLOOKUP('IRON & STEEL PRODUCTS'!$C$15,EF!$L$34:$Q$35,2,0),0)","v":0}]
["Emission","tons CO2eq",{"$f":"IF('IRON & STEEL PRODUCTS'!C34=1,C109/1000*C110*'IRON & STEEL PRODUCTS'!C57,C109/1000*C110*'IRON & STEEL PRODUCTS'!C54)","v":0},{"$f":"IF('IRON & STEEL PRODUCTS'!D34=1,D109/1000*D110*'IRON & STEEL PRODUCTS'!D57,D109/1000*D110*'IRON & STEEL PRODUCTS'!D54)","v":0},{"$f":"IF('IRON & STEEL PRODUCTS'!E34=1,E109/1000*E110*'IRON & STEEL PRODUCTS'!E57,E109/1000*E110*'IRON & STEEL PRODUCTS'!E54)","v":0},{"$f":"IF('IRON & STEEL PRODUCTS'!F34=1,F109/1000*F110*'IRON & STEEL PRODUCTS'!F57,F109/1000*F110*'IRON & STEEL PRODUCTS'!F54)","v":0},{"$f":"IF('IRON & STEEL PRODUCTS'!G34=1,G109/1000*G110*'IRON & STEEL PRODUCTS'!G57,G109/1000*G110*'IRON & STEEL PRODUCTS'!G54)","v":0},{"$f":"IF('IRON & STEEL PRODUCTS'!H34=1,H109/1000*H110*'IRON & STEEL PRODUCTS'!H57,H109/1000*H110*'IRON & STEEL PRODUCTS'!H54)","v":0},{"$f":"IF('IRON & STEEL PRODUCTS'!I34=1,I109/1000*I110*'IRON & STEEL PRODUCTS'!I57,I109/1000*I110*'IRON & STEEL PRODUCTS'!I54)","v":0},{"$f":"IF('IRON & STEEL PRODUCTS'!J34=1,J109/1000*J110*'IRON & STEEL PRODUCTS'!J57,J109/1000*J110*'IRON & STEEL PRODUCTS'!J54)","v":0},{"$f":"IF('IRON & STEEL PRODUCTS'!K34=1,K109/1000*K110*'IRON & STEEL PRODUCTS'!K57,K109/1000*K110*'IRON & STEEL PRODUCTS'!K54)","v":0},{"$f":"IF('IRON & STEEL PRODUCTS'!L34=1,L109/1000*L110*'IRON & STEEL PRODUCTS'!L57,L109/1000*L110*'IRON & STEEL PRODUCTS'!L54)","v":0},{"$f":"IF('IRON & STEEL PRODUCTS'!M34=1,M109/1000*M110*'IRON & STEEL PRODUCTS'!M57,M109/1000*M110*'IRON & STEEL PRODUCTS'!M54)","v":0},{"$f":"IF('IRON & STEEL PRODUCTS'!N34=1,N109/1000*N110*'IRON & STEEL PRODUCTS'!N57,N109/1000*N110*'IRON & STEEL PRODUCTS'!N54)","v":0},{"$f":"SUM(C111:N111)","v":0}]
[]
[]
["Type of fuel for the boiler",null,"Aviation Gasoline "]
["Steam pressure",null,0.04,null,"bar"]
["Boiler efficiency",null,40,null,"%"]
["Emission Factor CO2",null,{"$f":"VLOOKUP(C114,EF!B4:C55,2,0)","v":69.3},null,"kgCO2/GJ"]
["Emission Factor CH4",null,{"$f":"VLOOKUP($C$114,EF!$B$4:$E$54,3,0)","v":3.0000000000000001E-3},null,"kgCH4/GJ"]
["Emission Factor N2O",null,{"$f":"VLOOKUP($C$114,EF!$B$4:$E$54,4,0)","v":5.9999999999999995E-4},null,"kgN2O/GJ"]
[]
[null,"Unit","Jan","Feb","March","April","May","June","July","Aug","Sep","Oct","Nov","Dec","Total"]
["Amount of steam","m3",null,null,null,null,null,null,null,null,null,null,null,null,{"$f":"SUM(C122:N122)","v":0}]
["Amount of converted heat","KJ",{"$f":"IF($C$115<>\"\",IF($B$122=\"tấn\",1000,VLOOKUP($C$115,EF!$A$79:$B$145,2,0)*C122*VLOOKUP($C$115,EF!$A$79:$C$145,3,0)/($C$116/100)))","v":0},{"$f":"IF($C$115<>\"\",IF($B$122=\"tấn\",1000,VLOOKUP($C$115,EF!$A$79:$B$145,2,0)*D122*VLOOKUP($C$115,EF!$A$79:$C$145,3,0)/($C$116/100)))","v":0},{"$f":"IF($C$115<>\"\",IF($B$122=\"tấn\",1000,VLOOKUP($C$115,EF!$A$79:$B$145,2,0)*E122*VLOOKUP($C$115,EF!$A$79:$C$145,3,0)/($C$116/100)))","v":0},{"$f":"IF($C$115<>\"\",IF($B$122=\"tấn\",1000,VLOOKUP($C$115,EF!$A$79:$B$145,2,0)*F122*VLOOKUP($C$115,EF!$A$79:$C$145,3,0)/($C$116/100)))","v":0},{"$f":"IF($C$115<>\"\",IF($B$122=\"tấn\",1000,VLOOKUP($C$115,EF!$A$79:$B$145,2,0)*G122*VLOOKUP($C$115,EF!$A$79:$C$145,3,0)/($C$116/100)))","v":0},{"$f":"IF($C$115<>\"\",IF($B$122=\"tấn\",1000,VLOOKUP($C$115,EF!$A$79:$B$145,2,0)*H122*VLOOKUP($C$115,EF!$A$79:$C$145,3,0)/($C$116/100)))","v":0},{"$f":"IF($C$115<>\"\",IF($B$122=\"tấn\",1000,VLOOKUP($C$115,EF!$A$79:$B$145,2,0)*I122*VLOOKUP($C$115,EF!$A$79:$C$145,3,0)/($C$116/100)))","v":0},{"$f":"IF($C$115<>\"\",IF($B$122=\"tấn\",1000,VLOOKUP($C$115,EF!$A$79:$B$145,2,0)*J122*VLOOKUP($C$115,EF!$A$79:$C$145,3,0)/($C$116/100)))","v":0},{"$f":"IF($C$115<>\"\",IF($B$122=\"tấn\",1000,VLOOKUP($C$115,EF!$A$79:$B$145,2,0)*K122*VLOOKUP($C$115,EF!$A$79:$C$145,3,0)/($C$116/100)))","v":0},{"$f":"IF($C$115<>\"\",IF($B$122=\"tấn\",1000,VLOOKUP($C$115,EF!$A$79:$B$145,2,0)*L122*VLOOKUP($C$115,EF!$A$79:$C$145,3,0)/($C$116/100)))","v":0},{"$f":"IF($C$115<>\"\",IF($B$122=\"tấn\",1000,VLOOKUP($C$115,EF!$A$79:$B$145,2,0)*M122*VLOOKUP($C$115,EF!$A$79:$C$145,3,0)/($C$116/100)))","v":0},{"$f":"IF($C$115<>\"\",IF($B$122=\"tấn\",1000,VLOOKUP($C$115,EF!$A$79:$B$145,2,0)*N122*VLOOKUP($C$115,EF!$A$79:$C$145,3,0)/($C$116/100)))","v":0},{"$f":"SUM(C123:N123)","v":0}]
["Emission","tấn CO2tđ",{"$f":"IF('IRON & STEEL PRODUCTS'!C34=1,C123/10^3*($C$117+$C$118*EF!$M$4+$C$119*EF!$M$5)/1000*'IRON & STEEL PRODUCTS'!C57,C123/10^3*($C$117+$C$118*EF!$M$4+$C$119*EF!$M$5)/1000*'IRON & STEEL PRODUCTS'!C54)","v":0},{"$f":"IF('IRON & STEEL PRODUCTS'!D34=1,D123/10^3*($C$117+$C$118*EF!$M$4+$C$119*EF!$M$5)/1000*'IRON & STEEL PRODUCTS'!D57,D123/10^3*($C$117+$C$118*EF!$M$4+$C$119*EF!$M$5)/1000*'IRON & STEEL PRODUCTS'!D54)","v":0},{"$f":"IF('IRON & STEEL PRODUCTS'!E34=1,E123/10^3*($C$117+$C$118*EF!$M$4+$C$119*EF!$M$5)/1000*'IRON & STEEL PRODUCTS'!E57,E123/10^3*($C$117+$C$118*EF!$M$4+$C$119*EF!$M$5)/1000*'IRON & STEEL PRODUCTS'!E54)","v":0},{"$f":"IF('IRON & STEEL PRODUCTS'!F34=1,F123/10^3*($C$117+$C$118*EF!$M$4+$C$119*EF!$M$5)/1000*'IRON & STEEL PRODUCTS'!F57,F123/10^3*($C$117+$C$118*EF!$M$4+$C$119*EF!$M$5)/1000*'IRON & STEEL PRODUCTS'!F54)","v":0},{"$f":"IF('IRON & STEEL PRODUCTS'!G34=1,G123/10^3*($C$117+$C$118*EF!$M$4+$C$119*EF!$M$5)/1000*'IRON & STEEL PRODUCTS'!G57,G123/10^3*($C$117+$C$118*EF!$M$4+$C$119*EF!$M$5)/1000*'IRON & STEEL PRODUCTS'!G54)","v":0},{"$f":"IF('IRON & STEEL PRODUCTS'!H34=1,H123/10^3*($C$117+$C$118*EF!$M$4+$C$119*EF!$M$5)/1000*'IRON & STEEL PRODUCTS'!H57,H123/10^3*($C$117+$C$118*EF!$M$4+$C$119*EF!$M$5)/1000*'IRON & STEEL PRODUCTS'!H54)","v":0},{"$f":"IF('IRON & STEEL PRODUCTS'!I34=1,I123/10^3*($C$117+$C$118*EF!$M$4+$C$119*EF!$M$5)/1000*'IRON & STEEL PRODUCTS'!I57,I123/10^3*($C$117+$C$118*EF!$M$4+$C$119*EF!$M$5)/1000*'IRON & STEEL PRODUCTS'!I54)","v":0},{"$f":"IF('IRON & STEEL PRODUCTS'!J34=1,J123/10^3*($C$117+$C$118*EF!$M$4+$C$119*EF!$M$5)/1000*'IRON & STEEL PRODUCTS'!J57,J123/10^3*($C$117+$C$118*EF!$M$4+$C$119*EF!$M$5)/1000*'IRON & STEEL PRODUCTS'!J54)","v":0},{"$f":"IF('IRON & STEEL PRODUCTS'!K34=1,K123/10^3*($C$117+$C$118*EF!$M$4+$C$119*EF!$M$5)/1000*'IRON & STEEL PRODUCTS'!K57,K123/10^3*($C$117+$C$118*EF!$M$4+$C$119*EF!$M$5)/1000*'IRON & STEEL PRODUCTS'!K54)","v":0},{"$f":"IF('IRON & STEEL PRODUCTS'!L34=1,L123/10^3*($C$117+$C$118*EF!$M$4+$C$119*EF!$M$5)/1000*'IRON & STEEL PRODUCTS'!L57,L123/10^3*($C$117+$C$118*EF!$M$4+$C$119*EF!$M$5)/1000*'IRON & STEEL PRODUCTS'!L54)","v":0},{"$f":"IF('IRON & STEEL PRODUCTS'!M34=1,M123/10^3*($C$117+$C$118*EF!$M$4+$C$119*EF!$M$5)/1000*'IRON & STEEL PRODUCTS'!M57,M123/10^3*($C$117+$C$118*EF!$M$4+$C$119*EF!$M$5)/1000*'IRON & STEEL PRODUCTS'!M54)","v":0},{"$f":"IF('IRON & STEEL PRODUCTS'!N34=1,N123/10^3*($C$117+$C$118*EF!$M$4+$C$119*EF!$M$5)/1000*'IRON & STEEL PRODUCTS'!N57,N123/10^3*($C$117+$C$118*EF!$M$4+$C$119*EF!$M$5)/1000*'IRON & STEEL PRODUCTS'!N54)","v":0},{"$f":"SUM(C124:N124)","v":0}]
[]
[]
["V. Other emission sources"]
[]
["Fuel/Process","Unit","CO2 emission factor (kgCO2/unit)","CH4 emission factor (kgCH4/unit)","N2O emission factor (kgN2O/unit)",null,"Quantity of fuel used",null,null,null,null,null,null,null,null,null,null,null,"Tổng"]
[null,null,null,null,null,null,"Jan","Feb","March","April","May","June","July","Aug","Sep","Oct","Nov","Dec"]
[null,null,null,null,null,"Fuel consumption",null,null,null,null,null,null,null,null,null,null,null,null,{"$f":"SUM(G131:R131)","v":0}]
[null,null,null,null,null,"Emission (tons CO2eq)",{"$f":"IF(A131<>\"\",IF('IRON & STEEL PRODUCTS'!$C$34=1,G131*(C131+D131*EF!$M$4+E131*EF!$M$5)*'IRON & STEEL PRODUCTS'!$C$57/1000,G131*(C131+D131*EF!$M$4+E131*EF!$M$5)*'IRON & STEEL PRODUCTS'!$C$54/1000),\"\")","v":""},{"$f":"IF(A131<>\"\",IF('IRON & STEEL PRODUCTS'!$D$34=1,H131*(C131+D131*EF!$M$4+E131*EF!$M$5)*'IRON & STEEL PRODUCTS'!$D$57/1000,H131*(C131+D131*EF!$M$4+E131*EF!$M$5)*'IRON & STEEL PRODUCTS'!$D$54/1000),\"\")","v":""},{"$f":"IF(A131<>\"\",IF('IRON & STEEL PRODUCTS'!$E$34=1,I131*(C131+D131*EF!$M$4+E131*EF!$M$5)*'IRON & STEEL PRODUCTS'!$E$57/1000,I131*(C131+D131*EF!$M$4+E131*EF!$M$5)*'IRON & STEEL PRODUCTS'!$E$54/1000),\"\")","v":""},{"$f":"IF(A131<>\"\",IF('IRON & STEEL PRODUCTS'!$F$34=1,J131*(C131+D131*EF!$M$4+E131*EF!$M$5)*'IRON & STEEL PRODUCTS'!$F$57/1000,J131*(C131+D131*EF!$M$4+E131*EF!$M$5)*'IRON & STEEL PRODUCTS'!$F$54/1000),\"\")","v":""},{"$f":"IF(A131<>\"\",IF('IRON & STEEL PRODUCTS'!$G$34=1,K131*(C131+D131*EF!$M$4+E131*EF!$M$5)*'IRON & STEEL PRODUCTS'!$G$57/1000,K131*(C131+D131*EF!$M$4+E131*EF!$M$5)*'IRON & STEEL PRODUCTS'!$G$54/1000),\"\")","v":""},{"$f":"IF(A131<>\"\",IF('IRON & STEEL PRODUCTS'!$H$34=1,L131*(C131+D131*EF!$M$4+E131*EF!$M$5)*'IRON & STEEL PRODUCTS'!$H$57/1000,L131*(C131+D131*EF!$M$4+E131*EF!$M$5)*'IRON & STEEL PRODUCTS'!$H$54/1000),\"\")","v":""},{"$f":"IF(A131<>\"\",IF('IRON & STEEL PRODUCTS'!$I$34=1,M131*(C131+D131*EF!$M$4+E131*EF!$M$5)*'IRON & STEEL PRODUCTS'!$I$57/1000,M131*(C131+D131*EF!$M$4+E131*EF!$M$5)*'IRON & STEEL PRODUCTS'!$I$54/1000),\"\")","v":""},{"$f":"IF(A131<>\"\",IF('IRON & STEEL PRODUCTS'!$J$34=1,N131*(C131+D131*EF!$M$4+E131*EF!$M$5)*'IRON & STEEL PRODUCTS'!$J$57/1000,N131*(C131+D131*EF!$M$4+E131*EF!$M$5)*'IRON & STEEL PRODUCTS'!$J$54/1000),\"\")","v":""},{"$f":"IF(A131<>\"\",IF('IRON & STEEL PRODUCTS'!$K$34=1,O131*(C131+D131*EF!$M$4+E131*EF!$M$5)*'IRON & STEEL PRODUCTS'!$K$57/1000,O131*(C131+D131*EF!$M$4+E131*EF!$M$5)*'IRON & STEEL PRODUCTS'!$K$54/1000),\"\")","v":""},{"$f":"IF(A131<>\"\",IF('IRON & STEEL PRODUCTS'!$L$34=1,P131*(C131+D131*EF!$M$4+E131*EF!$M$5)*'IRON & STEEL PRODUCTS'!$L$57/1000,P131*(C131+D131*EF!$M$4+E131*EF!$M$5)*'IRON & STEEL PRODUCTS'!$L$54/1000),\"\")","v":""},{"$f":"IF(A131<>\"\",IF('IRON & STEEL PRODUCTS'!$M$34=1,Q131*(C131+D131*EF!$M$4+E131*EF!$M$5)*'IRON & STEEL PRODUCTS'!$M$57/1000,Q131*(C131+D131*EF!$M$4+E131*EF!$M$5)*'IRON & STEEL PRODUCTS'!$M$54/1000),\"\")","v":""},{"$f":"IF(A131<>\"\",IF('IRON & STEEL PRODUCTS'!$N$34=1,R131*(C131+D131*EF!$M$4+E131*EF!$M$5)*'IRON & STEEL PRODUCTS'!$N$57/1000,R131*(C131+D131*EF!$M$4+E131*EF!$M$5)*'IRON & STEEL PRODUCTS'!$N$54/1000),\"\")","v":""},0]
[null,null,null,null,null,"Fuel consumption",null,null,null,null,null,null,null,null,null,null,null,null,0]
[null,null,null,null,null,"Emission (tons CO2eq)",{"$f":"IF(A133<>\"\",IF('IRON & STEEL PRODUCTS'!$C$34=1,G133*(C133+D133*EF!$M$4+E133*EF!$M$5)*'IRON & STEEL PRODUCTS'!$C$57/1000,G133*(C133+D133*EF!$M$4+E133*EF!$M$5)*'IRON & STEEL PRODUCTS'!$C$54/1000),\"\")","v":""},{"$f":"IF(A133<>\"\",IF('IRON & STEEL PRODUCTS'!$D$34=1,H133*(C133+D133*EF!$M$4+E133*EF!$M$5)*'IRON & STEEL PRODUCTS'!$D$57/1000,H133*(C133+D133*EF!$M$4+E133*EF!$M$5)*'IRON & STEEL PRODUCTS'!$D$54/1000),\"\")","v":""},{"$f":"IF(A133<>\"\",IF('IRON & STEEL PRODUCTS'!$E$34=1,I133*(C133+D133*EF!$M$4+E133*EF!$M$5)*'IRON & STEEL PRODUCTS'!$E$57/1000,I133*(C133+D133*EF!$M$4+E133*EF!$M$5)*'IRON & STEEL PRODUCTS'!$E$54/1000),\"\")","v":""},{"$f":"IF(A133<>\"\",IF('IRON & STEEL PRODUCTS'!$F$34=1,J133*(C133+D133*EF!$M$4+E133*EF!$M$5)*'IRON & STEEL PRODUCTS'!$F$57/1000,J133*(C133+D133*EF!$M$4+E133*EF!$M$5)*'IRON & STEEL PRODUCTS'!$F$54/1000),\"\")","v":""},{"$f":"IF(A133<>\"\",IF('IRON & STEEL PRODUCTS'!$G$34=1,K133*(C133+D133*EF!$M$4+E133*EF!$M$5)*'IRON & STEEL PRODUCTS'!$G$57/1000,K133*(C133+D133*EF!$M$4+E133*EF!$M$5)*'IRON & STEEL PRODUCTS'!$G$54/1000),\"\")","v":""},{"$f":"IF(A133<>\"\",IF('IRON & STEEL PRODUCTS'!$H$34=1,L133*(C133+D133*EF!$M$4+E133*EF!$M$5)*'IRON & STEEL PRODUCTS'!$H$57/1000,L133*(C133+D133*EF!$M$4+E133*EF!$M$5)*'IRON & STEEL PRODUCTS'!$H$54/1000),\"\")","v":""},{"$f":"IF(A133<>\"\",IF('IRON & STEEL PRODUCTS'!$I$34=1,M133*(C133+D133*EF!$M$4+E133*EF!$M$5)*'IRON & STEEL PRODUCTS'!$I$57/1000,M133*(C133+D133*EF!$M$4+E133*EF!$M$5)*'IRON & STEEL PRODUCTS'!$I$54/1000),\"\")","v":""},{"$f":"IF(A133<>\"\",IF('IRON & STEEL PRODUCTS'!$J$34=1,N133*(C133+D133*EF!$M$4+E133*EF!$M$5)*'IRON & STEEL PRODUCTS'!$J$57/1000,N133*(C133+D133*EF!$M$4+E133*EF!$M$5)*'IRON & STEEL PRODUCTS'!$J$54/1000),\"\")","v":""},{"$f":"IF(A133<>\"\",IF('IRON & STEEL PRODUCTS'!$K$34=1,O133*(C133+D133*EF!$M$4+E133*EF!$M$5)*'IRON & STEEL PRODUCTS'!$K$57/1000,O133*(C133+D133*EF!$M$4+E133*EF!$M$5)*'IRON & STEEL PRODUCTS'!$K$54/1000),\"\")","v":""},{"$f":"IF(A133<>\"\",IF('IRON & STEEL PRODUCTS'!$L$34=1,P133*(C133+D133*EF!$M$4+E133*EF!$M$5)*'IRON & STEEL PRODUCTS'!$L$57/1000,P133*(C133+D133*EF!$M$4+E133*EF!$M$5)*'IRON & STEEL PRODUCTS'!$L$54/1000),\"\")","v":""},{"$f":"IF(A133<>\"\",IF('IRON & STEEL PRODUCTS'!$M$34=1,Q133*(C133+D133*EF!$M$4+E133*EF!$M$5)*'IRON & STEEL PRODUCTS'!$M$57/1000,Q133*(C133+D133*EF!$M$4+E133*EF!$M$5)*'IRON & STEEL PRODUCTS'!$M$54/1000),\"\")","v":""},{"$f":"IF(A133<>\"\",IF('IRON & STEEL PRODUCTS'!$N$34=1,R133*(C133+D133*EF!$M$4+E133*EF!$M$5)*'IRON & STEEL PRODUCTS'!$N$57/1000,R133*(C133+D133*EF!$M$4+E133*EF!$M$5)*'IRON & STEEL PRODUCTS'!$N$54/1000),\"\")","v":""},0]
[null,null,null,null,null,"Fuel consumption",null,null,null,null,null,null,null,null,null,null,null,null,0]
[null,null,null,null,null,"Emission (tons CO2eq)",{"$f":"IF(A135<>\"\",IF('IRON & STEEL PRODUCTS'!$C$34=1,G135*(C135+D135*EF!$M$4+E135*EF!$M$5)*'IRON & STEEL PRODUCTS'!$C$57/1000,G135*(C135+D135*EF!$M$4+E135*EF!$M$5)*'IRON & STEEL PRODUCTS'!$C$54/1000),\"\")","v":""},{"$f":"IF(A135<>\"\",IF('IRON & STEEL PRODUCTS'!$D$34=1,H135*(C135+D135*EF!$M$4+E135*EF!$M$5)*'IRON & STEEL PRODUCTS'!$D$57/1000,H135*(C135+D135*EF!$M$4+E135*EF!$M$5)*'IRON & STEEL PRODUCTS'!$D$54/1000),\"\")","v":""},{"$f":"IF(A135<>\"\",IF('IRON & STEEL PRODUCTS'!$E$34=1,I135*(C135+D135*EF!$M$4+E135*EF!$M$5)*'IRON & STEEL PRODUCTS'!$E$57/1000,I135*(C135+D135*EF!$M$4+E135*EF!$M$5)*'IRON & STEEL PRODUCTS'!$E$54/1000),\"\")","v":""},{"$f":"IF(A135<>\"\",IF('IRON & STEEL PRODUCTS'!$F$34=1,J135*(C135+D135*EF!$M$4+E135*EF!$M$5)*'IRON & STEEL PRODUCTS'!$F$57/1000,J135*(C135+D135*EF!$M$4+E135*EF!$M$5)*'IRON & STEEL PRODUCTS'!$F$54/1000),\"\")","v":""},{"$f":"IF(A135<>\"\",IF('IRON & STEEL PRODUCTS'!$G$34=1,K135*(C135+D135*EF!$M$4+E135*EF!$M$5)*'IRON & STEEL PRODUCTS'!$G$57/1000,K135*(C135+D135*EF!$M$4+E135*EF!$M$5)*'IRON & STEEL PRODUCTS'!$G$54/1000),\"\")","v":""},{"$f":"IF(A135<>\"\",IF('IRON & STEEL PRODUCTS'!$H$34=1,L135*(C135+D135*EF!$M$4+E135*EF!$M$5)*'IRON & STEEL PRODUCTS'!$H$57/1000,L135*(C135+D135*EF!$M$4+E135*EF!$M$5)*'IRON & STEEL PRODUCTS'!$H$54/1000),\"\")","v":""},{"$f":"IF(A135<>\"\",IF('IRON & STEEL PRODUCTS'!$I$34=1,M135*(C135+D135*EF!$M$4+E135*EF!$M$5)*'IRON & STEEL PRODUCTS'!$I$57/1000,M135*(C135+D135*EF!$M$4+E135*EF!$M$5)*'IRON & STEEL PRODUCTS'!$I$54/1000),\"\")","v":""},{"$f":"IF(A135<>\"\",IF('IRON & STEEL PRODUCTS'!$J$34=1,N135*(C135+D135*EF!$M$4+E135*EF!$M$5)*'IRON & STEEL PRODUCTS'!$J$57/1000,N135*(C135+D135*EF!$M$4+E135*EF!$M$5)*'IRON & STEEL PRODUCTS'!$J$54/1000),\"\")","v":""},{"$f":"IF(A135<>\"\",IF('IRON & STEEL PRODUCTS'!$K$34=1,O135*(C135+D135*EF!$M$4+E135*EF!$M$5)*'IRON & STEEL PRODUCTS'!$K$57/1000,O135*(C135+D135*EF!$M$4+E135*EF!$M$5)*'IRON & STEEL PRODUCTS'!$K$54/1000),\"\")","v":""},{"$f":"IF(A135<>\"\",IF('IRON & STEEL PRODUCTS'!$L$34=1,P135*(C135+D135*EF!$M$4+E135*EF!$M$5)*'IRON & STEEL PRODUCTS'!$L$57/1000,P135*(C135+D135*EF!$M$4+E135*EF!$M$5)*'IRON & STEEL PRODUCTS'!$L$54/1000),\"\")","v":""},{"$f":"IF(A135<>\"\",IF('IRON & STEEL PRODUCTS'!$M$34=1,Q135*(C135+D135*EF!$M$4+E135*EF!$M$5)*'IRON & STEEL PRODUCTS'!$M$57/1000,Q135*(C135+D135*EF!$M$4+E135*EF!$M$5)*'IRON & STEEL PRODUCTS'!$M$54/1000),\"\")","v":""},{"$f":"IF(A135<>\"\",IF('IRON & STEEL PRODUCTS'!$N$34=1,R135*(C135+D135*EF!$M$4+E135*EF!$M$5)*'IRON & STEEL PRODUCTS'!$N$57/1000,R135*(C135+D135*EF!$M$4+E135*EF!$M$5)*'IRON & STEEL PRODUCTS'!$N$54/1000),\"\")","v":""},0]
[null,null,null,null,null,"Fuel consumption",null,null,null,null,null,null,null,null,null,null,null,null,0]
[null,null,null,null,null,"Emission (tons CO2eq)",{"$f":"IF(A137<>\"\",IF('IRON & STEEL PRODUCTS'!$C$34=1,G137*(C137+D137*EF!$M$4+E137*EF!$M$5)*'IRON & STEEL PRODUCTS'!$C$57/1000,G137*(C137+D137*EF!$M$4+E137*EF!$M$5)*'IRON & STEEL PRODUCTS'!$C$54/1000),\"\")","v":""},{"$f":"IF(A137<>\"\",IF('IRON & STEEL PRODUCTS'!$D$34=1,H137*(C137+D137*EF!$M$4+E137*EF!$M$5)*'IRON & STEEL PRODUCTS'!$D$57/1000,H137*(C137+D137*EF!$M$4+E137*EF!$M$5)*'IRON & STEEL PRODUCTS'!$D$54/1000),\"\")","v":""},{"$f":"IF(A137<>\"\",IF('IRON & STEEL PRODUCTS'!$E$34=1,I137*(C137+D137*EF!$M$4+E137*EF!$M$5)*'IRON & STEEL PRODUCTS'!$E$57/1000,I137*(C137+D137*EF!$M$4+E137*EF!$M$5)*'IRON & STEEL PRODUCTS'!$E$54/1000),\"\")","v":""},{"$f":"IF(A137<>\"\",IF('IRON & STEEL PRODUCTS'!$F$34=1,J137*(C137+D137*EF!$M$4+E137*EF!$M$5)*'IRON & STEEL PRODUCTS'!$F$57/1000,J137*(C137+D137*EF!$M$4+E137*EF!$M$5)*'IRON & STEEL PRODUCTS'!$F$54/1000),\"\")","v":""},{"$f":"IF(A137<>\"\",IF('IRON & STEEL PRODUCTS'!$G$34=1,K137*(C137+D137*EF!$M$4+E137*EF!$M$5)*'IRON & STEEL PRODUCTS'!$G$57/1000,K137*(C137+D137*EF!$M$4+E137*EF!$M$5)*'IRON & STEEL PRODUCTS'!$G$54/1000),\"\")","v":""},{"$f":"IF(A137<>\"\",IF('IRON & STEEL PRODUCTS'!$H$34=1,L137*(C137+D137*EF!$M$4+E137*EF!$M$5)*'IRON & STEEL PRODUCTS'!$H$57/1000,L137*(C137+D137*EF!$M$4+E137*EF!$M$5)*'IRON & STEEL PRODUCTS'!$H$54/1000),\"\")","v":""},{"$f":"IF(A137<>\"\",IF('IRON & STEEL PRODUCTS'!$I$34=1,M137*(C137+D137*EF!$M$4+E137*EF!$M$5)*'IRON & STEEL PRODUCTS'!$I$57/1000,M137*(C137+D137*EF!$M$4+E137*EF!$M$5)*'IRON & STEEL PRODUCTS'!$I$54/1000),\"\")","v":""},{"$f":"IF(A137<>\"\",IF('IRON & STEEL PRODUCTS'!$J$34=1,N137*(C137+D137*EF!$M$4+E137*EF!$M$5)*'IRON & STEEL PRODUCTS'!$J$57/1000,N137*(C137+D137*EF!$M$4+E137*EF!$M$5)*'IRON & STEEL PRODUCTS'!$J$54/1000),\"\")","v":""},{"$f":"IF(A137<>\"\",IF('IRON & STEEL PRODUCTS'!$K$34=1,O137*(C137+D137*EF!$M$4+E137*EF!$M$5)*'IRON & STEEL PRODUCTS'!$K$57/1000,O137*(C137+D137*EF!$M$4+E137*EF!$M$5)*'IRON & STEEL PRODUCTS'!$K$54/1000),\"\")","v":""},{"$f":"IF(A137<>\"\",IF('IRON & STEEL PRODUCTS'!$L$34=1,P137*(C137+D137*EF!$M$4+E137*EF!$M$5)*'IRON & STEEL PRODUCTS'!$L$57/1000,P137*(C137+D137*EF!$M$4+E137*EF!$M$5)*'IRON & STEEL PRODUCTS'!$L$54/1000),\"\")","v":""},{"$f":"IF(A137<>\"\",IF('IRON & STEEL PRODUCTS'!$M$34=1,Q137*(C137+D137*EF!$M$4+E137*EF!$M$5)*'IRON & STEEL PRODUCTS'!$M$57/1000,Q137*(C137+D137*EF!$M$4+E137*EF!$M$5)*'IRON & STEEL PRODUCTS'!$M$54/1000),\"\")","v":""},{"$f":"IF(A137<>\"\",IF('IRON & STEEL PRODUCTS'!$N$34=1,R137*(C137+D137*EF!$M$4+E137*EF!$M$5)*'IRON & STEEL PRODUCTS'!$N$57/1000,R137*(C137+D137*EF!$M$4+E137*EF!$M$5)*'IRON & STEEL PRODUCTS'!$N$54/1000),\"\")","v":""},0]
[null,null,null,null,null,"Fuel consumption",null,null,null,null,null,null,null,null,null,null,null,null,0]
[null,null,null,null,null,"Emission (tons CO2eq)",{"$f":"IF(A139<>\"\",IF('IRON & STEEL PRODUCTS'!$C$34=1,G139*(C139+D139*EF!$M$4+E139*EF!$M$5)*'IRON & STEEL PRODUCTS'!$C$57/1000,G139*(C139+D139*EF!$M$4+E139*EF!$M$5)*'IRON & STEEL PRODUCTS'!$C$54/1000),\"\")","v":""},{"$f":"IF(A139<>\"\",IF('IRON & STEEL PRODUCTS'!$D$34=1,H139*(C139+D139*EF!$M$4+E139*EF!$M$5)*'IRON & STEEL PRODUCTS'!$D$57/1000,H139*(C139+D139*EF!$M$4+E139*EF!$M$5)*'IRON & STEEL PRODUCTS'!$D$54/1000),\"\")","v":""},{"$f":"IF(A139<>\"\",IF('IRON & STEEL PRODUCTS'!$E$34=1,I139*(C139+D139*EF!$M$4+E139*EF!$M$5)*'IRON & STEEL PRODUCTS'!$E$57/1000,I139*(C139+D139*EF!$M$4+E139*EF!$M$5)*'IRON & STEEL PRODUCTS'!$E$54/1000),\"\")","v":""},{"$f":"IF(A139<>\"\",IF('IRON & STEEL PRODUCTS'!$F$34=1,J139*(C139+D139*EF!$M$4+E139*EF!$M$5)*'IRON & STEEL PRODUCTS'!$F$57/1000,J139*(C139+D139*EF!$M$4+E139*EF!$M$5)*'IRON & STEEL PRODUCTS'!$F$54/1000),\"\")","v":""},{"$f":"IF(A139<>\"\",IF('IRON & STEEL PRODUCTS'!$G$34=1,K139*(C139+D139*EF!$M$4+E139*EF!$M$5)*'IRON & STEEL PRODUCTS'!$G$57/1000,K139*(C139+D139*EF!$M$4+E139*EF!$M$5)*'IRON & STEEL PRODUCTS'!$G$54/1000),\"\")","v":""},{"$f":"IF(A139<>\"\",IF('IRON & STEEL PRODUCTS'!$H$34=1,L139*(C139+D139*EF!$M$4+E139*EF!$M$5)*'IRON & STEEL PRODUCTS'!$H$57/1000,L139*(C139+D139*EF!$M$4+E139*EF!$M$5)*'IRON & STEEL PRODUCTS'!$H$54/1000),\"\")","v":""},{"$f":"IF(A139<>\"\",IF('IRON & STEEL PRODUCTS'!$I$34=1,M139*(C139+D139*EF!$M$4+E139*EF!$M$5)*'IRON & STEEL PRODUCTS'!$I$57/1000,M139*(C139+D139*EF!$M$4+E139*EF!$M$5)*'IRON & STEEL PRODUCTS'!$I$54/1000),\"\")","v":""},{"$f":"IF(A139<>\"\",IF('IRON & STEEL PRODUCTS'!$J$34=1,N139*(C139+D139*EF!$M$4+E139*EF!$M$5)*'IRON & STEEL PRODUCTS'!$J$57/1000,N139*(C139+D139*EF!$M$4+E139*EF!$M$5)*'IRON & STEEL PRODUCTS'!$J$54/1000),\"\")","v":""},{"$f":"IF(A139<>\"\",IF('IRON & STEEL PRODUCTS'!$K$34=1,O139*(C139+D139*EF!$M$4+E139*EF!$M$5)*'IRON & STEEL PRODUCTS'!$K$57/1000,O139*(C139+D139*EF!$M$4+E139*EF!$M$5)*'IRON & STEEL PRODUCTS'!$K$54/1000),\"\")","v":""},{"$f":"IF(A139<>\"\",IF('IRON & STEEL PRODUCTS'!$L$34=1,P139*(C139+D139*EF!$M$4+E139*EF!$M$5)*'IRON & STEEL PRODUCTS'!$L$57/1000,P139*(C139+D139*EF!$M$4+E139*EF!$M$5)*'IRON & STEEL PRODUCTS'!$L$54/1000),\"\")","v":""},{"$f":"IF(A139<>\"\",IF('IRON & STEEL PRODUCTS'!$M$34=1,Q139*(C139+D139*EF!$M$4+E139*EF!$M$5)*'IRON & STEEL PRODUCTS'!$M$57/1000,Q139*(C139+D139*EF!$M$4+E139*EF!$M$5)*'IRON & STEEL PRODUCTS'!$M$54/1000),\"\")","v":""},{"$f":"IF(A139<>\"\",IF('IRON & STEEL PRODUCTS'!$N$34=1,R139*(C139+D139*EF!$M$4+E139*EF!$M$5)*'IRON & STEEL PRODUCTS'!$N$57/1000,R139*(C139+D139*EF!$M$4+E139*EF!$M$5)*'IRON & STEEL PRODUCTS'!$N$54/1000),\"\")","v":""},0]
[]
["Total (tons CO2eq)",null,null,null,null,null,{"$f":"SUMIF($F$131:$F$141,$F$140,G131:G141)","v":0},0,0,0,0,0,0,0,0,0,0,0,0]

{"sheet":"IRON & STEEL PHASE 3","index":20,"n_rows":28,"n_cols":19,"rows_kept":28,"cut":false,"hidden":true,"merged":[[1,0,1,19],[12,0,13,0],[12,1,13,1],[12,2,13,2],[12,3,13,3],[12,4,13,4],[12,5,13,5],[12,6,12,17],[12,18,13,18],[14,0,15,0],[14,1,15,1],[14,2,15,2],[14,3,15,3],[14,4,15,4],[16,0,17,0],[16,1,17,1],[16,2,17,2],[16,3,17,3],[16,4,17,4],[18,0,19,0],[18,1,19,1],[18,2,19,2],[18,3,19,3],[18,4,19,4],[20,0,21,0],[20,1,21,1],[20,2,21,2],[20,3,21,3],[20,4,21,4],[22,0,23,0],[22,1,23,1],[22,2,23,2],[22,3,23,3],[22,4,23,4],[24,0,25,0],[24,2,25,2],[24,3,25,3],[24,4,25,4],[27,0,27,5],[24,1,25,1]]}
[]
["PHASE 3 INPUT DATA: DISTRIBUTION AND RETAIL"]
[]
[]
[]
[]
[]
[]
[]
[]
[]
[]
["Transportation","Size","EF CO2 \n(kg CO2/ton.km)","EF CH4 \n(kg CO4/ton.km)","EF N2O (kg N2O/ton.km)",null,"Product transport distance and emissions",null,null,null,null,null,null,null,null,null,null,null,"Tổng"]
[null,null,null,null,null,null,"Jan","Feb","March","April","May","June","July","Aug","Sep","Oct","Nov","Dec"]
[null,null,{"$f":"IF(AND(A15<>\"\",B15<>\"\"),VLOOKUP(A15&B15,EF!$A$171:$F$245,4,0),\"\")","v":""},{"$f":"IF(AND(A15<>\"\",B15<>\"\"),VLOOKUP(A15&B15,EF!$A$171:$F$245,5,0),\"\")","v":""},{"$f":"IF(AND(A15<>\"\",B15<>\"\"),VLOOKUP(A15&B15,EF!$A$171:$F$245,6,0),\"\")","v":""},"Distance traveled by product (tons.km)",null,null,null,null,null,null,null,null,null,null,null,null,{"$f":"SUM(G15:R15)","v":0}]
[null,null,null,null,null,"Emission (tons CO2eq)",{"$f":"IF(A15<>\"\",G15*(C15+D15*EF!$M$4+EF!$M$5*E15)/1000,0)","v":0},{"$f":"IF(A15<>\"\",H15*(C15+D15*EF!$M$4+EF!$M$5*E15)/1000,0)","v":0},{"$f":"IF(A15<>\"\",I15*(C15+D15*EF!$M$4+EF!$M$5*E15)/1000,0)","v":0},{"$f":"IF(A15<>\"\",J15*(C15+D15*EF!$M$4+EF!$M$5*E15)/1000,0)","v":0},{"$f":"IF(A15<>\"\",K15*(C15+D15*EF!$M$4+EF!$M$5*E15)/1000,0)","v":0},{"$f":"IF(A15<>\"\",L15*(C15+D15*EF!$M$4+EF!$M$5*E15)/1000,0)","v":0},{"$f":"IF(A15<>\"\",M15*(C15+D15*EF!$M$4+EF!$M$5*E15)/1000,0)","v":0},{"$f":"IF(A15<>\"\",N15*(C15+D15*EF!$M$4+EF!$M$5*E15)/1000,0)","v":0},{"$f":"IF(A15<>\"\",O15*(C15+D15*EF!$M$4+EF!$M$5*E15)/1000,0)","v":0},{"$f":"IF(A15<>\"\",P15*(C15+D15*EF!$M$4+EF!$M$5*E15)/1000,0)","v":0},{"$f":"IF(A15<>\"\",Q15*(C15+D15*EF!$M$4+EF!$M$5*E15)/1000,0)","v":0},{"$f":"IF(A15<>\"\",R15*(C15+D15*EF!$M$4+EF!$M$5*E15)/1000,0)","v":0},0]
[null,null,{"$f":"IF(AND(A17<>\"\",B17<>\"\"),VLOOKUP(A17&B17,EF!$A$171:$F$245,4,0),\"\")","v":""},{"$f":"IF(AND(A17<>\"\",B17<>\"\"),VLOOKUP(A17&B17,EF!$A$171:$F$245,5,0),\"\")","v":""},{"$f":"IF(AND(A17<>\"\",B17<>\"\"),VLOOKUP(A17&B17,EF!$A$171:$F$245,6,0),\"\")","v":""},"Distance traveled by product (tons.km)",null,null,null,null,null,null,null,null,null,null,null,null,0]
[null,null,null,null,null,"Emission (tons CO2eq)",{"$f":"IF(A17<>\"\",G17*(C17+D17*EF!$M$4+EF!$M$5*E17)/1000,0)","v":0},{"$f":"IF(A17<>\"\",H17*(C17+D17*EF!$M$4+EF!$M$5*E17)/1000,0)","v":0},{"$f":"IF(A17<>\"\",I17*(C17+D17*EF!$M$4+EF!$M$5*E17)/1000,0)","v":0},{"$f":"IF(A17<>\"\",J17*(C17+D17*EF!$M$4+EF!$M$5*E17)/1000,0)","v":0},{"$f":"IF(A17<>\"\",K17*(C17+D17*EF!$M$4+EF!$M$5*E17)/1000,0)","v":0},{"$f":"IF(A17<>\"\",L17*(C17+D17*EF!$M$4+EF!$M$5*E17)/1000,0)","v":0},{"$f":"IF(A17<>\"\",M17*(C17+D17*EF!$M$4+EF!$M$5*E17)/1000,0)","v":0},{"$f":"IF(A17<>\"\",N17*(C17+D17*EF!$M$4+EF!$M$5*E17)/1000,0)","v":0},{"$f":"IF(A17<>\"\",O17*(C17+D17*EF!$M$4+EF!$M$5*E17)/1000,0)","v":0},{"$f":"IF(A17<>\"\",P17*(C17+D17*EF!$M$4+EF!$M$5*E17)/1000,0)","v":0},{"$f":"IF(A17<>\"\",Q17*(C17+D17*EF!$M$4+EF!$M$5*E17)/1000,0)","v":0},{"$f":"IF(A17<>\"\",R17*(C17+D17*EF!$M$4+EF!$M$5*E17)/1000,0)","v":0},0]
[null,null,{"$f":"IF(AND(A19<>\"\",B19<>\"\"),VLOOKUP(A19&B19,EF!$A$171:$F$245,4,0),\"\")","v":""},{"$f":"IF(AND(A19<>\"\",B19<>\"\"),VLOOKUP(A19&B19,EF!$A$171:$F$245,5,0),\"\")","v":""},{"$f":"IF(AND(A19<>\"\",B19<>\"\"),VLOOKUP(A19&B19,EF!$A$171:$F$245,6,0),\"\")","v":""},"Distance traveled by product (tons.km)",null,null,null,null,null,null,null,null,null,null,null,null,0]
[null,null,null,null,null,"Emission (tons CO2eq)",{"$f":"IF(A19<>\"\",G19*(C19+D19*EF!$M$4+EF!$M$5*E19)/1000,0)","v":0},{"$f":"IF(A19<>\"\",H19*(C19+D19*EF!$M$4+EF!$M$5*E19)/1000,0)","v":0},{"$f":"IF(A19<>\"\",I19*(C19+D19*EF!$M$4+EF!$M$5*E19)/1000,0)","v":0},{"$f":"IF(A19<>\"\",J19*(C19+D19*EF!$M$4+EF!$M$5*E19)/1000,0)","v":0},{"$f":"IF(A19<>\"\",K19*(C19+D19*EF!$M$4+EF!$M$5*E19)/1000,0)","v":0},{"$f":"IF(A19<>\"\",L19*(C19+D19*EF!$M$4+EF!$M$5*E19)/1000,0)","v":0},{"$f":"IF(A19<>\"\",M19*(C19+D19*EF!$M$4+EF!$M$5*E19)/1000,0)","v":0},{"$f":"IF(A19<>\"\",N19*(C19+D19*EF!$M$4+EF!$M$5*E19)/1000,0)","v":0},{"$f":"IF(A19<>\"\",O19*(C19+D19*EF!$M$4+EF!$M$5*E19)/1000,0)","v":0},{"$f":"IF(A19<>\"\",P19*(C19+D19*EF!$M$4+EF!$M$5*E19)/1000,0)","v":0},{"$f":"IF(A19<>\"\",Q19*(C19+D19*EF!$M$4+EF!$M$5*E19)/1000,0)","v":0},{"$f":"IF(A19<>\"\",R19*(C19+D19*EF!$M$4+EF!$M$5*E19)/1000,0)","v":0},0]
[null,null,{"$f":"IF(AND(A21<>\"\",B21<>\"\"),VLOOKUP(A21&B21,EF!$A$171:$F$245,4,0),\"\")","v":""},{"$f":"IF(AND(A21<>\"\",B21<>\"\"),VLOOKUP(A21&B21,EF!$A$171:$F$245,5,0),\"\")","v":""},{"$f":"IF(AND(A21<>\"\",B21<>\"\"),VLOOKUP(A21&B21,EF!$A$171:$F$245,6,0),\"\")","v":""},"Distance traveled by product (tons.km)",null,null,null,null,null,null,null,null,null,null,null,null,0]
[null,null,null,null,null,"Emission (tons CO2eq)",{"$f":"IF(A21<>\"\",G21*(C21+D21*EF!$M$4+EF!$M$5*E21)/1000,0)","v":0},{"$f":"IF(A21<>\"\",H21*(C21+D21*EF!$M$4+EF!$M$5*E21)/1000,0)","v":0},{"$f":"IF(A21<>\"\",I21*(C21+D21*EF!$M$4+EF!$M$5*E21)/1000,0)","v":0},{"$f":"IF(A21<>\"\",J21*(C21+D21*EF!$M$4+EF!$M$5*E21)/1000,0)","v":0},{"$f":"IF(A21<>\"\",K21*(C21+D21*EF!$M$4+EF!$M$5*E21)/1000,0)","v":0},{"$f":"IF(A21<>\"\",L21*(C21+D21*EF!$M$4+EF!$M$5*E21)/1000,0)","v":0},{"$f":"IF(A21<>\"\",M21*(C21+D21*EF!$M$4+EF!$M$5*E21)/1000,0)","v":0},{"$f":"IF(A21<>\"\",N21*(C21+D21*EF!$M$4+EF!$M$5*E21)/1000,0)","v":0},{"$f":"IF(A21<>\"\",O21*(C21+D21*EF!$M$4+EF!$M$5*E21)/1000,0)","v":0},{"$f":"IF(A21<>\"\",P21*(C21+D21*EF!$M$4+EF!$M$5*E21)/1000,0)","v":0},{"$f":"IF(A21<>\"\",Q21*(C21+D21*EF!$M$4+EF!$M$5*E21)/1000,0)","v":0},{"$f":"IF(A21<>\"\",R21*(C21+D21*EF!$M$4+EF!$M$5*E21)/1000,0)","v":0},0]
[null,null,{"$f":"IF(AND(A23<>\"\",B23<>\"\"),VLOOKUP(A23&B23,EF!$A$171:$F$245,4,0),\"\")","v":""},{"$f":"IF(AND(A23<>\"\",B23<>\"\"),VLOOKUP(A23&B23,EF!$A$171:$F$245,5,0),\"\")","v":""},{"$f":"IF(AND(A23<>\"\",B23<>\"\"),VLOOKUP(A23&B23,EF!$A$171:$F$245,6,0),\"\")","v":""},"Distance traveled by product (tons.km)",null,null,null,null,null,null,null,null,null,null,null,null,0]
[null,null,null,null,null,"Emission (tons CO2eq)",{"$f":"IF(A23<>\"\",G23*(C23+D23*EF!$M$4+EF!$M$5*E23)/1000,0)","v":0},{"$f":"IF(A23<>\"\",H23*(C23+D23*EF!$M$4+EF!$M$5*E23)/1000,0)","v":0},{"$f":"IF(A23<>\"\",I23*(C23+D23*EF!$M$4+EF!$M$5*E23)/1000,0)","v":0},{"$f":"IF(A23<>\"\",J23*(C23+D23*EF!$M$4+EF!$M$5*E23)/1000,0)","v":0},{"$f":"IF(A23<>\"\",K23*(C23+D23*EF!$M$4+EF!$M$5*E23)/1000,0)","v":0},{"$f":"IF(A23<>\"\",L23*(C23+D23*EF!$M$4+EF!$M$5*E23)/1000,0)","v":0},{"$f":"IF(A23<>\"\",M23*(C23+D23*EF!$M$4+EF!$M$5*E23)/1000,0)","v":0},{"$f":"IF(A23<>\"\",N23*(C23+D23*EF!$M$4+EF!$M$5*E23)/1000,0)","v":0},{"$f":"IF(A23<>\"\",O23*(C23+D23*EF!$M$4+EF!$M$5*E23)/1000,0)","v":0},{"$f":"IF(A23<>\"\",P23*(C23+D23*EF!$M$4+EF!$M$5*E23)/1000,0)","v":0},{"$f":"IF(A23<>\"\",Q23*(C23+D23*EF!$M$4+EF!$M$5*E23)/1000,0)","v":0},{"$f":"IF(A23<>\"\",R23*(C23+D23*EF!$M$4+EF!$M$5*E23)/1000,0)","v":0},0]
[null,null,{"$f":"IF(AND(A25<>\"\",B25<>\"\"),VLOOKUP(A25&B25,EF!$A$171:$F$245,4,0),\"\")","v":""},{"$f":"IF(AND(A25<>\"\",B25<>\"\"),VLOOKUP(A25&B25,EF!$A$171:$F$245,5,0),\"\")","v":""},{"$f":"IF(AND(A25<>\"\",B25<>\"\"),VLOOKUP(A25&B25,EF!$A$171:$F$245,6,0),\"\")","v":""},"Distance traveled by product (tons.km)",null,null,null,null,null,null,null,null,null,null,null,null,0]
[null,null,null,null,null,"Emission (tons CO2eq)",{"$f":"IF(A25<>\"\",G25*(C25+D25*EF!$M$4+EF!$M$5*E25)/1000,0)","v":0},{"$f":"IF(A25<>\"\",H25*(C25+D25*EF!$M$4+EF!$M$5*E25)/1000,0)","v":0},{"$f":"IF(A25<>\"\",I25*(C25+D25*EF!$M$4+EF!$M$5*E25)/1000,0)","v":0},{"$f":"IF(A25<>\"\",J25*(C25+D25*EF!$M$4+EF!$M$5*E25)/1000,0)","v":0},{"$f":"IF(A25<>\"\",K25*(C25+D25*EF!$M$4+EF!$M$5*E25)/1000,0)","v":0},{"$f":"IF(A25<>\"\",L25*(C25+D25*EF!$M$4+EF!$M$5*E25)/1000,0)","v":0},{"$f":"IF(A25<>\"\",M25*(C25+D25*EF!$M$4+EF!$M$5*E25)/1000,0)","v":0},{"$f":"IF(A25<>\"\",N25*(C25+D25*EF!$M$4+EF!$M$5*E25)/1000,0)","v":0},{"$f":"IF(A25<>\"\",O25*(C25+D25*EF!$M$4+EF!$M$5*E25)/1000,0)","v":0},{"$f":"IF(A25<>\"\",P25*(C25+D25*EF!$M$4+EF!$M$5*E25)/1000,0)","v":0},{"$f":"IF(A25<>\"\",Q25*(C25+D25*EF!$M$4+EF!$M$5*E25)/1000,0)","v":0},{"$f":"IF(A25<>\"\",R25*(C25+D25*EF!$M$4+EF!$M$5*E25)/1000,0)","v":0},0]
[null,null,null,null,null,null,null,null,null,null,null,null,null,null,null,null,null,null,0]
["Total Emission (tons CO2eq)",null,null,null,null,null,{"$f":"SUMIF($F$15:$F$27,$F$16,G15:G27)","v":0},{"$f":"SUMIF($F$15:$F$27,$F$16,H15:H27)","v":0},0,0,0,0,0,0,0,0,0,0,{"$f":"SUMIF($F$12:$F$24,$F$13,S15:S27)","v":0}]

{"sheet":"IRON & STEEL PHASE 4","index":21,"n_rows":33,"n_cols":18,"rows_kept":33,"cut":false,"hidden":true,"merged":[[24,1,25,1],[24,2,24,13],[24,14,25,14],[1,0,1,19],[11,1,12,1],[11,3,12,3],[11,4,12,4],[11,5,11,16],[11,17,12,17],[11,2,12,2],[19,1,19,4]]}
[]
["PHASE 4 INPUT DATA: PRODUCT USE"]
[]
[]
[]
[]
[]
[]
[]
[]
[]
[null,"Nguyên, vật liệu","Mô tả","Đơn vị","Hệ số phát thải (tCO2tđ/đơn vị)","Số lượng nguyên/vật liệu sử dụng",null,null,null,null,null,null,null,null,null,null,null,"Tổng"]
[null,null,null,null,null,"Tháng 1","Tháng 2","Tháng 3","Tháng 4","Tháng 5","Tháng 6","Tháng 7","Tháng 8","Tháng 9","Tháng 10","Tháng 11","Tháng 12"]
[null,null,null,null,null,null,null,null,null,null,null,null,null,null,null,null,null,{"$f":"SUM(F14:Q14)","v":0}]
[null,null,null,null,null,null,null,null,null,null,null,null,null,null,null,null,null,{"$f":"SUM(F15:Q15)","v":0}]
[null,null,null,null,null,null,null,null,null,null,null,null,null,null,null,null,null,{"$f":"SUM(F16:Q16)","v":0}]
[null,null,null,null,null,null,null,null,null,null,null,null,null,null,null,null,null,{"$f":"SUM(F17:Q17)","v":0}]
[null,null,null,null,null,null,null,null,null,null,null,null,null,null,null,null,null,{"$f":"SUM(F18:Q18)","v":0}]
[]
[null,"Tổng",null,null,null,{"$f":"SUM(F14:F19)","v":0},{"$f":"SUM(G14:G19)","v":0},0,0,0,0,0,0,0,0,0,0,0]
[]
[]
[]
[]
[null,"Vật tư","Phát thải từ giai đoạn 4: Sử dụng sản phẩm (tấn CO2tđ)",null,null,null,null,null,null,null,null,null,null,null,"Tổng"]
[null,null,"Tháng 1","Tháng 2","Tháng 3","Tháng 4","Tháng 5","Tháng 6","Tháng 7","Tháng 8","Tháng 9","Tháng 10","Tháng 11","Tháng 12"]
[null,{"$f":"IF(B14<>\"\",B14,\"\")","v":""},{"$f":"F14*E14","v":0},{"$f":"G14*E14","v":0},{"$f":"H14*E14","v":0},{"$f":"I14*E14","v":0},{"$f":"J14*E14","v":0},{"$f":"K14*E14","v":0},{"$f":"L14*E14","v":0},{"$f":"M14*E14","v":0},{"$f":"N14*E14","v":0},{"$f":"O14*E14","v":0},{"$f":"P14*E14","v":0},{"$f":"Q14*E14","v":0},{"$f":"SUM(C27:N27)","v":0}]
[null,{"$f":"IF(B15<>\"\",B15,\"\")","v":""},{"$f":"F15*E15","v":0},{"$f":"G15*E15","v":0},{"$f":"H15*E15","v":0},{"$f":"I15*E15","v":0},{"$f":"J15*E15","v":0},{"$f":"K15*E15","v":0},{"$f":"L15*E15","v":0},{"$f":"M15*E15","v":0},{"$f":"N15*E15","v":0},{"$f":"O15*E15","v":0},{"$f":"P15*E15","v":0},{"$f":"Q15*E15","v":0},{"$f":"SUM(C28:N28)","v":0}]
[null,{"$f":"IF(B16<>\"\",B16,\"\")","v":""},{"$f":"F16*E16","v":0},{"$f":"G16*E16","v":0},{"$f":"H16*E16","v":0},{"$f":"I16*E16","v":0},{"$f":"J16*E16","v":0},{"$f":"K16*E16","v":0},{"$f":"L16*E16","v":0},{"$f":"M16*E16","v":0},{"$f":"N16*E16","v":0},{"$f":"O16*E16","v":0},{"$f":"P16*E16","v":0},{"$f":"Q16*E16","v":0},{"$f":"SUM(C29:N29)","v":0}]
[null,{"$f":"IF(B17<>\"\",B17,\"\")","v":""},{"$f":"F17*E17","v":0},{"$f":"G17*E17","v":0},{"$f":"H17*E17","v":0},{"$f":"I17*E17","v":0},{"$f":"J17*E17","v":0},{"$f":"K17*E17","v":0},{"$f":"L17*E17","v":0},{"$f":"M17*E17","v":0},{"$f":"N17*E17","v":0},{"$f":"O17*E17","v":0},{"$f":"P17*E17","v":0},{"$f":"Q17*E17","v":0},{"$f":"SUM(C30:N30)","v":0}]
[null,{"$f":"IF(B18<>\"\",B18,\"\")","v":""},{"$f":"F18*E18","v":0},{"$f":"G18*E18","v":0},{"$f":"H18*E18","v":0},{"$f":"I18*E18","v":0},{"$f":"J18*E18","v":0},{"$f":"K18*E18","v":0},{"$f":"L18*E18","v":0},{"$f":"M18*E18","v":0},{"$f":"N18*E18","v":0},{"$f":"O18*E18","v":0},{"$f":"P18*E18","v":0},{"$f":"Q18*E18","v":0},{"$f":"SUM(C31:N31)","v":0}]
[]
[null,"Tổng",{"$f":"SUM(C27:C32)","v":0},0,0,0,0,0,0,0,0,0,0,0,0]

{"sheet":"IRON & STEEL PHASE 5","index":22,"n_rows":33,"n_cols":18,"rows_kept":33,"cut":false,"hidden":true,"merged":[[24,1,25,1],[24,2,24,13],[24,14,25,14],[1,0,1,19],[11,1,12,1],[11,3,12,3],[11,4,12,4],[11,5,11,16],[11,17,12,17],[11,2,12,2],[19,1,19,4]]}
[]
["PHASE 5 INPUT DATA: TREATMENT AND RECYCLING"]
[]
[]
[]
[]
[]
[]
[]
[]
[]
[null,"Nguyên, vật liệu","Mô tả","Đơn vị","Hệ số phát thải (tCO2tđ/đơn vị)","Số lượng nguyên/vật liệu sử dụng",null,null,null,null,null,null,null,null,null,null,null,"Tổng"]
[null,null,null,null,null,"Tháng 1","Tháng 2","Tháng 3","Tháng 4","Tháng 5","Tháng 6","Tháng 7","Tháng 8","Tháng 9","Tháng 10","Tháng 11","Tháng 12"]
[null,null,null,null,null,null,null,null,null,null,null,null,null,null,null,null,null,{"$f":"SUM(F14:Q14)","v":0}]
[null,null,null,null,null,null,null,null,null,null,null,null,null,null,null,null,null,{"$f":"SUM(F15:Q15)","v":0}]
[null,null,null,null,null,null,null,null,null,null,null,null,null,null,null,null,null,{"$f":"SUM(F16:Q16)","v":0}]
[null,null,null,null,null,null,null,null,null,null,null,null,null,null,null,null,null,{"$f":"SUM(F17:Q17)","v":0}]
[null,null,null,null,null,null,null,null,null,null,null,null,null,null,null,null,null,{"$f":"SUM(F18:Q18)","v":0}]
[]
[null,"Tổng",null,null,null,{"$f":"SUM(E14:E19)","v":0},0,0,0,0,0,0,0,0,0,0,0,0]
[]
[]
[]
[]
[null,"Vật tư","Phát thải từ giai đoạn 5: Xử lý và tái chế (tấn CO2tđ)",null,null,null,null,null,null,null,null,null,null,null,"Tổng"]
[null,null,"Tháng 1","Tháng 2","Tháng 3","Tháng 4","Tháng 5","Tháng 6","Tháng 7","Tháng 8","Tháng 9","Tháng 10","Tháng 11","Tháng 12"]
[null,{"$f":"IF(B14<>\"\",B14,\"\")","v":""},{"$f":"F14*E14","v":0},{"$f":"G14*E14","v":0},{"$f":"H14*E14","v":0},{"$f":"I14*E14","v":0},{"$f":"J14*E14","v":0},{"$f":"K14*E14","v":0},{"$f":"L14*E14","v":0},{"$f":"M14*E14","v":0},{"$f":"N14*E14","v":0},{"$f":"O14*E14","v":0},{"$f":"P14*E14","v":0},{"$f":"Q14*E14","v":0},{"$f":"SUM(C27:N27)","v":0}]
[null,{"$f":"IF(B15<>\"\",B15,\"\")","v":""},{"$f":"F15*E15","v":0},{"$f":"G15*E15","v":0},{"$f":"H15*E15","v":0},{"$f":"I15*E15","v":0},{"$f":"J15*E15","v":0},{"$f":"K15*E15","v":0},{"$f":"L15*E15","v":0},{"$f":"M15*E15","v":0},{"$f":"N15*E15","v":0},{"$f":"O15*E15","v":0},{"$f":"P15*E15","v":0},{"$f":"Q15*E15","v":0},{"$f":"SUM(C28:N28)","v":0}]
[null,{"$f":"IF(B16<>\"\",B16,\"\")","v":""},{"$f":"F16*E16","v":0},{"$f":"G16*E16","v":0},{"$f":"H16*E16","v":0},{"$f":"I16*E16","v":0},{"$f":"J16*E16","v":0},{"$f":"K16*E16","v":0},{"$f":"L16*E16","v":0},{"$f":"M16*E16","v":0},{"$f":"N16*E16","v":0},{"$f":"O16*E16","v":0},{"$f":"P16*E16","v":0},{"$f":"Q16*E16","v":0},{"$f":"SUM(C29:N29)","v":0}]
[null,{"$f":"IF(B17<>\"\",B17,\"\")","v":""},{"$f":"F17*E17","v":0},{"$f":"G17*E17","v":0},{"$f":"H17*E17","v":0},{"$f":"I17*E17","v":0},{"$f":"J17*E17","v":0},{"$f":"K17*E17","v":0},{"$f":"L17*E17","v":0},{"$f":"M17*E17","v":0},{"$f":"N17*E17","v":0},{"$f":"O17*E17","v":0},{"$f":"P17*E17","v":0},{"$f":"Q17*E17","v":0},{"$f":"SUM(C30:N30)","v":0}]
[null,{"$f":"IF(B18<>\"\",B18,\"\")","v":""},{"$f":"F18*E18","v":0},{"$f":"G18*E18","v":0},{"$f":"H18*E18","v":0},{"$f":"I18*E18","v":0},{"$f":"J18*E18","v":0},{"$f":"K18*E18","v":0},{"$f":"L18*E18","v":0},{"$f":"M18*E18","v":0},{"$f":"N18*E18","v":0},{"$f":"O18*E18","v":0},{"$f":"P18*E18","v":0},{"$f":"Q18*E18","v":0},{"$f":"SUM(C31:N31)","v":0}]
[]
[null,"Tổng",{"$f":"SUM(C27:C32)","v":0},0,0,0,0,0,0,0,0,0,0,0,0]

{"sheet":"IRON & STEEL RESULT","index":23,"n_rows":64,"n_cols":15,"rows_kept":64,"cut":false,"hidden":true,"merged":[[21,14,22,14],[1,0,1,14],[15,2,15,14],[5,2,5,14],[7,2,7,14],[9,2,9,14],[11,2,11,14],[13,2,13,14],[2,1,2,13],[19,0,19,1],[19,2,19,4],[21,0,22,0],[21,1,22,1],[21,2,21,13],[25,0,25,14],[26,12,26,14],[27,0,27,1],[33,1,33,13],[34,12,34,14],[61,8,61,9],[62,8,62,9],[63,8,63,9],[31,0,31,1],[39,0,39,1],[43,0,43,1],[56,8,56,9],[57,8,57,9],[58,8,58,9],[59,8,59,9],[60,8,60,9],[35,0,35,1],[41,0,42,1],[41,2,41,14],[55,8,55,9]]}
[]
["                 RESULTS OF CALCULATION OF PRODUCT'S CARBON FOOTPRINT"]
[null,"REPORT ON PRODUCT CARBON FOOTPRINT CALCULATION RESULTS"]
["A. General information"]
[]
[null,"Company name:",{"$f":"'IRON & STEEL PRODUCTS'!C5:O5","v":0}]
[]
[null,"Sector:",{"$f":"'IRON & STEEL PRODUCTS'!C7:O7","v":0}]
[]
[null,"Address:",{"$f":"'IRON & STEEL PRODUCTS'!C9:O9","v":0}]
[]
[null,"Phone number:",{"$f":"'IRON & STEEL PRODUCTS'!C11:O11","v":0}]
[]
[null,"Email:",{"$f":"'IRON & STEEL PRODUCTS'!C13:O13","v":0}]
[]
[null,"Year:",{"$f":"'IRON & STEEL PRODUCTS'!C15:O15","v":0}]
[]
["B. Carbon footprint calculation results"]
[]
["Product name",null,{"$f":"IF('IRON & STEEL PRODUCTS'!E51<>\"\",'IRON & STEEL PRODUCTS'!E51,\"\")","v":""}]
[]
["Product","Unit","Product output/revenue",null,null,null,null,null,null,null,null,null,null,null,"Total"]
[null,null,"Jan","Feb","March","April","May","June","July","Aug","Sep","Oct","Nov","Dec"]
[{"$f":"IF('IRON & STEEL PRODUCTS'!E51<>\"\",'IRON & STEEL PRODUCTS'!E51,\"\")","v":""},{"$f":"IF(A24<>\"\",VLOOKUP(A24,'IRON & STEEL PRODUCTS'!A27:B34,2,0),\"\")","v":""},{"$f":"IF(C20<>\"\",VLOOKUP($C$20,'IRON & STEEL PRODUCTS'!$A$27:$O$33,3,0),0)","v":0},{"$f":"IF(C20<>\"\",VLOOKUP($C$20,'IRON & STEEL PRODUCTS'!$A$27:$O$33,4,0),0)","v":0},{"$f":"IF(C20<>\"\",VLOOKUP($C$20,'IRON & STEEL PRODUCTS'!$A$27:$O$33,5,0),0)","v":0},{"$f":"IF(C20<>\"\",VLOOKUP($C$20,'IRON & STEEL PRODUCTS'!$A$27:$O$33,6,0),0)","v":0},{"$f":"IF(C20<>\"\",VLOOKUP($C$20,'IRON & STEEL PRODUCTS'!$A$27:$O$33,7,0),0)","v":0},{"$f":"IF(C20<>\"\",VLOOKUP($C$20,'IRON & STEEL PRODUCTS'!$A$27:$O$33,8,0),0)","v":0},{"$f":"IF(C20<>\"\",VLOOKUP($C$20,'IRON & STEEL PRODUCTS'!$A$27:$O$33,9,0),0)","v":0},{"$f":"IF(C20<>\"\",VLOOKUP($C$20,'IRON & STEEL PRODUCTS'!$A$27:$O$33,10,0),0)","v":0},{"$f":"IF(C20<>\"\",VLOOKUP($C$20,'IRON & STEEL PRODUCTS'!$A$27:$O$33,11,0),0)","v":0},{"$f":"IF(C20<>\"\",VLOOKUP($C$20,'IRON & STEEL PRODUCTS'!$A$27:$O$33,12,0),0)","v":0},{"$f":"IF(C20<>\"\",VLOOKUP($C$20,'IRON & STEEL PRODUCTS'!$A$27:$O$33,13,0),0)","v":0},{"$f":"IF(C20<>\"\",VLOOKUP($C$20,'IRON & STEEL PRODUCTS'!$A$27:$O$33,14,0),0)","v":0},{"$f":"SUM(C24:N24)","v":0}]
[]
["EMISSIONS OF PRODUCT LIFE CYCLE PHASES"]
[null,null,null,null,null,null,null,null,null,null,null,null,"Unit: Tons of CO2eq"]
["Stages in the product emissions life cycle",null,"Jan","Feb","March","April","May","June","July","Aug","Sep","Oct","Nov","Dec","Total (tons CO2eq)"]
["Phase 1","Production and transportation of raw materials",{"$f":"'IRON & STEEL PHASE 1'!C33","v":0},{"$f":"'IRON & STEEL PHASE 1'!D33","v":0},{"$f":"'IRON & STEEL PHASE 1'!E33","v":0},{"$f":"'IRON & STEEL PHASE 1'!F33","v":0},{"$f":"'IRON & STEEL PHASE 1'!G33","v":0},{"$f":"'IRON & STEEL PHASE 1'!H33","v":0},{"$f":"'IRON & STEEL PHASE 1'!I33","v":0},{"$f":"'IRON & STEEL PHASE 1'!J33","v":0},{"$f":"'IRON & STEEL PHASE 1'!K33","v":0},{"$f":"'IRON & STEEL PHASE 1'!L33","v":0},{"$f":"'IRON & STEEL PHASE 1'!M33","v":0},{"$f":"'IRON & STEEL PHASE 1'!N33","v":0},{"$f":"SUM(C29:N29)","v":0}]
["Phase 2","Product manufacturing",{"$f":"'IRON & STEEL PHASE 2'!G142+'IRON & STEEL PHASE 2'!C124+'IRON & STEEL PHASE 2'!C111+'IRON & STEEL PHASE 2'!C103+'IRON & STEEL PHASE 2'!G85+'IRON & STEEL PHASE 2'!E64+'IRON & STEEL PHASE 2'!H43+'IRON & STEEL PHASE 2'!H24","v":0},{"$f":"'IRON & STEEL PHASE 2'!H142+'IRON & STEEL PHASE 2'!D124+'IRON & STEEL PHASE 2'!D111+'IRON & STEEL PHASE 2'!D103+'IRON & STEEL PHASE 2'!H85+'IRON & STEEL PHASE 2'!F64+'IRON & STEEL PHASE 2'!I43+'IRON & STEEL PHASE 2'!I24","v":0},{"$f":"'IRON & STEEL PHASE 2'!I142+'IRON & STEEL PHASE 2'!E124+'IRON & STEEL PHASE 2'!E111+'IRON & STEEL PHASE 2'!E103+'IRON & STEEL PHASE 2'!I85+'IRON & STEEL PHASE 2'!G64+'IRON & STEEL PHASE 2'!J43+'IRON & STEEL PHASE 2'!J24","v":0},{"$f":"'IRON & STEEL PHASE 2'!J142+'IRON & STEEL PHASE 2'!F124+'IRON & STEEL PHASE 2'!F111+'IRON & STEEL PHASE 2'!F103+'IRON & STEEL PHASE 2'!J85+'IRON & STEEL PHASE 2'!H64+'IRON & STEEL PHASE 2'!K43+'IRON & STEEL PHASE 2'!K24","v":0},{"$f":"'IRON & STEEL PHASE 2'!K142+'IRON & STEEL PHASE 2'!G124+'IRON & STEEL PHASE 2'!G111+'IRON & STEEL PHASE 2'!G103+'IRON & STEEL PHASE 2'!K85+'IRON & STEEL PHASE 2'!I64+'IRON & STEEL PHASE 2'!L43+'IRON & STEEL PHASE 2'!L24","v":0},{"$f":"'IRON & STEEL PHASE 2'!L142+'IRON & STEEL PHASE 2'!H124+'IRON & STEEL PHASE 2'!H111+'IRON & STEEL PHASE 2'!H103+'IRON & STEEL PHASE 2'!L85+'IRON & STEEL PHASE 2'!J64+'IRON & STEEL PHASE 2'!M43+'IRON & STEEL PHASE 2'!M24","v":0},{"$f":"'IRON & STEEL PHASE 2'!M142+'IRON & STEEL PHASE 2'!I124+'IRON & STEEL PHASE 2'!I111+'IRON & STEEL PHASE 2'!I103+'IRON & STEEL PHASE 2'!M85+'IRON & STEEL PHASE 2'!K64+'IRON & STEEL PHASE 2'!N43+'IRON & STEEL PHASE 2'!N24","v":0},{"$f":"'IRON & STEEL PHASE 2'!N142+'IRON & STEEL PHASE 2'!J124+'IRON & STEEL PHASE 2'!J111+'IRON & STEEL PHASE 2'!J103+'IRON & STEEL PHASE 2'!N85+'IRON & STEEL PHASE 2'!L64+'IRON & STEEL PHASE 2'!O43+'IRON & STEEL PHASE 2'!O24","v":0},{"$f":"'IRON & STEEL PHASE 2'!O142+'IRON & STEEL PHASE 2'!K124+'IRON & STEEL PHASE 2'!K111+'IRON & STEEL PHASE 2'!K103+'IRON & STEEL PHASE 2'!O85+'IRON & STEEL PHASE 2'!M64+'IRON & STEEL PHASE 2'!P43+'IRON & STEEL PHASE 2'!P24","v":0},{"$f":"'IRON & STEEL PHASE 2'!P142+'IRON & STEEL PHASE 2'!L124+'IRON & STEEL PHASE 2'!L111+'IRON & STEEL PHASE 2'!L103+'IRON & STEEL PHASE 2'!P85+'IRON & STEEL PHASE 2'!N64+'IRON & STEEL PHASE 2'!Q43+'IRON & STEEL PHASE 2'!Q24","v":0},{"$f":"'IRON & STEEL PHASE 2'!Q142+'IRON & STEEL PHASE 2'!M124+'IRON & STEEL PHASE 2'!M111+'IRON & STEEL PHASE 2'!M103+'IRON & STEEL PHASE 2'!Q85+'IRON & STEEL PHASE 2'!O64+'IRON & STEEL PHASE 2'!R43+'IRON & STEEL PHASE 2'!R24","v":0},{"$f":"'IRON & STEEL PHASE 2'!R142+'IRON & STEEL PHASE 2'!N124+'IRON & STEEL PHASE 2'!N111+'IRON & STEEL PHASE 2'!N103+'IRON & STEEL PHASE 2'!R85+'IRON & STEEL PHASE 2'!P64+'IRON & STEEL PHASE 2'!S43+'IRON & STEEL PHASE 2'!S24","v":0},{"$f":"SUM(C30:N30)","v":0}]
["Phase 3","Distribution and retail",{"$f":"'IRON & STEEL PHASE 3'!G28","v":0},{"$f":"'IRON & STEEL PHASE 3'!H28","v":0},{"$f":"'IRON & STEEL PHASE 3'!I28","v":0},{"$f":"'IRON & STEEL PHASE 3'!J28","v":0},{"$f":"'IRON & STEEL PHASE 3'!K28","v":0},{"$f":"'IRON & STEEL PHASE 3'!L28","v":0},{"$f":"'IRON & STEEL PHASE 3'!M28","v":0},{"$f":"'IRON & STEEL PHASE 3'!N28","v":0},{"$f":"'IRON & STEEL PHASE 3'!O28","v":0},{"$f":"'IRON & STEEL PHASE 3'!P28","v":0},{"$f":"'IRON & STEEL PHASE 3'!Q28","v":0},{"$f":"'IRON & STEEL PHASE 3'!R28","v":0},{"$f":"SUM(C31:N31)","v":0}]
["Total (tons CO2eq)",null,{"$f":"SUM(C29:C31)","v":0},0,0,0,0,0,0,0,0,0,0,0,0]
[]
[null,"EMISSIONS STRUCTURE BY PRODUCT LIFE CYCLE PHASES"]
[null,null,null,null,null,null,null,null,null,null,null,null,"Unit: %"]
["Stages in the product emissions life cycle",null,"Jan","Feb","March","April","May","June","July","Aug","Sep","Oct","Nov","Dec","Total"]
["Phase 1","Production and transportation of raw materials",{"$f":"IF($C$32<>0,C29/$C$32,0)","v":0},{"$f":"IF($D$32<>0,D29/$D$32,0)","v":0},{"$f":"IF($E$32<>0,E29/$E$32,0)","v":0},{"$f":"IF($F$32<>0,F29/$F$32,0)","v":0},{"$f":"IF($G$32<>0,G29/$G$32,0)","v":0},{"$f":"IF($H$32<>0,H29/$H$32,0)","v":0},{"$f":"IF($I$32<>0,I29/$I$32,0)","v":0},{"$f":"IF($J$32<>0,J29/$J$32,0)","v":0},{"$f":"IF($K$32<>0,K29/$K$32,0)","v":0},{"$f":"IF($L$32<>0,L29/$L$32,0)","v":0},{"$f":"IF($M$32<>0,M29/$M$32,0)","v":0},{"$f":"IF($N$32<>0,N29/$N$32,0)","v":0},{"$f":"IF($O$32<>0,O29/$O$32,0)","v":0}]
["Phase 2","Product manufacturing",{"$f":"IF($C$32<>0,C30/$C$32,0)","v":0},{"$f":"IF($D$32<>0,D30/$D$32,0)","v":0},{"$f":"IF($E$32<>0,E30/$E$32,0)","v":0},{"$f":"IF($F$32<>0,F30/$F$32,0)","v":0},{"$f":"IF($G$32<>0,G30/$G$32,0)","v":0},{"$f":"IF($H$32<>0,H30/$H$32,0)","v":0},{"$f":"IF($I$32<>0,I30/$I$32,0)","v":0},{"$f":"IF($J$32<>0,J30/$J$32,0)","v":0},{"$f":"IF($K$32<>0,K30/$K$32,0)","v":0},{"$f":"IF($L$32<>0,L30/$L$32,0)","v":0},{"$f":"IF($M$32<>0,M30/$M$32,0)","v":0},{"$f":"IF($N$32<>0,N30/$N$32,0)","v":0},{"$f":"IF($O$32<>0,O30/$O$32,0)","v":0}]
["Phase 3","Distribution and retail",{"$f":"IF($C$32<>0,C31/$C$32,0)","v":0},{"$f":"IF($D$32<>0,D31/$D$32,0)","v":0},{"$f":"IF($E$32<>0,E31/$E$32,0)","v":0},{"$f":"IF($F$32<>0,F31/$F$32,0)","v":0},{"$f":"IF($G$32<>0,G31/$G$32,0)","v":0},{"$f":"IF($H$32<>0,H31/$H$32,0)","v":0},{"$f":"IF($I$32<>0,I31/$I$32,0)","v":0},{"$f":"IF($J$32<>0,J31/$J$32,0)","v":0},{"$f":"IF($K$32<>0,K31/$K$32,0)","v":0},{"$f":"IF($L$32<>0,L31/$L$32,0)","v":0},{"$f":"IF($M$32<>0,M31/$M$32,0)","v":0},{"$f":"IF($N$32<>0,N31/$N$32,0)","v":0},{"$f":"IF($O$32<>0,O31/$O$32,0)","v":0}]
["Total",null,{"$f":"SUM(C37:C39)","v":0},0,0,0,0,0,0,0,0,0,0,0,0]
[]
[{"$f":" \"kgCO2eq/\" & B24","v":"kgCO2eq/"},null,"EMISSIONS INTENSITY"]
[null,null,"Jan","Feb","March","April","May","June","July","Aug","Sep","Oct","Nov","Dec","Average annual emission intensity"]
["Product emission intensity",null,{"$f":"IF(C24<>0,C32*1000/C24,0)","v":0},0,0,0,0,0,0,0,0,0,0,0,0]
[]
[]
[]
[]
[]
[]
[]
[]
[]
[]
[null,null,null,null,null,null,null,null,null,null,"GJ"]
[null,null,null,null,null,null,null,null,{"$f":"IF(AND('IRON & STEEL PHASE 2'!A13<>\"\",'IRON & STEEL PHASE 2'!B13<>\"\"),'IRON & STEEL PHASE 2'!A13,\"\")","v":""},null,{"$f":"IF(I56<>\"\",'IRON & STEEL PHASE 2'!T13*'IRON & STEEL PHASE 2'!C13,\"\")","v":""}]
[null,null,null,null,null,null,null,null,{"$f":"IF(AND('IRON & STEEL PHASE 2'!A14<>\"\",'IRON & STEEL PHASE 2'!B14<>\"\"),'IRON & STEEL PHASE 2'!A14,\"\")","v":""},null,{"$f":"IF(I57<>\"\",'IRON & STEEL PHASE 2'!T14*'IRON & STEEL PHASE 2'!C14,\"\")","v":""}]
[null,null,null,null,null,null,null,null,{"$f":"IF(AND('IRON & STEEL PHASE 2'!A15<>\"\",'IRON & STEEL PHASE 2'!B15<>\"\"),'IRON & STEEL PHASE 2'!A15,\"\")","v":""},null,{"$f":"IF(I58<>\"\",'IRON & STEEL PHASE 2'!T15*'IRON & STEEL PHASE 2'!C15,\"\")","v":""}]
[null,null,null,null,null,null,null,null,{"$f":"IF(AND('IRON & STEEL PHASE 2'!A16<>\"\",'IRON & STEEL PHASE 2'!B16<>\"\"),'IRON & STEEL PHASE 2'!A16,\"\")","v":""},null,{"$f":"IF(I59<>\"\",'IRON & STEEL PHASE 2'!T16*'IRON & STEEL PHASE 2'!C16,\"\")","v":""}]
[null,null,null,null,null,null,null,null,{"$f":"IF(AND('IRON & STEEL PHASE 2'!A17<>\"\",'IRON & STEEL PHASE 2'!B17<>\"\"),'IRON & STEEL PHASE 2'!A17,\"\")","v":""},null,{"$f":"IF(I60<>\"\",'IRON & STEEL PHASE 2'!T17*'IRON & STEEL PHASE 2'!C17,\"\")","v":""}]
[null,null,null,null,null,null,null,null,{"$f":"IF(AND('IRON & STEEL PHASE 2'!A18<>\"\",'IRON & STEEL PHASE 2'!B18<>\"\"),'IRON & STEEL PHASE 2'!A18,\"\")","v":""},null,{"$f":"IF(I61<>\"\",'IRON & STEEL PHASE 2'!T18*'IRON & STEEL PHASE 2'!C18,\"\")","v":""}]
[null,null,null,null,null,null,null,null,{"$f":"IF(AND('IRON & STEEL PHASE 2'!A19<>\"\",'IRON & STEEL PHASE 2'!B19<>\"\"),'IRON & STEEL PHASE 2'!A19,\"\")","v":""},null,{"$f":"IF(I62<>\"\",'IRON & STEEL PHASE 2'!T19*'IRON & STEEL PHASE 2'!C19,\"\")","v":""}]
[null,null,null,null,null,null,null,null,{"$f":"IF(AND('IRON & STEEL PHASE 2'!A20<>\"\",'IRON & STEEL PHASE 2'!B20<>\"\"),'IRON & STEEL PHASE 2'!A20,\"\")","v":""},null,{"$f":"IF(I63<>\"\",'IRON & STEEL PHASE 2'!T20*'IRON & STEEL PHASE 2'!C20,\"\")","v":""}]
[null,null,null,null,null,null,null,null,{"$f":"IF(AND('IRON & STEEL PHASE 2'!A21<>\"\",'IRON & STEEL PHASE 2'!B21<>\"\"),'IRON & STEEL PHASE 2'!A21,\"\")","v":""},null,{"$f":"IF(I64<>\"\",'IRON & STEEL PHASE 2'!T21*'IRON & STEEL PHASE 2'!C21,\"\")","v":""}]

{"sheet":"SOLAR PV PRODUCTS","index":24,"n_rows":57,"n_cols":16384,"rows_kept":57,"cut":false,"hidden":true,"merged":[[56,0,56,1],[50,0,50,3],[50,4,50,7],[55,0,55,1],[24,0,25,0],[24,1,25,1],[24,2,24,13],[52,0,52,1],[24,14,25,14],[40,0,41,0],[40,1,40,12],[12,2,12,14],[14,2,14,14],[17,0,17,2],[19,0,19,5],[21,0,21,3],[21,4,21,8],[22,0,22,14],[10,2,10,14],[1,0,1,15],[3,0,3,2],[4,2,4,14],[6,2,6,14],[8,2,8,14]]}
[]
["PRODUCT DATA FOR SOLAR PV MANUFACTURING"]
[]
["A. COMPANY INFORMATION"]
[null,"Company name:"]
[]
[null,"Sector:"]
[]
[null,"Address:"]
[]
[null,"Phone number:"]
[]
[null,"Email:"]
[]
[null,"Year:"]
[]
[]
["B. PRODUCT DATA"]
[]
["Company products"]
[]
["Choose a allocation co-products method"]
["Economic allocation: Inputs and emissions are allocated to the product and co-product(s) based on the market value of each when they exit the common process\n\nPhysical allocation: Inputs and emissions are allocated to the product and by-product(s) based on quantity/volume of products\n\nOther relationships: Inputs and emissions are allocated to products and by-product(s) based on established relationships and detailed calculations according to parameters. The enterprise's production inputs have been identified rather than its physical or economic relationships. Therefore, users can manually fill in the emission allocation rate of this product type."]
[]
["Product","Unit","Output/Revenue of products",null,null,null,null,null,null,null,null,null,null,null,"Total"]
[null,null,"Jan","Feb","March","April","May","June","July","Aug","Sep","Oct","Nov","Dec"]
[null,{"$f":"IF(AND($E$22=\"Economic allocation\",A27<>\"\"),\"Million VND\",\"\")","v":""},null,null,null,null,null,null,null,null,null,null,null,null,{"$f":"SUM(C27:N27)","v":0}]
[null,"",null,null,null,null,null,null,null,null,null,null,null,null,0]
[null,"",null,null,null,null,null,null,null,null,null,null,null,null,0]
[null,"",null,null,null,null,null,null,null,null,null,null,null,null,0]
[null,"",null,null,null,null,null,null,null,null,null,null,null,null,0]
[null,"",null,null,null,null,null,null,null,null,null,null,null,null,0]
["Tổng ","",{"$f":"SUM(C27:C32)","v":0},0,0,0,0,0,0,0,0,0,0,0,0]
["Tổng ","",1,1,1,1,1,1,1,1,1,1,1,1,1,null,1,1,1,1,1,1,1,1,1,1,1,1,1,1,1,1,1,1,1,1,1,1,1,1,1,1,1,1,1,1,1,1,1,1,1,1,1,1,1,1,1,1,1,1,1,1,1,1,1,1,1,1,1,1,1,1,1,1,1,1,1,1,1,1,1,1,1,1,1,1,1,1,1,1,1,1,1,1,1,1,1,1,1,1,1,1,1,1,1,1,1,1,1,1,1,1,1,1,1,1,1,1,1,1,1,1,1,1,1,1,1,1,1,1,1,1,1,1,1,1,1,1,1,1,1,1,1,1,1,1,1,1,1,1,1,1,1,1,1,1,1,1,1,1,1,1,1,1,1,1,1,1,1,1,1,1,1,1,1,1,1,1,1,1,1,1,1,1,1,1,1,1,1,1,1,1,1,1,1,1,1,1,1,1,1,1,1,1,1,1,1,1,1,1,1,1,1,1,1,1,1,1,1,1,1,1,1,1,1,1,1,1,1,1,1,1,1,1,1,1,1,1,1,1,1,1,1,1,1,1,1,1,1,1,1,1,1,1,1,1,1,1,1,1,1,1,1,1,1,1,1,1,1,1,1,1,1,1,1,1,1,1,1,1,1,1,1,1,1,1,1,1,1,1,1,1,1,1,1,1,1,1,1,1,1,1,1,1,1,1,1,1,1,1,1,1,1,1,1,1,1,1,1,1,1,1,1,1,1,1,1,1,1,1,1,1,1,1,1,1,1,1,1,1,1,1,1,1,1,1,1,1,1,1,1,1,1,1,1,1,1,1,1,1,1,1,1,1,1,1,1,1,1,1,1,1,1,1,1,1,1,1,1,1,1,1,1,1,1,1,1,1,1,1,1,1,1,1,1,1,1,1,1,1,1,1,1,1,1,1,1,1,1,1,1,1,1,1,1,1,1,1,1,1,1,1,1,1,1,1,1,1,1,1,1,1,1,1,1,1,1,1,1,1,1,1,1,1,1,1,1,1,1,1,1,1,1,1,1,1,1,1,1,1,1,1,1,1,1,1,1,1,1,1,1,1,1,1,1,1,1,1,1,1,1,1,1,1,1,1,1,1,1,1,1,1,1,1,1,1,1,1,1,1,1,1,1,1,1,1,1,1,1,1,1,1,1,1,1,1,1,1,1,1,1,1,1,1,1,1,1,1,1,1,1,1,1,1,1,1,1,1,1,1,1,1,1,1,1,1,1,1,1,1,1,1,1,1,1,1,1,1,1,1,1,1,1,1,1,1,1,1,1,1,1,1,1,1,1,1,1,1,1,1,1,1,1,1,1,1,1,1,1,1,1,1,1,1,1,1,1,1,1,1,1,1,1,1,1,1,1,1,1,1,1,1,1,1,1,1,1,1,1,1,1,1,1,1,1,1,1,1,1,1,1,1,1,1,1,1,1,1,1,1,1,1,1,1,1,1,1,1,1,1,1,1,1,1,1,1,1,1,1,1,1,1,1,1,1,1,1,1,1,1,1,1,1,1,1,1,1,1,1,1,1,1,1,1,1,1,1,1,1,1,1,1,1,1,1,1,1,1,1,1,1,1,1,1,1,1,1,1,1,1,1,1,1,1,1,1,1,1,1,1,1,1,1,1,1,1,1,1,1,1,1,1,1,1,1,1,1,1,1,1,1,1,1,1,1,1,1,1,1,1,1,1,1,1,1,1,1,1,1,1,1,1,1,1,1,1,1,1,1,1,1,1,1,1,1,1,1,1,1,1,1,1,1,1,1,1,1,1,1,1,1,1,1,1,1,1,1,1,1,1,1,1,1,1,1,1,1,1,1,1,1,1,1,1,1,1,1,1,1,1,1,1,1,1,1,1,1,1,1,1,1,1,1,1,1,1,1,1,1,1,1,1,1,1,1,1,1,1,1,1,1,1,1,1,1,1,1,1,1,1,1,1,1,1,1,1,1,1,1,1,1,1,1,1,1,1,1,1,1,1,1,1,1,1,1,1,1,1,1,1,1,1,1,1,1,1,1,1,1,1,1,1,1,1,1,1,1,1,1,1,1,1,1,1,1,1,1,1,1,1,1,1,1,1,1,1,1,1,1,1,1,1,1,1,1,1,1,1,1,1,1,1,1,1,1,1,1,1,1,1,1,1,1,1,1,1,1,1,1,1,1,1,1,1,1,1,1,1,1,1,1,1,1,1,1,1,1,1,1,1,1,1,1,1,1,1,1,1,1,1,1,1,1,1,1,1,1,1,1,1,1,1,1,1,1,1,1,1,1,1,1,1,1,1,1,1,1,1,1,1,1,1,1,1,1,1,1,1,1,1,1,1,1,1,1,1,1,1,1,1,1,1,1,1,1,1,1,1,1,1,1,1,1,1,1,1,1,1,1,1,1,1,1,1,1,1,1,1,1,1,1,1,1,1,1,1,1,1,1,1,1,1,1,1,1,1,1,1,1,1,1,1,1,1,1,1,1,1,1,1,1,1,1,1,1,1,1,1,1,1,1,1,1,1,1,1,1,1,1,1,1,1,1,1,1,1,1,1,1,1,1,1,1,1,1,1,1,1,1,1,1,1,1,1,1,1,1,1,1,1,1,1,1,1,1,1,1,1,1,1,1,1,1,1,1,1,1,1,1,1,1,1,1,1,1,1,1,1,1,1,1,1,1,1,1,1,1,1,1,1,1,1,1,1,1,1,1,1,1,1,1,1,1,1,1,1,1,1,1,1,1,1,1,1,1,1,1,1,1,1,1,1,1,1,1,1,1,1,1,1,1,1,1,1,1,1,1,1,1,1,1,1,1,1,1,1,1,1,1,1,1,1,1,1,1,1,1,1,1,1,1,1,1,1,1,1,1,1,1,1,1,1,1,1,1,1,1,1,1,1,1,1,1,1,1,1,1,1,1,1,1,1,1,1,1,1,1,1,1,1,1,1,1,1,1,1,1,1,1,1,1,1,1,1,1,1,1,1,1,1,1,1,1,1,1,1,1,1,1,1,1,1,1,1,1,1,1,1,1,1,1,1,1,1,1,1,1,1,1,1,1,1,1,1,1,1,1,1,1,1,1,1,1,1,1,1,1,1,1,1,1,1,1,1,1,1,1,1,1,1,1,1,1,1,1,1,1,1,1,1,1,1,1,1,1,1,1,1,1,1,1,1,1,1,1,1,1,1,1,1,1,1,1,1,1,1,1,1,1,1,1,1,1,1,1,1,1,1,1,1,1,1,1,1,1,1,1,1,1,1,1,1,1,1,1,1,1,1,1,1,1,1,1,1,1,1,1,1,1,1,1,1,1,1,1,1,1,1,1,1,1,1,1,1,1,1,1,1,1,1,1,1,1,1,1,1,1,1,1,1,1,1,1,1,1,1,1,1,1,1,1,1,1,1,1,1,1,1,1,1,1,1,1,1,1,1,1,1,1,1,1,1,1,1,1,1,1,1,1,1,1,1,1,1,1,1,1,1,1,1,1,1,1,1,1,1,1,1,1,1,1,1,1,1,1,1,1,1,1,1,1,1,1,1,1,1,1,1,1,1,1,1,1,1,1,1,1,1,1,1,1,1,1,1,1,1,1,1,1,1,1,1,1,1,1,1,1,1,1,1,1,1,1,1,1,1,1,1,1,1,1,1,1,1,1,1,1,1,1,1,1,1,1,1,1,1,1,1,1,1,1,1,1,1,1,1,1,1,1,1,1,1,1,1,1,1,1,1,1,1,1,1,1,1,1,1,1,1,1,1,1,1,1,1,1,1,1,1,1,1,1,1,1,1,1,1,1,1,1,1,1,1,1,1,1,1,1,1,1,1,1,1,1,1,1,1,1,1,1,1,1,1,1,1,1,1,1,1,1,1,1,1,1,1,1,1,1,1,1,1,1,1,1,1,1,1,1,1,1,1,1,1,1,1,1,1,1,1,1,1,1,1,1,1,1,1,1,1,1,1,1,1,1,1,1,1,1,1,1,1,1,1,1,1,1,1,1,1,1,1,1,1,1,1,1,1,1,1,1,1,1,1,1,1,1,1,1,1,1,1,1,1,1,1,1,1,1,1,1,1,1,1,1,1,1,1,1,1,1,1,1,1,1,1,1,1,1,1,1,1,1,1,1,1,1,1,1,1,1,1,1,1,1,1,1,1,1,1,1,1,1,1,1,1,1,1,1,1,1,1,1,1,1,1,1,1,1,1,1,1,1,1,1,1,1,1,1,1,1,1,1,1,1,1,1,1,1,1,1,1,1,1,1,1,1,1,1,1,1,1,1,1,1,1,1,1,1,1,1,1,1,1,1,1,1,1,1,1,1,1,1,1,1,1,1,1,1,1,1,1,1,1,1,1,1,1,1,1,1,1,1,1,1,1,1,1,1,1,1,1,1,1,1,1,1,1,1,1,1,1,1,1,1,1,1,1,1,1,1,1,1,1,1,1,1,1,1,1,1,1,1,1,1,1,1,1,1,1,1,1,1,1,1,1,1,1,1,1,1,1,1,1,1,1,1,1,1,1,1,1,1,1,1,1,1,1,1,1,1,1,1,1,1,1,1,1,1,1,1,1,1,1,1,1,1,1,1,1,1,1,1,1,1,1,1,1,1,1,1,1,1,1,1,1,1,1,1,1,1,1,1,1,1,1,1,1,1,1,1,1,1,1,1,1,1,1,1,1,1,1,1,1,1,1,1,1,1,1,1,1,1,1,1,1,1,1,1,1,1,1,1,1,1,1,1,1,1,1,1,1,1,1,1,1,1,1,1,1,1,1,1,1,1,1,1,1,1,1,1,1,1,1,1,1,1,1,1,1,1,1,1,1,1,1,1,1,1,1,1,1,1,1,1,1,1,1,1,1,1,1,1,1,1,1,1,1,1,1,1,1,1,1,1,1,1,1,1,1,1,1,1,1,1,1,1,1,1,1,1,1,1,1,1,1,1,1,1,1,1,1,1,1,1,1,1,1,1,1,1,1,1,1,1,1,1,1,1,1,1,1,1,1,1,1,1,1,1,1,1,1,1,1,1,1,1,1,1,1,1,1,1,1,1,1,1,1,1,1,1,1,1,1,1,1,1,1,1,1,1,1,1,1,1,1,1,1,1,1,1,1,1,1,1,1,1,1,1,1,1,1,1,1,1,1,1,1,1,1,1,1,1,1,1,1,1,1,1,1,1,1,1,1,1,1,1,1,1,1,1,1,1,1,1,1,1,1,1,1,1,1,1,1,1,1,1,1,1,1,1,1,1,1,1,1,1,1,1,1,1,1,1,1,1,1,1,1,1,1,1,1,1,1,1,1,1,1,1,1,1,1,1,1,1,1,1,1,1,1,1,1,1,1,1,1,1,1,1,1,1,1,1,1,1,1,1,1,1,1,1,1,1,1,1,1,1,1,1,1,1,1,1,1,1,1,1,1,1,1,1,1,1,1,1,1,1,1,1,1,1,1,1,1,1,1,1,1,1,1,1,1,1,1,1,1,1,1,1,1,1,1,1,1,1,1,1,1,1,1,1,1,1,1,1,1,1,1,1,1,1,1,1,1,1,1,1,1,1,1,1,1,1,1,1,1,1,1,1,1,1,1,1,1,1,1,1,1,1,1,1,1,1,1,1,1,1,1,1,1,1,1,1,1,1,1,1,1,1,1,1,1,1,1,1,1,1,1,1,1,1,1,1,1,1,1,1,1,1,1,1,1,1,1,1,1,1,1,1,1,1,1,1,1,1,1,1,1,1,1,1,1,1,1,1,1,1,1,1,1,1,1,1,1,1,1,1,1,1,1,1,1,1,1,1,1,1,1,1,1,1,1,1,1,1,1,1,1,1,1,1,1,1,1,1,1,1,1,1,1,1,1,1,1,1,1,1,1,1,1,1,1,1,1,1,1,1,1,1,1,1,1,1,1,1,1,1,1,1,1,1,1,1,1,1,1,1,1,1,1,1,1,1,1,1,1,1,1,1,1,1,1,1,1,1,1,1,1,1,1,1,1,1,1,1,1,1,1,1,1,1,1,1,1,1,1,1,1,1,1,1,1,1,1,1,1,1,1,1,1,1,1,1,1,1,1,1,1,1,1,1,1,1,1,1,1,1,1,1,1,1,1,1,1,1,1,1,1,1,1,1,1,1,1,1,1,1,1,1,1,1,1,1,1,1,1,1,1,1,1,1,1,1,1,1,1,1,1,1,1,1,1,1,1,1,1,1,1,1,1,1,1,1,1,1,1,1,1,1,1,1,1,1,1,1,1,1,1,1,1,1,1,1,1,1,1,1,1,1,1,1,1,1,1,1,1,1,1,1,1,1,1,1,1,1,1,1,1,1,1,1,1,1,1,1,1,1,1,1,1,1,1,1,1,1,1,1,1,1,1,1,1,1,1,1,1,1,1,1,1,1,1,1,1,1,1,1,1,1,1,1,1,1,1,1,1,1,1,1,1,1,1,1,1,1,1,1,1,1,1,1,1,1,1,1,1,1,1,1,1,1,1,1,1,1,1,1,1,1,1,1,1,1,1,1,1,1,1,1,1,1,1,1,1,1,1,1,1,1,1,1,1,1,1,1,1,1,1,1,1,1,1,1,1,1,1,1,1,1,1,1,1,1,1,1,1,1,1,1,1,1,1,1,1,1,1,1,1,1,1,1,1,1,1,1,1,1,1,1,1,1,1,1,1,1,1,1,1,1,1,1,1,1,1,1,1,1,1,1,1,1,1,1,1,1,1,1,1,1,1,1,1,1,1,1,1,1,1,1,1,1,1,1,1,1,1,1,1,1,1,1,1,1,1,1,1,1,1,1,1,1,1,1,1,1,1,1,1,1,1,1,1,1,1,1,1,1,1,1,1,1,1,1,1,1,1,1,1,1,1,1,1,1,1,1,1,1,1,1,1,1,1,1,1,1,1,1,1,1,1,1,1,1,1,1,1,1,1,1,1,1,1,1,1,1,1,1,1,1,1,1,1,1,1,1,1,1,1,1,1,1,1,1,1,1,1,1,1,1,1,1,1,1,1,1,1,1,1,1,1,1,1,1,1,1,1,1,1,1,1,1,1,1,1,1,1,1,1,1,1,1,1,1,1,1,1,1,1,1,1,1,1,1,1,1,1,1,1,1,1,1,1,1,1,1,1,1,1,1,1,1,1,1,1,1,1,1,1,1,1,1,1,1,1,1,1,1,1,1,1,1,1,1,1,1,1,1,1,1,1,1,1,1,1,1,1,1,1,1,1,1,1,1,1,1,1,1,1,1,1,1,1,1,1,1,1,1,1,1,1,1,1,1,1,1,1,1,1,1,1,1,1,1,1,1,1,1,1,1,1,1,1,1,1,1,1,1,1,1,1,1,1,1,1,1,1,1,1,1,1,1,1,1,1,1,1,1,1,1,1,1,1,1,1,1,1,1,1,1,1,1,1,1,1,1,1,1,1,1,1,1,1,1,1,1,1,1,1,1,1,1,1,1,1,1,1,1,1,1,1,1,1,1,1,1,1,1,1,1,1,1,1,1,1,1,1,1,1,1,1,1,1,1,1,1,1,1,1,1,1,1,1,1,1,1,1,1,1,1,1,1,1,1,1,1,1,1,1,1,1,1,1,1,1,1,1,1,1,1,1,1,1,1,1,1,1,1,1,1,1,1,1,1,1,1,1,1,1,1,1,1,1,1,1,1,1,1,1,1,1,1,1,1,1,1,1,1,1,1,1,1,1,1,1,1,1,1,1,1,1,1,1,1,1,1,1,1,1,1,1,1,1,1,1,1,1,1,1,1,1,1,1,1,1,1,1,1,1,1,1,1,1,1,1,1,1,1,1,1,1,1,1,1,1,1,1,1,1,1,1,1,1,1,1,1,1,1,1,1,1,1,1,1,1,1,1,1,1,1,1,1,1,1,1,1,1,1,1,1,1,1,1,1,1,1,1,1,1,1,1,1,1,1,1,1,1,1,1,1,1,1,1,1,1,1,1,1,1,1,1,1,1,1,1,1,1,1,1,1,1,1,1,1,1,1,1,1,1,1,1,1,1,1,1,1,1,1,1,1,1,1,1,1,1,1,1,1,1,1,1,1,1,1,1,1,1,1,1,1,1,1,1,1,1,1,1,1,1,1,1,1,1,1,1,1,1,1,1,1,1,1,1,1,1,1,1,1,1,1,1,1,1,1,1,1,1,1,1,1,1,1,1,1,1,1,1,1,1,1,1,1,1,1,1,1,1,1,1,1,1,1,1,1,1,1,1,1,1,1,1,1,1,1,1,1,1,1,1,1,1,1,1,1,1,1,1,1,1,1,1,1,1,1,1,1,1,1,1,1,1,1,1,1,1,1,1,1,1,1,1,1,1,1,1,1,1,1,1,1,1,1,1,1,1,1,1,1,1,1,1,1,1,1,1,1,1,1,1,1,1,1,1,1,1,1,1,1,1,1,1,1,1,1,1,1,1,1,1,1,1,1,1,1,1,1,1,1,1,1,1,1,1,1,1,1,1,1,1,1,1,1,1,1,1,1,1,1,1,1,1,1,1,1,1,1,1,1,1,1,1,1,1,1,1,1,1,1,1,1,1,1,1,1,1,1,1,1,1,1,1,1,1,1,1,1,1,1,1,1,1,1,1,1,1,1,1,1,1,1,1,1,1,1,1,1,1,1,1,1,1,1,1,1,1,1,1,1,1,1,1,1,1,1,1,1,1,1,1,1,1,1,1,1,1,1,1,1,1,1,1,1,1,1,1,1,1,1,1,1,1,1,1,1,1,1,1,1,1,1,1,1,1,1,1,1,1,1,1,1,1,1,1,1,1,1,1,1,1,1,1,1,1,1,1,1,1,1,1,1,1,1,1,1,1,1,1,1,1,1,1,1,1,1,1,1,1,1,1,1,1,1,1,1,1,1,1,1,1,1,1,1,1,1,1,1,1,1,1,1,1,1,1,1,1,1,1,1,1,1,1,1,1,1,1,1,1,1,1,1,1,1,1,1,1,1,1,1,1,1,1,1,1,1,1,1,1,1,1,1,1,1,1,1,1,1,1,1,1,1,1,1,1,1,1,1,1,1,1,1,1,1,1,1,1,1,1,1,1,1,1,1,1,1,1,1,1,1,1,1,1,1,1,1,1,1,1,1,1,1,1,1,1,1,1,1,1,1,1,1,1,1,1,1,1,1,1,1,1,1,1,1,1,1,1,1,1,1,1,1,1,1,1,1,1,1,1,1,1,1,1,1,1,1,1,1,1,1,1,1,1,1,1,1,1,1,1,1,1,1,1,1,1,1,1,1,1,1,1,1,1,1,1,1,1,1,1,1,1,1,1,1,1,1,1,1,1,1,1,1,1,1,1,1,1,1,1,1,1,1,1,1,1,1,1,1,1,1,1,1,1,1,1,1,1,1,1,1,1,1,1,1,1,1,1,1,1,1,1,1,1,1,1,1,1,1,1,1,1,1,1,1,1,1,1,1,1,1,1,1,1,1,1,1,1,1,1,1,1,1,1,1,1,1,1,1,1,1,1,1,1,1,1,1,1,1,1,1,1,1,1,1,1,1,1,1,1,1,1,1,1,1,1,1,1,1,1,1,1,1,1,1,1,1,1,1,1,1,1,1,1,1,1,1,1,1,1,1,1,1,1,1,1,1,1,1,1,1,1,1,1,1,1,1,1,1,1,1,1,1,1,1,1,1,1,1,1,1,1,1,1,1,1,1,1,1,1,1,1,1,1,1,1,1,1,1,1,1,1,1,1,1,1,1,1,1,1,1,1,1,1,1,1,1,1,1,1,1,1,1,1,1,1,1,1,1,1,1,1,1,1,1,1,1,1,1,1,1,1,1,1,1,1,1,1,1,1,1,1,1,1,1,1,1,1,1,1,1,1,1,1,1,1,1,1,1,1,1,1,1,1,1,1,1,1,1,1,1,1,1,1,1,1,1,1,1,1,1,1,1,1,1,1,1,1,1,1,1,1,1,1,1,1,1,1,1,1,1,1,1,1,1,1,1,1,1,1,1,1,1,1,1,1,1,1,1,1,1,1,1,1,1,1,1,1,1,1,1,1,1,1,1,1,1,1,1,1,1,1,1,1,1,1,1,1,1,1,1,1,1,1,1,1,1,1,1,1,1,1,1,1,1,1,1,1,1,1,1,1,1,1,1,1,1,1,1,1,1,1,1,1,1,1,1,1,1,1,1,1,1,1,1,1,1,1,1,1,1,1,1,1,1,1,1,1,1,1,1,1,1,1,1,1,1,1,1,1,1,1,1,1,1,1,1,1,1,1,1,1,1,1,1,1,1,1,1,1,1,1,1,1,1,1,1,1,1,1,1,1,1,1,1,1,1,1,1,1,1,1,1,1,1,1,1,1,1,1,1,1,1,1,1,1,1,1,1,1,1,1,1,1,1,1,1,1,1,1,1,1,1,1,1,1,1,1,1,1,1,1,1,1,1,1,1,1,1,1,1,1,1,1,1,1,1,1,1,1,1,1,1,1,1,1,1,1,1,1,1,1,1,1,1,1,1,1,1,1,1,1,1,1,1,1,1,1,1,1,1,1,1,1,1,1,1,1,1,1,1,1,1,1,1,1,1,1,1,1,1,1,1,1,1,1,1,1,1,1,1,1,1,1,1,1,1,1,1,1,1,1,1,1,1,1,1,1,1,1,1,1,1,1,1,1,1,1,1,1,1,1,1,1,1,1,1,1,1,1,1,1,1,1,1,1,1,1,1,1,1,1,1,1,1,1,1,1,1,1,1,1,1,1,1,1,1,1,1,1,1,1,1,1,1,1,1,1,1,1,1,1,1,1,1,1,1,1,1,1,1,1,1,1,1,1,1,1,1,1,1,1,1,1,1,1,1,1,1,1,1,1,1,1,1,1,1,1,1,1,1,1,1,1,1,1,1,1,1,1,1,1,1,1,1,1,1,1,1,1,1,1,1,1,1,1,1,1,1,1,1,1,1,1,1,1,1,1,1,1,1,1,1,1,1,1,1,1,1,1,1,1,1,1,1,1,1,1,1,1,1,1,1,1,1,1,1,1,1,1,1,1,1,1,1,1,1,1,1,1,1,1,1,1,1,1,1,1,1,1,1,1,1,1,1,1,1,1,1,1,1,1,1,1,1,1,1,1,1,1,1,1,1,1,1,1,1,1,1,1,1,1,1,1,1,1,1,1,1,1,1,1,1,1,1,1,1,1,1,1,1,1,1,1,1,1,1,1,1,1,1,1,1,1,1,1,1,1,1,1,1,1,1,1,1,1,1,1,1,1,1,1,1,1,1,1,1,1,1,1,1,1,1,1,1,1,1,1,1,1,1,1,1,1,1,1,1,1,1,1,1,1,1,1,1,1,1,1,1,1,1,1,1,1,1,1,1,1,1,1,1,1,1,1,1,1,1,1,1,1,1,1,1,1,1,1,1,1,1,1,1,1,1,1,1,1,1,1,1,1,1,1,1,1,1,1,1,1,1,1,1,1,1,1,1,1,1,1,1,1,1,1,1,1,1,1,1,1,1,1,1,1,1,1,1,1,1,1,1,1,1,1,1,1,1,1,1,1,1,1,1,1,1,1,1,1,1,1,1,1,1,1,1,1,1,1,1,1,1,1,1,1,1,1,1,1,1,1,1,1,1,1,1,1,1,1,1,1,1,1,1,1,1,1,1,1,1,1,1,1,1,1,1,1,1,1,1,1,1,1,1,1,1,1,1,1,1,1,1,1,1,1,1,1,1,1,1,1,1,1,1,1,1,1,1,1,1,1,1,1,1,1,1,1,1,1,1,1,1,1,1,1,1,1,1,1,1,1,1,1,1,1,1,1,1,1,1,1,1,1,1,1,1,1,1,1,1,1,1,1,1,1,1,1,1,1,1,1,1,1,1,1,1,1,1,1,1,1,1,1,1,1,1,1,1,1,1,1,1,1,1,1,1,1,1,1,1,1,1,1,1,1,1,1,1,1,1,1,1,1,1,1,1,1,1,1,1,1,1,1,1,1,1,1,1,1,1,1,1,1,1,1,1,1,1,1,1,1,1,1,1,1,1,1,1,1,1,1,1,1,1,1,1,1,1,1,1,1,1,1,1,1,1,1,1,1,1,1,1,1,1,1,1,1,1,1,1,1,1,1,1,1,1,1,1,1,1,1,1,1,1,1,1,1,1,1,1,1,1,1,1,1,1,1,1,1,1,1,1,1,1,1,1,1,1,1,1,1,1,1,1,1,1,1,1,1,1,1,1,1,1,1,1,1,1,1,1,1,1,1,1,1,1,1,1,1,1,1,1,1,1,1,1,1,1,1,1,1,1,1,1,1,1,1,1,1,1,1,1,1,1,1,1,1,1,1,1,1,1,1,1,1,1,1,1,1,1,1,1,1,1,1,1,1,1,1,1,1,1,1,1,1,1,1,1,1,1,1,1,1,1,1,1,1,1,1,1,1,1,1,1,1,1,1,1,1,1,1,1,1,1,1,1,1,1,1,1,1,1,1,1,1,1,1,1,1,1,1,1,1,1,1,1,1,1,1,1,1,1,1,1,1,1,1,1,1,1,1,1,1,1,1,1,1,1,1,1,1,1,1,1,1,1,1,1,1,1,1,1,1,1,1,1,1,1,1,1,1,1,1,1,1,1,1,1,1,1,1,1,1,1,1,1,1,1,1,1,1,1,1,1,1,1,1,1,1,1,1,1,1,1,1,1,1,1,1,1,1,1,1,1,1,1,1,1,1,1,1,1,1,1,1,1,1,1,1,1,1,1,1,1,1,1,1,1,1,1,1,1,1,1,1,1,1,1,1,1,1,1,1,1,1,1,1,1,1,1,1,1,1,1,1,1,1,1,1,1,1,1,1,1,1,1,1,1,1,1,1,1,1,1,1,1,1,1,1,1,1,1,1,1,1,1,1,1,1,1,1,1,1,1,1,1,1,1,1,1,1,1,1,1,1,1,1,1,1,1,1,1,1,1,1,1,1,1,1,1,1,1,1,1,1,1,1,1,1,1,1,1,1,1,1,1,1,1,1,1,1,1,1,1,1,1,1,1,1,1,1,1,1,1,1,1,1,1,1,1,1,1,1,1,1,1,1,1,1,1,1,1,1,1,1,1,1,1,1,1,1,1,1,1,1,1,1,1,1,1,1,1,1,1,1,1,1,1,1,1,1,1,1,1,1,1,1,1,1,1,1,1,1,1,1,1,1,1,1,1,1,1,1,1,1,1,1,1,1,1,1,1,1,1,1,1,1,1,1,1,1,1,1,1,1,1,1,1,1,1,1,1,1,1,1,1,1,1,1,1,1,1,1,1,1,1,1,1,1,1,1,1,1,1,1,1,1,1,1,1,1,1,1,1,1,1,1,1,1,1,1,1,1,1,1,1,1,1,1,1,1,1,1,1,1,1,1,1,1,1,1,1,1,1,1,1,1,1,1,1,1,1,1,1,1,1,1,1,1,1,1,1,1,1,1,1,1,1,1,1,1,1,1,1,1,1,1,1,1,1,1,1,1,1,1,1,1,1,1,1,1,1,1,1,1,1,1,1,1,1,1,1,1,1,1,1,1,1,1,1,1,1,1,1,1,1,1,1,1,1,1,1,1,1,1,1,1,1,1,1,1,1,1,1,1,1,1,1,1,1,1,1,1,1,1,1,1,1,1,1,1,1,1,1,1,1,1,1,1,1,1,1,1,1,1,1,1,1,1,1,1,1,1,1,1,1,1,1,1,1,1,1,1,1,1,1,1,1,1,1,1,1,1,1,1,1,1,1,1,1,1,1,1,1,1,1,1,1,1,1,1,1,1,1,1,1,1,1,1,1,1,1,1,1,1,1,1,1,1,1,1,1,1,1,1,1,1,1,1,1,1,1,1,1,1,1,1,1,1,1,1,1,1,1,1,1,1,1,1,1,1,1,1,1,1,1,1,1,1,1,1,1,1,1,1,1,1,1,1,1,1,1,1,1,1,1,1,1,1,1,1,1,1,1,1,1,1,1,1,1,1,1,1,1,1,1,1,1,1,1,1,1,1,1,1,1,1,1,1,1,1,1,1,1,1,1,1,1,1,1,1,1,1,1,1,1,1,1,1,1,1,1,1,1,1,1,1,1,1,1,1,1,1,1,1,1,1,1,1,1,1,1,1,1,1,1,1,1,1,1,1,1,1,1,1,1,1,1,1,1,1,1,1,1,1,1,1,1,1,1,1,1,1,1,1,1,1,1,1,1,1,1,1,1,1,1,1,1,1,1,1,1,1,1,1,1,1,1,1,1,1,1,1,1,1,1,1,1,1,1,1,1,1,1,1,1,1,1,1,1,1,1,1,1,1,1,1,1,1,1,1,1,1,1,1,1,1,1,1,1,1,1,1,1,1,1,1,1,1,1,1,1,1,1,1,1,1,1,1,1,1,1,1,1,1,1,1,1,1,1,1,1,1,1,1,1,1,1,1,1,1,1,1,1,1,1,1,1,1,1,1,1,1,1,1,1,1,1,1,1,1,1,1,1,1,1,1,1,1,1,1,1,1,1,1,1,1,1,1,1,1,1,1,1,1,1,1,1,1,1,1,1,1,1,1,1,1,1,1,1,1,1,1,1,1,1,1,1,1,1,1,1,1,1,1,1,1,1,1,1,1,1,1,1,1,1,1,1,1,1,1,1,1,1,1,1,1,1,1,1,1,1,1,1,1,1,1,1,1,1,1,1,1,1,1,1,1,1,1,1,1,1,1,1,1,1,1,1,1,1,1,1,1,1,1,1,1,1,1,1,1,1,1,1,1,1,1,1,1,1,1,1,1,1,1,1,1,1,1,1,1,1,1,1,1,1,1,1,1,1,1,1,1,1,1,1,1,1,1,1,1,1,1,1,1,1,1,1,1,1,1,1,1,1,1,1,1,1,1,1,1,1,1,1,1,1,1,1,1,1,1,1,1,1,1,1,1,1,1,1,1,1,1,1,1,1,1,1,1,1,1,1,1,1,1,1,1,1,1,1,1,1,1,1,1,1,1,1,1,1,1,1,1,1,1,1,1,1,1,1,1,1,1,1,1,1,1,1,1,1,1,1,1,1,1,1,1,1,1,1,1,1,1,1,1,1,1,1,1,1,1,1,1,1,1,1,1,1,1,1,1,1,1,1,1,1,1,1,1,1,1,1,1,1,1,1,1,1,1,1,1,1,1,1,1,1,1,1,1,1,1,1,1,1,1,1,1,1,1,1,1,1,1,1,1,1,1,1,1,1,1,1,1,1,1,1,1,1,1,1,1,1,1,1,1,1,1,1,1,1,1,1,1,1,1,1,1,1,1,1,1,1,1,1,1,1,1,1,1,1,1,1,1,1,1,1,1,1,1,1,1,1,1,1,1,1,1,1,1,1,1,1,1,1,1,1,1,1,1,1,1,1,1,1,1,1,1,1,1,1,1,1,1,1,1,1,1,1,1,1,1,1,1,1,1,1,1,1,1,1,1,1,1,1,1,1,1,1,1,1,1,1,1,1,1,1,1,1,1,1,1,1,1,1,1,1,1,1,1,1,1,1,1,1,1,1,1,1,1,1,1,1,1,1,1,1,1,1,1,1,1,1,1,1,1,1,1,1,1,1,1,1,1,1,1,1,1,1,1,1,1,1,1,1,1,1,1,1,1,1,1,1,1,1,1,1,1,1,1,1,1,1,1,1,1,1,1,1,1,1,1,1,1,1,1,1,1,1,1,1,1,1,1,1,1,1,1,1,1,1,1,1,1,1,1,1,1,1,1,1,1,1,1,1,1,1,1,1,1,1,1,1,1,1,1,1,1,1,1,1,1,1,1,1,1,1,1,1,1,1,1,1,1,1,1,1,1,1,1,1,1,1,1,1,1,1,1,1,1,1,1,1,1,1,1,1,1,1,1,1,1,1,1,1,1,1,1,1,1,1,1,1,1,1,1,1,1,1,1,1,1,1,1,1,1,1,1,1,1,1,1,1,1,1,1,1,1,1,1,1,1,1,1,1,1,1,1,1,1,1,1,1,1,1,1,1,1,1,1,1,1,1,1,1,1,1,1,1,1,1,1,1,1,1,1,1,1,1,1,1,1,1,1,1,1,1,1,1,1,1,1,1,1,1,1,1,1,1,1,1,1,1,1,1,1,1,1,1,1,1,1,1,1,1,1,1,1,1,1,1,1,1,1,1,1,1,1,1,1,1,1,1,1,1,1,1,1,1,1,1,1,1,1,1,1,1,1,1,1,1,1,1,1,1,1,1,1,1,1,1,1,1,1,1,1,1,1,1,1,1,1,1,1,1,1,1,1,1,1,1,1,1,1,1,1,1,1,1,1,1,1,1,1,1,1,1,1,1,1,1,1,1,1,1,1,1,1,1,1,1,1,1,1,1,1,1,1,1,1,1,1,1,1,1,1,1,1,1,1,1,1,1,1,1,1,1,1,1,1,1,1,1,1,1,1,1,1,1,1,1,1,1,1,1,1,1,1,1,1,1,1,1,1,1,1,1,1,1,1,1,1,1,1,1,1,1,1,1,1,1,1,1,1,1,1,1,1,1,1,1,1,1,1,1,1,1,1,1,1,1,1,1,1,1,1,1,1,1,1,1,1,1,1,1,1,1,1,1,1,1,1,1,1,1,1,1,1,1,1,1,1,1,1,1,1,1,1,1,1,1,1,1,1,1,1,1,1,1,1,1,1,1,1,1,1,1,1,1,1,1,1,1,1,1,1,1,1,1,1,1,1,1,1,1,1,1,1,1,1,1,1,1,1,1,1,1,1,1,1,1,1,1,1,1,1,1,1,1,1,1,1,1,1,1,1,1,1,1,1,1,1,1,1,1,1,1,1,1,1,1,1,1,1,1,1,1,1,1,1,1,1,1,1,1,1,1,1,1,1,1,1,1,1,1,1,1,1,1,1,1,1,1,1,1,1,1,1,1,1,1,1,1,1,1,1,1,1,1,1,1,1,1,1,1,1,1,1,1,1,1,1,1,1,1,1,1,1,1,1,1,1,1,1,1,1,1,1,1,1,1,1,1,1,1,1,1,1,1,1,1,1,1,1,1,1,1,1,1,1,1,1,1,1,1,1,1,1,1,1,1,1,1,1,1,1,1,1,1,1,1,1,1,1,1,1,1,1,1,1,1,1,1,1,1,1,1,1,1,1,1,1,1,1,1,1,1,1,1,1,1,1,1,1,1,1,1,1,1,1,1,1,1,1,1,1,1,1,1,1,1,1,1,1,1,1,1,1,1,1,1,1,1,1,1,1,1,1,1,1,1,1,1,1,1,1,1,1,1,1,1,1,1,1,1,1,1,1,1,1,1,1,1,1,1,1,1,1,1,1,1,1,1,1,1,1,1,1,1,1,1,1,1,1,1,1,1,1,1,1,1,1,1,1,1,1,1,1,1,1,1,1,1,1,1,1,1,1,1,1,1,1,1,1,1,1,1,1,1,1,1,1,1,1,1,1,1,1,1,1,1,1,1,1,1,1,1,1,1,1,1,1,1,1,1,1,1,1,1,1,1,1,1,1,1,1,1,1,1,1,1,1,1,1,1,1,1,1,1,1,1,1,1,1,1,1,1,1,1,1,1,1,1,1,1,1,1,1,1,1,1,1,1,1,1,1,1,1,1,1,1,1,1,1,1,1,1,1,1,1,1,1,1,1,1,1,1,1,1,1,1,1,1,1,1,1,1,1,1,1,1,1,1,1,1,1,1,1,1,1,1,1,1,1,1,1,1,1,1,1,1,1,1,1,1,1,1,1,1,1,1,1,1,1,1,1,1,1,1,1,1,1,1,1,1,1,1,1,1,1,1,1,1,1,1,1,1,1,1,1,1,1,1,1,1,1,1,1,1,1,1,1,1,1,1,1,1,1,1,1,1,1,1,1,1,1,1,1,1,1,1,1,1,1,1,1,1,1,1,1,1,1,1,1,1,1,1,1,1,1,1,1,1,1,1,1,1,1,1,1,1,1,1,1,1,1,1,1,1,1,1,1,1,1,1,1,1,1,1,1,1,1,1,1,1,1,1,1,1,1,1,1,1,1,1,1,1,1,1,1,1,1,1,1,1,1,1,1,1,1,1,1,1,1,1,1,1,1,1,1,1,1,1,1,1,1,1,1,1,1,1,1,1,1,1,1,1,1,1,1,1,1,1,1,1,1,1,1,1,1,1,1,1,1,1,1,1,1,1,1,1,1,1,1,1,1,1,1,1,1,1,1,1,1,1,1,1,1,1,1,1,1,1,1,1,1,1,1,1,1,1,1,1,1,1,1,1,1,1,1,1,1,1,1,1,1,1,1,1,1,1,1,1,1,1,1,1,1,1,1,1,1,1,1,1,1,1,1,1,1,1,1,1,1,1,1,1,1,1,1,1,1,1,1,1,1,1,1,1,1,1,1,1,1,1,1,1,1,1,1,1,1,1,1,1,1,1,1,1,1,1,1,1,1,1,1,1,1,1,1,1,1,1,1,1,1,1,1,1,1,1,1,1,1,1,1,1,1,1,1,1,1,1,1,1,1,1,1,1,1,1,1,1,1,1,1,1,1,1,1,1,1,1,1,1,1,1,1,1,1,1,1,1,1,1,1,1,1,1,1,1,1,1,1,1,1,1,1,1,1,1,1,1,1,1,1,1,1,1,1,1,1,1,1,1,1,1,1,1,1,1,1,1,1,1,1,1,1,1,1,1,1,1,1,1,1,1,1,1,1,1,1,1,1,1,1,1,1,1,1,1,1,1,1,1,1,1,1,1,1,1,1,1,1,1,1,1,1,1,1,1,1,1,1,1,1,1,1,1,1,1,1,1,1,1,1,1,1,1,1,1,1,1,1,1,1,1,1,1,1,1,1,1,1,1,1,1,1,1,1,1,1,1,1,1,1,1,1,1,1,1,1,1,1,1,1,1,1,1,1,1,1,1,1,1,1,1,1,1,1,1,1,1,1,1,1,1,1,1,1,1,1,1,1,1,1,1,1,1,1,1,1,1,1,1,1,1,1,1,1,1,1,1,1,1,1,1,1,1,1,1,1,1,1,1,1,1,1,1,1,1,1,1,1,1,1,1,1,1,1,1,1,1,1,1,1,1,1,1,1,1,1,1,1,1,1,1,1,1,1,1,1,1,1,1,1,1,1,1,1,1,1,1,1,1,1,1,1,1,1,1,1,1,1,1,1,1,1,1,1,1,1,1,1,1,1,1,1,1,1,1,1,1,1,1,1,1,1,1,1,1,1,1,1,1,1,1,1,1,1,1,1,1,1,1,1,1,1,1,1,1,1,1,1,1,1,1,1,1,1,1,1,1,1,1,1,1,1,1,1,1,1,1,1,1,1,1,1,1,1,1,1,1,1,1,1,1,1,1,1,1,1,1,1,1,1,1,1,1,1,1,1,1,1,1,1,1,1,1,1,1,1,1,1,1,1,1,1,1,1,1,1,1,1,1,1,1,1,1,1,1,1,1,1,1,1,1,1,1,1,1,1,1,1,1,1,1,1,1,1,1,1,1,1,1,1,1,1,1,1,1,1,1,1,1,1,1,1,1,1,1,1,1,1,1,1,1,1,1,1,1,1,1,1,1,1,1,1,1,1,1,1,1,1,1,1,1,1,1,1,1,1,1,1,1,1,1,1,1,1,1,1,1,1,1,1,1,1,1,1,1,1,1,1,1,1,1,1,1,1,1,1,1,1,1,1,1,1,1,1,1,1,1,1,1,1,1,1,1,1,1,1,1,1,1,1,1,1,1,1,1,1,1,1,1,1,1,1,1,1,1,1,1,1,1,1,1,1,1,1,1,1,1,1,1,1,1,1,1,1,1,1,1,1,1,1,1,1,1,1,1,1,1,1,1,1,1,1,1,1,1,1,1,1,1,1,1,1,1,1,1,1,1,1,1,1,1,1,1,1,1,1,1,1,1,1,1,1,1,1,1,1,1,1,1,1,1,1,1,1,1,1,1,1,1,1,1,1,1,1,1,1,1,1,1,1,1,1,1,1,1,1,1,1,1,1,1,1,1,1,1,1,1,1,1,1,1,1,1,1,1,1,1,1,1,1,1,1,1,1,1,1,1,1,1,1,1,1,1,1,1,1,1,1,1,1,1,1,1,1,1,1,1,1,1,1,1,1,1,1,1,1,1,1,1,1,1,1,1,1,1,1,1,1,1,1,1,1,1,1,1,1,1,1,1,1,1,1,1,1,1,1,1,1,1,1,1,1,1,1,1,1,1,1,1,1,1,1,1,1,1,1,1,1,1,1,1,1,1,1,1,1,1,1,1,1,1,1,1,1,1,1,1,1,1,1,1,1,1,1,1,1,1,1,1,1,1,1,1,1,1,1,1,1,1,1,1,1,1,1,1,1,1,1,1,1,1,1,1,1,1,1,1,1,1,1,1,1,1,1,1,1,1,1,1,1,1,1,1,1,1,1,1,1,1,1,1,1,1,1,1,1,1,1,1,1,1,1,1,1,1,1,1,1,1,1,1,1,1,1,1,1,1,1,1,1,1,1,1,1,1,1,1,1,1,1,1,1,1,1,1,1,1,1,1,1,1,1,1,1,1,1,1,1,1,1,1,1,1,1,1,1,1,1,1,1,1,1,1,1,1,1,1,1,1,1,1,1,1,1,1,1,1,1,1,1,1,1,1,1,1,1,1,1,1,1,1,1,1,1,1,1,1,1,1,1,1,1,1,1,1,1,1,1,1,1,1,1,1,1,1,1,1,1,1,1,1,1,1,1,1,1,1,1,1,1,1,1,1,1,1,1,1,1,1,1,1,1,1,1,1,1,1,1,1,1,1,1,1,1,1,1,1,1,1,1,1,1,1,1,1,1,1,1,1,1,1,1,1,1,1,1,1,1,1,1,1,1,1,1,1,1,1,1,1,1,1,1,1,1,1,1,1,1,1,1,1,1,1,1,1,1,1,1,1,1,1,1,1,1,1,1,1,1,1,1,1,1,1,1,1,1,1,1,1,1,1,1,1,1,1,1,1,1,1,1,1,1,1,1,1,1,1,1,1,1,1,1,1,1,1,1,1,1,1,1,1,1,1,1,1,1,1,1,1,1,1,1,1,1,1,1,1,1,1,1,1,1,1,1,1,1,1,1,1,1,1,1,1,1,1,1,1,1,1,1,1,1,1,1,1,1,1,1,1,1,1,1,1,1,1,1,1,1,1,1,1,1,1,1,1,1,1,1,1,1,1,1,1,1,1,1,1,1,1,1,1,1,1,1,1,1,1,1,1,1,1,1,1,1,1,1,1,1,1,1,1,1,1,1,1,1,1,1,1,1,1,1,1,1,1,1,1,1,1,1,1,1,1,1,1,1,1,1,1,1,1,1,1,1,1,1,1,1,1,1,1,1,1,1,1,1,1,1,1,1,1,1,1,1,1,1,1,1,1,1,1,1,1,1,1,1,1,1,1,1,1,1,1,1,1,1,1,1,1,1,1,1,1,1,1,1,1,1,1,1,1,1,1,1,1,1,1,1,1,1,1,1,1,1,1,1,1,1,1,1,1,1,1,1,1,1,1,1,1,1,1,1,1,1,1,1,1,1,1,1,1,1,1,1,1,1,1,1,1,1,1,1,1,1,1,1,1,1,1,1,1,1,1,1,1,1,1,1,1,1,1,1,1,1,1,1,1,1,1,1,1,1,1,1,1,1,1,1,1,1,1,1,1,1,1,1,1,1,1,1,1,1,1,1,1,1,1,1,1,1,1,1,1,1,1,1,1,1,1,1,1,1,1,1,1,1,1,1,1,1,1,1,1,1,1,1,1,1,1,1,1,1,1,1,1,1,1,1,1,1,1,1,1,1,1,1,1,1,1,1,1,1,1,1,1,1,1,1,1,1,1,1,1,1,1,1,1,1,1,1,1,1,1,1,1,1,1,1,1,1,1,1,1,1,1,1,1,1,1,1,1,1,1,1,1,1,1,1,1,1,1,1,1,1,1,1,1,1,1,1,1,1,1,1,1,1,1,1,1,1,1,1,1,1,1,1,1,1,1,1,1,1,1,1,1,1,1,1,1,1,1,1,1,1,1,1,1,1,1,1,1,1,1,1,1,1,1,1,1,1,1,1,1,1,1,1,1,1,1,1,1,1,1,1,1,1,1,1,1,1,1,1,1,1,1,1,1,1,1,1,1,1,1,1,1,1,1,1,1,1,1,1,1,1,1,1,1,1,1,1,1,1,1,1,1,1,1,1,1,1,1,1,1,1,1,1,1,1,1,1,1,1,1,1,1,1,1,1,1,1,1,1,1,1,1,1,1,1,1,1,1,1,1,1,1,1,1,1,1,1,1,1,1,1,1,1,1,1,1,1,1,1,1,1,1,1,1,1,1,1,1,1,1,1,1,1,1,1,1,1,1,1,1,1,1,1,1,1,1,1,1,1,1,1,1,1,1,1,1,1,1,1,1,1,1,1,1,1,1,1,1,1,1,1,1,1,1,1,1,1,1,1,1,1,1,1,1,1,1,1,1,1,1,1,1,1,1,1,1,1,1,1,1,1,1,1,1,1,1,1,1,1,1,1,1,1,1,1,1,1,1,1,1,1,1,1,1,1,1,1,1,1,1,1,1,1,1,1,1,1,1,1,1,1,1,1,1,1,1,1,1,1,1,1,1,1,1,1,1,1,1,1,1,1,1,1,1,1,1,1,1,1,1,1,1,1,1,1,1,1,1,1,1,1,1,1,1,1,1,1,1,1,1,1,1,1,1,1,1,1,1,1,1,1,1,1,1,1,1,1,1,1,1,1,1,1,1,1,1,1,1,1,1,1,1,1,1,1,1,1,1,1,1,1,1,1,1,1,1,1,1,1,1,1,1,1,1,1,1,1,1,1,1,1,1,1,1,1,1,1,1,1,1,1,1,1,1,1,1,1,1,1,1,1,1,1,1,1,1,1,1,1,1,1,1,1,1,1,1,1,1,1,1,1,1,1,1,1,1,1,1,1,1,1,1,1,1,1,1,1,1,1,1,1,1,1,1,1,1,1,1,1,1,1,1,1,1,1,1,1,1,1,1,1,1,1,1,1,1,1,1,1,1,1,1,1,1,1,1,1,1,1,1,1,1,1,1,1,1,1,1,1,1,1,1,1,1,1,1,1,1,1,1,1,1,1,1,1,1,1,1,1,1,1,1,1,1,1,1,1,1,1,1,1,1,1,1,1,1,1,1,1,1,1,1,1,1,1,1,1,1,1,1,1,1,1,1,1,1,1,1,1,1,1,1,1,1,1,1,1,1,1,1,1,1,1,1,1,1,1,1,1,1,1,1,1,1,1,1,1,1,1,1,1,1,1,1,1,1,1,1,1,1,1,1,1,1,1,1,1,1,1,1,1,1,1,1,1,1,1,1,1,1,1,1,1,1,1,1,1,1,1,1,1,1,1,1,1,1,1,1,1,1,1,1,1,1,1,1,1,1,1,1,1,1,1,1,1,1,1,1,1,1,1,1,1,1,1,1,1,1,1,1,1,1,1,1,1,1,1,1,1,1,1,1,1,1,1,1,1,1,1,1,1,1,1,1,1,1,1,1,1,1,1,1,1,1,1,1,1,1,1,1,1,1,1,1,1,1,1,1,1,1,1,1,1,1,1,1,1,1,1,1,1,1,1,1,1,1,1,1,1,1,1,1,1,1,1,1,1,1,1,1,1,1,1,1,1,1,1,1,1,1,1,1,1,1,1,1,1,1,1,1,1,1,1,1,1,1,1,1,1,1,1,1,1,1,1,1,1,1,1,1,1,1,1,1,1,1,1,1,1,1,1,1,1,1,1,1,1,1,1,1,1,1,1,1,1,1,1,1,1,1,1,1,1,1,1,1,1,1,1,1,1,1,1,1,1,1,1,1,1,1,1,1,1,1,1,1,1,1,1,1,1,1,1,1,1,1,1,1,1,1,1,1,1,1,1,1,1,1,1,1,1,1,1,1,1,1,1,1,1,1,1,1,1,1,1,1,1,1,1,1,1,1,1,1,1,1,1,1,1,1,1,1,1,1,1,1,1,1,1,1,1,1,1,1,1,1,1,1,1,1,1,1,1,1,1,1,1,1,1,1,1,1,1,1,1,1,1,1,1,1,1,1,1,1,1,1,1,1,1,1,1,1,1,1,1,1,1,1,1,1,1,1,1,1,1,1,1,1,1,1,1,1,1,1,1,1,1,1,1,1,1,1,1,1,1,1,1,1,1,1,1,1,1,1,1,1,1,1,1,1,1,1,1,1,1,1,1,1,1,1,1,1,1,1,1,1,1,1,1,1,1,1,1,1,1,1,1,1,1,1,1,1,1,1,1,1,1,1,1,1,1,1,1,1,1,1,1,1,1,1,1,1,1,1,1,1,1,1,1,1,1,1,1,1,1,1,1,1,1,1,1,1,1,1,1,1,1,1,1,1,1,1,1,1,1,1,1,1,1,1,1,1,1,1,1,1,1,1,1,1,1,1,1,1,1,1,1,1,1,1,1,1,1,1,1,1,1,1,1,1,1,1,1,1,1,1,1,1,1,1,1,1,1,1,1,1,1,1,1,1,1,1,1,1,1,1,1,1,1,1,1,1,1,1,1,1,1,1,1,1,1,1,1,1,1,1,1,1,1,1,1,1,1,1,1,1,1,1,1,1,1,1,1,1,1,1,1,1,1,1,1,1,1,1,1,1,1,1,1,1,1,1,1,1,1,1,1,1,1,1,1,1,1,1,1,1,1,1,1,1,1,1,1,1,1,1,1,1,1,1,1,1,1,1,1,1,1,1,1,1,1,1,1,1,1,1,1,1,1,1,1,1,1,1,1,1,1,1,1,1,1,1,1,1,1,1,1,1,1,1,1,1,1,1,1,1,1,1,1,1,1,1,1,1,1,1,1,1,1,1,1,1,1,1,1,1,1,1,1,1,1,1,1,1,1,1,1,1,1,1,1,1,1,1,1,1,1,1,1,1,1,1,1,1,1,1,1,1,1,1,1,1,1,1,1,1,1,1,1,1,1,1,1,1,1,1,1,1,1,1,1,1,1,1,1,1,1,1,1,1,1,1,1,1,1,1,1,1,1,1,1,1,1,1,1,1,1,1,1,1,1,1,1,1,1,1,1,1,1,1,1,1,1,1,1,1,1,1,1,1,1,1,1,1,1,1,1,1,1,1,1,1,1,1,1,1,1,1,1,1,1,1,1,1,1,1,1,1,1,1,1,1,1,1,1,1,1,1,1,1,1,1,1,1,1,1,1,1,1,1,1,1,1,1,1,1,1,1,1,1,1,1,1,1,1,1,1,1,1,1,1,1,1,1,1,1,1,1,1,1,1,1,1,1,1,1,1,1,1,1,1,1,1,1,1,1,1,1,1,1,1,1,1,1,1,1,1,1,1,1,1,1,1,1,1,1,1,1,1,1,1,1,1,1,1,1,1,1,1,1,1,1,1,1,1,1,1,1,1,1,1,1,1,1,1,1,1,1,1,1,1,1,1,1,1,1,1,1,1,1,1,1,1,1,1,1,1,1,1,1,1,1,1,1,1,1,1,1,1,1,1,1,1,1,1,1,1,1,1,1,1,1,1,1,1,1,1,1,1,1,1,1,1,1,1,1,1,1,1,1,1,1,1,1,1,1,1,1,1,1,1,1,1,1,1,1,1,1,1,1,1,1,1,1,1,1,1,1,1,1,1,1,1,1,1,1,1,1,1,1,1,1,1,1,1,1,1,1,1,1,1,1,1,1,1,1,1,1,1,1,1,1,1,1,1,1,1,1,1,1,1,1,1,1,1,1,1,1,1,1,1,1,1,1,1,1,1,1,1,1,1,1,1,1,1,1,1,1,1,1,1,1,1,1,1,1,1,1,1,1,1,1,1,1,1,1,1,1,1,1,1,1,1,1,1,1,1,1,1,1,1,1,1,1,1,1,1,1,1,1,1,1,1,1,1,1,1,1,1,1,1,1,1,1,1,1,1,1,1,1,1,1,1,1,1,1,1,1,1,1,1,1,1,1,1,1,1,1,1,1,1,1,1,1,1,1,1,1,1,1,1,1,1,1,1,1,1,1,1,1,1,1,1,1,1,1,1,1,1,1,1,1,1,1,1,1,1,1,1,1,1,1,1,1,1,1,1,1,1,1,1,1,1,1,1,1,1,1,1,1,1,1,1,1,1,1,1,1,1,1,1,1,1,1,1,1,1,1,1,1,1,1,1,1,1,1,1,1,1,1,1,1,1,1,1,1,1,1,1,1,1,1,1,1,1,1,1,1,1,1,1,1,1,1,1,1,1,1,1,1,1,1,1,1,1,1,1,1,1,1,1,1,1,1,1,1,1,1,1,1,1,1,1,1,1,1,1,1,1,1,1,1,1,1,1,1,1,1,1,1,1,1,1,1,1,1,1,1,1,1,1,1,1,1,1,1,1,1,1,1,1,1,1,1,1,1,1,1,1,1,1,1,1,1,1,1,1,1,1,1,1,1,1,1,1,1,1,1,1,1,1,1,1,1,1,1,1,1,1,1,1,1,1,1,1,1,1,1,1,1,1,1,1,1,1,1,1,1,1,1,1,1,1,1,1,1,1,1,1,1,1,1,1,1,1,1,1,1,1,1,1,1,1,1,1,1,1,1,1,1,1,1,1,1,1,1,1,1,1,1,1,1,1,1,1,1,1,1,1,1,1,1,1,1,1,1,1,1,1,1,1,1,1,1,1,1,1,1,1,1,1,1,1,1,1,1,1,1,1,1,1,1,1,1,1,1,1,1,1,1,1,1,1,1,1,1,1,1,1,1,1,1,1,1,1,1,1,1,1,1,1,1,1,1,1,1,1,1,1,1,1,1,1,1,1,1,1,1,1,1,1,1,1,1,1,1,1,1,1,1,1,1,1,1,1,1,1,1,1,1,1,1,1,1,1,1,1,1,1,1,1,1,1,1,1,1,1,1,1,1,1,1,1,1,1,1,1,1,1,1,1,1,1,1,1,1,1,1,1,1,1,1,1,1,1,1,1,1,1,1,1,1,1,1,1,1,1,1,1,1,1,1,1,1,1,1,1,1,1,1,1,1,1,1,1,1,1,1,1,1,1,1,1,1,1,1,1,1,1,1,1,1,1,1,1,1,1,1,1,1,1,1,1,1,1,1,1,1,1,1,1,1,1,1,1,1,1,1,1,1,1,1,1,1,1,1,1,1,1,1,1,1,1,1,1,1,1,1,1,1,1,1,1,1,1,1,1,1,1,1,1,1,1,1,1,1,1,1,1,1,1,1,1,1,1,1,1,1,1,1,1,1,1,1,1,1,1,1,1,1,1,1,1,1,1,1,1,1,1,1,1,1,1,1,1,1,1,1,1,1,1,1,1,1,1,1,1,1,1,1,1,1,1,1,1,1,1,1,1,1,1,1,1,1,1,1,1,1,1,1,1,1,1,1,1,1,1,1,1,1,1,1,1,1,1,1,1,1,1,1,1,1,1,1,1,1,1,1,1,1,1,1,1,1,1,1,1,1,1,1,1,1,1,1,1,1,1,1,1,1,1,1,1,1,1,1,1,1,1,1,1,1,1,1,1,1,1,1,1,1,1,1,1,1,1,1,1,1,1,1,1,1,1,1,1,1,1,1,1,1,1,1,1,1,1,1,1,1,1,1,1,1,1,1,1,1,1,1,1,1,1,1,1,1,1,1,1,1,1,1,1,1,1,1,1,1,1,1,1,1,1,1,1,1,1,1,1,1,1,1,1,1,1,1,1,1,1,1,1,1,1,1,1,1,1,1,1,1,1,1,1,1,1,1,1,1,1,1,1,1,1,1,1,1,1,1,1,1,1,1,1,1,1,1,1,1,1,1,1,1,1,1,1,1,1,1,1,1,1,1,1,1,1,1,1,1,1,1,1,1,1,1,1,1,1,1,1,1,1,1,1,1,1,1,1,1,1,1,1,1,1,1,1,1,1,1,1,1,1,1,1,1,1,1,1,1,1,1,1,1,1,1,1,1,1,1,1,1,1,1,1,1,1,1,1,1,1,1,1,1,1,1,1,1,1,1,1,1,1,1,1,1,1,1,1,1,1,1,1,1,1,1,1,1,1,1,1,1,1,1,1,1,1,1,1,1,1,1,1,1,1,1,1,1,1,1,1,1,1,1,1,1,1,1,1,1,1,1,1,1,1,1,1,1,1,1,1,1,1,1,1,1,1,1,1,1,1,1,1,1,1,1,1,1,1,1,1,1,1,1,1,1,1,1,1,1,1,1,1,1,1,1,1,1,1,1,1,1,1,1,1,1,1,1,1,1,1,1,1,1,1,1,1,1,1,1,1,1,1,1,1,1,1,1,1,1,1,1,1,1,1,1,1,1,1,1,1,1,1,1,1,1,1,1,1,1,1,1,1,1,1,1,1,1,1,1,1,1,1,1,1,1,1,1,1,1,1,1,1,1,1,1,1,1,1,1,1,1,1,1,1,1,1,1,1,1,1,1,1,1,1,1,1,1,1,1,1,1,1,1,1,1,1,1,1,1,1,1,1,1,1,1,1,1,1,1,1,1,1,1,1,1,1,1,1,1,1,1,1,1,1,1,1,1,1,1,1,1,1,1,1,1,1,1,1,1,1,1,1,1,1,1,1,1,1,1,1,1,1,1,1,1,1,1,1,1,1,1,1,1,1,1,1,1,1,1,1,1,1,1,1,1,1,1,1,1,1,1,1,1,1,1,1,1,1,1,1,1,1,1,1,1,1,1,1,1,1,1,1,1,1,1,1,1,1,1,1,1,1,1,1,1,1,1,1,1,1,1,1,1,1,1,1,1,1,1,1,1,1,1,1,1,1,1,1,1,1,1,1,1,1,1,1,1,1,1,1,1,1,1,1,1,1,1,1,1,1,1,1,1,1,1,1,1,1,1,1,1,1,1,1,1,1,1,1,1,1,1,1,1,1,1,1,1,1,1,1,1,1,1,1,1,1,1,1,1,1,1,1,1,1,1,1,1,1,1,1,1,1,1,1,1,1,1,1,1,1,1,1,1,1,1,1,1,1,1,1,1,1,1,1,1,1,1,1,1,1,1,1,1,1,1,1,1,1,1,1,1,1,1,1,1,1,1,1,1,1,1,1,1,1,1,1,1,1,1,1,1,1,1,1,1,1,1,1,1,1,1,1,1,1,1,1,1,1,1,1,1,1,1,1,1,1,1,1,1,1,1,1,1,1,1,1,1,1,1,1,1,1,1,1,1,1,1,1,1,1,1,1,1,1,1,1,1,1,1,1,1,1,1,1,1,1,1,1,1,1,1,1,1,1,1,1,1,1,1,1,1,1,1,1,1,1,1,1,1,1,1,1,1,1,1,1,1,1,1,1,1,1,1,1,1,1,1,1,1,1,1,1,1,1,1,1,1,1,1,1,1,1,1,1,1,1,1,1,1,1,1,1,1,1,1,1,1,1,1,1,1,1,1,1,1,1,1,1,1,1,1,1,1,1,1,1,1,1,1,1,1,1,1,1,1,1,1,1,1,1,1,1,1,1,1,1,1,1,1,1,1,1,1,1,1,1,1,1,1,1,1,1,1,1,1,1,1,1,1,1,1,1,1,1,1,1,1,1,1,1,1,1,1,1,1,1,1,1,1,1,1,1,1,1,1,1,1,1,1,1,1,1,1,1,1,1,1,1,1,1,1,1,1,1,1,1,1,1,1,1,1,1,1,1,1,1,1,1,1,1,1,1,1,1,1,1,1,1,1,1,1,1,1,1,1,1,1,1,1,1,1,1,1,1,1,1,1,1,1,1,1,1,1,1,1,1,1,1,1,1,1,1,1,1,1,1,1,1,1,1,1,1,1,1,1,1,1,1,1,1,1,1,1,1,1,1,1,1,1,1,1,1,1,1,1,1,1,1,1,1,1,1,1,1,1,1,1,1,1,1,1,1,1,1,1,1,1,1,1,1,1,1,1,1,1,1,1,1,1,1,1,1,1,1,1,1,1,1,1,1,1,1,1,1,1,1,1,1,1,1,1,1,1,1,1,1,1,1,1,1,1,1,1,1,1,1,1,1,1,1,1,1,1,1,1,1,1,1,1,1,1,1,1,1,1,1,1,1,1,1,1,1,1,1,1,1,1,1,1,1,1,1,1,1,1,1,1,1,1,1,1,1,1,1,1,1,1,1,1,1,1,1,1,1,1,1,1,1,1,1,1,1,1,1,1,1,1,1,1,1,1,1,1,1,1,1,1,1,1,1,1,1,1,1,1,1,1,1,1,1,1,1,1,1,1,1,1,1,1,1,1,1,1,1,1,1,1,1,1,1,1,1,1,1,1,1,1,1,1,1,1,1,1,1,1,1,1,1,1,1,1,1,1,1,1,1,1,1,1,1,1,1,1,1,1,1,1,1,1,1,1,1,1,1,1,1,1,1,1,1,1,1,1,1,1,1,1,1,1,1,1,1,1,1,1,1,1,1,1,1,1,1,1,1,1,1,1,1,1,1,1,1,1,1,1,1,1,1,1,1,1,1,1,1,1,1,1,1,1,1,1,1,1,1,1,1,1,1,1,1,1,1,1,1,1,1,1,1,1,1,1,1,1,1,1,1,1,1,1,1,1,1,1,1,1,1,1,1,1,1,1,1,1,1,1,1,1,1,1,1,1,1,1,1,1,1,1,1,1,1,1,1,1,1,1,1,1,1,1,1,1,1,1,1,1,1,1,1,1,1,1,1,1,1,1,1,1,1,1,1,1,1,1,1,1,1,1,1,1,1,1,1,1,1,1,1,1,1,1,1,1,1,1,1,1,1,1,1,1,1,1,1,1,1,1,1,1,1,1,1,1,1,1,1,1,1,1,1,1,1,1,1,1,1,1,1,1,1,1,1,1,1,1,1,1,1,1,1,1,1,1,1,1,1,1,1,1,1,1,1,1,1,1,1,1,1,1,1,1,1,1,1,1,1,1,1,1,1,1,1,1,1,1,1,1,1,1,1,1,1,1,1,1,1,1,1,1,1,1,1,1,1,1,1,1,1,1,1,1,1,1,1,1,1,1,1,1,1,1,1,1,1,1,1,1,1,1,1,1,1,1,1,1,1,1,1,1,1,1,1,1,1,1,1,1,1,1,1,1,1,1,1,1,1,1,1,1,1,1,1,1,1,1,1,1,1,1,1,1,1,1,1,1,1,1,1,1,1,1,1,1,1,1,1,1,1,1,1,1,1,1,1,1,1,1,1,1,1,1,1,1,1,1,1,1,1,1,1,1,1,1,1,1,1,1,1,1,1,1,1,1,1,1,1,1,1,1,1,1,1,1,1,1,1,1,1,1,1,1,1,1,1,1,1,1,1,1,1,1,1,1,1,1,1,1,1,1,1,1,1,1,1,1,1,1,1,1,1,1,1,1,1,1,1,1,1,1,1,1,1,1,1,1,1,1,1,1,1,1,1,1,1,1,1,1,1,1,1,1,1,1,1,1,1,1,1,1,1,1,1,1,1,1,1,1,1,1,1,1,1,1,1,1,1,1,1,1,1,1,1,1,1,1,1,1,1,1,1,1,1,1,1,1,1,1,1,1,1,1,1,1,1,1,1,1,1,1,1,1,1,1,1,1,1,1,1,1,1,1,1,1,1,1,1,1,1,1,1,1,1,1,1,1,1,1,1,1,1,1,1,1,1,1,1,1,1,1,1,1,1,1,1,1,1,1,1,1,1,1,1,1,1,1,1,1,1,1,1,1,1,1,1,1,1,1,1,1,1,1,1,1,1,1,1,1,1,1,1,1,1,1,1,1,1,1,1,1,1,1,1,1,1,1,1,1,1,1,1,1,1,1,1,1,1,1,1,1,1,1,1,1,1,1,1,1,1,1,1,1,1,1,1,1,1,1,1,1,1,1,1,1,1,1,1,1,1,1,1,1,1,1,1,1,1,1,1,1,1,1,1,1,1,1,1,1,1,1,1,1,1,1,1,1,1,1,1,1,1,1,1,1,1,1,1,1,1,1,1,1,1,1,1,1,1,1,1,1,1,1,1,1,1,1,1,1,1,1,1,1,1,1,1,1,1,1,1,1,1,1,1,1,1,1,1,1,1,1,1,1,1,1,1,1,1,1,1,1,1,1,1,1,1,1,1,1,1,1,1,1,1,1,1,1,1,1,1,1,1,1,1,1,1,1,1,1,1,1,1,1,1,1,1,1,1,1,1,1,1,1,1,1,1,1,1,1,1,1,1,1,1,1,1,1,1,1,1,1,1,1,1,1,1,1,1,1,1,1,1,1,1,1,1,1,1,1,1,1,1,1,1,1,1,1,1,1,1,1,1,1,1,1,1,1,1,1,1,1,1,1,1,1,1,1,1,1,1,1,1,1,1,1,1,1,1,1,1,1,1,1,1,1,1,1,1,1,1,1,1,1,1,1,1,1,1,1,1,1,1,1,1,1,1,1,1,1,1,1,1,1,1,1,1,1,1,1,1,1,1,1,1,1,1,1,1,1,1,1,1,1,1,1,1,1,1,1,1,1,1,1,1,1,1,1,1,1,1,1,1,1,1,1,1,1,1,1,1,1,1,1,1,1,1,1,1,1,1,1,1,1,1,1,1,1,1,1,1,1,1,1,1,1,1,1,1,1,1,1,1,1,1,1,1,1,1,1,1,1,1,1,1,1,1,1,1,1,1,1,1,1,1,1,1,1,1,1,1,1,1,1,1,1,1,1,1,1,1,1,1,1,1,1,1,1,1,1,1,1,1,1,1,1,1,1,1,1,1,1,1,1,1,1,1,1,1,1,1,1,1,1,1,1,1,1,1,1,1,1,1,1,1,1,1,1,1,1,1,1,1,1,1,1,1,1,1,1,1,1,1,1,1,1,1,1,1,1,1,1,1,1,1,1,1,1,1,1,1,1,1,1,1,1,1,1,1,1,1,1,1,1,1,1,1,1,1,1,1,1,1,1,1,1,1,1,1,1,1,1,1,1,1,1,1,1,1,1,1,1,1,1,1,1,1,1,1,1,1,1,1,1,1,1,1,1,1,1,1,1,1,1,1,1,1,1,1,1,1,1,1,1,1,1,1,1,1,1,1,1,1,1,1,1,1,1,1,1,1,1,1,1,1,1,1,1,1,1,1,1,1,1,1,1,1,1,1,1,1,1,1,1,1,1,1,1,1,1,1,1,1,1,1,1,1,1,1,1,1,1,1,1,1,1,1,1,1,1,1,1,1,1,1,1,1,1,1,1,1,1,1,1,1,1,1,1,1,1,1,1,1,1,1,1,1,1,1,1,1,1,1,1,1,1,1,1,1,1,1,1,1,1,1,1,1,1,1,1,1,1,1,1,1,1,1,1,1,1,1,1,1,1,1,1,1,1,1,1,1,1,1,1,1,1,1,1,1,1,1,1,1,1,1,1,1,1,1,1,1,1,1,1,1,1,1,1,1,1,1,1,1,1,1,1,1,1,1,1,1,1,1,1,1,1,1,1,1,1,1,1,1,1,1,1,1,1,1,1,1,1,1,1,1,1,1,1,1,1,1,1,1,1,1,1,1,1,1,1,1,1,1,1,1,1,1,1,1,1,1,1,1,1,1,1,1,1,1,1,1,1,1,1,1,1,1,1,1,1,1,1,1,1,1,1,1,1,1,1,1,1,1,1,1,1,1,1,1,1,1,1,1,1,1,1,1,1,1,1,1,1,1,1,1,1,1,1,1,1,1,1,1,1,1,1,1,1,1,1,1,1,1,1,1,1,1,1,1,1,1,1,1,1,1,1,1,1,1,1,1,1,1,1,1,1,1,1,1,1,1,1,1,1,1,1,1,1,1,1,1,1,1,1,1,1,1,1,1,1,1,1,1,1,1,1,1,1,1,1,1,1,1,1,1,1,1,1,1,1,1,1,1,1,1,1,1,1,1,1,1,1,1,1,1,1,1,1,1,1,1,1,1,1,1,1,1,1,1,1,1,1,1,1,1,1,1,1,1,1,1,1,1,1,1,1,1,1,1,1,1,1,1,1,1,1,1,1,1,1,1,1,1,1,1,1,1,1,1,1,1,1,1,1,1,1,1,1,1,1,1,1,1,1,1,1,1,1,1,1,1,1,1,1,1,1,1,1,1,1,1,1,1,1,1,1,1,1,1,1,1,1,1,1,1,1,1,1,1,1,1,1,1,1,1,1,1,1,1,1,1,1,1,1,1,1,1,1,1,1,1,1,1,1,1,1,1,1,1,1,1,1,1,1,1,1,1,1,1,1,1,1,1,1,1,1,1,1,1,1,1,1,1,1,1,1,1,1,1,1,1,1,1,1,1,1,1,1,1,1,1,1,1,1,1,1,1,1,1,1,1,1,1,1,1,1,1,1,1,1,1,1,1,1,1,1,1,1,1,1,1,1,1,1,1,1,1,1,1,1,1,1,1,1,1,1,1,1,1,1,1,1,1,1,1,1,1,1,1,1,1,1,1,1,1,1,1,1,1,1,1,1,1,1,1,1,1,1,1,1,1,1,1,1,1,1,1,1,1,1,1,1,1,1,1,1,1,1,1,1,1,1,1,1,1,1,1,1,1,1,1,1,1,1,1,1,1,1,1,1,1,1,1,1,1,1,1,1,1,1,1,1,1,1,1,1,1,1,1,1,1,1,1,1,1,1,1,1,1,1,1,1,1,1,1,1,1,1,1,1,1,1,1,1,1,1,1,1,1,1,1,1,1,1,1,1,1,1,1,1,1,1,1,1,1,1,1,1,1,1,1,1,1,1,1,1,1,1,1,1,1,1,1,1,1,1,1,1,1,1,1,1,1,1,1,1,1,1,1,1,1,1,1,1,1,1,1,1,1,1,1,1,1,1,1,1,1,1,1,1,1,1,1,1,1,1,1,1,1,1,1,1,1,1,1,1,1,1,1,1,1,1,1,1,1,1,1,1,1,1,1,1,1,1,1,1,1,1,1,1,1,1,1,1,1,1,1,1,1,1,1,1,1,1,1,1,1,1,1,1,1,1,1,1,1,1,1,1,1,1,1,1,1,1,1,1,1,1,1,1,1,1,1,1,1,1,1,1,1,1,1,1,1,1,1,1,1,1,1,1,1,1,1,1,1,1,1,1,1,1,1,1,1,1,1,1,1,1,1,1,1,1,1,1,1,1,1,1,1,1,1,1,1,1,1,1,1,1,1,1,1,1,1,1,1,1,1,1,1,1,1,1,1,1,1,1,1,1,1,1,1,1,1,1,1,1,1,1,1,1,1,1,1,1,1,1,1,1,1,1,1,1,1,1,1,1,1,1,1,1,1,1,1,1,1,1,1,1,1,1,1,1,1,1,1,1,1,1,1,1,1,1,1,1,1,1,1,1,1,1,1,1,1,1,1,1,1,1,1,1,1,1,1,1,1,1,1,1,1,1,1,1,1,1,1,1,1,1,1,1,1,1,1,1,1,1,1,1,1,1,1,1,1,1,1,1,1,1,1,1,1,1,1,1,1,1,1,1,1,1,1,1,1,1,1,1,1,1,1,1,1,1,1,1,1,1,1,1,1,1,1,1,1,1,1,1,1,1,1,1,1,1,1,1,1,1,1,1,1,1,1,1,1,1,1,1,1,1,1,1,1,1,1,1,1,1,1,1,1,1,1,1,1,1,1,1,1,1,1,1,1,1,1,1,1,1,1,1,1,1,1,1,1,1,1,1,1,1,1,1,1,1,1,1,1,1,1,1,1,1,1,1,1,1,1,1,1,1,1,1,1,1,1,1,1,1,1,1,1,1,1,1,1,1,1,1,1,1,1,1,1,1,1,1,1,1,1,1,1,1,1,1,1,1,1,1,1,1,1,1,1,1,1,1,1,1,1,1,1,1,1,1,1,1,1,1,1,1,1,1,1,1,1,1,1,1,1,1,1,1,1,1,1,1,1,1,1,1,1,1,1,1,1,1,1,1,1,1,1,1,1,1,1,1,1,1,1,1,1,1,1,1,1,1,1,1,1,1,1,1,1,1,1,1,1,1,1,1,1,1,1,1,1,1,1,1,1,1,1,1,1,1,1,1,1,1,1,1,1,1,1,1,1,1,1,1,1,1,1,1,1,1,1,1,1,1,1,1,1,1,1,1,1,1,1,1,1,1,1,1,1,1,1,1,1,1,1,1,1,1,1,1,1,1,1,1,1,1,1,1,1,1,1,1,1,1,1,1,1,1,1,1,1,1,1,1,1,1,1,1,1,1,1,1,1,1,1,1,1,1,1,1,1,1,1,1,1,1,1,1,1,1,1,1,1,1,1,1,1,1,1,1,1,1,1,1,1,1,1,1,1,1,1,1,1,1,1,1,1,1,1,1,1,1,1,1,1,1,1,1,1,1,1,1,1,1,1,1,1,1,1,1,1,1,1,1,1,1,1,1,1,1,1,1,1,1,1,1,1,1,1,1,1,1,1,1,1,1,1,1,1,1,1,1,1,1,1,1,1,1,1,1,1,1,1,1,1,1,1,1,1,1,1,1,1,1,1,1,1,1,1,1,1,1,1,1,1,1,1,1,1,1,1,1,1,1,1,1,1,1,1,1,1,1,1,1,1,1,1,1,1,1,1,1,1,1,1,1,1,1,1,1,1,1,1,1,1,1,1,1,1,1,1,1,1,1,1,1,1,1,1,1,1,1,1,1,1,1,1,1,1,1,1,1,1,1,1,1,1,1,1,1,1,1,1,1,1,1,1,1,1,1,1,1,1,1,1,1,1,1,1,1,1,1,1,1,1,1,1,1,1,1,1,1,1,1,1,1,1,1,1,1,1,1,1,1,1,1,1,1,1,1,1,1,1,1,1,1,1,1,1,1,1,1,1,1,1,1,1,1,1,1,1,1,1,1,1,1,1,1,1,1,1,1,1,1,1,1,1,1,1,1,1,1,1,1,1,1,1,1,1,1,1,1,1,1,1,1,1,1,1,1,1,1,1,1,1,1,1,1,1,1,1,1,1,1,1,1,1,1,1,1,1,1,1,1,1,1,1,1,1,1,1]
[]
[]
[]
[]
[]
[]
["Product","Rate"]
[null,"Jan","Feb","March","April","May","June","July","Aug","Sep","Oct","Nov","Dec"]
[{"$f":"IF(A27<>\"\",A27,\"\")","v":""},{"$f":"IF(AND($C$33<>0,$C$34=1),C27/$C$33,0)","v":0},{"$f":"IF(AND($D$33<>0,$D$34=1),D27/$D$33,0)","v":0},{"$f":"IF(AND($E$33<>0,$E$34=1),E27/$E$33,0)","v":0},{"$f":"IF(AND($F$33<>0,$F$34=1),F27/$F$33,0)","v":0},{"$f":"IF(AND($G$33<>0,$G$34=1),G27/$G$33,0)","v":0},{"$f":"IF(AND($H$33<>0,$H$34=1),H27/$H$33,0)","v":0},{"$f":"IF(AND($I$33<>0,$I$34=1),I27/$I$33,0)","v":0},{"$f":"IF(AND($J$33<>0,$J$34=1),J27/$J$33,0)","v":0},{"$f":"IF(AND($K$33<>0,$K$34=1),K27/$K$33,0)","v":0},{"$f":"IF(AND($L$33<>0,$L$34=1),L27/$L$33,0)","v":0},{"$f":"IF(AND($M$33<>0,$M$34=1),M27/$M$33,0)","v":0},{"$f":"IF(AND($N$33<>0,$N$34=1),N27/$N$33,0)","v":0}]
[{"$f":"IF(A28<>\"\",A28,\"\")","v":""},{"$f":"IF(AND($C$33<>0,$C$34=1),C28/$C$33,0)","v":0},{"$f":"IF(AND($D$33<>0,$D$34=1),D28/$D$33,0)","v":0},{"$f":"IF(AND($E$33<>0,$E$34=1),E28/$E$33,0)","v":0},{"$f":"IF(AND($F$33<>0,$F$34=1),F28/$F$33,0)","v":0},{"$f":"IF(AND($G$33<>0,$G$34=1),G28/$G$33,0)","v":0},{"$f":"IF(AND($H$33<>0,$H$34=1),H28/$H$33,0)","v":0},{"$f":"IF(AND($I$33<>0,$I$34=1),I28/$I$33,0)","v":0},{"$f":"IF(AND($J$33<>0,$J$34=1),J28/$J$33,0)","v":0},{"$f":"IF(AND($K$33<>0,$K$34=1),K28/$K$33,0)","v":0},{"$f":"IF(AND($L$33<>0,$L$34=1),L28/$L$33,0)","v":0},{"$f":"IF(AND($M$33<>0,$M$34=1),M28/$M$33,0)","v":0},{"$f":"IF(AND($N$33<>0,$N$34=1),N28/$N$33,0)","v":0}]
[{"$f":"IF(A29<>\"\",A29,\"\")","v":""},{"$f":"IF(AND($C$33<>0,$C$34=1),C29/$C$33,0)","v":0},{"$f":"IF(AND($D$33<>0,$D$34=1),D29/$D$33,0)","v":0},{"$f":"IF(AND($E$33<>0,$E$34=1),E29/$E$33,0)","v":0},{"$f":"IF(AND($F$33<>0,$F$34=1),F29/$F$33,0)","v":0},{"$f":"IF(AND($G$33<>0,$G$34=1),G29/$G$33,0)","v":0},{"$f":"IF(AND($H$33<>0,$H$34=1),H29/$H$33,0)","v":0},{"$f":"IF(AND($I$33<>0,$I$34=1),I29/$I$33,0)","v":0},{"$f":"IF(AND($J$33<>0,$J$34=1),J29/$J$33,0)","v":0},{"$f":"IF(AND($K$33<>0,$K$34=1),K29/$K$33,0)","v":0},{"$f":"IF(AND($L$33<>0,$L$34=1),L29/$L$33,0)","v":0},{"$f":"IF(AND($M$33<>0,$M$34=1),M29/$M$33,0)","v":0},{"$f":"IF(AND($N$33<>0,$N$34=1),N29/$N$33,0)","v":0}]
[{"$f":"IF(A30<>\"\",A30,\"\")","v":""},{"$f":"IF(AND($C$33<>0,$C$34=1),C30/$C$33,0)","v":0},{"$f":"IF(AND($D$33<>0,$D$34=1),D30/$D$33,0)","v":0},{"$f":"IF(AND($E$33<>0,$E$34=1),E30/$E$33,0)","v":0},{"$f":"IF(AND($F$33<>0,$F$34=1),F30/$F$33,0)","v":0},{"$f":"IF(AND($G$33<>0,$G$34=1),G30/$G$33,0)","v":0},{"$f":"IF(AND($H$33<>0,$H$34=1),H30/$H$33,0)","v":0},{"$f":"IF(AND($I$33<>0,$I$34=1),I30/$I$33,0)","v":0},{"$f":"IF(AND($J$33<>0,$J$34=1),J30/$J$33,0)","v":0},{"$f":"IF(AND($K$33<>0,$K$34=1),K30/$K$33,0)","v":0},{"$f":"IF(AND($L$33<>0,$L$34=1),L30/$L$33,0)","v":0},{"$f":"IF(AND($M$33<>0,$M$34=1),M30/$M$33,0)","v":0},{"$f":"IF(AND($N$33<>0,$N$34=1),N30/$N$33,0)","v":0}]
[{"$f":"IF(A31<>\"\",A31,\"\")","v":""},{"$f":"IF(AND($C$33<>0,$C$34=1),C31/$C$33,0)","v":0},{"$f":"IF(AND($D$33<>0,$D$34=1),D31/$D$33,0)","v":0},{"$f":"IF(AND($E$33<>0,$E$34=1),E31/$E$33,0)","v":0},{"$f":"IF(AND($F$33<>0,$F$34=1),F31/$F$33,0)","v":0},{"$f":"IF(AND($G$33<>0,$G$34=1),G31/$G$33,0)","v":0},{"$f":"IF(AND($H$33<>0,$H$34=1),H31/$H$33,0)","v":0},{"$f":"IF(AND($I$33<>0,$I$34=1),I31/$I$33,0)","v":0},{"$f":"IF(AND($J$33<>0,$J$34=1),J31/$J$33,0)","v":0},{"$f":"IF(AND($K$33<>0,$K$34=1),K31/$K$33,0)","v":0},{"$f":"IF(AND($L$33<>0,$L$34=1),L31/$L$33,0)","v":0},{"$f":"IF(AND($M$33<>0,$M$34=1),M31/$M$33,0)","v":0},{"$f":"IF(AND($N$33<>0,$N$34=1),N31/$N$33,0)","v":0}]
[null,{"$f":"IF($C$33<>0,C32/$C$33,0)","v":0},{"$f":"IF($D$33<>0,D32/$D$33,0)","v":0},{"$f":"IF($E$33<>0,E32/$E$33,0)","v":0},{"$f":"IF($F$33<>0,F32/$F$33,0)","v":0},{"$f":"IF($G$33<>0,G32/$G$33,0)","v":0},{"$f":"IF($H$33<>0,H32/$H$33,0)","v":0},{"$f":"IF($I$33<>0,I32/$I$33,0)","v":0},{"$f":"IF($J$33<>0,J32/$J$33,0)","v":0},{"$f":"IF($K$33<>0,K32/$K$33,0)","v":0},{"$f":"IF($L$33<>0,L32/$L$33,0)","v":0},{"$f":"IF($M$33<>0,M32/$M$33,0)","v":0},{"$f":"IF($N$33<>0,N32/$N$33,0)","v":0}]
["Total",{"$f":"SUM(B43:B48)","v":0},0,0,0,0,0,0,0,0,0,0,0]
[]
["Select a product for life cycle GHG calculations"]
[]
[null,null,"Tháng 1","Tháng 2","Tháng 3","Tháng 4","Tháng 5","Tháng 6","Tháng 7","Tháng 8","Tháng 9","Tháng 10","Tháng 11","Tháng 12"]
["Tỷ lệ phát thải từ sản phẩm",null,0,0,0,0,0,0,0,0,0,0,0,0]
[]
[null,null,"Jan","Feb","March","April","May","June","July","Aug","Sep","Oct","Nov","Dec"]
["GHG Emission rate",null,{"$f":"IF($E$51<>0,VLOOKUP($E$51,$A$43:$M$49,2,0),0)","v":0},{"$f":"IF($E$51<>0,VLOOKUP($E$51,$A$43:$M$49,3,0),0)","v":0},{"$f":"IF($E$51<>0,VLOOKUP($E$51,$A$43:$M$49,4,0),0)","v":0},{"$f":"IF($E$51<>0,VLOOKUP($E$51,$A$43:$M$49,7,0),0)","v":0},{"$f":"IF($E$51<>0,VLOOKUP($E$51,$A$43:$M$49,6,0),0)","v":0},{"$f":"IF($E$51<>0,VLOOKUP($E$51,$A$43:$M$49,7,0),0)","v":0},{"$f":"IF($E$51<>0,VLOOKUP($E$51,$A$43:$M$49,8,0),0)","v":0},{"$f":"IF($E$51<>0,VLOOKUP($E$51,$A$43:$M$49,9,0),0)","v":0},{"$f":"IF($E$51<>0,VLOOKUP($E$51,$A$43:$M$49,10,0),0)","v":0},{"$f":"IF($E$51<>0,VLOOKUP($E$51,$A$43:$M$49,11,0),0)","v":0},{"$f":"IF($E$51<>0,VLOOKUP($E$51,$A$43:$M$49,12,0),0)","v":0},{"$f":"IF($E$51<>0,VLOOKUP($E$51,$A$43:$M$49,13,0),0)","v":0}]

{"sheet":"SOLAR PV PHASE 1","index":25,"n_rows":34,"n_cols":18,"rows_kept":34,"cut":false,"hidden":true,"merged":[[12,17,13,17],[25,2,25,13],[25,14,26,14],[1,0,1,19],[12,1,13,1],[12,3,13,3],[12,4,13,4],[12,5,12,16],[25,1,26,1],[12,2,13,2],[20,1,20,4]]}
[]
["INPUT DATA PHASE 1: PRODUCTION AND TRANSPORTATION OF RAW MATERIALS"]
[]
[]
[]
[]
[]
[]
[]
[]
[]
[]
[null,"Fuel","Describe","Unit","Emission Factor (tCO2eq/unit)","Fuel quantity",null,null,null,null,null,null,null,null,null,null,null,"Total"]
[null,null,null,null,null,"Jan","Feb","March","April","May","June","July","Aug","Sep","Oct","Nov","Dec"]
[null,null,null,null,null,null,null,null,null,null,null,null,null,null,null,null,null,{"$f":"SUM(F15:Q15)","v":0}]
[null,null,null,null,null,null,null,null,null,null,null,null,null,null,null,null,null,{"$f":"SUM(F16:Q16)","v":0}]
[null,null,null,null,null,null,null,null,null,null,null,null,null,null,null,null,null,{"$f":"SUM(F17:Q17)","v":0}]
[null,null,null,null,null,null,null,null,null,null,null,null,null,null,null,null,null,{"$f":"SUM(F18:Q18)","v":0}]
[null,null,null,null,null,null,null,null,null,null,null,null,null,null,null,null,null,{"$f":"SUM(F19:Q19)","v":0}]
[]
[null,"Total",null,null,null,{"$f":"SUM(F15:F20)","v":0},{"$f":"SUM(G15:G20)","v":0},0,0,0,0,0,0,0,0,0,0,0]
[]
[]
[]
[]
[null,"Fuel","Emissions from phase 1: Production and transportation of raw materials to produce products (tons CO2eq)",null,null,null,null,null,null,null,null,null,null,null,"Total"]
[null,null,"Jan","Feb","March","April","May","June","July","Aug","Sep","Oct","Nov","Dec"]
[null,{"$f":"IF(B15<>\"\",B15,\"\")","v":""},{"$f":"IF('SOLAR PV PRODUCTS'!$C$34=1,F15*E15*'SOLAR PV PRODUCTS'!$C$57,F15*E15*'SOLAR PV PRODUCTS'!$C$54)","v":0},{"$f":"IF('SOLAR PV PRODUCTS'!$D$34,G15*E15*'SOLAR PV PRODUCTS'!$D$57,G15*E15*'SOLAR PV PRODUCTS'!$D$54)","v":0},{"$f":"IF('SOLAR PV PRODUCTS'!$E$34=1,H15*E15*'SOLAR PV PRODUCTS'!$E$57,H15*E15*'SOLAR PV PRODUCTS'!$E$54)","v":0},{"$f":"IF('SOLAR PV PRODUCTS'!$F$34,I15*E15*'SOLAR PV PRODUCTS'!$F$57,I15*E15*'SOLAR PV PRODUCTS'!$F$54)","v":0},{"$f":"IF('SOLAR PV PRODUCTS'!$G$34=1,J15*E15*'SOLAR PV PRODUCTS'!$G$57,J15*E15*'SOLAR PV PRODUCTS'!$G$54)","v":0},{"$f":"IF('SOLAR PV PRODUCTS'!$H$34=1,K15*E15*'SOLAR PV PRODUCTS'!$H$57,K15*E15*'SOLAR PV PRODUCTS'!$H$54)","v":0},{"$f":"IF('SOLAR PV PRODUCTS'!$I$34=1,L15*E15*'SOLAR PV PRODUCTS'!$I$57,L15*E15*'SOLAR PV PRODUCTS'!$I$54)","v":0},{"$f":"IF('SOLAR PV PRODUCTS'!$J$34=1,M15*E15*'SOLAR PV PRODUCTS'!$J$57,M15*E15*'SOLAR PV PRODUCTS'!$J$54)","v":0},{"$f":"IF('SOLAR PV PRODUCTS'!$K$34=1,N15*E15*'SOLAR PV PRODUCTS'!$K$57,N15*E15*'SOLAR PV PRODUCTS'!$K$54)","v":0},{"$f":"IF('SOLAR PV PRODUCTS'!$L$34=1,O15*E15*'SOLAR PV PRODUCTS'!$L$57,O15*E15*'SOLAR PV PRODUCTS'!$L$54)","v":0},{"$f":"IF('SOLAR PV PRODUCTS'!$M$34=1,P15*E15*'SOLAR PV PRODUCTS'!$M$57,P15*E15*'SOLAR PV PRODUCTS'!$M$54)","v":0},{"$f":"IF('SOLAR PV PRODUCTS'!$N$34=1,Q15*E15*'SOLAR PV PRODUCTS'!$N$57,Q15*E15*'SOLAR PV PRODUCTS'!$N$54)","v":0},{"$f":"SUM(C28:N28)","v":0}]
[null,{"$f":"IF(B16<>\"\",B16,\"\")","v":""},{"$f":"IF('SOLAR PV PRODUCTS'!$C$34=1,F16*E16*'SOLAR PV PRODUCTS'!$C$57,F16*E16*'SOLAR PV PRODUCTS'!$C$54)","v":0},{"$f":"IF('SOLAR PV PRODUCTS'!$D$34,G16*E16*'SOLAR PV PRODUCTS'!$D$57,G16*E16*'SOLAR PV PRODUCTS'!$D$54)","v":0},{"$f":"IF('SOLAR PV PRODUCTS'!$E$34=1,H16*E16*'SOLAR PV PRODUCTS'!$E$57,H16*E16*'SOLAR PV PRODUCTS'!$E$54)","v":0},{"$f":"IF('SOLAR PV PRODUCTS'!$F$34,I16*E16*'SOLAR PV PRODUCTS'!$F$57,I16*E16*'SOLAR PV PRODUCTS'!$F$54)","v":0},{"$f":"IF('SOLAR PV PRODUCTS'!$G$34=1,J16*E16*'SOLAR PV PRODUCTS'!$G$57,J16*E16*'SOLAR PV PRODUCTS'!$G$54)","v":0},{"$f":"IF('SOLAR PV PRODUCTS'!$H$34=1,K16*E16*'SOLAR PV PRODUCTS'!$H$57,K16*E16*'SOLAR PV PRODUCTS'!$H$54)","v":0},{"$f":"IF('SOLAR PV PRODUCTS'!$I$34=1,L16*E16*'SOLAR PV PRODUCTS'!$I$57,L16*E16*'SOLAR PV PRODUCTS'!$I$54)","v":0},{"$f":"IF('SOLAR PV PRODUCTS'!$J$34=1,M16*E16*'SOLAR PV PRODUCTS'!$J$57,M16*E16*'SOLAR PV PRODUCTS'!$J$54)","v":0},{"$f":"IF('SOLAR PV PRODUCTS'!$K$34=1,N16*E16*'SOLAR PV PRODUCTS'!$K$57,N16*E16*'SOLAR PV PRODUCTS'!$K$54)","v":0},{"$f":"IF('SOLAR PV PRODUCTS'!$L$34=1,O16*E16*'SOLAR PV PRODUCTS'!$L$57,O16*E16*'SOLAR PV PRODUCTS'!$L$54)","v":0},{"$f":"IF('SOLAR PV PRODUCTS'!$M$34=1,P16*E16*'SOLAR PV PRODUCTS'!$M$57,P16*E16*'SOLAR PV PRODUCTS'!$M$54)","v":0},{"$f":"IF('SOLAR PV PRODUCTS'!$N$34=1,Q16*E16*'SOLAR PV PRODUCTS'!$N$57,Q16*E16*'SOLAR PV PRODUCTS'!$N$54)","v":0},{"$f":"SUM(C29:N29)","v":0}]
[null,{"$f":"IF(B17<>\"\",B17,\"\")","v":""},{"$f":"IF('SOLAR PV PRODUCTS'!$C$34=1,F17*E17*'SOLAR PV PRODUCTS'!$C$57,F17*E17*'SOLAR PV PRODUCTS'!$C$54)","v":0},{"$f":"IF('SOLAR PV PRODUCTS'!$D$34,G17*E17*'SOLAR PV PRODUCTS'!$D$57,G17*E17*'SOLAR PV PRODUCTS'!$D$54)","v":0},{"$f":"IF('SOLAR PV PRODUCTS'!$E$34=1,H17*E17*'SOLAR PV PRODUCTS'!$E$57,H17*E17*'SOLAR PV PRODUCTS'!$E$54)","v":0},{"$f":"IF('SOLAR PV PRODUCTS'!$F$34,I17*E17*'SOLAR PV PRODUCTS'!$F$57,I17*E17*'SOLAR PV PRODUCTS'!$F$54)","v":0},{"$f":"IF('SOLAR PV PRODUCTS'!$G$34=1,J17*E17*'SOLAR PV PRODUCTS'!$G$57,J17*E17*'SOLAR PV PRODUCTS'!$G$54)","v":0},{"$f":"IF('SOLAR PV PRODUCTS'!$H$34=1,K17*E17*'SOLAR PV PRODUCTS'!$H$57,K17*E17*'SOLAR PV PRODUCTS'!$H$54)","v":0},{"$f":"IF('SOLAR PV PRODUCTS'!$I$34=1,L17*E17*'SOLAR PV PRODUCTS'!$I$57,L17*E17*'SOLAR PV PRODUCTS'!$I$54)","v":0},{"$f":"IF('SOLAR PV PRODUCTS'!$J$34=1,M17*E17*'SOLAR PV PRODUCTS'!$J$57,M17*E17*'SOLAR PV PRODUCTS'!$J$54)","v":0},{"$f":"IF('SOLAR PV PRODUCTS'!$K$34=1,N17*E17*'SOLAR PV PRODUCTS'!$K$57,N17*E17*'SOLAR PV PRODUCTS'!$K$54)","v":0},{"$f":"IF('SOLAR PV PRODUCTS'!$L$34=1,O17*E17*'SOLAR PV PRODUCTS'!$L$57,O17*E17*'SOLAR PV PRODUCTS'!$L$54)","v":0},{"$f":"IF('SOLAR PV PRODUCTS'!$M$34=1,P17*E17*'SOLAR PV PRODUCTS'!$M$57,P17*E17*'SOLAR PV PRODUCTS'!$M$54)","v":0},{"$f":"IF('SOLAR PV PRODUCTS'!$N$34=1,Q17*E17*'SOLAR PV PRODUCTS'!$N$57,Q17*E17*'SOLAR PV PRODUCTS'!$N$54)","v":0},{"$f":"SUM(C30:N30)","v":0}]
[null,{"$f":"IF(B18<>\"\",B18,\"\")","v":""},{"$f":"IF('SOLAR PV PRODUCTS'!$C$34=1,F18*E18*'SOLAR PV PRODUCTS'!$C$57,F18*E18*'SOLAR PV PRODUCTS'!$C$54)","v":0},{"$f":"IF('SOLAR PV PRODUCTS'!$D$34,G18*E18*'SOLAR PV PRODUCTS'!$D$57,G18*E18*'SOLAR PV PRODUCTS'!$D$54)","v":0},{"$f":"IF('SOLAR PV PRODUCTS'!$E$34=1,H18*E18*'SOLAR PV PRODUCTS'!$E$57,H18*E18*'SOLAR PV PRODUCTS'!$E$54)","v":0},{"$f":"IF('SOLAR PV PRODUCTS'!$F$34,I18*E18*'SOLAR PV PRODUCTS'!$F$57,I18*E18*'SOLAR PV PRODUCTS'!$F$54)","v":0},{"$f":"IF('SOLAR PV PRODUCTS'!$G$34=1,J18*E18*'SOLAR PV PRODUCTS'!$G$57,J18*E18*'SOLAR PV PRODUCTS'!$G$54)","v":0},{"$f":"IF('SOLAR PV PRODUCTS'!$H$34=1,K18*E18*'SOLAR PV PRODUCTS'!$H$57,K18*E18*'SOLAR PV PRODUCTS'!$H$54)","v":0},{"$f":"IF('SOLAR PV PRODUCTS'!$I$34=1,L18*E18*'SOLAR PV PRODUCTS'!$I$57,L18*E18*'SOLAR PV PRODUCTS'!$I$54)","v":0},{"$f":"IF('SOLAR PV PRODUCTS'!$J$34=1,M18*E18*'SOLAR PV PRODUCTS'!$J$57,M18*E18*'SOLAR PV PRODUCTS'!$J$54)","v":0},{"$f":"IF('SOLAR PV PRODUCTS'!$K$34=1,N18*E18*'SOLAR PV PRODUCTS'!$K$57,N18*E18*'SOLAR PV PRODUCTS'!$K$54)","v":0},{"$f":"IF('SOLAR PV PRODUCTS'!$L$34=1,O18*E18*'SOLAR PV PRODUCTS'!$L$57,O18*E18*'SOLAR PV PRODUCTS'!$L$54)","v":0},{"$f":"IF('SOLAR PV PRODUCTS'!$M$34=1,P18*E18*'SOLAR PV PRODUCTS'!$M$57,P18*E18*'SOLAR PV PRODUCTS'!$M$54)","v":0},{"$f":"IF('SOLAR PV PRODUCTS'!$N$34=1,Q18*E18*'SOLAR PV PRODUCTS'!$N$57,Q18*E18*'SOLAR PV PRODUCTS'!$N$54)","v":0},{"$f":"SUM(C31:N31)","v":0}]
[null,{"$f":"IF(B19<>\"\",B19,\"\")","v":""},{"$f":"IF('SOLAR PV PRODUCTS'!$C$34=1,F19*E19*'SOLAR PV PRODUCTS'!$C$57,F19*E19*'SOLAR PV PRODUCTS'!$C$54)","v":0},{"$f":"IF('SOLAR PV PRODUCTS'!$D$34,G19*E19*'SOLAR PV PRODUCTS'!$D$57,G19*E19*'SOLAR PV PRODUCTS'!$D$54)","v":0},{"$f":"IF('SOLAR PV PRODUCTS'!$E$34=1,H19*E19*'SOLAR PV PRODUCTS'!$E$57,H19*E19*'SOLAR PV PRODUCTS'!$E$54)","v":0},{"$f":"IF('SOLAR PV PRODUCTS'!$F$34,I19*E19*'SOLAR PV PRODUCTS'!$F$57,I19*E19*'SOLAR PV PRODUCTS'!$F$54)","v":0},{"$f":"IF('SOLAR PV PRODUCTS'!$G$34=1,J19*E19*'SOLAR PV PRODUCTS'!$G$57,J19*E19*'SOLAR PV PRODUCTS'!$G$54)","v":0},{"$f":"IF('SOLAR PV PRODUCTS'!$H$34=1,K19*E19*'SOLAR PV PRODUCTS'!$H$57,K19*E19*'SOLAR PV PRODUCTS'!$H$54)","v":0},{"$f":"IF('SOLAR PV PRODUCTS'!$I$34=1,L19*E19*'SOLAR PV PRODUCTS'!$I$57,L19*E19*'SOLAR PV PRODUCTS'!$I$54)","v":0},{"$f":"IF('SOLAR PV PRODUCTS'!$J$34=1,M19*E19*'SOLAR PV PRODUCTS'!$J$57,M19*E19*'SOLAR PV PRODUCTS'!$J$54)","v":0},{"$f":"IF('SOLAR PV PRODUCTS'!$K$34=1,N19*E19*'SOLAR PV PRODUCTS'!$K$57,N19*E19*'SOLAR PV PRODUCTS'!$K$54)","v":0},{"$f":"IF('SOLAR PV PRODUCTS'!$L$34=1,O19*E19*'SOLAR PV PRODUCTS'!$L$57,O19*E19*'SOLAR PV PRODUCTS'!$L$54)","v":0},{"$f":"IF('SOLAR PV PRODUCTS'!$M$34=1,P19*E19*'SOLAR PV PRODUCTS'!$M$57,P19*E19*'SOLAR PV PRODUCTS'!$M$54)","v":0},{"$f":"IF('SOLAR PV PRODUCTS'!$N$34=1,Q19*E19*'SOLAR PV PRODUCTS'!$N$57,Q19*E19*'SOLAR PV PRODUCTS'!$N$54)","v":0},{"$f":"SUM(C32:N32)","v":0}]
[]
[null,"Total",{"$f":"SUM(C28:C33)","v":0},{"$f":"SUM(D28:D33)","v":0},0,0,0,0,0,0,0,0,0,0,0]

{"sheet":"SOLAR PV PHASE 2","index":26,"n_rows":142,"n_cols":20,"rows_kept":142,"cut":false,"hidden":true,"merged":[[141,0,141,4],[136,0,137,0],[136,1,137,1],[136,2,137,2],[136,3,137,3],[136,4,137,4],[134,0,135,0],[134,1,135,1],[134,2,135,2],[134,3,135,3],[134,4,135,4],[128,0,129,0],[128,1,129,1],[128,2,129,2],[128,3,129,3],[128,4,129,4],[128,5,129,5],[128,6,128,17],[138,0,139,0],[138,1,139,1],[138,2,139,2],[138,3,139,3],[138,4,139,4],[132,0,133,0],[132,1,133,1],[132,2,133,2],[132,3,133,3],[132,4,133,4],[130,0,131,0],[130,1,131,1],[130,2,131,2],[130,3,131,3],[130,4,131,4],[118,0,118,1],[118,2,118,3],[115,0,115,1],[115,2,115,3],[116,0,116,1],[116,2,116,3],[117,0,117,1],[117,2,117,3],[92,3,92,8],[93,0,93,2],[113,0,113,1],[113,2,113,3],[114,0,114,1],[114,2,114,3],[39,2,40,2],[39,3,40,3],[39,4,40,4],[39,5,40,5],[50,16,51,16],[58,0,59,0],[58,1,59,1],[58,2,59,2],[56,0,57,0],[56,1,57,1],[56,2,57,2],[54,0,55,0],[54,1,55,1],[54,2,55,2],[52,0,53,0],[52,1,53,1],[52,2,53,2],[90,0,90,4],[63,0,63,3],[1,0,1,19],[6,0,6,5],[10,0,11,0],[10,1,11,1],[10,2,11,2],[10,3,11,3],[10,4,11,4],[10,5,11,5],[10,6,11,6],[10,7,10,18],[10,19,11,19],[18,5,19,5],[18,0,19,0],[18,1,19,1],[18,2,19,2],[18,3,19,3],[29,7,29,18],[31,4,32,4],[31,5,32,5],[20,5,21,5],[23,0,23,6],[29,0,30,0],[12,0,13,0],[12,1,13,1],[12,2,13,2],[12,3,13,3],[12,4,13,4],[12,5,13,5],[16,5,17,5],[20,0,21,0],[20,1,21,1],[20,2,21,2],[20,3,21,3],[20,4,21,4],[16,0,17,0],[16,1,17,1],[16,2,17,2],[16,3,17,3],[16,4,17,4],[14,0,15,0],[14,1,15,1],[14,2,15,2],[14,3,15,3],[14,4,15,4],[18,4,19,4],[14,5,15,5],[35,4,36,4],[35,5,36,5],[33,0,34,0],[33,1,34,1],[33,2,34,2],[33,3,34,3],[29,1,30,1],[29,2,30,2],[29,3,30,3],[29,4,30,4],[29,5,30,5],[33,4,34,4],[33,5,34,5],[31,0,32,0],[31,1,32,1],[31,2,32,2],[31,3,32,3],[35,0,36,0],[35,1,36,1],[35,2,36,2],[35,3,36,3],[80,1,81,1],[80,2,81,2],[80,3,81,3],[70,5,71,5],[70,6,70,17],[29,19,30,19],[37,0,38,0],[37,1,38,1],[37,2,38,2],[37,3,38,3],[29,6,30,6],[37,4,38,4],[37,5,38,5],[60,0,61,0],[60,1,61,1],[60,2,61,2],[42,0,42,6],[48,0,48,4],[50,0,51,0],[50,1,51,1],[50,2,51,2],[50,4,50,15],[39,0,40,0],[39,1,40,1],[68,0,68,4],[70,0,71,0],[70,1,71,1],[70,2,71,2],[70,3,71,3],[70,4,71,4],[76,0,77,0],[76,1,77,1],[76,2,77,2],[76,3,77,3],[76,4,77,4],[80,4,81,4],[82,0,83,0],[82,1,83,1],[82,2,83,2],[82,3,83,3],[82,4,83,4],[85,0,85,5],[70,18,71,18],[72,0,73,0],[72,1,73,1],[72,2,73,2],[72,3,73,3],[72,4,73,4],[74,0,75,0],[74,1,75,1],[74,2,75,2],[74,3,75,3],[74,4,75,4],[78,0,79,0],[78,1,79,1],[78,2,79,2],[78,3,79,3],[78,4,79,4],[80,0,81,0]]}
[]
["INPUT DATA PHASE 2: PRODUCT PRODUCTION"]
[]
[]
[]
[]
["I. Direct fossil fuel combustion activities"]
[]
["1.1 Fuel used in the combustion process comes from a stationary source. For example: Boiler firing, heating, etc."]
[]
["Fuel","Unit","NCV (GJ/unit)","EF CO2 \n(kg CO2/GJ)","EF CH4 \n(kg CO4/GJ)","EF N2O (kg N2O/GJ)",null,"Fuel consumption and GHG emissions from stationary combustion",null,null,null,null,null,null,null,null,null,null,null,"Total"]
[null,null,null,null,null,null,null,"Jan","Feb","March","April","May","June","July","Aug","Sep","Oct","Nov","Dec"]
[null,null,{"$f":"IF(AND(A13<>\"\",B13<>\"\"),VLOOKUP(A13&B13,'unit conversion'!$A$2:$F$267,5,0)*VLOOKUP(A13&B13,'unit conversion'!$A$2:$F$267,6,0),\"\")","v":""},{"$f":"IF(AND(A13<>\"\",B13<>\"\"),VLOOKUP(A13,EF!$B$4:$E$55,2,0),\"\")","v":""},{"$f":"IF(AND(A13<>\"\",B13<>\"\"),VLOOKUP(A13,EF!$B$4:$E$55,3,0),\"\")","v":""},{"$f":"IF(AND(A13<>\"\",B13<>\"\"),VLOOKUP(A13,EF!$B$4:$E$55,4,0),\"\")","v":""},"Fuel consumption",null,null,null,null,null,null,null,null,null,null,null,null,{"$f":"SUM(H13:S13)","v":0}]
[null,null,null,null,null,null,"Emission (tons CO2eq)",{"$f":"IF(A13<>\"\",IF('SOLAR PV PRODUCTS'!$C$34=1,H13*C13*(D13+E13*EF!$M$4+F13*EF!$M$5)*'SOLAR PV PRODUCTS'!$C$57/1000,H13*C13*(D13+E13*EF!$M$4+F13*EF!$M$5)*'SOLAR PV PRODUCTS'!$C$54/1000),\"\")","v":""},{"$f":"IF(A13<>\"\",IF('SOLAR PV PRODUCTS'!$D$34=1,I13*C13*(D13+E13*EF!$M$4+F13*EF!$M$5)*'SOLAR PV PRODUCTS'!$D$57/1000,I13*C13*(D13+E13*EF!$M$4+F13*EF!$M$5)*'SOLAR PV PRODUCTS'!$D$54/1000),\"\")","v":""},{"$f":"IF(A13<>\"\",IF('SOLAR PV PRODUCTS'!$E$34=1,J13*C13*(D13+E13*EF!$M$4+F13*EF!$M$5)*'SOLAR PV PRODUCTS'!$E$57/1000,J13*C13*(D13+E13*EF!$M$4+F13*EF!$M$5)*'SOLAR PV PRODUCTS'!$E$54/1000),\"\")","v":""},{"$f":"IF(A13<>\"\",IF('SOLAR PV PRODUCTS'!$F$34=1,K13*C13*(D13+E13*EF!$M$4+F13*EF!$M$5)*'SOLAR PV PRODUCTS'!$F$57/1000,K13*C13*(D13+E13*EF!$M$4+F13*EF!$M$5)*'SOLAR PV PRODUCTS'!$F$54/1000),\"\")","v":""},{"$f":"IF(A13<>\"\",IF('SOLAR PV PRODUCTS'!$G$34=1,L13*C13*(D13+E13*EF!$M$4+F13*EF!$M$5)*'SOLAR PV PRODUCTS'!$G$57/1000,L13*C13*(D13+E13*EF!$M$4+F13*EF!$M$5)*'SOLAR PV PRODUCTS'!$G$54/1000),\"\")","v":""},{"$f":"IF(A13<>\"\",IF('SOLAR PV PRODUCTS'!$H$34=1,M13*C13*(D13+E13*EF!$M$4+F13*EF!$M$5)*'SOLAR PV PRODUCTS'!$H$57/1000,M13*C13*(D13+E13*EF!$M$4+F13*EF!$M$5)*'SOLAR PV PRODUCTS'!$H$54/1000),\"\")","v":""},{"$f":"IF(A13<>\"\",IF('SOLAR PV PRODUCTS'!$I$34=1,N13*C13*(D13+E13*EF!$M$4+F13*EF!$M$5)*'SOLAR PV PRODUCTS'!$I$57/1000,N13*C13*(D13+E13*EF!$M$4+F13*EF!$M$5)*'SOLAR PV PRODUCTS'!$I$54/1000),\"\")","v":""},{"$f":"IF(A13<>\"\",IF('SOLAR PV PRODUCTS'!$J$34=1,O13*C13*(D13+E13*EF!$M$4+F13*EF!$M$5)*'SOLAR PV PRODUCTS'!$J$57/1000,O13*C13*(D13+E13*EF!$M$4+F13*EF!$M$5)*'SOLAR PV PRODUCTS'!$J$54/1000),\"\")","v":""},{"$f":"IF(A13<>\"\",IF('SOLAR PV PRODUCTS'!$K$34=1,P13*C13*(D13+E13*EF!$M$4+F13*EF!$M$5)*'SOLAR PV PRODUCTS'!$K$57/1000,P13*C13*(D13+E13*EF!$M$4+F13*EF!$M$5)*'SOLAR PV PRODUCTS'!$K$54/1000),\"\")","v":""},{"$f":"IF(A13<>\"\",IF('SOLAR PV PRODUCTS'!$L$34=1,Q13*C13*(D13+E13*EF!$M$4+F13*EF!$M$5)*'SOLAR PV PRODUCTS'!$L$57/1000,Q13*C13*(D13+E13*EF!$M$4+F13*EF!$M$5)*'SOLAR PV PRODUCTS'!$L$54/1000),\"\")","v":""},{"$f":"IF(A13<>\"\",IF('SOLAR PV PRODUCTS'!$M$34=1,R13*C13*(D13+E13*EF!$M$4+F13*EF!$M$5)*'SOLAR PV PRODUCTS'!$M$57/1000,R13*C13*(D13+E13*EF!$M$4+F13*EF!$M$5)*'SOLAR PV PRODUCTS'!$M$54/1000),\"\")","v":""},{"$f":"IF(A13<>\"\",IF('SOLAR PV PRODUCTS'!$N$34=1,S13*C13*(D13+E13*EF!$M$4+F13*EF!$M$5)*'SOLAR PV PRODUCTS'!$N$57/1000,S13*C13*(D13+E13*EF!$M$4+F13*EF!$M$5)*'SOLAR PV PRODUCTS'!$N$54/1000),\"\")","v":""},0]
[null,null,{"$f":"IF(AND(A15<>\"\",B15<>\"\"),VLOOKUP(A15&B15,'unit conversion'!$A$2:$F$267,5,0)*VLOOKUP(A15&B15,'unit conversion'!$A$2:$F$267,6,0),\"\")","v":""},{"$f":"IF(AND(A15<>\"\",B15<>\"\"),VLOOKUP(A15,EF!$B$4:$E$55,2,0),\"\")","v":""},{"$f":"IF(AND(A15<>\"\",B15<>\"\"),VLOOKUP(A15,EF!$B$4:$E$55,3,0),\"\")","v":""},{"$f":"IF(AND(A15<>\"\",B15<>\"\"),VLOOKUP(A15,EF!$B$4:$E$55,4,0),\"\")","v":""},"Fuel consumption",null,null,null,null,null,null,null,null,null,null,null,null,0]
[null,null,null,null,null,null,"Emission (tons CO2eq)",{"$f":"IF(A15<>\"\",IF('SOLAR PV PRODUCTS'!$C$34=1,H15*C15*(D15+E15*EF!$M$4+F15*EF!$M$5)*'SOLAR PV PRODUCTS'!$C$57/1000,H15*C15*(D15+E15*EF!$M$4+F15*EF!$M$5)*'SOLAR PV PRODUCTS'!$C$54/1000),\"\")","v":""},{"$f":"IF(A15<>\"\",IF('SOLAR PV PRODUCTS'!$D$34=1,I15*C15*(D15+E15*EF!$M$4+F15*EF!$M$5)*'SOLAR PV PRODUCTS'!$D$57/1000,I15*C15*(D15+E15*EF!$M$4+F15*EF!$M$5)*'SOLAR PV PRODUCTS'!$D$54/1000),\"\")","v":""},{"$f":"IF(A15<>\"\",IF('SOLAR PV PRODUCTS'!$E$34=1,J15*C15*(D15+E15*EF!$M$4+F15*EF!$M$5)*'SOLAR PV PRODUCTS'!$E$57/1000,J15*C15*(D15+E15*EF!$M$4+F15*EF!$M$5)*'SOLAR PV PRODUCTS'!$E$54/1000),\"\")","v":""},{"$f":"IF(A15<>\"\",IF('SOLAR PV PRODUCTS'!$F$34=1,K15*C15*(D15+E15*EF!$M$4+F15*EF!$M$5)*'SOLAR PV PRODUCTS'!$F$57/1000,K15*C15*(D15+E15*EF!$M$4+F15*EF!$M$5)*'SOLAR PV PRODUCTS'!$F$54/1000),\"\")","v":""},{"$f":"IF(A15<>\"\",IF('SOLAR PV PRODUCTS'!$G$34=1,L15*C15*(D15+E15*EF!$M$4+F15*EF!$M$5)*'SOLAR PV PRODUCTS'!$G$57/1000,L15*C15*(D15+E15*EF!$M$4+F15*EF!$M$5)*'SOLAR PV PRODUCTS'!$G$54/1000),\"\")","v":""},{"$f":"IF(A15<>\"\",IF('SOLAR PV PRODUCTS'!$H$34=1,M15*C15*(D15+E15*EF!$M$4+F15*EF!$M$5)*'SOLAR PV PRODUCTS'!$H$57/1000,M15*C15*(D15+E15*EF!$M$4+F15*EF!$M$5)*'SOLAR PV PRODUCTS'!$H$54/1000),\"\")","v":""},{"$f":"IF(A15<>\"\",IF('SOLAR PV PRODUCTS'!$I$34=1,N15*C15*(D15+E15*EF!$M$4+F15*EF!$M$5)*'SOLAR PV PRODUCTS'!$I$57/1000,N15*C15*(D15+E15*EF!$M$4+F15*EF!$M$5)*'SOLAR PV PRODUCTS'!$I$54/1000),\"\")","v":""},{"$f":"IF(A15<>\"\",IF('SOLAR PV PRODUCTS'!$J$34=1,O15*C15*(D15+E15*EF!$M$4+F15*EF!$M$5)*'SOLAR PV PRODUCTS'!$J$57/1000,O15*C15*(D15+E15*EF!$M$4+F15*EF!$M$5)*'SOLAR PV PRODUCTS'!$J$54/1000),\"\")","v":""},{"$f":"IF(A15<>\"\",IF('SOLAR PV PRODUCTS'!$K$34=1,P15*C15*(D15+E15*EF!$M$4+F15*EF!$M$5)*'SOLAR PV PRODUCTS'!$K$57/1000,P15*C15*(D15+E15*EF!$M$4+F15*EF!$M$5)*'SOLAR PV PRODUCTS'!$K$54/1000),\"\")","v":""},{"$f":"IF(A15<>\"\",IF('SOLAR PV PRODUCTS'!$L$34=1,Q15*C15*(D15+E15*EF!$M$4+F15*EF!$M$5)*'SOLAR PV PRODUCTS'!$L$57/1000,Q15*C15*(D15+E15*EF!$M$4+F15*EF!$M$5)*'SOLAR PV PRODUCTS'!$L$54/1000),\"\")","v":""},{"$f":"IF(A15<>\"\",IF('SOLAR PV PRODUCTS'!$M$34=1,R15*C15*(D15+E15*EF!$M$4+F15*EF!$M$5)*'SOLAR PV PRODUCTS'!$M$57/1000,R15*C15*(D15+E15*EF!$M$4+F15*EF!$M$5)*'SOLAR PV PRODUCTS'!$M$54/1000),\"\")","v":""},{"$f":"IF(A15<>\"\",IF('SOLAR PV PRODUCTS'!$N$34=1,S15*C15*(D15+E15*EF!$M$4+F15*EF!$M$5)*'SOLAR PV PRODUCTS'!$N$57/1000,S15*C15*(D15+E15*EF!$M$4+F15*EF!$M$5)*'SOLAR PV PRODUCTS'!$N$54/1000),\"\")","v":""},0]
[null,null,{"$f":"IF(AND(A17<>\"\",B17<>\"\"),VLOOKUP(A17&B17,'unit conversion'!$A$2:$F$267,5,0)*VLOOKUP(A17&B17,'unit conversion'!$A$2:$F$267,6,0),\"\")","v":""},{"$f":"IF(AND(A17<>\"\",B17<>\"\"),VLOOKUP(A17,EF!$B$4:$E$55,2,0),\"\")","v":""},{"$f":"IF(AND(A17<>\"\",B17<>\"\"),VLOOKUP(A17,EF!$B$4:$E$55,3,0),\"\")","v":""},{"$f":"IF(AND(A17<>\"\",B17<>\"\"),VLOOKUP(A17,EF!$B$4:$E$55,4,0),\"\")","v":""},"Fuel consumption",null,null,null,null,null,null,null,null,null,null,null,null,0]
[null,null,null,null,null,null,"Emission (tons CO2eq)",{"$f":"IF(A17<>\"\",IF('SOLAR PV PRODUCTS'!$C$34=1,H17*C17*(D17+E17*EF!$M$4+F17*EF!$M$5)*'SOLAR PV PRODUCTS'!$C$57/1000,H17*C17*(D17+E17*EF!$M$4+F17*EF!$M$5)*'SOLAR PV PRODUCTS'!$C$54/1000),\"\")","v":""},{"$f":"IF(A17<>\"\",IF('SOLAR PV PRODUCTS'!$D$34=1,I17*C17*(D17+E17*EF!$M$4+F17*EF!$M$5)*'SOLAR PV PRODUCTS'!$D$57/1000,I17*C17*(D17+E17*EF!$M$4+F17*EF!$M$5)*'SOLAR PV PRODUCTS'!$D$54/1000),\"\")","v":""},{"$f":"IF(A17<>\"\",IF('SOLAR PV PRODUCTS'!$E$34=1,J17*C17*(D17+E17*EF!$M$4+F17*EF!$M$5)*'SOLAR PV PRODUCTS'!$E$57/1000,J17*C17*(D17+E17*EF!$M$4+F17*EF!$M$5)*'SOLAR PV PRODUCTS'!$E$54/1000),\"\")","v":""},{"$f":"IF(A17<>\"\",IF('SOLAR PV PRODUCTS'!$F$34=1,K17*C17*(D17+E17*EF!$M$4+F17*EF!$M$5)*'SOLAR PV PRODUCTS'!$F$57/1000,K17*C17*(D17+E17*EF!$M$4+F17*EF!$M$5)*'SOLAR PV PRODUCTS'!$F$54/1000),\"\")","v":""},{"$f":"IF(A17<>\"\",IF('SOLAR PV PRODUCTS'!$G$34=1,L17*C17*(D17+E17*EF!$M$4+F17*EF!$M$5)*'SOLAR PV PRODUCTS'!$G$57/1000,L17*C17*(D17+E17*EF!$M$4+F17*EF!$M$5)*'SOLAR PV PRODUCTS'!$G$54/1000),\"\")","v":""},{"$f":"IF(A17<>\"\",IF('SOLAR PV PRODUCTS'!$H$34=1,M17*C17*(D17+E17*EF!$M$4+F17*EF!$M$5)*'SOLAR PV PRODUCTS'!$H$57/1000,M17*C17*(D17+E17*EF!$M$4+F17*EF!$M$5)*'SOLAR PV PRODUCTS'!$H$54/1000),\"\")","v":""},{"$f":"IF(A17<>\"\",IF('SOLAR PV PRODUCTS'!$I$34=1,N17*C17*(D17+E17*EF!$M$4+F17*EF!$M$5)*'SOLAR PV PRODUCTS'!$I$57/1000,N17*C17*(D17+E17*EF!$M$4+F17*EF!$M$5)*'SOLAR PV PRODUCTS'!$I$54/1000),\"\")","v":""},{"$f":"IF(A17<>\"\",IF('SOLAR PV PRODUCTS'!$J$34=1,O17*C17*(D17+E17*EF!$M$4+F17*EF!$M$5)*'SOLAR PV PRODUCTS'!$J$57/1000,O17*C17*(D17+E17*EF!$M$4+F17*EF!$M$5)*'SOLAR PV PRODUCTS'!$J$54/1000),\"\")","v":""},{"$f":"IF(A17<>\"\",IF('SOLAR PV PRODUCTS'!$K$34=1,P17*C17*(D17+E17*EF!$M$4+F17*EF!$M$5)*'SOLAR PV PRODUCTS'!$K$57/1000,P17*C17*(D17+E17*EF!$M$4+F17*EF!$M$5)*'SOLAR PV PRODUCTS'!$K$54/1000),\"\")","v":""},{"$f":"IF(A17<>\"\",IF('SOLAR PV PRODUCTS'!$L$34=1,Q17*C17*(D17+E17*EF!$M$4+F17*EF!$M$5)*'SOLAR PV PRODUCTS'!$L$57/1000,Q17*C17*(D17+E17*EF!$M$4+F17*EF!$M$5)*'SOLAR PV PRODUCTS'!$L$54/1000),\"\")","v":""},{"$f":"IF(A17<>\"\",IF('SOLAR PV PRODUCTS'!$M$34=1,R17*C17*(D17+E17*EF!$M$4+F17*EF!$M$5)*'SOLAR PV PRODUCTS'!$M$57/1000,R17*C17*(D17+E17*EF!$M$4+F17*EF!$M$5)*'SOLAR PV PRODUCTS'!$M$54/1000),\"\")","v":""},{"$f":"IF(A17<>\"\",IF('SOLAR PV PRODUCTS'!$N$34=1,S17*C17*(D17+E17*EF!$M$4+F17*EF!$M$5)*'SOLAR PV PRODUCTS'!$N$57/1000,S17*C17*(D17+E17*EF!$M$4+F17*EF!$M$5)*'SOLAR PV PRODUCTS'!$N$54/1000),\"\")","v":""},0]
[null,null,{"$f":"IF(AND(A19<>\"\",B19<>\"\"),VLOOKUP(A19&B19,'unit conversion'!$A$2:$F$267,5,0)*VLOOKUP(A19&B19,'unit conversion'!$A$2:$F$267,6,0),\"\")","v":""},{"$f":"IF(AND(A19<>\"\",B19<>\"\"),VLOOKUP(A19,EF!$B$4:$E$55,2,0),\"\")","v":""},{"$f":"IF(AND(A19<>\"\",B19<>\"\"),VLOOKUP(A19,EF!$B$4:$E$55,3,0),\"\")","v":""},{"$f":"IF(AND(A19<>\"\",B19<>\"\"),VLOOKUP(A19,EF!$B$4:$E$55,4,0),\"\")","v":""},"Fuel consumption",null,null,null,null,null,null,null,null,null,null,null,null,0]
[null,null,null,null,null,null,"Emission (tons CO2eq)",{"$f":"IF(A19<>\"\",IF('SOLAR PV PRODUCTS'!$C$34=1,H19*C19*(D19+E19*EF!$M$4+F19*EF!$M$5)*'SOLAR PV PRODUCTS'!$C$57/1000,H19*C19*(D19+E19*EF!$M$4+F19*EF!$M$5)*'SOLAR PV PRODUCTS'!$C$54/1000),\"\")","v":""},{"$f":"IF(A19<>\"\",IF('SOLAR PV PRODUCTS'!$D$34=1,I19*C19*(D19+E19*EF!$M$4+F19*EF!$M$5)*'SOLAR PV PRODUCTS'!$D$57/1000,I19*C19*(D19+E19*EF!$M$4+F19*EF!$M$5)*'SOLAR PV PRODUCTS'!$D$54/1000),\"\")","v":""},{"$f":"IF(A19<>\"\",IF('SOLAR PV PRODUCTS'!$E$34=1,J19*C19*(D19+E19*EF!$M$4+F19*EF!$M$5)*'SOLAR PV PRODUCTS'!$E$57/1000,J19*C19*(D19+E19*EF!$M$4+F19*EF!$M$5)*'SOLAR PV PRODUCTS'!$E$54/1000),\"\")","v":""},{"$f":"IF(A19<>\"\",IF('SOLAR PV PRODUCTS'!$F$34=1,K19*C19*(D19+E19*EF!$M$4+F19*EF!$M$5)*'SOLAR PV PRODUCTS'!$F$57/1000,K19*C19*(D19+E19*EF!$M$4+F19*EF!$M$5)*'SOLAR PV PRODUCTS'!$F$54/1000),\"\")","v":""},{"$f":"IF(A19<>\"\",IF('SOLAR PV PRODUCTS'!$G$34=1,L19*C19*(D19+E19*EF!$M$4+F19*EF!$M$5)*'SOLAR PV PRODUCTS'!$G$57/1000,L19*C19*(D19+E19*EF!$M$4+F19*EF!$M$5)*'SOLAR PV PRODUCTS'!$G$54/1000),\"\")","v":""},{"$f":"IF(A19<>\"\",IF('SOLAR PV PRODUCTS'!$H$34=1,M19*C19*(D19+E19*EF!$M$4+F19*EF!$M$5)*'SOLAR PV PRODUCTS'!$H$57/1000,M19*C19*(D19+E19*EF!$M$4+F19*EF!$M$5)*'SOLAR PV PRODUCTS'!$H$54/1000),\"\")","v":""},{"$f":"IF(A19<>\"\",IF('SOLAR PV PRODUCTS'!$I$34=1,N19*C19*(D19+E19*EF!$M$4+F19*EF!$M$5)*'SOLAR PV PRODUCTS'!$I$57/1000,N19*C19*(D19+E19*EF!$M$4+F19*EF!$M$5)*'SOLAR PV PRODUCTS'!$I$54/1000),\"\")","v":""},{"$f":"IF(A19<>\"\",IF('SOLAR PV PRODUCTS'!$J$34=1,O19*C19*(D19+E19*EF!$M$4+F19*EF!$M$5)*'SOLAR PV PRODUCTS'!$J$57/1000,O19*C19*(D19+E19*EF!$M$4+F19*EF!$M$5)*'SOLAR PV PRODUCTS'!$J$54/1000),\"\")","v":""},{"$f":"IF(A19<>\"\",IF('SOLAR PV PRODUCTS'!$K$34=1,P19*C19*(D19+E19*EF!$M$4+F19*EF!$M$5)*'SOLAR PV PRODUCTS'!$K$57/1000,P19*C19*(D19+E19*EF!$M$4+F19*EF!$M$5)*'SOLAR PV PRODUCTS'!$K$54/1000),\"\")","v":""},{"$f":"IF(A19<>\"\",IF('SOLAR PV PRODUCTS'!$L$34=1,Q19*C19*(D19+E19*EF!$M$4+F19*EF!$M$5)*'SOLAR PV PRODUCTS'!$L$57/1000,Q19*C19*(D19+E19*EF!$M$4+F19*EF!$M$5)*'SOLAR PV PRODUCTS'!$L$54/1000),\"\")","v":""},{"$f":"IF(A19<>\"\",IF('SOLAR PV PRODUCTS'!$M$34=1,R19*C19*(D19+E19*EF!$M$4+F19*EF!$M$5)*'SOLAR PV PRODUCTS'!$M$57/1000,R19*C19*(D19+E19*EF!$M$4+F19*EF!$M$5)*'SOLAR PV PRODUCTS'!$M$54/1000),\"\")","v":""},{"$f":"IF(A19<>\"\",IF('SOLAR PV PRODUCTS'!$N$34=1,S19*C19*(D19+E19*EF!$M$4+F19*EF!$M$5)*'SOLAR PV PRODUCTS'!$N$57/1000,S19*C19*(D19+E19*EF!$M$4+F19*EF!$M$5)*'SOLAR PV PRODUCTS'!$N$54/1000),\"\")","v":""},0]
[null,null,{"$f":"IF(AND(A21<>\"\",B21<>\"\"),VLOOKUP(A21&B21,'unit conversion'!$A$2:$F$267,5,0)*VLOOKUP(A21&B21,'unit conversion'!$A$2:$F$267,6,0),\"\")","v":""},{"$f":"IF(AND(A21<>\"\",B21<>\"\"),VLOOKUP(A21,EF!$B$4:$E$55,2,0),\"\")","v":""},{"$f":"IF(AND(A21<>\"\",B21<>\"\"),VLOOKUP(A21,EF!$B$4:$E$55,3,0),\"\")","v":""},{"$f":"IF(AND(A21<>\"\",B21<>\"\"),VLOOKUP(A21,EF!$B$4:$E$55,4,0),\"\")","v":""},"Fuel consumption",null,null,null,null,null,null,null,null,null,null,null,null,0]
[null,null,null,null,null,null,"Emission (tons CO2eq)",{"$f":"IF(A21<>\"\",IF('SOLAR PV PRODUCTS'!$C$34=1,H21*C21*(D21+E21*EF!$M$4+F21*EF!$M$5)*'SOLAR PV PRODUCTS'!$C$57/1000,H21*C21*(D21+E21*EF!$M$4+F21*EF!$M$5)*'SOLAR PV PRODUCTS'!$C$54/1000),\"\")","v":""},{"$f":"IF(A21<>\"\",IF('SOLAR PV PRODUCTS'!$D$34=1,I21*C21*(D21+E21*EF!$M$4+F21*EF!$M$5)*'SOLAR PV PRODUCTS'!$D$57/1000,I21*C21*(D21+E21*EF!$M$4+F21*EF!$M$5)*'SOLAR PV PRODUCTS'!$D$54/1000),\"\")","v":""},{"$f":"IF(A21<>\"\",IF('SOLAR PV PRODUCTS'!$E$34=1,J21*C21*(D21+E21*EF!$M$4+F21*EF!$M$5)*'SOLAR PV PRODUCTS'!$E$57/1000,J21*C21*(D21+E21*EF!$M$4+F21*EF!$M$5)*'SOLAR PV PRODUCTS'!$E$54/1000),\"\")","v":""},{"$f":"IF(A21<>\"\",IF('SOLAR PV PRODUCTS'!$F$34=1,K21*C21*(D21+E21*EF!$M$4+F21*EF!$M$5)*'SOLAR PV PRODUCTS'!$F$57/1000,K21*C21*(D21+E21*EF!$M$4+F21*EF!$M$5)*'SOLAR PV PRODUCTS'!$F$54/1000),\"\")","v":""},{"$f":"IF(A21<>\"\",IF('SOLAR PV PRODUCTS'!$G$34=1,L21*C21*(D21+E21*EF!$M$4+F21*EF!$M$5)*'SOLAR PV PRODUCTS'!$G$57/1000,L21*C21*(D21+E21*EF!$M$4+F21*EF!$M$5)*'SOLAR PV PRODUCTS'!$G$54/1000),\"\")","v":""},{"$f":"IF(A21<>\"\",IF('SOLAR PV PRODUCTS'!$H$34=1,M21*C21*(D21+E21*EF!$M$4+F21*EF!$M$5)*'SOLAR PV PRODUCTS'!$H$57/1000,M21*C21*(D21+E21*EF!$M$4+F21*EF!$M$5)*'SOLAR PV PRODUCTS'!$H$54/1000),\"\")","v":""},{"$f":"IF(A21<>\"\",IF('SOLAR PV PRODUCTS'!$I$34=1,N21*C21*(D21+E21*EF!$M$4+F21*EF!$M$5)*'SOLAR PV PRODUCTS'!$I$57/1000,N21*C21*(D21+E21*EF!$M$4+F21*EF!$M$5)*'SOLAR PV PRODUCTS'!$I$54/1000),\"\")","v":""},{"$f":"IF(A21<>\"\",IF('SOLAR PV PRODUCTS'!$J$34=1,O21*C21*(D21+E21*EF!$M$4+F21*EF!$M$5)*'SOLAR PV PRODUCTS'!$J$57/1000,O21*C21*(D21+E21*EF!$M$4+F21*EF!$M$5)*'SOLAR PV PRODUCTS'!$J$54/1000),\"\")","v":""},{"$f":"IF(A21<>\"\",IF('SOLAR PV PRODUCTS'!$K$34=1,P21*C21*(D21+E21*EF!$M$4+F21*EF!$M$5)*'SOLAR PV PRODUCTS'!$K$57/1000,P21*C21*(D21+E21*EF!$M$4+F21*EF!$M$5)*'SOLAR PV PRODUCTS'!$K$54/1000),\"\")","v":""},{"$f":"IF(A21<>\"\",IF('SOLAR PV PRODUCTS'!$L$34=1,Q21*C21*(D21+E21*EF!$M$4+F21*EF!$M$5)*'SOLAR PV PRODUCTS'!$L$57/1000,Q21*C21*(D21+E21*EF!$M$4+F21*EF!$M$5)*'SOLAR PV PRODUCTS'!$L$54/1000),\"\")","v":""},{"$f":"IF(A21<>\"\",IF('SOLAR PV PRODUCTS'!$M$34=1,R21*C21*(D21+E21*EF!$M$4+F21*EF!$M$5)*'SOLAR PV PRODUCTS'!$M$57/1000,R21*C21*(D21+E21*EF!$M$4+F21*EF!$M$5)*'SOLAR PV PRODUCTS'!$M$54/1000),\"\")","v":""},{"$f":"IF(A21<>\"\",IF('SOLAR PV PRODUCTS'!$N$34=1,S21*C21*(D21+E21*EF!$M$4+F21*EF!$M$5)*'SOLAR PV PRODUCTS'!$N$57/1000,S21*C21*(D21+E21*EF!$M$4+F21*EF!$M$5)*'SOLAR PV PRODUCTS'!$N$54/1000),\"\")","v":""},0]
[]
["Total (tons CO2eq)",null,null,null,null,null,null,{"$f":"SUMIF($G$13:$G$23,$G$14,H13:H23)","v":0},{"$f":"SUMIF($G$13:$G$23,$G$14,I13:I23)","v":0},0,0,0,0,0,0,0,0,0,0,0]
[]
[]
[]
["1.2 Fuel consumption for means of transportation (mobile fossil fuel combustion)"]
[]
["Fuel","Unit","NCV (GJ/unit)","EF CO2 \n(kg CO2/GJ)","EF CH4 \n(kg CO4/GJ)","EF N2O (kg N2O/GJ)",null,"Fuel consumption and GHG emissions from stationary combustion",null,null,null,null,null,null,null,null,null,null,null,"Total"]
[null,null,null,null,null,null,null,"Jan","Feb","March","April","May","June","July","Aug","Sep","Oct","Nov","Dec"]
[null,null,{"$f":"IF(AND(A32<>\"\",B32<>\"\"),VLOOKUP(A32&B32,'unit conversion'!$A$2:$F$267,5,0)*VLOOKUP(A32&B32,'unit conversion'!$A$2:$F$267,6,0),\"\")","v":""},{"$f":"IF(AND(A32<>\"\",B32<>\"\"),VLOOKUP(A32,EF!$B$4:$E$55,2,0),\"\")","v":""},{"$f":"IF(AND(A32<>\"\",B32<>\"\"),VLOOKUP(A32,EF!$B$4:$E$55,3,0),\"\")","v":""},{"$f":"IF(AND(A32<>\"\",B32<>\"\"),VLOOKUP(A32,EF!$B$4:$E$55,4,0),\"\")","v":""},"Fuel consumption",null,null,null,null,null,null,null,null,null,null,null,null,{"$f":"SUM(H32:S32)","v":0}]
[null,null,null,null,null,null,"Emission (tons CO2eq)",{"$f":"IF(A32<>\"\",IF('SOLAR PV PRODUCTS'!$C$34=1,H32*C32*(D32+E32*EF!$M$4+F32*EF!$M$5)*'SOLAR PV PRODUCTS'!$C$57/1000,H32*C32*(D32+E32*EF!$M$4+F32*EF!$M$5)*'SOLAR PV PRODUCTS'!$C$54/1000),\"\")","v":""},{"$f":"IF(A32<>\"\",IF('SOLAR PV PRODUCTS'!$D$34=1,I32*C32*(D32+E32*EF!$M$4+F32*EF!$M$5)*'SOLAR PV PRODUCTS'!$D$57/1000,I32*C32*(D32+E32*EF!$M$4+F32*EF!$M$5)*'SOLAR PV PRODUCTS'!$D$54/1000),\"\")","v":""},{"$f":"IF(A32<>\"\",IF('SOLAR PV PRODUCTS'!$E$34=1,J32*C32*(D32+E32*EF!$M$4+F32*EF!$M$5)*'SOLAR PV PRODUCTS'!$E$57/1000,J32*C32*(D32+E32*EF!$M$4+F32*EF!$M$5)*'SOLAR PV PRODUCTS'!$E$54/1000),\"\")","v":""},{"$f":"IF(A32<>\"\",IF('SOLAR PV PRODUCTS'!$F$34=1,K32*C32*(D32+E32*EF!$M$4+F32*EF!$M$5)*'SOLAR PV PRODUCTS'!$F$57/1000,K32*C32*(D32+E32*EF!$M$4+F32*EF!$M$5)*'SOLAR PV PRODUCTS'!$F$54/1000),\"\")","v":""},{"$f":"IF(A32<>\"\",IF('SOLAR PV PRODUCTS'!$G$34=1,L32*C32*(D32+E32*EF!$M$4+F32*EF!$M$5)*'SOLAR PV PRODUCTS'!$G$57/1000,L32*C32*(D32+E32*EF!$M$4+F32*EF!$M$5)*'SOLAR PV PRODUCTS'!$G$54/1000),\"\")","v":""},{"$f":"IF(A32<>\"\",IF('SOLAR PV PRODUCTS'!$H$34=1,M32*C32*(D32+E32*EF!$M$4+F32*EF!$M$5)*'SOLAR PV PRODUCTS'!$H$57/1000,M32*C32*(D32+E32*EF!$M$4+F32*EF!$M$5)*'SOLAR PV PRODUCTS'!$H$54/1000),\"\")","v":""},{"$f":"IF(A32<>\"\",IF('SOLAR PV PRODUCTS'!$I$34=1,N32*C32*(D32+E32*EF!$M$4+F32*EF!$M$5)*'SOLAR PV PRODUCTS'!$I$57/1000,N32*C32*(D32+E32*EF!$M$4+F32*EF!$M$5)*'SOLAR PV PRODUCTS'!$I$54/1000),\"\")","v":""},{"$f":"IF(A32<>\"\",IF('SOLAR PV PRODUCTS'!$J$34=1,O32*C32*(D32+E32*EF!$M$4+F32*EF!$M$5)*'SOLAR PV PRODUCTS'!$J$57/1000,O32*C32*(D32+E32*EF!$M$4+F32*EF!$M$5)*'SOLAR PV PRODUCTS'!$J$54/1000),\"\")","v":""},{"$f":"IF(A32<>\"\",IF('SOLAR PV PRODUCTS'!$K$34=1,P32*C32*(D32+E32*EF!$M$4+F32*EF!$M$5)*'SOLAR PV PRODUCTS'!$K$57/1000,P32*C32*(D32+E32*EF!$M$4+F32*EF!$M$5)*'SOLAR PV PRODUCTS'!$K$54/1000),\"\")","v":""},{"$f":"IF(A32<>\"\",IF('SOLAR PV PRODUCTS'!$L$34=1,Q32*C32*(D32+E32*EF!$M$4+F32*EF!$M$5)*'SOLAR PV PRODUCTS'!$L$57/1000,Q32*C32*(D32+E32*EF!$M$4+F32*EF!$M$5)*'SOLAR PV PRODUCTS'!$L$54/1000),\"\")","v":""},{"$f":"IF(A32<>\"\",IF('SOLAR PV PRODUCTS'!$M$34=1,R32*C32*(D32+E32*EF!$M$4+F32*EF!$M$5)*'SOLAR PV PRODUCTS'!$M$57/1000,R32*C32*(D32+E32*EF!$M$4+F32*EF!$M$5)*'SOLAR PV PRODUCTS'!$M$54/1000),\"\")","v":""},{"$f":"IF(A32<>\"\",IF('SOLAR PV PRODUCTS'!$N$34=1,S32*C32*(D32+E32*EF!$M$4+F32*EF!$M$5)*'SOLAR PV PRODUCTS'!$N$57/1000,S32*C32*(D32+E32*EF!$M$4+F32*EF!$M$5)*'SOLAR PV PRODUCTS'!$N$54/1000),\"\")","v":""},0]
[null,null,{"$f":"IF(AND(A34<>\"\",B34<>\"\"),VLOOKUP(A34&B34,'unit conversion'!$A$2:$F$267,5,0)*VLOOKUP(A34&B34,'unit conversion'!$A$2:$F$267,6,0),\"\")","v":""},{"$f":"IF(AND(A34<>\"\",B34<>\"\"),VLOOKUP(A34,EF!$B$4:$E$55,2,0),\"\")","v":""},{"$f":"IF(AND(A34<>\"\",B34<>\"\"),VLOOKUP(A34,EF!$B$4:$E$55,3,0),\"\")","v":""},{"$f":"IF(AND(A34<>\"\",B34<>\"\"),VLOOKUP(A34,EF!$B$4:$E$55,4,0),\"\")","v":""},"Fuel consumption",null,null,null,null,null,null,null,null,null,null,null,null,0]
[null,null,null,null,null,null,"Emission (tons CO2eq)",{"$f":"IF(A34<>\"\",IF('SOLAR PV PRODUCTS'!$C$34=1,H34*C34*(D34+E34*EF!$M$4+F34*EF!$M$5)*'SOLAR PV PRODUCTS'!$C$57/1000,H34*C34*(D34+E34*EF!$M$4+F34*EF!$M$5)*'SOLAR PV PRODUCTS'!$C$54/1000),\"\")","v":""},{"$f":"IF(A34<>\"\",IF('SOLAR PV PRODUCTS'!$D$34=1,I34*C34*(D34+E34*EF!$M$4+F34*EF!$M$5)*'SOLAR PV PRODUCTS'!$D$57/1000,I34*C34*(D34+E34*EF!$M$4+F34*EF!$M$5)*'SOLAR PV PRODUCTS'!$D$54/1000),\"\")","v":""},{"$f":"IF(A34<>\"\",IF('SOLAR PV PRODUCTS'!$E$34=1,J34*C34*(D34+E34*EF!$M$4+F34*EF!$M$5)*'SOLAR PV PRODUCTS'!$E$57/1000,J34*C34*(D34+E34*EF!$M$4+F34*EF!$M$5)*'SOLAR PV PRODUCTS'!$E$54/1000),\"\")","v":""},{"$f":"IF(A34<>\"\",IF('SOLAR PV PRODUCTS'!$F$34=1,K34*C34*(D34+E34*EF!$M$4+F34*EF!$M$5)*'SOLAR PV PRODUCTS'!$F$57/1000,K34*C34*(D34+E34*EF!$M$4+F34*EF!$M$5)*'SOLAR PV PRODUCTS'!$F$54/1000),\"\")","v":""},{"$f":"IF(A34<>\"\",IF('SOLAR PV PRODUCTS'!$G$34=1,L34*C34*(D34+E34*EF!$M$4+F34*EF!$M$5)*'SOLAR PV PRODUCTS'!$G$57/1000,L34*C34*(D34+E34*EF!$M$4+F34*EF!$M$5)*'SOLAR PV PRODUCTS'!$G$54/1000),\"\")","v":""},{"$f":"IF(A34<>\"\",IF('SOLAR PV PRODUCTS'!$H$34=1,M34*C34*(D34+E34*EF!$M$4+F34*EF!$M$5)*'SOLAR PV PRODUCTS'!$H$57/1000,M34*C34*(D34+E34*EF!$M$4+F34*EF!$M$5)*'SOLAR PV PRODUCTS'!$H$54/1000),\"\")","v":""},{"$f":"IF(A34<>\"\",IF('SOLAR PV PRODUCTS'!$I$34=1,N34*C34*(D34+E34*EF!$M$4+F34*EF!$M$5)*'SOLAR PV PRODUCTS'!$I$57/1000,N34*C34*(D34+E34*EF!$M$4+F34*EF!$M$5)*'SOLAR PV PRODUCTS'!$I$54/1000),\"\")","v":""},{"$f":"IF(A34<>\"\",IF('SOLAR PV PRODUCTS'!$J$34=1,O34*C34*(D34+E34*EF!$M$4+F34*EF!$M$5)*'SOLAR PV PRODUCTS'!$J$57/1000,O34*C34*(D34+E34*EF!$M$4+F34*EF!$M$5)*'SOLAR PV PRODUCTS'!$J$54/1000),\"\")","v":""},{"$f":"IF(A34<>\"\",IF('SOLAR PV PRODUCTS'!$K$34=1,P34*C34*(D34+E34*EF!$M$4+F34*EF!$M$5)*'SOLAR PV PRODUCTS'!$K$57/1000,P34*C34*(D34+E34*EF!$M$4+F34*EF!$M$5)*'SOLAR PV PRODUCTS'!$K$54/1000),\"\")","v":""},{"$f":"IF(A34<>\"\",IF('SOLAR PV PRODUCTS'!$L$34=1,Q34*C34*(D34+E34*EF!$M$4+F34*EF!$M$5)*'SOLAR PV PRODUCTS'!$L$57/1000,Q34*C34*(D34+E34*EF!$M$4+F34*EF!$M$5)*'SOLAR PV PRODUCTS'!$L$54/1000),\"\")","v":""},{"$f":"IF(A34<>\"\",IF('SOLAR PV PRODUCTS'!$M$34=1,R34*C34*(D34+E34*EF!$M$4+F34*EF!$M$5)*'SOLAR PV PRODUCTS'!$M$57/1000,R34*C34*(D34+E34*EF!$M$4+F34*EF!$M$5)*'SOLAR PV PRODUCTS'!$M$54/1000),\"\")","v":""},{"$f":"IF(A34<>\"\",IF('SOLAR PV PRODUCTS'!$N$34=1,S34*C34*(D34+E34*EF!$M$4+F34*EF!$M$5)*'SOLAR PV PRODUCTS'!$N$57/1000,S34*C34*(D34+E34*EF!$M$4+F34*EF!$M$5)*'SOLAR PV PRODUCTS'!$N$54/1000),\"\")","v":""},0]
[null,null,{"$f":"IF(AND(A36<>\"\",B36<>\"\"),VLOOKUP(A36&B36,'unit conversion'!$A$2:$F$267,5,0)*VLOOKUP(A36&B36,'unit conversion'!$A$2:$F$267,6,0),\"\")","v":""},{"$f":"IF(AND(A36<>\"\",B36<>\"\"),VLOOKUP(A36,EF!$B$4:$E$55,2,0),\"\")","v":""},{"$f":"IF(AND(A36<>\"\",B36<>\"\"),VLOOKUP(A36,EF!$B$4:$E$55,3,0),\"\")","v":""},{"$f":"IF(AND(A36<>\"\",B36<>\"\"),VLOOKUP(A36,EF!$B$4:$E$55,4,0),\"\")","v":""},"Fuel consumption",null,null,null,null,null,null,null,null,null,null,null,null,0]
[null,null,null,null,null,null,"Emission (tons CO2eq)",{"$f":"IF(A36<>\"\",IF('SOLAR PV PRODUCTS'!$C$34=1,H36*C36*(D36+E36*EF!$M$4+F36*EF!$M$5)*'SOLAR PV PRODUCTS'!$C$57/1000,H36*C36*(D36+E36*EF!$M$4+F36*EF!$M$5)*'SOLAR PV PRODUCTS'!$C$54/1000),\"\")","v":""},{"$f":"IF(A36<>\"\",IF('SOLAR PV PRODUCTS'!$D$34=1,I36*C36*(D36+E36*EF!$M$4+F36*EF!$M$5)*'SOLAR PV PRODUCTS'!$D$57/1000,I36*C36*(D36+E36*EF!$M$4+F36*EF!$M$5)*'SOLAR PV PRODUCTS'!$D$54/1000),\"\")","v":""},{"$f":"IF(A36<>\"\",IF('SOLAR PV PRODUCTS'!$E$34=1,J36*C36*(D36+E36*EF!$M$4+F36*EF!$M$5)*'SOLAR PV PRODUCTS'!$E$57/1000,J36*C36*(D36+E36*EF!$M$4+F36*EF!$M$5)*'SOLAR PV PRODUCTS'!$E$54/1000),\"\")","v":""},{"$f":"IF(A36<>\"\",IF('SOLAR PV PRODUCTS'!$F$34=1,K36*C36*(D36+E36*EF!$M$4+F36*EF!$M$5)*'SOLAR PV PRODUCTS'!$F$57/1000,K36*C36*(D36+E36*EF!$M$4+F36*EF!$M$5)*'SOLAR PV PRODUCTS'!$F$54/1000),\"\")","v":""},{"$f":"IF(A36<>\"\",IF('SOLAR PV PRODUCTS'!$G$34=1,L36*C36*(D36+E36*EF!$M$4+F36*EF!$M$5)*'SOLAR PV PRODUCTS'!$G$57/1000,L36*C36*(D36+E36*EF!$M$4+F36*EF!$M$5)*'SOLAR PV PRODUCTS'!$G$54/1000),\"\")","v":""},{"$f":"IF(A36<>\"\",IF('SOLAR PV PRODUCTS'!$H$34=1,M36*C36*(D36+E36*EF!$M$4+F36*EF!$M$5)*'SOLAR PV PRODUCTS'!$H$57/1000,M36*C36*(D36+E36*EF!$M$4+F36*EF!$M$5)*'SOLAR PV PRODUCTS'!$H$54/1000),\"\")","v":""},{"$f":"IF(A36<>\"\",IF('SOLAR PV PRODUCTS'!$I$34=1,N36*C36*(D36+E36*EF!$M$4+F36*EF!$M$5)*'SOLAR PV PRODUCTS'!$I$57/1000,N36*C36*(D36+E36*EF!$M$4+F36*EF!$M$5)*'SOLAR PV PRODUCTS'!$I$54/1000),\"\")","v":""},{"$f":"IF(A36<>\"\",IF('SOLAR PV PRODUCTS'!$J$34=1,O36*C36*(D36+E36*EF!$M$4+F36*EF!$M$5)*'SOLAR PV PRODUCTS'!$J$57/1000,O36*C36*(D36+E36*EF!$M$4+F36*EF!$M$5)*'SOLAR PV PRODUCTS'!$J$54/1000),\"\")","v":""},{"$f":"IF(A36<>\"\",IF('SOLAR PV PRODUCTS'!$K$34=1,P36*C36*(D36+E36*EF!$M$4+F36*EF!$M$5)*'SOLAR PV PRODUCTS'!$K$57/1000,P36*C36*(D36+E36*EF!$M$4+F36*EF!$M$5)*'SOLAR PV PRODUCTS'!$K$54/1000),\"\")","v":""},{"$f":"IF(A36<>\"\",IF('SOLAR PV PRODUCTS'!$L$34=1,Q36*C36*(D36+E36*EF!$M$4+F36*EF!$M$5)*'SOLAR PV PRODUCTS'!$L$57/1000,Q36*C36*(D36+E36*EF!$M$4+F36*EF!$M$5)*'SOLAR PV PRODUCTS'!$L$54/1000),\"\")","v":""},{"$f":"IF(A36<>\"\",IF('SOLAR PV PRODUCTS'!$M$34=1,R36*C36*(D36+E36*EF!$M$4+F36*EF!$M$5)*'SOLAR PV PRODUCTS'!$M$57/1000,R36*C36*(D36+E36*EF!$M$4+F36*EF!$M$5)*'SOLAR PV PRODUCTS'!$M$54/1000),\"\")","v":""},{"$f":"IF(A36<>\"\",IF('SOLAR PV PRODUCTS'!$N$34=1,S36*C36*(D36+E36*EF!$M$4+F36*EF!$M$5)*'SOLAR PV PRODUCTS'!$N$57/1000,S36*C36*(D36+E36*EF!$M$4+F36*EF!$M$5)*'SOLAR PV PRODUCTS'!$N$54/1000),\"\")","v":""},0]
[null,null,{"$f":"IF(AND(A38<>\"\",B38<>\"\"),VLOOKUP(A38&B38,'unit conversion'!$A$2:$F$267,5,0)*VLOOKUP(A38&B38,'unit conversion'!$A$2:$F$267,6,0),\"\")","v":""},{"$f":"IF(AND(A38<>\"\",B38<>\"\"),VLOOKUP(A38,EF!$B$4:$E$55,2,0),\"\")","v":""},{"$f":"IF(AND(A38<>\"\",B38<>\"\"),VLOOKUP(A38,EF!$B$4:$E$55,3,0),\"\")","v":""},{"$f":"IF(AND(A38<>\"\",B38<>\"\"),VLOOKUP(A38,EF!$B$4:$E$55,4,0),\"\")","v":""},"Fuel consumption",null,null,null,null,null,null,null,null,null,null,null,null,0]
[null,null,null,null,null,null,"Emission (tons CO2eq)",{"$f":"IF(A38<>\"\",IF('SOLAR PV PRODUCTS'!$C$34=1,H38*C38*(D38+E38*EF!$M$4+F38*EF!$M$5)*'SOLAR PV PRODUCTS'!$C$57/1000,H38*C38*(D38+E38*EF!$M$4+F38*EF!$M$5)*'SOLAR PV PRODUCTS'!$C$54/1000),\"\")","v":""},{"$f":"IF(A38<>\"\",IF('SOLAR PV PRODUCTS'!$D$34=1,I38*C38*(D38+E38*EF!$M$4+F38*EF!$M$5)*'SOLAR PV PRODUCTS'!$D$57/1000,I38*C38*(D38+E38*EF!$M$4+F38*EF!$M$5)*'SOLAR PV PRODUCTS'!$D$54/1000),\"\")","v":""},{"$f":"IF(A38<>\"\",IF('SOLAR PV PRODUCTS'!$E$34=1,J38*C38*(D38+E38*EF!$M$4+F38*EF!$M$5)*'SOLAR PV PRODUCTS'!$E$57/1000,J38*C38*(D38+E38*EF!$M$4+F38*EF!$M$5)*'SOLAR PV PRODUCTS'!$E$54/1000),\"\")","v":""},{"$f":"IF(A38<>\"\",IF('SOLAR PV PRODUCTS'!$F$34=1,K38*C38*(D38+E38*EF!$M$4+F38*EF!$M$5)*'SOLAR PV PRODUCTS'!$F$57/1000,K38*C38*(D38+E38*EF!$M$4+F38*EF!$M$5)*'SOLAR PV PRODUCTS'!$F$54/1000),\"\")","v":""},{"$f":"IF(A38<>\"\",IF('SOLAR PV PRODUCTS'!$G$34=1,L38*C38*(D38+E38*EF!$M$4+F38*EF!$M$5)*'SOLAR PV PRODUCTS'!$G$57/1000,L38*C38*(D38+E38*EF!$M$4+F38*EF!$M$5)*'SOLAR PV PRODUCTS'!$G$54/1000),\"\")","v":""},{"$f":"IF(A38<>\"\",IF('SOLAR PV PRODUCTS'!$H$34=1,M38*C38*(D38+E38*EF!$M$4+F38*EF!$M$5)*'SOLAR PV PRODUCTS'!$H$57/1000,M38*C38*(D38+E38*EF!$M$4+F38*EF!$M$5)*'SOLAR PV PRODUCTS'!$H$54/1000),\"\")","v":""},{"$f":"IF(A38<>\"\",IF('SOLAR PV PRODUCTS'!$I$34=1,N38*C38*(D38+E38*EF!$M$4+F38*EF!$M$5)*'SOLAR PV PRODUCTS'!$I$57/1000,N38*C38*(D38+E38*EF!$M$4+F38*EF!$M$5)*'SOLAR PV PRODUCTS'!$I$54/1000),\"\")","v":""},{"$f":"IF(A38<>\"\",IF('SOLAR PV PRODUCTS'!$J$34=1,O38*C38*(D38+E38*EF!$M$4+F38*EF!$M$5)*'SOLAR PV PRODUCTS'!$J$57/1000,O38*C38*(D38+E38*EF!$M$4+F38*EF!$M$5)*'SOLAR PV PRODUCTS'!$J$54/1000),\"\")","v":""},{"$f":"IF(A38<>\"\",IF('SOLAR PV PRODUCTS'!$K$34=1,P38*C38*(D38+E38*EF!$M$4+F38*EF!$M$5)*'SOLAR PV PRODUCTS'!$K$57/1000,P38*C38*(D38+E38*EF!$M$4+F38*EF!$M$5)*'SOLAR PV PRODUCTS'!$K$54/1000),\"\")","v":""},{"$f":"IF(A38<>\"\",IF('SOLAR PV PRODUCTS'!$L$34=1,Q38*C38*(D38+E38*EF!$M$4+F38*EF!$M$5)*'SOLAR PV PRODUCTS'!$L$57/1000,Q38*C38*(D38+E38*EF!$M$4+F38*EF!$M$5)*'SOLAR PV PRODUCTS'!$L$54/1000),\"\")","v":""},{"$f":"IF(A38<>\"\",IF('SOLAR PV PRODUCTS'!$M$34=1,R38*C38*(D38+E38*EF!$M$4+F38*EF!$M$5)*'SOLAR PV PRODUCTS'!$M$57/1000,R38*C38*(D38+E38*EF!$M$4+F38*EF!$M$5)*'SOLAR PV PRODUCTS'!$M$54/1000),\"\")","v":""},{"$f":"IF(A38<>\"\",IF('SOLAR PV PRODUCTS'!$N$34=1,S38*C38*(D38+E38*EF!$M$4+F38*EF!$M$5)*'SOLAR PV PRODUCTS'!$N$57/1000,S38*C38*(D38+E38*EF!$M$4+F38*EF!$M$5)*'SOLAR PV PRODUCTS'!$N$54/1000),\"\")","v":""},0]
[null,null,{"$f":"IF(AND(A40<>\"\",B40<>\"\"),VLOOKUP(A40&B40,'unit conversion'!$A$2:$F$267,5,0)*VLOOKUP(A40&B40,'unit conversion'!$A$2:$F$267,6,0),\"\")","v":""},{"$f":"IF(AND(A40<>\"\",B40<>\"\"),VLOOKUP(A40,EF!$B$4:$E$55,2,0),\"\")","v":""},{"$f":"IF(AND(A40<>\"\",B40<>\"\"),VLOOKUP(A40,EF!$B$4:$E$55,3,0),\"\")","v":""},{"$f":"IF(AND(A40<>\"\",B40<>\"\"),VLOOKUP(A40,EF!$B$4:$E$55,4,0),\"\")","v":""},"Fuel consumption",null,null,null,null,null,null,null,null,null,null,null,null,0]
[null,null,null,null,null,null,"Emission (tons CO2eq)",{"$f":"IF(A40<>\"\",IF('SOLAR PV PRODUCTS'!$C$34=1,H40*C40*(D40+E40*EF!$M$4+F40*EF!$M$5)*'SOLAR PV PRODUCTS'!$C$57/1000,H40*C40*(D40+E40*EF!$M$4+F40*EF!$M$5)*'SOLAR PV PRODUCTS'!$C$54/1000),\"\")","v":""},{"$f":"IF(A40<>\"\",IF('SOLAR PV PRODUCTS'!$D$34=1,I40*C40*(D40+E40*EF!$M$4+F40*EF!$M$5)*'SOLAR PV PRODUCTS'!$D$57/1000,I40*C40*(D40+E40*EF!$M$4+F40*EF!$M$5)*'SOLAR PV PRODUCTS'!$D$54/1000),\"\")","v":""},{"$f":"IF(A40<>\"\",IF('SOLAR PV PRODUCTS'!$E$34=1,J40*C40*(D40+E40*EF!$M$4+F40*EF!$M$5)*'SOLAR PV PRODUCTS'!$E$57/1000,J40*C40*(D40+E40*EF!$M$4+F40*EF!$M$5)*'SOLAR PV PRODUCTS'!$E$54/1000),\"\")","v":""},{"$f":"IF(A40<>\"\",IF('SOLAR PV PRODUCTS'!$F$34=1,K40*C40*(D40+E40*EF!$M$4+F40*EF!$M$5)*'SOLAR PV PRODUCTS'!$F$57/1000,K40*C40*(D40+E40*EF!$M$4+F40*EF!$M$5)*'SOLAR PV PRODUCTS'!$F$54/1000),\"\")","v":""},{"$f":"IF(A40<>\"\",IF('SOLAR PV PRODUCTS'!$G$34=1,L40*C40*(D40+E40*EF!$M$4+F40*EF!$M$5)*'SOLAR PV PRODUCTS'!$G$57/1000,L40*C40*(D40+E40*EF!$M$4+F40*EF!$M$5)*'SOLAR PV PRODUCTS'!$G$54/1000),\"\")","v":""},{"$f":"IF(A40<>\"\",IF('SOLAR PV PRODUCTS'!$H$34=1,M40*C40*(D40+E40*EF!$M$4+F40*EF!$M$5)*'SOLAR PV PRODUCTS'!$H$57/1000,M40*C40*(D40+E40*EF!$M$4+F40*EF!$M$5)*'SOLAR PV PRODUCTS'!$H$54/1000),\"\")","v":""},{"$f":"IF(A40<>\"\",IF('SOLAR PV PRODUCTS'!$I$34=1,N40*C40*(D40+E40*EF!$M$4+F40*EF!$M$5)*'SOLAR PV PRODUCTS'!$I$57/1000,N40*C40*(D40+E40*EF!$M$4+F40*EF!$M$5)*'SOLAR PV PRODUCTS'!$I$54/1000),\"\")","v":""},{"$f":"IF(A40<>\"\",IF('SOLAR PV PRODUCTS'!$J$34=1,O40*C40*(D40+E40*EF!$M$4+F40*EF!$M$5)*'SOLAR PV PRODUCTS'!$J$57/1000,O40*C40*(D40+E40*EF!$M$4+F40*EF!$M$5)*'SOLAR PV PRODUCTS'!$J$54/1000),\"\")","v":""},{"$f":"IF(A40<>\"\",IF('SOLAR PV PRODUCTS'!$K$34=1,P40*C40*(D40+E40*EF!$M$4+F40*EF!$M$5)*'SOLAR PV PRODUCTS'!$K$57/1000,P40*C40*(D40+E40*EF!$M$4+F40*EF!$M$5)*'SOLAR PV PRODUCTS'!$K$54/1000),\"\")","v":""},{"$f":"IF(A40<>\"\",IF('SOLAR PV PRODUCTS'!$L$34=1,Q40*C40*(D40+E40*EF!$M$4+F40*EF!$M$5)*'SOLAR PV PRODUCTS'!$L$57/1000,Q40*C40*(D40+E40*EF!$M$4+F40*EF!$M$5)*'SOLAR PV PRODUCTS'!$L$54/1000),\"\")","v":""},{"$f":"IF(A40<>\"\",IF('SOLAR PV PRODUCTS'!$M$34=1,R40*C40*(D40+E40*EF!$M$4+F40*EF!$M$5)*'SOLAR PV PRODUCTS'!$M$57/1000,R40*C40*(D40+E40*EF!$M$4+F40*EF!$M$5)*'SOLAR PV PRODUCTS'!$M$54/1000),\"\")","v":""},{"$f":"IF(A40<>\"\",IF('SOLAR PV PRODUCTS'!$N$34=1,S40*C40*(D40+E40*EF!$M$4+F40*EF!$M$5)*'SOLAR PV PRODUCTS'!$N$57/1000,S40*C40*(D40+E40*EF!$M$4+F40*EF!$M$5)*'SOLAR PV PRODUCTS'!$N$54/1000),\"\")","v":""},0]
[]
["Total (tons CO2eq)",null,null,null,null,null,null,{"$f":"SUMIF($G$32:$G$42,$G$33,H32:H42)","v":0},{"$f":"SUMIF($G$32:$G$42,$G$33,I32:I42)","v":0},0,0,0,0,0,0,0,0,0,0,0]
[]
[]
[]
[]
[]
["II. Refrigerants loaded into refrigeration equipment"]
[]
["Refrigerants","Unit","GWP",null,"Quantity of solvents loaded into refrigeration equipment and GHG emissions",null,null,null,null,null,null,null,null,null,null,null,"Total"]
[null,null,null,null,"Jan","Feb","March","April","May","June","July","Aug","Sep","Oct","Nov","Dec"]
[null,null,{"$f":"IF(A53<>\"\",VLOOKUP(A53,EF!$K$8:$M$16,3,0),0)","v":0},"Quantity of solvents",null,null,null,null,null,null,null,null,null,null,null,null,{"$f":"SUM(E53:P53)","v":0}]
[null,null,null,"Emission (tons CO2eq)",{"$f":"IF('SOLAR PV PRODUCTS'!$C$34=1,E53*C53/1000*'SOLAR PV PRODUCTS'!$C$57,E53*C53/1000*'SOLAR PV PRODUCTS'!$C$54)","v":0},{"$f":"IF('SOLAR PV PRODUCTS'!$D$34=1,F53*C53/1000*'SOLAR PV PRODUCTS'!$D$57,F53*C53/1000*'SOLAR PV PRODUCTS'!$D$54)","v":0},{"$f":"IF('SOLAR PV PRODUCTS'!$E$34=1,G53*C53/1000*'SOLAR PV PRODUCTS'!$E$57,G53*C53/1000*'SOLAR PV PRODUCTS'!$E$54)","v":0},{"$f":"IF('SOLAR PV PRODUCTS'!$F$34=1,H53*C53/1000*'SOLAR PV PRODUCTS'!$F$57,H53*C53/1000*'SOLAR PV PRODUCTS'!$F$54)","v":0},{"$f":"IF('SOLAR PV PRODUCTS'!$G$34=1,I53*C53/1000*'SOLAR PV PRODUCTS'!$G$57,I53*C53/1000*'SOLAR PV PRODUCTS'!$G$54)","v":0},{"$f":"IF('SOLAR PV PRODUCTS'!$H$34=1,J53*C53/1000*'SOLAR PV PRODUCTS'!$H$57,J53*C53/1000*'SOLAR PV PRODUCTS'!$H$54)","v":0},{"$f":"IF('SOLAR PV PRODUCTS'!$I$34=1,K53*C53/1000*'SOLAR PV PRODUCTS'!$I$57,K53*C53/1000*'SOLAR PV PRODUCTS'!$I$54)","v":0},{"$f":"IF('SOLAR PV PRODUCTS'!$J$34=1,L53*C53/1000*'SOLAR PV PRODUCTS'!$JL$57,L53*C53/1000*'SOLAR PV PRODUCTS'!$J$54)","v":0},{"$f":"IF('SOLAR PV PRODUCTS'!$K$34=1,M53*C53/1000*'SOLAR PV PRODUCTS'!$K$57,M53*C53/1000*'SOLAR PV PRODUCTS'!$K$54)","v":0},{"$f":"IF('SOLAR PV PRODUCTS'!$L$34=1,N53*C53/1000*'SOLAR PV PRODUCTS'!$L$57,N53*C53/1000*'SOLAR PV PRODUCTS'!$L$54)","v":0},{"$f":"IF('SOLAR PV PRODUCTS'!$M$34=1,O53*C53/1000*'SOLAR PV PRODUCTS'!$M$57,O53*C53/1000*'SOLAR PV PRODUCTS'!$M$54)","v":0},{"$f":"IF('SOLAR PV PRODUCTS'!$N$34=1,P53*C53/1000*'SOLAR PV PRODUCTS'!$N$57,P53*C53/1000*'SOLAR PV PRODUCTS'!$N$54)","v":0},0]
[null,{"$f":"IF(A55<>\"\",\"kg\",\"\")","v":""},{"$f":"IF(A55<>\"\",VLOOKUP(A55,EF!$K$8:$M$16,3,0),0)","v":0},"Quantity of solvents",null,null,null,null,null,null,null,null,null,null,null,null,0]
[null,null,null,"Emission (tons CO2eq)",{"$f":"IF('SOLAR PV PRODUCTS'!$C$34=1,E55*C55/1000*'SOLAR PV PRODUCTS'!$C$57,E55*C55/1000*'SOLAR PV PRODUCTS'!$C$54)","v":0},{"$f":"IF('SOLAR PV PRODUCTS'!$D$34=1,F55*C55/1000*'SOLAR PV PRODUCTS'!$D$57,F55*C55/1000*'SOLAR PV PRODUCTS'!$D$54)","v":0},{"$f":"IF('SOLAR PV PRODUCTS'!$E$34=1,G55*C55/1000*'SOLAR PV PRODUCTS'!$E$57,G55*C55/1000*'SOLAR PV PRODUCTS'!$E$54)","v":0},{"$f":"IF('SOLAR PV PRODUCTS'!$F$34=1,H55*C55/1000*'SOLAR PV PRODUCTS'!$F$57,H55*C55/1000*'SOLAR PV PRODUCTS'!$F$54)","v":0},{"$f":"IF('SOLAR PV PRODUCTS'!$G$34=1,I55*C55/1000*'SOLAR PV PRODUCTS'!$G$57,I55*C55/1000*'SOLAR PV PRODUCTS'!$G$54)","v":0},{"$f":"IF('SOLAR PV PRODUCTS'!$H$34=1,J55*C55/1000*'SOLAR PV PRODUCTS'!$H$57,J55*C55/1000*'SOLAR PV PRODUCTS'!$H$54)","v":0},{"$f":"IF('SOLAR PV PRODUCTS'!$I$34=1,K55*C55/1000*'SOLAR PV PRODUCTS'!$I$57,K55*C55/1000*'SOLAR PV PRODUCTS'!$I$54)","v":0},{"$f":"IF('SOLAR PV PRODUCTS'!$J$34=1,L55*C55/1000*'SOLAR PV PRODUCTS'!$JL$57,L55*C55/1000*'SOLAR PV PRODUCTS'!$J$54)","v":0},{"$f":"IF('SOLAR PV PRODUCTS'!$K$34=1,M55*C55/1000*'SOLAR PV PRODUCTS'!$K$57,M55*C55/1000*'SOLAR PV PRODUCTS'!$K$54)","v":0},{"$f":"IF('SOLAR PV PRODUCTS'!$L$34=1,N55*C55/1000*'SOLAR PV PRODUCTS'!$L$57,N55*C55/1000*'SOLAR PV PRODUCTS'!$L$54)","v":0},{"$f":"IF('SOLAR PV PRODUCTS'!$M$34=1,O55*C55/1000*'SOLAR PV PRODUCTS'!$M$57,O55*C55/1000*'SOLAR PV PRODUCTS'!$M$54)","v":0},{"$f":"IF('SOLAR PV PRODUCTS'!$N$34=1,P55*C55/1000*'SOLAR PV PRODUCTS'!$N$57,P55*C55/1000*'SOLAR PV PRODUCTS'!$N$54)","v":0},0]
[null,{"$f":"IF(A57<>\"\",\"kg\",\"\")","v":""},{"$f":"IF(A57<>\"\",VLOOKUP(A57,EF!$K$8:$M$16,3,0),0)","v":0},"Quantity of solvents",null,null,null,null,null,null,null,null,null,null,null,null,0]
[null,null,null,"Emission (tons CO2eq)",{"$f":"IF('SOLAR PV PRODUCTS'!$C$34=1,E57*C57/1000*'SOLAR PV PRODUCTS'!$C$57,E57*C57/1000*'SOLAR PV PRODUCTS'!$C$54)","v":0},{"$f":"IF('SOLAR PV PRODUCTS'!$D$34=1,F57*C57/1000*'SOLAR PV PRODUCTS'!$D$57,F57*C57/1000*'SOLAR PV PRODUCTS'!$D$54)","v":0},{"$f":"IF('SOLAR PV PRODUCTS'!$E$34=1,G57*C57/1000*'SOLAR PV PRODUCTS'!$E$57,G57*C57/1000*'SOLAR PV PRODUCTS'!$E$54)","v":0},{"$f":"IF('SOLAR PV PRODUCTS'!$F$34=1,H57*C57/1000*'SOLAR PV PRODUCTS'!$F$57,H57*C57/1000*'SOLAR PV PRODUCTS'!$F$54)","v":0},{"$f":"IF('SOLAR PV PRODUCTS'!$G$34=1,I57*C57/1000*'SOLAR PV PRODUCTS'!$G$57,I57*C57/1000*'SOLAR PV PRODUCTS'!$G$54)","v":0},{"$f":"IF('SOLAR PV PRODUCTS'!$H$34=1,J57*C57/1000*'SOLAR PV PRODUCTS'!$H$57,J57*C57/1000*'SOLAR PV PRODUCTS'!$H$54)","v":0},{"$f":"IF('SOLAR PV PRODUCTS'!$I$34=1,K57*C57/1000*'SOLAR PV PRODUCTS'!$I$57,K57*C57/1000*'SOLAR PV PRODUCTS'!$I$54)","v":0},{"$f":"IF('SOLAR PV PRODUCTS'!$J$34=1,L57*C57/1000*'SOLAR PV PRODUCTS'!$JL$57,L57*C57/1000*'SOLAR PV PRODUCTS'!$J$54)","v":0},{"$f":"IF('SOLAR PV PRODUCTS'!$K$34=1,M57*C57/1000*'SOLAR PV PRODUCTS'!$K$57,M57*C57/1000*'SOLAR PV PRODUCTS'!$K$54)","v":0},{"$f":"IF('SOLAR PV PRODUCTS'!$L$34=1,N57*C57/1000*'SOLAR PV PRODUCTS'!$L$57,N57*C57/1000*'SOLAR PV PRODUCTS'!$L$54)","v":0},{"$f":"IF('SOLAR PV PRODUCTS'!$M$34=1,O57*C57/1000*'SOLAR PV PRODUCTS'!$M$57,O57*C57/1000*'SOLAR PV PRODUCTS'!$M$54)","v":0},{"$f":"IF('SOLAR PV PRODUCTS'!$N$34=1,P57*C57/1000*'SOLAR PV PRODUCTS'!$N$57,P57*C57/1000*'SOLAR PV PRODUCTS'!$N$54)","v":0},0]
[null,{"$f":"IF(A59<>\"\",\"kg\",\"\")","v":""},{"$f":"IF(A59<>\"\",VLOOKUP(A59,EF!$K$8:$M$16,3,0),0)","v":0},"Quantity of solvents",null,null,null,null,null,null,null,null,null,null,null,null,0]
[null,null,null,"Emission (tons CO2eq)",{"$f":"IF('SOLAR PV PRODUCTS'!$C$34=1,E59*C59/1000*'SOLAR PV PRODUCTS'!$C$57,E59*C59/1000*'SOLAR PV PRODUCTS'!$C$54)","v":0},{"$f":"IF('SOLAR PV PRODUCTS'!$D$34=1,F59*C59/1000*'SOLAR PV PRODUCTS'!$D$57,F59*C59/1000*'SOLAR PV PRODUCTS'!$D$54)","v":0},{"$f":"IF('SOLAR PV PRODUCTS'!$E$34=1,G59*C59/1000*'SOLAR PV PRODUCTS'!$E$57,G59*C59/1000*'SOLAR PV PRODUCTS'!$E$54)","v":0},{"$f":"IF('SOLAR PV PRODUCTS'!$F$34=1,H59*C59/1000*'SOLAR PV PRODUCTS'!$F$57,H59*C59/1000*'SOLAR PV PRODUCTS'!$F$54)","v":0},{"$f":"IF('SOLAR PV PRODUCTS'!$G$34=1,I59*C59/1000*'SOLAR PV PRODUCTS'!$G$57,I59*C59/1000*'SOLAR PV PRODUCTS'!$G$54)","v":0},{"$f":"IF('SOLAR PV PRODUCTS'!$H$34=1,J59*C59/1000*'SOLAR PV PRODUCTS'!$H$57,J59*C59/1000*'SOLAR PV PRODUCTS'!$H$54)","v":0},{"$f":"IF('SOLAR PV PRODUCTS'!$I$34=1,K59*C59/1000*'SOLAR PV PRODUCTS'!$I$57,K59*C59/1000*'SOLAR PV PRODUCTS'!$I$54)","v":0},{"$f":"IF('SOLAR PV PRODUCTS'!$J$34=1,L59*C59/1000*'SOLAR PV PRODUCTS'!$JL$57,L59*C59/1000*'SOLAR PV PRODUCTS'!$J$54)","v":0},{"$f":"IF('SOLAR PV PRODUCTS'!$K$34=1,M59*C59/1000*'SOLAR PV PRODUCTS'!$K$57,M59*C59/1000*'SOLAR PV PRODUCTS'!$K$54)","v":0},{"$f":"IF('SOLAR PV PRODUCTS'!$L$34=1,N59*C59/1000*'SOLAR PV PRODUCTS'!$L$57,N59*C59/1000*'SOLAR PV PRODUCTS'!$L$54)","v":0},{"$f":"IF('SOLAR PV PRODUCTS'!$M$34=1,O59*C59/1000*'SOLAR PV PRODUCTS'!$M$57,O59*C59/1000*'SOLAR PV PRODUCTS'!$M$54)","v":0},{"$f":"IF('SOLAR PV PRODUCTS'!$N$34=1,P59*C59/1000*'SOLAR PV PRODUCTS'!$N$57,P59*C59/1000*'SOLAR PV PRODUCTS'!$N$54)","v":0},0]
[null,{"$f":"IF(A61<>\"\",\"kg\",\"\")","v":""},{"$f":"IF(A61<>\"\",VLOOKUP(A61,EF!$K$8:$M$16,3,0),0)","v":0},"Quantity of solvents",null,null,null,null,null,null,null,null,null,null,null,null,0]
[null,null,null,"Emission (tons CO2eq)",{"$f":"IF('SOLAR PV PRODUCTS'!$C$34=1,E61*C61/1000*'SOLAR PV PRODUCTS'!$C$57,E61*C61/1000*'SOLAR PV PRODUCTS'!$C$54)","v":0},{"$f":"IF('SOLAR PV PRODUCTS'!$D$34=1,F61*C61/1000*'SOLAR PV PRODUCTS'!$D$57,F61*C61/1000*'SOLAR PV PRODUCTS'!$D$54)","v":0},{"$f":"IF('SOLAR PV PRODUCTS'!$E$34=1,G61*C61/1000*'SOLAR PV PRODUCTS'!$E$57,G61*C61/1000*'SOLAR PV PRODUCTS'!$E$54)","v":0},{"$f":"IF('SOLAR PV PRODUCTS'!$F$34=1,H61*C61/1000*'SOLAR PV PRODUCTS'!$F$57,H61*C61/1000*'SOLAR PV PRODUCTS'!$F$54)","v":0},{"$f":"IF('SOLAR PV PRODUCTS'!$G$34=1,I61*C61/1000*'SOLAR PV PRODUCTS'!$G$57,I61*C61/1000*'SOLAR PV PRODUCTS'!$G$54)","v":0},{"$f":"IF('SOLAR PV PRODUCTS'!$H$34=1,J61*C61/1000*'SOLAR PV PRODUCTS'!$H$57,J61*C61/1000*'SOLAR PV PRODUCTS'!$H$54)","v":0},{"$f":"IF('SOLAR PV PRODUCTS'!$I$34=1,K61*C61/1000*'SOLAR PV PRODUCTS'!$I$57,K61*C61/1000*'SOLAR PV PRODUCTS'!$I$54)","v":0},{"$f":"IF('SOLAR PV PRODUCTS'!$J$34=1,L61*C61/1000*'SOLAR PV PRODUCTS'!$JL$57,L61*C61/1000*'SOLAR PV PRODUCTS'!$J$54)","v":0},{"$f":"IF('SOLAR PV PRODUCTS'!$K$34=1,M61*C61/1000*'SOLAR PV PRODUCTS'!$K$57,M61*C61/1000*'SOLAR PV PRODUCTS'!$K$54)","v":0},{"$f":"IF('SOLAR PV PRODUCTS'!$L$34=1,N61*C61/1000*'SOLAR PV PRODUCTS'!$L$57,N61*C61/1000*'SOLAR PV PRODUCTS'!$L$54)","v":0},{"$f":"IF('SOLAR PV PRODUCTS'!$M$34=1,O61*C61/1000*'SOLAR PV PRODUCTS'!$M$57,O61*C61/1000*'SOLAR PV PRODUCTS'!$M$54)","v":0},{"$f":"IF('SOLAR PV PRODUCTS'!$N$34=1,P61*C61/1000*'SOLAR PV PRODUCTS'!$N$57,P61*C61/1000*'SOLAR PV PRODUCTS'!$N$54)","v":0},0]
[]
["Total (tons CO2eq)",null,null,null,{"$f":"SUMIF($D$53:$D$63,$D$54,E53:E63)","v":0},0,0,0,0,0,0,0,0,0,0,0,0]
[]
[]
[]
[]
["III. Industrial Processes"]
[]
["Processes","Unit of output from the process","EF CO2 \n(kg CO2/unit)","EF CH4 \n(kg CO4/unit)","EF N2O (kg N2O/unit)",null,"Output of production processes and GHG emissions from those processes",null,null,null,null,null,null,null,null,null,null,null,"Total"]
[null,null,null,null,null,null,"Jan","Feb","March","April","May","June","July","Aug","Sep","Oct","Nov","Dec"]
[null,{"$f":"IF(A73<>0,VLOOKUP(A73,EF!$A$148:$B$168,2,0),\"\")","v":""},{"$f":"IF(A73<>\"\",VLOOKUP(A73,EF!$A$148:$E$168,3,0),\"\")","v":""},{"$f":"IF(A73<>\"\",VLOOKUP(A73,EF!$A$148:$E$168,4,0),\"\")","v":""},{"$f":"IF(A73<>\"\",VLOOKUP(A73,EF!$A$148:$E$168,5,0),\"\")","v":""},"Quantity of Outputs",null,null,null,null,null,null,null,null,null,null,null,null,{"$f":"SUM(G73:R73)","v":0}]
[null,null,null,null,null,"Emission (tons CO2eq)",{"$f":"IF(A73<>0,IF('SOLAR PV PRODUCTS'!$C$34=1,G73*(C73+D73*EF!$M$4+E73*EF!$M$5)*'SOLAR PV PRODUCTS'!$C$57/1000, G73*(C73+D73*EF!$M$4+E73*EF!$M$5)*'SOLAR PV PRODUCTS'!$C$54/1000),\"\")","v":""},{"$f":"IF(A73<>\"\",IF('SOLAR PV PRODUCTS'!$D$34=1,H73*(C73+D73*EF!$M$4+E73*EF!$M$5)*'SOLAR PV PRODUCTS'!$D$57/1000, H73*(C73+D73*EF!$M$4+E73*EF!$M$5)*'SOLAR PV PRODUCTS'!$D$54/1000),\"\")","v":""},{"$f":"IF(A73<>\"\",IF('SOLAR PV PRODUCTS'!$E$34=1, I73*(C73+D73*EF!$M$4+E73*EF!$M$5)*'SOLAR PV PRODUCTS'!$E$57/1000, I73*(C73+D73*EF!$M$4+E73*EF!$M$5)*'SOLAR PV PRODUCTS'!$E$54/1000),\"\")","v":""},{"$f":"IF(A73<>\"\",IF('SOLAR PV PRODUCTS'!$F$34=1,J73*(C73+D73*EF!$M$4+E73*EF!$M$5)*'SOLAR PV PRODUCTS'!$F$57/1000, J73*(C73+D73*EF!$M$4+E73*EF!$M$5)*'SOLAR PV PRODUCTS'!$F$54/1000),\"\")","v":""},{"$f":"IF(A73<>\"\",IF('SOLAR PV PRODUCTS'!$G$34=1, K73*(C73+D73*EF!$M$4+E73*EF!$M$5)*'SOLAR PV PRODUCTS'!$G$57/1000,K73*(C73+D73*EF!$M$4+E73*EF!$M$5)*'SOLAR PV PRODUCTS'!$G$54/1000),\"\")","v":""},{"$f":"IF(A73<>\"\",IF('SOLAR PV PRODUCTS'!$H$34=1,L73*(C73+D73*EF!$M$4+E73*EF!$M$5)*'SOLAR PV PRODUCTS'!$H$57/1000,L73*(C73+D73*EF!$M$4+E73*EF!$M$5)*'SOLAR PV PRODUCTS'!$H$54/1000),\"\")","v":""},{"$f":"IF(A73<>\"\",IF('SOLAR PV PRODUCTS'!$I$34=1,M73*(C73+D73*EF!$M$4+E73*EF!$M$5)*'SOLAR PV PRODUCTS'!$I$57/1000,M73*(C73+D73*EF!$M$4+E73*EF!$M$5)*'SOLAR PV PRODUCTS'!$I$54/1000),\"\")","v":""},{"$f":"IF(A73<>\"\",IF('SOLAR PV PRODUCTS'!$J$34,N73*(C73+D73*EF!$M$4+E73*EF!$M$5)*'SOLAR PV PRODUCTS'!$J$57/1000,N73*(C73+D73*EF!$M$4+E73*EF!$M$5)*'SOLAR PV PRODUCTS'!$J$54/1000),\"\")","v":""},{"$f":"IF(A73<>\"\",IF('SOLAR PV PRODUCTS'!$K$34=1,O73*(C73+D73*EF!$M$4+E73*EF!$M$5)*'SOLAR PV PRODUCTS'!$K$57/1000,O73*(C73+D73*EF!$M$4+E73*EF!$M$5)*'SOLAR PV PRODUCTS'!$K$54/1000),\"\")","v":""},{"$f":"IF(A73<>\"\",IF('SOLAR PV PRODUCTS'!$L$34=1,P73*(C73+D73*EF!$M$4+E73*EF!$M$5)*'SOLAR PV PRODUCTS'!$L$57/1000,P73*(C73+D73*EF!$M$4+E73*EF!$M$5)*'SOLAR PV PRODUCTS'!$L$54/1000),\"\")","v":""},{"$f":"IF(A73<>\"\",IF('SOLAR PV PRODUCTS'!$M$34=1,Q73*(C73+D73*EF!$M$4+E73*EF!$M$5)*'SOLAR PV PRODUCTS'!$M$57/1000,Q73*(C73+D73*EF!$M$4+E73*EF!$M$5)*'SOLAR PV PRODUCTS'!$M$54/1000),\"\")","v":""},{"$f":"IF(A73<>\"\",IF('SOLAR PV PRODUCTS'!$N$34=1,R73*(C73+D73*EF!$M$4+E73*EF!$M$5)*'SOLAR PV PRODUCTS'!$N$57/1000,R73*(C73+D73*EF!$M$4+E73*EF!$M$5)*'SOLAR PV PRODUCTS'!$N$54/1000),\"\")","v":""},0]
[null,{"$f":"IF(A75<>0,VLOOKUP(A75,EF!$A$148:$B$168,2,0),\"\")","v":""},{"$f":"IF(A75<>\"\",VLOOKUP(A75,EF!$A$148:$E$168,3,0),\"\")","v":""},{"$f":"IF(A75<>\"\",VLOOKUP(A75,EF!$A$148:$E$168,4,0),\"\")","v":""},{"$f":"IF(A75<>\"\",VLOOKUP(A75,EF!$A$148:$E$168,5,0),\"\")","v":""},"Quantity of Outputs",null,null,null,null,null,null,null,null,null,null,null,null,0]
[null,null,null,null,null,"Emission (tons CO2eq)",{"$f":"IF(A75<>0,IF('SOLAR PV PRODUCTS'!$C$34=1,G75*(C75+D75*EF!$M$4+E75*EF!$M$5)*'SOLAR PV PRODUCTS'!$C$57/1000, G75*(C75+D75*EF!$M$4+E75*EF!$M$5)*'SOLAR PV PRODUCTS'!$C$54/1000),\"\")","v":""},{"$f":"IF(A75<>\"\",IF('SOLAR PV PRODUCTS'!$D$34=1,H75*(C75+D75*EF!$M$4+E75*EF!$M$5)*'SOLAR PV PRODUCTS'!$D$57/1000, H75*(C75+D75*EF!$M$4+E75*EF!$M$5)*'SOLAR PV PRODUCTS'!$D$54/1000),\"\")","v":""},{"$f":"IF(A75<>\"\",IF('SOLAR PV PRODUCTS'!$E$34=1, I75*(C75+D75*EF!$M$4+E75*EF!$M$5)*'SOLAR PV PRODUCTS'!$E$57/1000, I75*(C75+D75*EF!$M$4+E75*EF!$M$5)*'SOLAR PV PRODUCTS'!$E$54/1000),\"\")","v":""},{"$f":"IF(A75<>\"\",IF('SOLAR PV PRODUCTS'!$F$34=1,J75*(C75+D75*EF!$M$4+E75*EF!$M$5)*'SOLAR PV PRODUCTS'!$F$57/1000, J75*(C75+D75*EF!$M$4+E75*EF!$M$5)*'SOLAR PV PRODUCTS'!$F$54/1000),\"\")","v":""},{"$f":"IF(A75<>\"\",IF('SOLAR PV PRODUCTS'!$G$34=1, K75*(C75+D75*EF!$M$4+E75*EF!$M$5)*'SOLAR PV PRODUCTS'!$G$57/1000,K75*(C75+D75*EF!$M$4+E75*EF!$M$5)*'SOLAR PV PRODUCTS'!$G$54/1000),\"\")","v":""},{"$f":"IF(A75<>\"\",IF('SOLAR PV PRODUCTS'!$H$34=1,L75*(C75+D75*EF!$M$4+E75*EF!$M$5)*'SOLAR PV PRODUCTS'!$H$57/1000,L75*(C75+D75*EF!$M$4+E75*EF!$M$5)*'SOLAR PV PRODUCTS'!$H$54/1000),\"\")","v":""},{"$f":"IF(A75<>\"\",IF('SOLAR PV PRODUCTS'!$I$34=1,M75*(C75+D75*EF!$M$4+E75*EF!$M$5)*'SOLAR PV PRODUCTS'!$I$57/1000,M75*(C75+D75*EF!$M$4+E75*EF!$M$5)*'SOLAR PV PRODUCTS'!$I$54/1000),\"\")","v":""},{"$f":"IF(A75<>\"\",IF('SOLAR PV PRODUCTS'!$J$34,N75*(C75+D75*EF!$M$4+E75*EF!$M$5)*'SOLAR PV PRODUCTS'!$J$57/1000,N75*(C75+D75*EF!$M$4+E75*EF!$M$5)*'SOLAR PV PRODUCTS'!$J$54/1000),\"\")","v":""},{"$f":"IF(A75<>\"\",IF('SOLAR PV PRODUCTS'!$K$34=1,O75*(C75+D75*EF!$M$4+E75*EF!$M$5)*'SOLAR PV PRODUCTS'!$K$57/1000,O75*(C75+D75*EF!$M$4+E75*EF!$M$5)*'SOLAR PV PRODUCTS'!$K$54/1000),\"\")","v":""},{"$f":"IF(A75<>\"\",IF('SOLAR PV PRODUCTS'!$L$34=1,P75*(C75+D75*EF!$M$4+E75*EF!$M$5)*'SOLAR PV PRODUCTS'!$L$57/1000,P75*(C75+D75*EF!$M$4+E75*EF!$M$5)*'SOLAR PV PRODUCTS'!$L$54/1000),\"\")","v":""},{"$f":"IF(A75<>\"\",IF('SOLAR PV PRODUCTS'!$M$34=1,Q75*(C75+D75*EF!$M$4+E75*EF!$M$5)*'SOLAR PV PRODUCTS'!$M$57/1000,Q75*(C75+D75*EF!$M$4+E75*EF!$M$5)*'SOLAR PV PRODUCTS'!$M$54/1000),\"\")","v":""},{"$f":"IF(A75<>\"\",IF('SOLAR PV PRODUCTS'!$N$34=1,R75*(C75+D75*EF!$M$4+E75*EF!$M$5)*'SOLAR PV PRODUCTS'!$N$57/1000,R75*(C75+D75*EF!$M$4+E75*EF!$M$5)*'SOLAR PV PRODUCTS'!$N$54/1000),\"\")","v":""},0]
[null,{"$f":"IF(A77<>0,VLOOKUP(A77,EF!$A$148:$B$168,2,0),\"\")","v":""},{"$f":"IF(A77<>\"\",VLOOKUP(A77,EF!$A$148:$E$168,3,0),\"\")","v":""},{"$f":"IF(A77<>\"\",VLOOKUP(A77,EF!$A$148:$E$168,4,0),\"\")","v":""},{"$f":"IF(A77<>\"\",VLOOKUP(A77,EF!$A$148:$E$168,5,0),\"\")","v":""},"Quantity of Outputs",null,null,null,null,null,null,null,null,null,null,null,null,0]
[null,null,null,null,null,"Emission (tons CO2eq)",{"$f":"IF(A77<>0,IF('SOLAR PV PRODUCTS'!$C$34=1,G77*(C77+D77*EF!$M$4+E77*EF!$M$5)*'SOLAR PV PRODUCTS'!$C$57/1000, G77*(C77+D77*EF!$M$4+E77*EF!$M$5)*'SOLAR PV PRODUCTS'!$C$54/1000),\"\")","v":""},{"$f":"IF(A77<>\"\",IF('SOLAR PV PRODUCTS'!$D$34=1,H77*(C77+D77*EF!$M$4+E77*EF!$M$5)*'SOLAR PV PRODUCTS'!$D$57/1000, H77*(C77+D77*EF!$M$4+E77*EF!$M$5)*'SOLAR PV PRODUCTS'!$D$54/1000),\"\")","v":""},{"$f":"IF(A77<>\"\",IF('SOLAR PV PRODUCTS'!$E$34=1, I77*(C77+D77*EF!$M$4+E77*EF!$M$5)*'SOLAR PV PRODUCTS'!$E$57/1000, I77*(C77+D77*EF!$M$4+E77*EF!$M$5)*'SOLAR PV PRODUCTS'!$E$54/1000),\"\")","v":""},{"$f":"IF(A77<>\"\",IF('SOLAR PV PRODUCTS'!$F$34=1,J77*(C77+D77*EF!$M$4+E77*EF!$M$5)*'SOLAR PV PRODUCTS'!$F$57/1000, J77*(C77+D77*EF!$M$4+E77*EF!$M$5)*'SOLAR PV PRODUCTS'!$F$54/1000),\"\")","v":""},{"$f":"IF(A77<>\"\",IF('SOLAR PV PRODUCTS'!$G$34=1, K77*(C77+D77*EF!$M$4+E77*EF!$M$5)*'SOLAR PV PRODUCTS'!$G$57/1000,K77*(C77+D77*EF!$M$4+E77*EF!$M$5)*'SOLAR PV PRODUCTS'!$G$54/1000),\"\")","v":""},{"$f":"IF(A77<>\"\",IF('SOLAR PV PRODUCTS'!$H$34=1,L77*(C77+D77*EF!$M$4+E77*EF!$M$5)*'SOLAR PV PRODUCTS'!$H$57/1000,L77*(C77+D77*EF!$M$4+E77*EF!$M$5)*'SOLAR PV PRODUCTS'!$H$54/1000),\"\")","v":""},{"$f":"IF(A77<>\"\",IF('SOLAR PV PRODUCTS'!$I$34=1,M77*(C77+D77*EF!$M$4+E77*EF!$M$5)*'SOLAR PV PRODUCTS'!$I$57/1000,M77*(C77+D77*EF!$M$4+E77*EF!$M$5)*'SOLAR PV PRODUCTS'!$I$54/1000),\"\")","v":""},{"$f":"IF(A77<>\"\",IF('SOLAR PV PRODUCTS'!$J$34,N77*(C77+D77*EF!$M$4+E77*EF!$M$5)*'SOLAR PV PRODUCTS'!$J$57/1000,N77*(C77+D77*EF!$M$4+E77*EF!$M$5)*'SOLAR PV PRODUCTS'!$J$54/1000),\"\")","v":""},{"$f":"IF(A77<>\"\",IF('SOLAR PV PRODUCTS'!$K$34=1,O77*(C77+D77*EF!$M$4+E77*EF!$M$5)*'SOLAR PV PRODUCTS'!$K$57/1000,O77*(C77+D77*EF!$M$4+E77*EF!$M$5)*'SOLAR PV PRODUCTS'!$K$54/1000),\"\")","v":""},{"$f":"IF(A77<>\"\",IF('SOLAR PV PRODUCTS'!$L$34=1,P77*(C77+D77*EF!$M$4+E77*EF!$M$5)*'SOLAR PV PRODUCTS'!$L$57/1000,P77*(C77+D77*EF!$M$4+E77*EF!$M$5)*'SOLAR PV PRODUCTS'!$L$54/1000),\"\")","v":""},{"$f":"IF(A77<>\"\",IF('SOLAR PV PRODUCTS'!$M$34=1,Q77*(C77+D77*EF!$M$4+E77*EF!$M$5)*'SOLAR PV PRODUCTS'!$M$57/1000,Q77*(C77+D77*EF!$M$4+E77*EF!$M$5)*'SOLAR PV PRODUCTS'!$M$54/1000),\"\")","v":""},{"$f":"IF(A77<>\"\",IF('SOLAR PV PRODUCTS'!$N$34=1,R77*(C77+D77*EF!$M$4+E77*EF!$M$5)*'SOLAR PV PRODUCTS'!$N$57/1000,R77*(C77+D77*EF!$M$4+E77*EF!$M$5)*'SOLAR PV PRODUCTS'!$N$54/1000),\"\")","v":""},0]
[null,{"$f":"IF(A79<>0,VLOOKUP(A79,EF!$A$148:$B$168,2,0),\"\")","v":""},{"$f":"IF(A79<>\"\",VLOOKUP(A79,EF!$A$148:$E$168,3,0),\"\")","v":""},{"$f":"IF(A79<>\"\",VLOOKUP(A79,EF!$A$148:$E$168,4,0),\"\")","v":""},{"$f":"IF(A79<>\"\",VLOOKUP(A79,EF!$A$148:$E$168,5,0),\"\")","v":""},"Quantity of Outputs",null,null,null,null,null,null,null,null,null,null,null,null,0]
[null,null,null,null,null,"Emission (tons CO2eq)",{"$f":"IF(A79<>0,IF('SOLAR PV PRODUCTS'!$C$34=1,G79*(C79+D79*EF!$M$4+E79*EF!$M$5)*'SOLAR PV PRODUCTS'!$C$57/1000, G79*(C79+D79*EF!$M$4+E79*EF!$M$5)*'SOLAR PV PRODUCTS'!$C$54/1000),\"\")","v":""},{"$f":"IF(A79<>\"\",IF('SOLAR PV PRODUCTS'!$D$34=1,H79*(C79+D79*EF!$M$4+E79*EF!$M$5)*'SOLAR PV PRODUCTS'!$D$57/1000, H79*(C79+D79*EF!$M$4+E79*EF!$M$5)*'SOLAR PV PRODUCTS'!$D$54/1000),\"\")","v":""},{"$f":"IF(A79<>\"\",IF('SOLAR PV PRODUCTS'!$E$34=1, I79*(C79+D79*EF!$M$4+E79*EF!$M$5)*'SOLAR PV PRODUCTS'!$E$57/1000, I79*(C79+D79*EF!$M$4+E79*EF!$M$5)*'SOLAR PV PRODUCTS'!$E$54/1000),\"\")","v":""},{"$f":"IF(A79<>\"\",IF('SOLAR PV PRODUCTS'!$F$34=1,J79*(C79+D79*EF!$M$4+E79*EF!$M$5)*'SOLAR PV PRODUCTS'!$F$57/1000, J79*(C79+D79*EF!$M$4+E79*EF!$M$5)*'SOLAR PV PRODUCTS'!$F$54/1000),\"\")","v":""},{"$f":"IF(A79<>\"\",IF('SOLAR PV PRODUCTS'!$G$34=1, K79*(C79+D79*EF!$M$4+E79*EF!$M$5)*'SOLAR PV PRODUCTS'!$G$57/1000,K79*(C79+D79*EF!$M$4+E79*EF!$M$5)*'SOLAR PV PRODUCTS'!$G$54/1000),\"\")","v":""},{"$f":"IF(A79<>\"\",IF('SOLAR PV PRODUCTS'!$H$34=1,L79*(C79+D79*EF!$M$4+E79*EF!$M$5)*'SOLAR PV PRODUCTS'!$H$57/1000,L79*(C79+D79*EF!$M$4+E79*EF!$M$5)*'SOLAR PV PRODUCTS'!$H$54/1000),\"\")","v":""},{"$f":"IF(A79<>\"\",IF('SOLAR PV PRODUCTS'!$I$34=1,M79*(C79+D79*EF!$M$4+E79*EF!$M$5)*'SOLAR PV PRODUCTS'!$I$57/1000,M79*(C79+D79*EF!$M$4+E79*EF!$M$5)*'SOLAR PV PRODUCTS'!$I$54/1000),\"\")","v":""},{"$f":"IF(A79<>\"\",IF('SOLAR PV PRODUCTS'!$J$34,N79*(C79+D79*EF!$M$4+E79*EF!$M$5)*'SOLAR PV PRODUCTS'!$J$57/1000,N79*(C79+D79*EF!$M$4+E79*EF!$M$5)*'SOLAR PV PRODUCTS'!$J$54/1000),\"\")","v":""},{"$f":"IF(A79<>\"\",IF('SOLAR PV PRODUCTS'!$K$34=1,O79*(C79+D79*EF!$M$4+E79*EF!$M$5)*'SOLAR PV PRODUCTS'!$K$57/1000,O79*(C79+D79*EF!$M$4+E79*EF!$M$5)*'SOLAR PV PRODUCTS'!$K$54/1000),\"\")","v":""},{"$f":"IF(A79<>\"\",IF('SOLAR PV PRODUCTS'!$L$34=1,P79*(C79+D79*EF!$M$4+E79*EF!$M$5)*'SOLAR PV PRODUCTS'!$L$57/1000,P79*(C79+D79*EF!$M$4+E79*EF!$M$5)*'SOLAR PV PRODUCTS'!$L$54/1000),\"\")","v":""},{"$f":"IF(A79<>\"\",IF('SOLAR PV PRODUCTS'!$M$34=1,Q79*(C79+D79*EF!$M$4+E79*EF!$M$5)*'SOLAR PV PRODUCTS'!$M$57/1000,Q79*(C79+D79*EF!$M$4+E79*EF!$M$5)*'SOLAR PV PRODUCTS'!$M$54/1000),\"\")","v":""},{"$f":"IF(A79<>\"\",IF('SOLAR PV PRODUCTS'!$N$34=1,R79*(C79+D79*EF!$M$4+E79*EF!$M$5)*'SOLAR PV PRODUCTS'!$N$57/1000,R79*(C79+D79*EF!$M$4+E79*EF!$M$5)*'SOLAR PV PRODUCTS'!$N$54/1000),\"\")","v":""},0]
[null,{"$f":"IF(A81<>0,VLOOKUP(A81,EF!$A$148:$B$168,2,0),\"\")","v":""},{"$f":"IF(A81<>\"\",VLOOKUP(A81,EF!$A$148:$E$168,3,0),\"\")","v":""},{"$f":"IF(A81<>\"\",VLOOKUP(A81,EF!$A$148:$E$168,4,0),\"\")","v":""},{"$f":"IF(A81<>\"\",VLOOKUP(A81,EF!$A$148:$E$168,5,0),\"\")","v":""},"Quantity of Outputs",null,null,null,null,null,null,null,null,null,null,null,null,0]
[null,null,null,null,null,"Emission (tons CO2eq)",{"$f":"IF(A81<>0,IF('SOLAR PV PRODUCTS'!$C$34=1,G81*(C81+D81*EF!$M$4+E81*EF!$M$5)*'SOLAR PV PRODUCTS'!$C$57/1000, G81*(C81+D81*EF!$M$4+E81*EF!$M$5)*'SOLAR PV PRODUCTS'!$C$54/1000),\"\")","v":""},{"$f":"IF(A81<>\"\",IF('SOLAR PV PRODUCTS'!$D$34=1,H81*(C81+D81*EF!$M$4+E81*EF!$M$5)*'SOLAR PV PRODUCTS'!$D$57/1000, H81*(C81+D81*EF!$M$4+E81*EF!$M$5)*'SOLAR PV PRODUCTS'!$D$54/1000),\"\")","v":""},{"$f":"IF(A81<>\"\",IF('SOLAR PV PRODUCTS'!$E$34=1, I81*(C81+D81*EF!$M$4+E81*EF!$M$5)*'SOLAR PV PRODUCTS'!$E$57/1000, I81*(C81+D81*EF!$M$4+E81*EF!$M$5)*'SOLAR PV PRODUCTS'!$E$54/1000),\"\")","v":""},{"$f":"IF(A81<>\"\",IF('SOLAR PV PRODUCTS'!$F$34=1,J81*(C81+D81*EF!$M$4+E81*EF!$M$5)*'SOLAR PV PRODUCTS'!$F$57/1000, J81*(C81+D81*EF!$M$4+E81*EF!$M$5)*'SOLAR PV PRODUCTS'!$F$54/1000),\"\")","v":""},{"$f":"IF(A81<>\"\",IF('SOLAR PV PRODUCTS'!$G$34=1, K81*(C81+D81*EF!$M$4+E81*EF!$M$5)*'SOLAR PV PRODUCTS'!$G$57/1000,K81*(C81+D81*EF!$M$4+E81*EF!$M$5)*'SOLAR PV PRODUCTS'!$G$54/1000),\"\")","v":""},{"$f":"IF(A81<>\"\",IF('SOLAR PV PRODUCTS'!$H$34=1,L81*(C81+D81*EF!$M$4+E81*EF!$M$5)*'SOLAR PV PRODUCTS'!$H$57/1000,L81*(C81+D81*EF!$M$4+E81*EF!$M$5)*'SOLAR PV PRODUCTS'!$H$54/1000),\"\")","v":""},{"$f":"IF(A81<>\"\",IF('SOLAR PV PRODUCTS'!$I$34=1,M81*(C81+D81*EF!$M$4+E81*EF!$M$5)*'SOLAR PV PRODUCTS'!$I$57/1000,M81*(C81+D81*EF!$M$4+E81*EF!$M$5)*'SOLAR PV PRODUCTS'!$I$54/1000),\"\")","v":""},{"$f":"IF(A81<>\"\",IF('SOLAR PV PRODUCTS'!$J$34,N81*(C81+D81*EF!$M$4+E81*EF!$M$5)*'SOLAR PV PRODUCTS'!$J$57/1000,N81*(C81+D81*EF!$M$4+E81*EF!$M$5)*'SOLAR PV PRODUCTS'!$J$54/1000),\"\")","v":""},{"$f":"IF(A81<>\"\",IF('SOLAR PV PRODUCTS'!$K$34=1,O81*(C81+D81*EF!$M$4+E81*EF!$M$5)*'SOLAR PV PRODUCTS'!$K$57/1000,O81*(C81+D81*EF!$M$4+E81*EF!$M$5)*'SOLAR PV PRODUCTS'!$K$54/1000),\"\")","v":""},{"$f":"IF(A81<>\"\",IF('SOLAR PV PRODUCTS'!$L$34=1,P81*(C81+D81*EF!$M$4+E81*EF!$M$5)*'SOLAR PV PRODUCTS'!$L$57/1000,P81*(C81+D81*EF!$M$4+E81*EF!$M$5)*'SOLAR PV PRODUCTS'!$L$54/1000),\"\")","v":""},{"$f":"IF(A81<>\"\",IF('SOLAR PV PRODUCTS'!$M$34=1,Q81*(C81+D81*EF!$M$4+E81*EF!$M$5)*'SOLAR PV PRODUCTS'!$M$57/1000,Q81*(C81+D81*EF!$M$4+E81*EF!$M$5)*'SOLAR PV PRODUCTS'!$M$54/1000),\"\")","v":""},{"$f":"IF(A81<>\"\",IF('SOLAR PV PRODUCTS'!$N$34=1,R81*(C81+D81*EF!$M$4+E81*EF!$M$5)*'SOLAR PV PRODUCTS'!$N$57/1000,R81*(C81+D81*EF!$M$4+E81*EF!$M$5)*'SOLAR PV PRODUCTS'!$N$54/1000),\"\")","v":""},0]
[null,{"$f":"IF(A83<>0,VLOOKUP(A83,EF!$A$148:$B$168,2,0),\"\")","v":""},{"$f":"IF(A83<>\"\",VLOOKUP(A83,EF!$A$148:$E$168,3,0),\"\")","v":""},{"$f":"IF(A83<>\"\",VLOOKUP(A83,EF!$A$148:$E$168,4,0),\"\")","v":""},{"$f":"IF(A83<>\"\",VLOOKUP(A83,EF!$A$148:$E$168,5,0),\"\")","v":""},"Quantity of Outputs",null,null,null,null,null,null,null,null,null,null,null,null,0]
[null,null,null,null,null,"Emission (tons CO2eq)",{"$f":"IF(A83<>0,IF('SOLAR PV PRODUCTS'!$C$34=1,G83*(C83+D83*EF!$M$4+E83*EF!$M$5)*'SOLAR PV PRODUCTS'!$C$57/1000, G83*(C83+D83*EF!$M$4+E83*EF!$M$5)*'SOLAR PV PRODUCTS'!$C$54/1000),\"\")","v":""},{"$f":"IF(A83<>\"\",IF('SOLAR PV PRODUCTS'!$D$34=1,H83*(C83+D83*EF!$M$4+E83*EF!$M$5)*'SOLAR PV PRODUCTS'!$D$57/1000, H83*(C83+D83*EF!$M$4+E83*EF!$M$5)*'SOLAR PV PRODUCTS'!$D$54/1000),\"\")","v":""},{"$f":"IF(A83<>\"\",IF('SOLAR PV PRODUCTS'!$E$34=1, I83*(C83+D83*EF!$M$4+E83*EF!$M$5)*'SOLAR PV PRODUCTS'!$E$57/1000, I83*(C83+D83*EF!$M$4+E83*EF!$M$5)*'SOLAR PV PRODUCTS'!$E$54/1000),\"\")","v":""},{"$f":"IF(A83<>\"\",IF('SOLAR PV PRODUCTS'!$F$34=1,J83*(C83+D83*EF!$M$4+E83*EF!$M$5)*'SOLAR PV PRODUCTS'!$F$57/1000, J83*(C83+D83*EF!$M$4+E83*EF!$M$5)*'SOLAR PV PRODUCTS'!$F$54/1000),\"\")","v":""},{"$f":"IF(A83<>\"\",IF('SOLAR PV PRODUCTS'!$G$34=1, K83*(C83+D83*EF!$M$4+E83*EF!$M$5)*'SOLAR PV PRODUCTS'!$G$57/1000,K83*(C83+D83*EF!$M$4+E83*EF!$M$5)*'SOLAR PV PRODUCTS'!$G$54/1000),\"\")","v":""},{"$f":"IF(A83<>\"\",IF('SOLAR PV PRODUCTS'!$H$34=1,L83*(C83+D83*EF!$M$4+E83*EF!$M$5)*'SOLAR PV PRODUCTS'!$H$57/1000,L83*(C83+D83*EF!$M$4+E83*EF!$M$5)*'SOLAR PV PRODUCTS'!$H$54/1000),\"\")","v":""},{"$f":"IF(A83<>\"\",IF('SOLAR PV PRODUCTS'!$I$34=1,M83*(C83+D83*EF!$M$4+E83*EF!$M$5)*'SOLAR PV PRODUCTS'!$I$57/1000,M83*(C83+D83*EF!$M$4+E83*EF!$M$5)*'SOLAR PV PRODUCTS'!$I$54/1000),\"\")","v":""},{"$f":"IF(A83<>\"\",IF('SOLAR PV PRODUCTS'!$J$34,N83*(C83+D83*EF!$M$4+E83*EF!$M$5)*'SOLAR PV PRODUCTS'!$J$57/1000,N83*(C83+D83*EF!$M$4+E83*EF!$M$5)*'SOLAR PV PRODUCTS'!$J$54/1000),\"\")","v":""},{"$f":"IF(A83<>\"\",IF('SOLAR PV PRODUCTS'!$K$34=1,O83*(C83+D83*EF!$M$4+E83*EF!$M$5)*'SOLAR PV PRODUCTS'!$K$57/1000,O83*(C83+D83*EF!$M$4+E83*EF!$M$5)*'SOLAR PV PRODUCTS'!$K$54/1000),\"\")","v":""},{"$f":"IF(A83<>\"\",IF('SOLAR PV PRODUCTS'!$L$34=1,P83*(C83+D83*EF!$M$4+E83*EF!$M$5)*'SOLAR PV PRODUCTS'!$L$57/1000,P83*(C83+D83*EF!$M$4+E83*EF!$M$5)*'SOLAR PV PRODUCTS'!$L$54/1000),\"\")","v":""},{"$f":"IF(A83<>\"\",IF('SOLAR PV PRODUCTS'!$M$34=1,Q83*(C83+D83*EF!$M$4+E83*EF!$M$5)*'SOLAR PV PRODUCTS'!$M$57/1000,Q83*(C83+D83*EF!$M$4+E83*EF!$M$5)*'SOLAR PV PRODUCTS'!$M$54/1000),\"\")","v":""},{"$f":"IF(A83<>\"\",IF('SOLAR PV PRODUCTS'!$N$34=1,R83*(C83+D83*EF!$M$4+E83*EF!$M$5)*'SOLAR PV PRODUCTS'!$N$57/1000,R83*(C83+D83*EF!$M$4+E83*EF!$M$5)*'SOLAR PV PRODUCTS'!$N$54/1000),\"\")","v":""},0]
[]
["Total (tons CO2eq)",null,null,null,null,null,{"$f":"SUMIF($F$73:$F$85,$F$74,G73:G85)","v":0},0,0,0,0,0,0,0,0,0,0,0,{"$f":"SUMIF($G$32:$G$44,$G$43,S73:S85)","v":0}]
[]
[]
[]
[]
["IV. Wastewater treatment activities"]
[]
["Enterprise wastewater treatment measures"]
["If there is no measure your business is using or you need to edit the coefficients, please click"]
[]
[null,"Unit","Jan","Feb","March","April","May","June","July","Aug","Sep","Oct","Nov","Dec","Total"]
["Amount of wastewater","m3",null,null,null,null,null,null,null,null,null,null,null,null,{"$f":"SUM(C97:N97)","v":0}]
["Chemical Oxygen Demand (COD)","kgCOD/m3"]
["CH4 is recovered in the treatment system","kg"]
["MCF",null,{"$f":"IF($D$93<>\"\",VLOOKUP($D$93,EF!$K$22:$M$28,3,0),0)","v":0},{"$f":"IF($D$93<>\"\",VLOOKUP($D$93,EF!$K$22:$M$28,3,0),0)","v":0},{"$f":"IF($D$93<>\"\",VLOOKUP($D$93,EF!$K$22:$M$28,3,0),0)","v":0},{"$f":"IF($D$93<>\"\",VLOOKUP($D$93,EF!$K$22:$M$28,3,0),0)","v":0},{"$f":"IF($D$93<>\"\",VLOOKUP($D$93,EF!$K$22:$M$28,3,0),0)","v":0},{"$f":"IF($D$93<>\"\",VLOOKUP($D$93,EF!$K$22:$M$28,3,0),0)","v":0},{"$f":"IF($D$93<>\"\",VLOOKUP($D$93,EF!$K$22:$M$28,3,0),0)","v":0},{"$f":"IF($D$93<>\"\",VLOOKUP($D$93,EF!$K$22:$M$28,3,0),0)","v":0},{"$f":"IF($D$93<>\"\",VLOOKUP($D$93,EF!$K$22:$M$28,3,0),0)","v":0},{"$f":"IF($D$93<>\"\",VLOOKUP($D$93,EF!$K$22:$M$28,3,0),0)","v":0},{"$f":"IF($D$93<>\"\",VLOOKUP($D$93,EF!$K$22:$M$28,3,0),0)","v":0},{"$f":"IF($D$93<>\"\",VLOOKUP($D$93,EF!$K$22:$M$28,3,0),0)","v":0}]
["Maximum methane production capacity","(kg CH4/kg COD)",0.25,0.25,0.25,0.25,0.25,0.25,0.25,0.25,0.25,0.25,0.25,0.25]
["Sludge is removed","kg COD/month"]
["Emission","tons CO2eq",{"$f":"IF('SOLAR PV PRODUCTS'!C34=1,((C97*C98-C102)*C100*C101-C99)*'SOLAR PV PRODUCTS'!C57,((C97*C98-C102)*C100*C101-C99)*'SOLAR PV PRODUCTS'!C54)","v":0},{"$f":"IF('SOLAR PV PRODUCTS'!D34=1,((D97*D98-D102)*D100*D101-D99)*'SOLAR PV PRODUCTS'!D57,((D97*D98-D102)*D100*D101-D99)*'SOLAR PV PRODUCTS'!D54)","v":0},{"$f":"IF('SOLAR PV PRODUCTS'!E34=1,((E97*E98-E102)*E100*E101-E99)*'SOLAR PV PRODUCTS'!E57,((E97*E98-E102)*E100*E101-E99)*'SOLAR PV PRODUCTS'!E54)","v":0},{"$f":"IF('SOLAR PV PRODUCTS'!F34=1,((F97*F98-F102)*F100*F101-F99)*'SOLAR PV PRODUCTS'!F57,((F97*F98-F102)*F100*F101-F99)*'SOLAR PV PRODUCTS'!F54)","v":0},{"$f":"IF('SOLAR PV PRODUCTS'!G34=1,((G97*G98-G102)*G100*G101-G99)*'SOLAR PV PRODUCTS'!G57,((G97*G98-G102)*G100*G101-G99)*'SOLAR PV PRODUCTS'!G54)","v":0},{"$f":"IF('SOLAR PV PRODUCTS'!H34=1,((H97*H98-H102)*H100*H101-H99)*'SOLAR PV PRODUCTS'!H57,((H97*H98-H102)*H100*H101-H99)*'SOLAR PV PRODUCTS'!H54)","v":0},{"$f":"IF('SOLAR PV PRODUCTS'!I34=1,((I97*I98-I102)*I100*I101-I99)*'SOLAR PV PRODUCTS'!I57,((I97*I98-I102)*I100*I101-I99)*'SOLAR PV PRODUCTS'!I54)","v":0},{"$f":"IF('SOLAR PV PRODUCTS'!J34=1,((J97*J98-J102)*J100*J101-J99)*'SOLAR PV PRODUCTS'!J57,((J97*J98-J102)*J100*J101-J99)*'SOLAR PV PRODUCTS'!J54)","v":0},{"$f":"IF('SOLAR PV PRODUCTS'!K34=1,((K97*K98-K102)*K100*K101-K99)*'SOLAR PV PRODUCTS'!K57,((K97*K98-K102)*K100*K101-K99)*'SOLAR PV PRODUCTS'!K54)","v":0},{"$f":"IF('SOLAR PV PRODUCTS'!L34=1,((L97*L98-L102)*L100*L101-L99)*'SOLAR PV PRODUCTS'!L57,((L97*L98-L102)*L100*L101-L99)*'SOLAR PV PRODUCTS'!L54)","v":0},{"$f":"IF('SOLAR PV PRODUCTS'!M34=1,((M97*M98-M102)*M100*M101-M99)*'SOLAR PV PRODUCTS'!M57,((M97*M98-M102)*M100*M101-M99)*'SOLAR PV PRODUCTS'!M54)","v":0},{"$f":"IF('SOLAR PV PRODUCTS'!N34=1,((N97*N98-N102)*N100*N101-N99)*'SOLAR PV PRODUCTS'!N57,((N97*N98-N102)*N100*N101-N99)*'SOLAR PV PRODUCTS'!N54)","v":0},{"$f":"SUM(C103:N103)","v":0}]
[]
[]
["V. Amount of steam purchased from outside and electricity purchased from the grid"]
[]
[null,"Unit","Jan","Feb","March","April","May","June","July","Aug","Sep","Oct","Nov","Dec","Total"]
["Generation","kWh",null,null,null,null,null,null,null,null,null,null,null,null,{"$f":"SUM(C109:N109)","v":0}]
["Emission Factor","tCO2/MWh",{"$f":"IF('SOLAR PV PRODUCTS'!$C$15<>\"\",HLOOKUP('SOLAR PV PRODUCTS'!$C$15,EF!$L$34:$Q$35,2,0),0)","v":0},{"$f":"IF('SOLAR PV PRODUCTS'!$C$15<>\"\",HLOOKUP('SOLAR PV PRODUCTS'!$C$15,EF!$L$34:$Q$35,2,0),0)","v":0},{"$f":"IF('SOLAR PV PRODUCTS'!$C$15<>\"\",HLOOKUP('SOLAR PV PRODUCTS'!$C$15,EF!$L$34:$Q$35,2,0),0)","v":0},{"$f":"IF('SOLAR PV PRODUCTS'!$C$15<>\"\",HLOOKUP('SOLAR PV PRODUCTS'!$C$15,EF!$L$34:$Q$35,2,0),0)","v":0},{"$f":"IF('SOLAR PV PRODUCTS'!$C$15<>\"\",HLOOKUP('SOLAR PV PRODUCTS'!$C$15,EF!$L$34:$Q$35,2,0),0)","v":0},{"$f":"IF('SOLAR PV PRODUCTS'!$C$15<>\"\",HLOOKUP('SOLAR PV PRODUCTS'!$C$15,EF!$L$34:$Q$35,2,0),0)","v":0},{"$f":"IF('SOLAR PV PRODUCTS'!$C$15<>\"\",HLOOKUP('SOLAR PV PRODUCTS'!$C$15,EF!$L$34:$Q$35,2,0),0)","v":0},{"$f":"IF('SOLAR PV PRODUCTS'!$C$15<>\"\",HLOOKUP('SOLAR PV PRODUCTS'!$C$15,EF!$L$34:$Q$35,2,0),0)","v":0},{"$f":"IF('SOLAR PV PRODUCTS'!$C$15<>\"\",HLOOKUP('SOLAR PV PRODUCTS'!$C$15,EF!$L$34:$Q$35,2,0),0)","v":0},{"$f":"IF('SOLAR PV PRODUCTS'!$C$15<>\"\",HLOOKUP('SOLAR PV PRODUCTS'!$C$15,EF!$L$34:$Q$35,2,0),0)","v":0},{"$f":"IF('SOLAR PV PRODUCTS'!$C$15<>\"\",HLOOKUP('SOLAR PV PRODUCTS'!$C$15,EF!$L$34:$Q$35,2,0),0)","v":0},{"$f":"IF('SOLAR PV PRODUCTS'!$C$15<>\"\",HLOOKUP('SOLAR PV PRODUCTS'!$C$15,EF!$L$34:$Q$35,2,0),0)","v":0}]
["Emission","tons CO2eq",{"$f":"C109/1000*C110*'SOLAR PV PRODUCTS'!C57","v":0},{"$f":"D109/1000*D110*'SOLAR PV PRODUCTS'!D57","v":0},{"$f":"E109/1000*E110*'SOLAR PV PRODUCTS'!E57","v":0},{"$f":"F109/1000*F110*'SOLAR PV PRODUCTS'!F57","v":0},{"$f":"G109/1000*G110*'SOLAR PV PRODUCTS'!G57","v":0},{"$f":"H109/1000*H110*'SOLAR PV PRODUCTS'!H57","v":0},{"$f":"I109/1000*I110*'SOLAR PV PRODUCTS'!I57","v":0},{"$f":"J109/1000*J110*'SOLAR PV PRODUCTS'!J57","v":0},{"$f":"K109/1000*K110*'SOLAR PV PRODUCTS'!K57","v":0},{"$f":"L109/1000*L110*'SOLAR PV PRODUCTS'!L57","v":0},{"$f":"M109/1000*M110*'SOLAR PV PRODUCTS'!M57","v":0},{"$f":"N109/1000*N110*'SOLAR PV PRODUCTS'!N57","v":0},{"$f":"SUM(C111:N111)","v":0}]
[]
[]
["Type of fuel for the boiler",null,"Aviation Gasoline "]
["Steam pressure",null,0.04,null,"bar"]
["Boiler efficiency",null,40,null,"%"]
["Emission Factor CO2",null,{"$f":"VLOOKUP(C114,EF!B4:C55,2,0)","v":69.3},null,"kgCO2/GJ"]
["Emission Factor CH4",null,{"$f":"VLOOKUP($C$114,EF!$B$4:$E$54,3,0)","v":3.0000000000000001E-3},null,"kgCH4/GJ"]
["Emission Factor N2O",null,{"$f":"VLOOKUP($C$114,EF!$B$4:$E$54,4,0)","v":5.9999999999999995E-4},null,"kgN2O/GJ"]
[]
[null,"Unit","Jan","Feb","March","April","May","June","July","Aug","Sep","Oct","Nov","Dec","Total"]
["Amount of steam","m3",null,null,null,null,null,null,null,null,null,null,null,null,{"$f":"SUM(C122:N122)","v":0}]
["Amount of converted heat","KJ",{"$f":"IF($C$115<>\"\",IF($B$122=\"tấn\",1000,VLOOKUP($C$115,EF!$A$79:$B$145,2,0)*C122*VLOOKUP($C$115,EF!$A$79:$C$145,3,0)/($C$116/100)))","v":0},{"$f":"IF($C$115<>\"\",IF($B$122=\"tấn\",1000,VLOOKUP($C$115,EF!$A$79:$B$145,2,0)*D122*VLOOKUP($C$115,EF!$A$79:$C$145,3,0)/($C$116/100)))","v":0},{"$f":"IF($C$115<>\"\",IF($B$122=\"tấn\",1000,VLOOKUP($C$115,EF!$A$79:$B$145,2,0)*E122*VLOOKUP($C$115,EF!$A$79:$C$145,3,0)/($C$116/100)))","v":0},{"$f":"IF($C$115<>\"\",IF($B$122=\"tấn\",1000,VLOOKUP($C$115,EF!$A$79:$B$145,2,0)*F122*VLOOKUP($C$115,EF!$A$79:$C$145,3,0)/($C$116/100)))","v":0},{"$f":"IF($C$115<>\"\",IF($B$122=\"tấn\",1000,VLOOKUP($C$115,EF!$A$79:$B$145,2,0)*G122*VLOOKUP($C$115,EF!$A$79:$C$145,3,0)/($C$116/100)))","v":0},{"$f":"IF($C$115<>\"\",IF($B$122=\"tấn\",1000,VLOOKUP($C$115,EF!$A$79:$B$145,2,0)*H122*VLOOKUP($C$115,EF!$A$79:$C$145,3,0)/($C$116/100)))","v":0},{"$f":"IF($C$115<>\"\",IF($B$122=\"tấn\",1000,VLOOKUP($C$115,EF!$A$79:$B$145,2,0)*I122*VLOOKUP($C$115,EF!$A$79:$C$145,3,0)/($C$116/100)))","v":0},{"$f":"IF($C$115<>\"\",IF($B$122=\"tấn\",1000,VLOOKUP($C$115,EF!$A$79:$B$145,2,0)*J122*VLOOKUP($C$115,EF!$A$79:$C$145,3,0)/($C$116/100)))","v":0},{"$f":"IF($C$115<>\"\",IF($B$122=\"tấn\",1000,VLOOKUP($C$115,EF!$A$79:$B$145,2,0)*K122*VLOOKUP($C$115,EF!$A$79:$C$145,3,0)/($C$116/100)))","v":0},{"$f":"IF($C$115<>\"\",IF($B$122=\"tấn\",1000,VLOOKUP($C$115,EF!$A$79:$B$145,2,0)*L122*VLOOKUP($C$115,EF!$A$79:$C$145,3,0)/($C$116/100)))","v":0},{"$f":"IF($C$115<>\"\",IF($B$122=\"tấn\",1000,VLOOKUP($C$115,EF!$A$79:$B$145,2,0)*M122*VLOOKUP($C$115,EF!$A$79:$C$145,3,0)/($C$116/100)))","v":0},{"$f":"IF($C$115<>\"\",IF($B$122=\"tấn\",1000,VLOOKUP($C$115,EF!$A$79:$B$145,2,0)*N122*VLOOKUP($C$115,EF!$A$79:$C$145,3,0)/($C$116/100)))","v":0},{"$f":"SUM(C123:N123)","v":0}]
["Emission","tons CO2eq",{"$f":"IF('SOLAR PV PRODUCTS'!C34=1,C123/10^3*($C$117+$C$118*EF!$M$4+$C$119*EF!$M$5)*'SOLAR PV PRODUCTS'!C57/1000,C123/10^3*($C$117+$C$118*EF!$M$4+$C$119*EF!$M$5)*'SOLAR PV PRODUCTS'!C54/1000)","v":0},{"$f":"IF('SOLAR PV PRODUCTS'!D34=1,D123/10^3*($C$117+$C$118*EF!$M$4+$C$119*EF!$M$5)*'SOLAR PV PRODUCTS'!D57/1000,D123/10^3*($C$117+$C$118*EF!$M$4+$C$119*EF!$M$5)*'SOLAR PV PRODUCTS'!D54/1000)","v":0},{"$f":"IF('SOLAR PV PRODUCTS'!E34=1,E123/10^3*($C$117+$C$118*EF!$M$4+$C$119*EF!$M$5)*'SOLAR PV PRODUCTS'!E57/1000,E123/10^3*($C$117+$C$118*EF!$M$4+$C$119*EF!$M$5)*'SOLAR PV PRODUCTS'!E54/1000)","v":0},{"$f":"IF('SOLAR PV PRODUCTS'!F34=1,F123/10^3*($C$117+$C$118*EF!$M$4+$C$119*EF!$M$5)*'SOLAR PV PRODUCTS'!F57/1000,F123/10^3*($C$117+$C$118*EF!$M$4+$C$119*EF!$M$5)*'SOLAR PV PRODUCTS'!F54/1000)","v":0},{"$f":"IF('SOLAR PV PRODUCTS'!G34=1,G123/10^3*($C$117+$C$118*EF!$M$4+$C$119*EF!$M$5)*'SOLAR PV PRODUCTS'!G57/1000,G123/10^3*($C$117+$C$118*EF!$M$4+$C$119*EF!$M$5)*'SOLAR PV PRODUCTS'!G54/1000)","v":0},{"$f":"IF('SOLAR PV PRODUCTS'!H34=1,H123/10^3*($C$117+$C$118*EF!$M$4+$C$119*EF!$M$5)*'SOLAR PV PRODUCTS'!H57/1000,H123/10^3*($C$117+$C$118*EF!$M$4+$C$119*EF!$M$5)*'SOLAR PV PRODUCTS'!H54/1000)","v":0},{"$f":"IF('SOLAR PV PRODUCTS'!I34=1,I123/10^3*($C$117+$C$118*EF!$M$4+$C$119*EF!$M$5)*'SOLAR PV PRODUCTS'!I57/1000,I123/10^3*($C$117+$C$118*EF!$M$4+$C$119*EF!$M$5)*'SOLAR PV PRODUCTS'!I54/1000)","v":0},{"$f":"IF('SOLAR PV PRODUCTS'!J34=1,J123/10^3*($C$117+$C$118*EF!$M$4+$C$119*EF!$M$5)*'SOLAR PV PRODUCTS'!J57/1000,J123/10^3*($C$117+$C$118*EF!$M$4+$C$119*EF!$M$5)*'SOLAR PV PRODUCTS'!J54/1000)","v":0},{"$f":"IF('SOLAR PV PRODUCTS'!K34=1,K123/10^3*($C$117+$C$118*EF!$M$4+$C$119*EF!$M$5)*'SOLAR PV PRODUCTS'!K57/1000,K123/10^3*($C$117+$C$118*EF!$M$4+$C$119*EF!$M$5)*'SOLAR PV PRODUCTS'!K54/1000)","v":0},{"$f":"IF('SOLAR PV PRODUCTS'!L34=1,L123/10^3*($C$117+$C$118*EF!$M$4+$C$119*EF!$M$5)*'SOLAR PV PRODUCTS'!L57/1000,L123/10^3*($C$117+$C$118*EF!$M$4+$C$119*EF!$M$5)*'SOLAR PV PRODUCTS'!L54/1000)","v":0},{"$f":"IF('SOLAR PV PRODUCTS'!M34=1,M123/10^3*($C$117+$C$118*EF!$M$4+$C$119*EF!$M$5)*'SOLAR PV PRODUCTS'!M57/1000,M123/10^3*($C$117+$C$118*EF!$M$4+$C$119*EF!$M$5)*'SOLAR PV PRODUCTS'!M54/1000)","v":0},{"$f":"IF('SOLAR PV PRODUCTS'!N34=1,N123/10^3*($C$117+$C$118*EF!$M$4+$C$119*EF!$M$5)*'SOLAR PV PRODUCTS'!N57/1000,N123/10^3*($C$117+$C$118*EF!$M$4+$C$119*EF!$M$5)*'SOLAR PV PRODUCTS'!N54/1000)","v":0},{"$f":"SUM(C124:N124)","v":0}]
[]
[]
["VI. Other emission sources"]
[]
["Fuel/Process","Unit","CO2 emission factor (kgCO2/unit)","CH4 emission factor (kgCH4/unit)","N2O emission factor (kgN2O/unit)",null,"Quantity of fuel used",null,null,null,null,null,null,null,null,null,null,null,"Tổng"]
[null,null,null,null,null,null,"Jan","Feb","March","April","May","June","July","Aug","Sep","Oct","Nov","Dec"]
[null,null,null,null,null,"Fuel consumption",null,null,null,null,null,null,null,null,null,null,null,null,{"$f":"SUM(G131:R131)","v":0}]
[null,null,null,null,null,"Emission (tons CO2eq)",{"$f":"IF(A131<>0,IF('SOLAR PV PRODUCTS'!$C$34=1,G131*(C131+D131*EF!$M$4+E131*EF!$M$5)*'SOLAR PV PRODUCTS'!$C$57/1000, G131*(C131+D131*EF!$M$4+E131*EF!$M$5)*'SOLAR PV PRODUCTS'!$C$54/1000),\"\")","v":""},{"$f":"IF(A131<>\"\",IF('SOLAR PV PRODUCTS'!$D$34=1,H131*(C131+D131*EF!$M$4+E131*EF!$M$5)*'SOLAR PV PRODUCTS'!$D$57/1000, H131*(C131+D131*EF!$M$4+E131*EF!$M$5)*'SOLAR PV PRODUCTS'!$D$54/1000),\"\")","v":""},{"$f":"IF(A131<>\"\",IF('SOLAR PV PRODUCTS'!$E$34=1, I131*(C131+D131*EF!$M$4+E131*EF!$M$5)*'SOLAR PV PRODUCTS'!$E$57/1000, I131*(C131+D131*EF!$M$4+E131*EF!$M$5)*'SOLAR PV PRODUCTS'!$E$54/1000),\"\")","v":""},{"$f":"IF(A131<>\"\",IF('SOLAR PV PRODUCTS'!$F$34=1,J131*(C131+D131*EF!$M$4+E131*EF!$M$5)*'SOLAR PV PRODUCTS'!$F$57/1000, J131*(C131+D131*EF!$M$4+E131*EF!$M$5)*'SOLAR PV PRODUCTS'!$F$54/1000),\"\")","v":""},{"$f":"IF(A131<>\"\",IF('SOLAR PV PRODUCTS'!$G$34=1, K131*(C131+D131*EF!$M$4+E131*EF!$M$5)*'SOLAR PV PRODUCTS'!$G$57/1000,K131*(C131+D131*EF!$M$4+E131*EF!$M$5)*'SOLAR PV PRODUCTS'!$G$54/1000),\"\")","v":""},{"$f":"IF(A131<>\"\",IF('SOLAR PV PRODUCTS'!$H$34=1,L131*(C131+D131*EF!$M$4+E131*EF!$M$5)*'SOLAR PV PRODUCTS'!$H$57/1000,L131*(C131+D131*EF!$M$4+E131*EF!$M$5)*'SOLAR PV PRODUCTS'!$H$54/1000),\"\")","v":""},{"$f":"IF(A131<>\"\",IF('SOLAR PV PRODUCTS'!$I$34=1,M131*(C131+D131*EF!$M$4+E131*EF!$M$5)*'SOLAR PV PRODUCTS'!$I$57/1000,M131*(C131+D131*EF!$M$4+E131*EF!$M$5)*'SOLAR PV PRODUCTS'!$I$54/1000),\"\")","v":""},{"$f":"IF(A131<>\"\",IF('SOLAR PV PRODUCTS'!$J$34,N131*(C131+D131*EF!$M$4+E131*EF!$M$5)*'SOLAR PV PRODUCTS'!$J$57/1000,N131*(C131+D131*EF!$M$4+E131*EF!$M$5)*'SOLAR PV PRODUCTS'!$J$54/1000),\"\")","v":""},{"$f":"IF(A131<>\"\",IF('SOLAR PV PRODUCTS'!$K$34=1,O131*(C131+D131*EF!$M$4+E131*EF!$M$5)*'SOLAR PV PRODUCTS'!$K$57/1000,O131*(C131+D131*EF!$M$4+E131*EF!$M$5)*'SOLAR PV PRODUCTS'!$K$54/1000),\"\")","v":""},{"$f":"IF(A131<>\"\",IF('SOLAR PV PRODUCTS'!$L$34=1,P131*(C131+D131*EF!$M$4+E131*EF!$M$5)*'SOLAR PV PRODUCTS'!$L$57/1000,P131*(C131+D131*EF!$M$4+E131*EF!$M$5)*'SOLAR PV PRODUCTS'!$L$54/1000),\"\")","v":""},{"$f":"IF(A131<>\"\",IF('SOLAR PV PRODUCTS'!$M$34=1,Q131*(C131+D131*EF!$M$4+E131*EF!$M$5)*'SOLAR PV PRODUCTS'!$M$57/1000,Q131*(C131+D131*EF!$M$4+E131*EF!$M$5)*'SOLAR PV PRODUCTS'!$M$54/1000),\"\")","v":""},{"$f":"IF(A131<>\"\",IF('SOLAR PV PRODUCTS'!$N$34=1,R131*(C131+D131*EF!$M$4+E131*EF!$M$5)*'SOLAR PV PRODUCTS'!$N$57/1000,R131*(C131+D131*EF!$M$4+E131*EF!$M$5)*'SOLAR PV PRODUCTS'!$N$54/1000),\"\")","v":""},0]
[null,null,null,null,null,"Fuel consumption",null,null,null,null,null,null,null,null,null,null,null,null,0]
[null,null,null,null,null,"Emission (tons CO2eq)",{"$f":"IF(A133<>0,IF('SOLAR PV PRODUCTS'!$C$34=1,G133*(C133+D133*EF!$M$4+E133*EF!$M$5)*'SOLAR PV PRODUCTS'!$C$57/1000, G133*(C133+D133*EF!$M$4+E133*EF!$M$5)*'SOLAR PV PRODUCTS'!$C$54/1000),\"\")","v":""},{"$f":"IF(A133<>\"\",IF('SOLAR PV PRODUCTS'!$D$34=1,H133*(C133+D133*EF!$M$4+E133*EF!$M$5)*'SOLAR PV PRODUCTS'!$D$57/1000, H133*(C133+D133*EF!$M$4+E133*EF!$M$5)*'SOLAR PV PRODUCTS'!$D$54/1000),\"\")","v":""},{"$f":"IF(A133<>\"\",IF('SOLAR PV PRODUCTS'!$E$34=1, I133*(C133+D133*EF!$M$4+E133*EF!$M$5)*'SOLAR PV PRODUCTS'!$E$57/1000, I133*(C133+D133*EF!$M$4+E133*EF!$M$5)*'SOLAR PV PRODUCTS'!$E$54/1000),\"\")","v":""},{"$f":"IF(A133<>\"\",IF('SOLAR PV PRODUCTS'!$F$34=1,J133*(C133+D133*EF!$M$4+E133*EF!$M$5)*'SOLAR PV PRODUCTS'!$F$57/1000, J133*(C133+D133*EF!$M$4+E133*EF!$M$5)*'SOLAR PV PRODUCTS'!$F$54/1000),\"\")","v":""},{"$f":"IF(A133<>\"\",IF('SOLAR PV PRODUCTS'!$G$34=1, K133*(C133+D133*EF!$M$4+E133*EF!$M$5)*'SOLAR PV PRODUCTS'!$G$57/1000,K133*(C133+D133*EF!$M$4+E133*EF!$M$5)*'SOLAR PV PRODUCTS'!$G$54/1000),\"\")","v":""},{"$f":"IF(A133<>\"\",IF('SOLAR PV PRODUCTS'!$H$34=1,L133*(C133+D133*EF!$M$4+E133*EF!$M$5)*'SOLAR PV PRODUCTS'!$H$57/1000,L133*(C133+D133*EF!$M$4+E133*EF!$M$5)*'SOLAR PV PRODUCTS'!$H$54/1000),\"\")","v":""},{"$f":"IF(A133<>\"\",IF('SOLAR PV PRODUCTS'!$I$34=1,M133*(C133+D133*EF!$M$4+E133*EF!$M$5)*'SOLAR PV PRODUCTS'!$I$57/1000,M133*(C133+D133*EF!$M$4+E133*EF!$M$5)*'SOLAR PV PRODUCTS'!$I$54/1000),\"\")","v":""},{"$f":"IF(A133<>\"\",IF('SOLAR PV PRODUCTS'!$J$34,N133*(C133+D133*EF!$M$4+E133*EF!$M$5)*'SOLAR PV PRODUCTS'!$J$57/1000,N133*(C133+D133*EF!$M$4+E133*EF!$M$5)*'SOLAR PV PRODUCTS'!$J$54/1000),\"\")","v":""},{"$f":"IF(A133<>\"\",IF('SOLAR PV PRODUCTS'!$K$34=1,O133*(C133+D133*EF!$M$4+E133*EF!$M$5)*'SOLAR PV PRODUCTS'!$K$57/1000,O133*(C133+D133*EF!$M$4+E133*EF!$M$5)*'SOLAR PV PRODUCTS'!$K$54/1000),\"\")","v":""},{"$f":"IF(A133<>\"\",IF('SOLAR PV PRODUCTS'!$L$34=1,P133*(C133+D133*EF!$M$4+E133*EF!$M$5)*'SOLAR PV PRODUCTS'!$L$57/1000,P133*(C133+D133*EF!$M$4+E133*EF!$M$5)*'SOLAR PV PRODUCTS'!$L$54/1000),\"\")","v":""},{"$f":"IF(A133<>\"\",IF('SOLAR PV PRODUCTS'!$M$34=1,Q133*(C133+D133*EF!$M$4+E133*EF!$M$5)*'SOLAR PV PRODUCTS'!$M$57/1000,Q133*(C133+D133*EF!$M$4+E133*EF!$M$5)*'SOLAR PV PRODUCTS'!$M$54/1000),\"\")","v":""},{"$f":"IF(A133<>\"\",IF('SOLAR PV PRODUCTS'!$N$34=1,R133*(C133+D133*EF!$M$4+E133*EF!$M$5)*'SOLAR PV PRODUCTS'!$N$57/1000,R133*(C133+D133*EF!$M$4+E133*EF!$M$5)*'SOLAR PV PRODUCTS'!$N$54/1000),\"\")","v":""},0]
[null,null,null,null,null,"Fuel consumption",null,null,null,null,null,null,null,null,null,null,null,null,0]
[null,null,null,null,null,"Emission (tons CO2eq)",{"$f":"IF(A135<>0,IF('SOLAR PV PRODUCTS'!$C$34=1,G135*(C135+D135*EF!$M$4+E135*EF!$M$5)*'SOLAR PV PRODUCTS'!$C$57/1000, G135*(C135+D135*EF!$M$4+E135*EF!$M$5)*'SOLAR PV PRODUCTS'!$C$54/1000),\"\")","v":""},{"$f":"IF(A135<>\"\",IF('SOLAR PV PRODUCTS'!$D$34=1,H135*(C135+D135*EF!$M$4+E135*EF!$M$5)*'SOLAR PV PRODUCTS'!$D$57/1000, H135*(C135+D135*EF!$M$4+E135*EF!$M$5)*'SOLAR PV PRODUCTS'!$D$54/1000),\"\")","v":""},{"$f":"IF(A135<>\"\",IF('SOLAR PV PRODUCTS'!$E$34=1, I135*(C135+D135*EF!$M$4+E135*EF!$M$5)*'SOLAR PV PRODUCTS'!$E$57/1000, I135*(C135+D135*EF!$M$4+E135*EF!$M$5)*'SOLAR PV PRODUCTS'!$E$54/1000),\"\")","v":""},{"$f":"IF(A135<>\"\",IF('SOLAR PV PRODUCTS'!$F$34=1,J135*(C135+D135*EF!$M$4+E135*EF!$M$5)*'SOLAR PV PRODUCTS'!$F$57/1000, J135*(C135+D135*EF!$M$4+E135*EF!$M$5)*'SOLAR PV PRODUCTS'!$F$54/1000),\"\")","v":""},{"$f":"IF(A135<>\"\",IF('SOLAR PV PRODUCTS'!$G$34=1, K135*(C135+D135*EF!$M$4+E135*EF!$M$5)*'SOLAR PV PRODUCTS'!$G$57/1000,K135*(C135+D135*EF!$M$4+E135*EF!$M$5)*'SOLAR PV PRODUCTS'!$G$54/1000),\"\")","v":""},{"$f":"IF(A135<>\"\",IF('SOLAR PV PRODUCTS'!$H$34=1,L135*(C135+D135*EF!$M$4+E135*EF!$M$5)*'SOLAR PV PRODUCTS'!$H$57/1000,L135*(C135+D135*EF!$M$4+E135*EF!$M$5)*'SOLAR PV PRODUCTS'!$H$54/1000),\"\")","v":""},{"$f":"IF(A135<>\"\",IF('SOLAR PV PRODUCTS'!$I$34=1,M135*(C135+D135*EF!$M$4+E135*EF!$M$5)*'SOLAR PV PRODUCTS'!$I$57/1000,M135*(C135+D135*EF!$M$4+E135*EF!$M$5)*'SOLAR PV PRODUCTS'!$I$54/1000),\"\")","v":""},{"$f":"IF(A135<>\"\",IF('SOLAR PV PRODUCTS'!$J$34,N135*(C135+D135*EF!$M$4+E135*EF!$M$5)*'SOLAR PV PRODUCTS'!$J$57/1000,N135*(C135+D135*EF!$M$4+E135*EF!$M$5)*'SOLAR PV PRODUCTS'!$J$54/1000),\"\")","v":""},{"$f":"IF(A135<>\"\",IF('SOLAR PV PRODUCTS'!$K$34=1,O135*(C135+D135*EF!$M$4+E135*EF!$M$5)*'SOLAR PV PRODUCTS'!$K$57/1000,O135*(C135+D135*EF!$M$4+E135*EF!$M$5)*'SOLAR PV PRODUCTS'!$K$54/1000),\"\")","v":""},{"$f":"IF(A135<>\"\",IF('SOLAR PV PRODUCTS'!$L$34=1,P135*(C135+D135*EF!$M$4+E135*EF!$M$5)*'SOLAR PV PRODUCTS'!$L$57/1000,P135*(C135+D135*EF!$M$4+E135*EF!$M$5)*'SOLAR PV PRODUCTS'!$L$54/1000),\"\")","v":""},{"$f":"IF(A135<>\"\",IF('SOLAR PV PRODUCTS'!$M$34=1,Q135*(C135+D135*EF!$M$4+E135*EF!$M$5)*'SOLAR PV PRODUCTS'!$M$57/1000,Q135*(C135+D135*EF!$M$4+E135*EF!$M$5)*'SOLAR PV PRODUCTS'!$M$54/1000),\"\")","v":""},{"$f":"IF(A135<>\"\",IF('SOLAR PV PRODUCTS'!$N$34=1,R135*(C135+D135*EF!$M$4+E135*EF!$M$5)*'SOLAR PV PRODUCTS'!$N$57/1000,R135*(C135+D135*EF!$M$4+E135*EF!$M$5)*'SOLAR PV PRODUCTS'!$N$54/1000),\"\")","v":""},0]
[null,null,null,null,null,"Fuel consumption",null,null,null,null,null,null,null,null,null,null,null,null,0]
[null,null,null,null,null,"Emission (tons CO2eq)",{"$f":"IF(A137<>0,IF('SOLAR PV PRODUCTS'!$C$34=1,G137*(C137+D137*EF!$M$4+E137*EF!$M$5)*'SOLAR PV PRODUCTS'!$C$57/1000, G137*(C137+D137*EF!$M$4+E137*EF!$M$5)*'SOLAR PV PRODUCTS'!$C$54/1000),\"\")","v":""},{"$f":"IF(A137<>\"\",IF('SOLAR PV PRODUCTS'!$D$34=1,H137*(C137+D137*EF!$M$4+E137*EF!$M$5)*'SOLAR PV PRODUCTS'!$D$57/1000, H137*(C137+D137*EF!$M$4+E137*EF!$M$5)*'SOLAR PV PRODUCTS'!$D$54/1000),\"\")","v":""},{"$f":"IF(A137<>\"\",IF('SOLAR PV PRODUCTS'!$E$34=1, I137*(C137+D137*EF!$M$4+E137*EF!$M$5)*'SOLAR PV PRODUCTS'!$E$57/1000, I137*(C137+D137*EF!$M$4+E137*EF!$M$5)*'SOLAR PV PRODUCTS'!$E$54/1000),\"\")","v":""},{"$f":"IF(A137<>\"\",IF('SOLAR PV PRODUCTS'!$F$34=1,J137*(C137+D137*EF!$M$4+E137*EF!$M$5)*'SOLAR PV PRODUCTS'!$F$57/1000, J137*(C137+D137*EF!$M$4+E137*EF!$M$5)*'SOLAR PV PRODUCTS'!$F$54/1000),\"\")","v":""},{"$f":"IF(A137<>\"\",IF('SOLAR PV PRODUCTS'!$G$34=1, K137*(C137+D137*EF!$M$4+E137*EF!$M$5)*'SOLAR PV PRODUCTS'!$G$57/1000,K137*(C137+D137*EF!$M$4+E137*EF!$M$5)*'SOLAR PV PRODUCTS'!$G$54/1000),\"\")","v":""},{"$f":"IF(A137<>\"\",IF('SOLAR PV PRODUCTS'!$H$34=1,L137*(C137+D137*EF!$M$4+E137*EF!$M$5)*'SOLAR PV PRODUCTS'!$H$57/1000,L137*(C137+D137*EF!$M$4+E137*EF!$M$5)*'SOLAR PV PRODUCTS'!$H$54/1000),\"\")","v":""},{"$f":"IF(A137<>\"\",IF('SOLAR PV PRODUCTS'!$I$34=1,M137*(C137+D137*EF!$M$4+E137*EF!$M$5)*'SOLAR PV PRODUCTS'!$I$57/1000,M137*(C137+D137*EF!$M$4+E137*EF!$M$5)*'SOLAR PV PRODUCTS'!$I$54/1000),\"\")","v":""},{"$f":"IF(A137<>\"\",IF('SOLAR PV PRODUCTS'!$J$34,N137*(C137+D137*EF!$M$4+E137*EF!$M$5)*'SOLAR PV PRODUCTS'!$J$57/1000,N137*(C137+D137*EF!$M$4+E137*EF!$M$5)*'SOLAR PV PRODUCTS'!$J$54/1000),\"\")","v":""},{"$f":"IF(A137<>\"\",IF('SOLAR PV PRODUCTS'!$K$34=1,O137*(C137+D137*EF!$M$4+E137*EF!$M$5)*'SOLAR PV PRODUCTS'!$K$57/1000,O137*(C137+D137*EF!$M$4+E137*EF!$M$5)*'SOLAR PV PRODUCTS'!$K$54/1000),\"\")","v":""},{"$f":"IF(A137<>\"\",IF('SOLAR PV PRODUCTS'!$L$34=1,P137*(C137+D137*EF!$M$4+E137*EF!$M$5)*'SOLAR PV PRODUCTS'!$L$57/1000,P137*(C137+D137*EF!$M$4+E137*EF!$M$5)*'SOLAR PV PRODUCTS'!$L$54/1000),\"\")","v":""},{"$f":"IF(A137<>\"\",IF('SOLAR PV PRODUCTS'!$M$34=1,Q137*(C137+D137*EF!$M$4+E137*EF!$M$5)*'SOLAR PV PRODUCTS'!$M$57/1000,Q137*(C137+D137*EF!$M$4+E137*EF!$M$5)*'SOLAR PV PRODUCTS'!$M$54/1000),\"\")","v":""},{"$f":"IF(A137<>\"\",IF('SOLAR PV PRODUCTS'!$N$34=1,R137*(C137+D137*EF!$M$4+E137*EF!$M$5)*'SOLAR PV PRODUCTS'!$N$57/1000,R137*(C137+D137*EF!$M$4+E137*EF!$M$5)*'SOLAR PV PRODUCTS'!$N$54/1000),\"\")","v":""},0]
[null,null,null,null,null,"Fuel consumption",null,null,null,null,null,null,null,null,null,null,null,null,0]
[null,null,null,null,null,"Emission (tons CO2eq)",{"$f":"IF(A139<>0,IF('SOLAR PV PRODUCTS'!$C$34=1,G139*(C139+D139*EF!$M$4+E139*EF!$M$5)*'SOLAR PV PRODUCTS'!$C$57/1000, G139*(C139+D139*EF!$M$4+E139*EF!$M$5)*'SOLAR PV PRODUCTS'!$C$54/1000),\"\")","v":""},{"$f":"IF(A139<>\"\",IF('SOLAR PV PRODUCTS'!$D$34=1,H139*(C139+D139*EF!$M$4+E139*EF!$M$5)*'SOLAR PV PRODUCTS'!$D$57/1000, H139*(C139+D139*EF!$M$4+E139*EF!$M$5)*'SOLAR PV PRODUCTS'!$D$54/1000),\"\")","v":""},{"$f":"IF(A139<>\"\",IF('SOLAR PV PRODUCTS'!$E$34=1, I139*(C139+D139*EF!$M$4+E139*EF!$M$5)*'SOLAR PV PRODUCTS'!$E$57/1000, I139*(C139+D139*EF!$M$4+E139*EF!$M$5)*'SOLAR PV PRODUCTS'!$E$54/1000),\"\")","v":""},{"$f":"IF(A139<>\"\",IF('SOLAR PV PRODUCTS'!$F$34=1,J139*(C139+D139*EF!$M$4+E139*EF!$M$5)*'SOLAR PV PRODUCTS'!$F$57/1000, J139*(C139+D139*EF!$M$4+E139*EF!$M$5)*'SOLAR PV PRODUCTS'!$F$54/1000),\"\")","v":""},{"$f":"IF(A139<>\"\",IF('SOLAR PV PRODUCTS'!$G$34=1, K139*(C139+D139*EF!$M$4+E139*EF!$M$5)*'SOLAR PV PRODUCTS'!$G$57/1000,K139*(C139+D139*EF!$M$4+E139*EF!$M$5)*'SOLAR PV PRODUCTS'!$G$54/1000),\"\")","v":""},{"$f":"IF(A139<>\"\",IF('SOLAR PV PRODUCTS'!$H$34=1,L139*(C139+D139*EF!$M$4+E139*EF!$M$5)*'SOLAR PV PRODUCTS'!$H$57/1000,L139*(C139+D139*EF!$M$4+E139*EF!$M$5)*'SOLAR PV PRODUCTS'!$H$54/1000),\"\")","v":""},{"$f":"IF(A139<>\"\",IF('SOLAR PV PRODUCTS'!$I$34=1,M139*(C139+D139*EF!$M$4+E139*EF!$M$5)*'SOLAR PV PRODUCTS'!$I$57/1000,M139*(C139+D139*EF!$M$4+E139*EF!$M$5)*'SOLAR PV PRODUCTS'!$I$54/1000),\"\")","v":""},{"$f":"IF(A139<>\"\",IF('SOLAR PV PRODUCTS'!$J$34,N139*(C139+D139*EF!$M$4+E139*EF!$M$5)*'SOLAR PV PRODUCTS'!$J$57/1000,N139*(C139+D139*EF!$M$4+E139*EF!$M$5)*'SOLAR PV PRODUCTS'!$J$54/1000),\"\")","v":""},{"$f":"IF(A139<>\"\",IF('SOLAR PV PRODUCTS'!$K$34=1,O139*(C139+D139*EF!$M$4+E139*EF!$M$5)*'SOLAR PV PRODUCTS'!$K$57/1000,O139*(C139+D139*EF!$M$4+E139*EF!$M$5)*'SOLAR PV PRODUCTS'!$K$54/1000),\"\")","v":""},{"$f":"IF(A139<>\"\",IF('SOLAR PV PRODUCTS'!$L$34=1,P139*(C139+D139*EF!$M$4+E139*EF!$M$5)*'SOLAR PV PRODUCTS'!$L$57/1000,P139*(C139+D139*EF!$M$4+E139*EF!$M$5)*'SOLAR PV PRODUCTS'!$L$54/1000),\"\")","v":""},{"$f":"IF(A139<>\"\",IF('SOLAR PV PRODUCTS'!$M$34=1,Q139*(C139+D139*EF!$M$4+E139*EF!$M$5)*'SOLAR PV PRODUCTS'!$M$57/1000,Q139*(C139+D139*EF!$M$4+E139*EF!$M$5)*'SOLAR PV PRODUCTS'!$M$54/1000),\"\")","v":""},{"$f":"IF(A139<>\"\",IF('SOLAR PV PRODUCTS'!$N$34=1,R139*(C139+D139*EF!$M$4+E139*EF!$M$5)*'SOLAR PV PRODUCTS'!$N$57/1000,R139*(C139+D139*EF!$M$4+E139*EF!$M$5)*'SOLAR PV PRODUCTS'!$N$54/1000),\"\")","v":""},0]
[]
["Total (tons CO2eq)",null,null,null,null,null,{"$f":"SUMIF($F$131:$F$141,$F$132,G131:G141)","v":0},{"$f":"SUMIF($F$131:$F$141,$F$132,H131:H141)","v":0},0,0,0,0,0,0,0,0,0,0,0]

{"sheet":"SOLAR PV PHASE 3","index":27,"n_rows":29,"n_cols":19,"rows_kept":29,"cut":false,"hidden":true,"merged":[[28,0,28,5],[25,0,26,0],[25,1,26,1],[25,2,26,2],[25,3,26,3],[25,4,26,4],[23,0,24,0],[23,1,24,1],[23,2,24,2],[23,3,24,3],[23,4,24,4],[21,0,22,0],[21,1,22,1],[21,2,22,2],[21,3,22,3],[21,4,22,4],[19,0,20,0],[19,1,20,1],[19,2,20,2],[19,3,20,3],[19,4,20,4],[15,1,16,1],[15,2,16,2],[15,3,16,3],[15,4,16,4],[17,0,18,0],[17,1,18,1],[17,2,18,2],[17,3,18,3],[17,4,18,4],[15,0,16,0],[1,0,1,19],[13,1,14,1],[13,2,14,2],[13,3,14,3],[13,0,14,0],[13,4,14,4],[13,5,14,5],[13,6,13,17],[13,18,14,18]]}
[]
["PHASE 3 INPUT DATA: DISTRIBUTION AND RETAIL"]
[]
[]
[]
[]
[]
[]
[]
[]
[]
[]
[]
["Transportation","Size","EF CO2 \n(kg CO2/ton.km)","EF CH4 \n(kg CO4/ton.km)","EF N2O (kg N2O/ton.km)",null,"Product transport distance and emissions",null,null,null,null,null,null,null,null,null,null,null,"Tổng"]
[null,null,null,null,null,null,"Jan","Feb","March","April","May","June","July","Aug","Sep","Oct","Nov","Dec"]
[null,null,{"$f":"IF(AND(A16<>\"\",B16<>\"\"),VLOOKUP(A16&B16,EF!$A$171:$F$245,4,0),\"\")","v":""},{"$f":"IF(AND(A16<>\"\",B16<>\"\"),VLOOKUP(A16&B16,EF!$A$171:$F$245,5,0),\"\")","v":""},{"$f":"IF(AND(A16<>\"\",B16<>\"\"),VLOOKUP(A16&B16,EF!$A$171:$F$245,6,0),\"\")","v":""},"Distance traveled by product (tons.km)",null,null,null,null,null,null,null,null,null,null,null,null,{"$f":"SUM(G16:R16)","v":0}]
[null,null,null,null,null,"Emission (tons CO2eq)",{"$f":"IF(A16<>\"\",G16*(C16+D16*EF!$M$4+EF!$M$5*E16)/1000,0)","v":0},{"$f":"IF(A16<>\"\",H16*(C16+D16*EF!$M$4+EF!$M$5*E16)/1000,0)","v":0},{"$f":"IF(A16<>\"\",I16*(C16+D16*EF!$M$4+EF!$M$5*E16)/1000,0)","v":0},{"$f":"IF(A16<>\"\",J16*(C16+D16*EF!$M$4+EF!$M$5*E16)/1000,0)","v":0},{"$f":"IF(A16<>\"\",K16*(C16+D16*EF!$M$4+EF!$M$5*E16)/1000,0)","v":0},{"$f":"IF(A16<>\"\",L16*(C16+D16*EF!$M$4+EF!$M$5*E16)/1000,0)","v":0},{"$f":"IF(A16<>\"\",M16*(C16+D16*EF!$M$4+EF!$M$5*E16)/1000,0)","v":0},{"$f":"IF(A16<>\"\",N16*(C16+D16*EF!$M$4+EF!$M$5*E16)/1000,0)","v":0},{"$f":"IF(A16<>\"\",O16*(C16+D16*EF!$M$4+EF!$M$5*E16)/1000,0)","v":0},{"$f":"IF(A16<>\"\",P16*(C16+D16*EF!$M$4+EF!$M$5*E16)/1000,0)","v":0},{"$f":"IF(A16<>\"\",Q16*(C16+D16*EF!$M$4+EF!$M$5*E16)/1000,0)","v":0},{"$f":"IF(A16<>\"\",R16*(C16+D16*EF!$M$4+EF!$M$5*E16)/1000,0)","v":0},0]
[null,null,{"$f":"IF(AND(A18<>\"\",B18<>\"\"),VLOOKUP(A18&B18,EF!$A$171:$F$245,4,0),\"\")","v":""},{"$f":"IF(AND(A18<>\"\",B18<>\"\"),VLOOKUP(A18&B18,EF!$A$171:$F$245,5,0),\"\")","v":""},{"$f":"IF(AND(A18<>\"\",B18<>\"\"),VLOOKUP(A18&B18,EF!$A$171:$F$245,6,0),\"\")","v":""},"Distance traveled by product (tons.km)",null,null,null,null,null,null,null,null,null,null,null,null,0]
[null,null,null,null,null,"Emission (tons CO2eq)",{"$f":"IF(A18<>\"\",G18*(C18+D18*EF!$M$4+EF!$M$5*E18)/1000,0)","v":0},{"$f":"IF(A18<>\"\",H18*(C18+D18*EF!$M$4+EF!$M$5*E18)/1000,0)","v":0},{"$f":"IF(A18<>\"\",I18*(C18+D18*EF!$M$4+EF!$M$5*E18)/1000,0)","v":0},{"$f":"IF(A18<>\"\",J18*(C18+D18*EF!$M$4+EF!$M$5*E18)/1000,0)","v":0},{"$f":"IF(A18<>\"\",K18*(C18+D18*EF!$M$4+EF!$M$5*E18)/1000,0)","v":0},{"$f":"IF(A18<>\"\",L18*(C18+D18*EF!$M$4+EF!$M$5*E18)/1000,0)","v":0},{"$f":"IF(A18<>\"\",M18*(C18+D18*EF!$M$4+EF!$M$5*E18)/1000,0)","v":0},{"$f":"IF(A18<>\"\",N18*(C18+D18*EF!$M$4+EF!$M$5*E18)/1000,0)","v":0},{"$f":"IF(A18<>\"\",O18*(C18+D18*EF!$M$4+EF!$M$5*E18)/1000,0)","v":0},{"$f":"IF(A18<>\"\",P18*(C18+D18*EF!$M$4+EF!$M$5*E18)/1000,0)","v":0},{"$f":"IF(A18<>\"\",Q18*(C18+D18*EF!$M$4+EF!$M$5*E18)/1000,0)","v":0},{"$f":"IF(A18<>\"\",R18*(C18+D18*EF!$M$4+EF!$M$5*E18)/1000,0)","v":0},0]
[null,null,{"$f":"IF(AND(A20<>\"\",B20<>\"\"),VLOOKUP(A20&B20,EF!$A$171:$F$245,4,0),\"\")","v":""},{"$f":"IF(AND(A20<>\"\",B20<>\"\"),VLOOKUP(A20&B20,EF!$A$171:$F$245,5,0),\"\")","v":""},{"$f":"IF(AND(A20<>\"\",B20<>\"\"),VLOOKUP(A20&B20,EF!$A$171:$F$245,6,0),\"\")","v":""},"Distance traveled by product (tons.km)",null,null,null,null,null,null,null,null,null,null,null,null,0]
[null,null,null,null,null,"Emission (tons CO2eq)",{"$f":"IF(A20<>\"\",G20*(C20+D20*EF!$M$4+EF!$M$5*E20)/1000,0)","v":0},{"$f":"IF(A20<>\"\",H20*(C20+D20*EF!$M$4+EF!$M$5*E20)/1000,0)","v":0},{"$f":"IF(A20<>\"\",I20*(C20+D20*EF!$M$4+EF!$M$5*E20)/1000,0)","v":0},{"$f":"IF(A20<>\"\",J20*(C20+D20*EF!$M$4+EF!$M$5*E20)/1000,0)","v":0},{"$f":"IF(A20<>\"\",K20*(C20+D20*EF!$M$4+EF!$M$5*E20)/1000,0)","v":0},{"$f":"IF(A20<>\"\",L20*(C20+D20*EF!$M$4+EF!$M$5*E20)/1000,0)","v":0},{"$f":"IF(A20<>\"\",M20*(C20+D20*EF!$M$4+EF!$M$5*E20)/1000,0)","v":0},{"$f":"IF(A20<>\"\",N20*(C20+D20*EF!$M$4+EF!$M$5*E20)/1000,0)","v":0},{"$f":"IF(A20<>\"\",O20*(C20+D20*EF!$M$4+EF!$M$5*E20)/1000,0)","v":0},{"$f":"IF(A20<>\"\",P20*(C20+D20*EF!$M$4+EF!$M$5*E20)/1000,0)","v":0},{"$f":"IF(A20<>\"\",Q20*(C20+D20*EF!$M$4+EF!$M$5*E20)/1000,0)","v":0},{"$f":"IF(A20<>\"\",R20*(C20+D20*EF!$M$4+EF!$M$5*E20)/1000,0)","v":0},0]
[null,null,{"$f":"IF(AND(A22<>\"\",B22<>\"\"),VLOOKUP(A22&B22,EF!$A$171:$F$245,4,0),\"\")","v":""},{"$f":"IF(AND(A22<>\"\",B22<>\"\"),VLOOKUP(A22&B22,EF!$A$171:$F$245,5,0),\"\")","v":""},{"$f":"IF(AND(A22<>\"\",B22<>\"\"),VLOOKUP(A22&B22,EF!$A$171:$F$245,6,0),\"\")","v":""},"Distance traveled by product (tons.km)",null,null,null,null,null,null,null,null,null,null,null,null,0]
[null,null,null,null,null,"Emission (tons CO2eq)",{"$f":"IF(A22<>\"\",G22*(C22+D22*EF!$M$4+EF!$M$5*E22)/1000,0)","v":0},{"$f":"IF(A22<>\"\",H22*(C22+D22*EF!$M$4+EF!$M$5*E22)/1000,0)","v":0},{"$f":"IF(A22<>\"\",I22*(C22+D22*EF!$M$4+EF!$M$5*E22)/1000,0)","v":0},{"$f":"IF(A22<>\"\",J22*(C22+D22*EF!$M$4+EF!$M$5*E22)/1000,0)","v":0},{"$f":"IF(A22<>\"\",K22*(C22+D22*EF!$M$4+EF!$M$5*E22)/1000,0)","v":0},{"$f":"IF(A22<>\"\",L22*(C22+D22*EF!$M$4+EF!$M$5*E22)/1000,0)","v":0},{"$f":"IF(A22<>\"\",M22*(C22+D22*EF!$M$4+EF!$M$5*E22)/1000,0)","v":0},{"$f":"IF(A22<>\"\",N22*(C22+D22*EF!$M$4+EF!$M$5*E22)/1000,0)","v":0},{"$f":"IF(A22<>\"\",O22*(C22+D22*EF!$M$4+EF!$M$5*E22)/1000,0)","v":0},{"$f":"IF(A22<>\"\",P22*(C22+D22*EF!$M$4+EF!$M$5*E22)/1000,0)","v":0},{"$f":"IF(A22<>\"\",Q22*(C22+D22*EF!$M$4+EF!$M$5*E22)/1000,0)","v":0},{"$f":"IF(A22<>\"\",R22*(C22+D22*EF!$M$4+EF!$M$5*E22)/1000,0)","v":0},0]
[null,null,{"$f":"IF(AND(A24<>\"\",B24<>\"\"),VLOOKUP(A24&B24,EF!$A$171:$F$245,4,0),\"\")","v":""},{"$f":"IF(AND(A24<>\"\",B24<>\"\"),VLOOKUP(A24&B24,EF!$A$171:$F$245,5,0),\"\")","v":""},{"$f":"IF(AND(A24<>\"\",B24<>\"\"),VLOOKUP(A24&B24,EF!$A$171:$F$245,6,0),\"\")","v":""},"Distance traveled by product (tons.km)",null,null,null,null,null,null,null,null,null,null,null,null,0]
[null,null,null,null,null,"Emission (tons CO2eq)",{"$f":"IF(A24<>\"\",G24*(C24+D24*EF!$M$4+EF!$M$5*E24)/1000,0)","v":0},{"$f":"IF(A24<>\"\",H24*(C24+D24*EF!$M$4+EF!$M$5*E24)/1000,0)","v":0},{"$f":"IF(A24<>\"\",I24*(C24+D24*EF!$M$4+EF!$M$5*E24)/1000,0)","v":0},{"$f":"IF(A24<>\"\",J24*(C24+D24*EF!$M$4+EF!$M$5*E24)/1000,0)","v":0},{"$f":"IF(A24<>\"\",K24*(C24+D24*EF!$M$4+EF!$M$5*E24)/1000,0)","v":0},{"$f":"IF(A24<>\"\",L24*(C24+D24*EF!$M$4+EF!$M$5*E24)/1000,0)","v":0},{"$f":"IF(A24<>\"\",M24*(C24+D24*EF!$M$4+EF!$M$5*E24)/1000,0)","v":0},{"$f":"IF(A24<>\"\",N24*(C24+D24*EF!$M$4+EF!$M$5*E24)/1000,0)","v":0},{"$f":"IF(A24<>\"\",O24*(C24+D24*EF!$M$4+EF!$M$5*E24)/1000,0)","v":0},{"$f":"IF(A24<>\"\",P24*(C24+D24*EF!$M$4+EF!$M$5*E24)/1000,0)","v":0},{"$f":"IF(A24<>\"\",Q24*(C24+D24*EF!$M$4+EF!$M$5*E24)/1000,0)","v":0},{"$f":"IF(A24<>\"\",R24*(C24+D24*EF!$M$4+EF!$M$5*E24)/1000,0)","v":0},0]
[null,null,{"$f":"IF(AND(A26<>\"\",B26<>\"\"),VLOOKUP(A26&B26,EF!$A$171:$F$245,4,0),\"\")","v":""},{"$f":"IF(AND(A26<>\"\",B26<>\"\"),VLOOKUP(A26&B26,EF!$A$171:$F$245,5,0),\"\")","v":""},{"$f":"IF(AND(A26<>\"\",B26<>\"\"),VLOOKUP(A26&B26,EF!$A$171:$F$245,6,0),\"\")","v":""},"Distance traveled by product (tons.km)",null,null,null,null,null,null,null,null,null,null,null,null,0]
[null,null,null,null,null,"Emission (tons CO2eq)",{"$f":"IF(A26<>\"\",G26*(C26+D26*EF!$M$4+EF!$M$5*E26)/1000,0)","v":0},{"$f":"IF(A26<>\"\",H26*(C26+D26*EF!$M$4+EF!$M$5*E26)/1000,0)","v":0},{"$f":"IF(A26<>\"\",I26*(C26+D26*EF!$M$4+EF!$M$5*E26)/1000,0)","v":0},{"$f":"IF(A26<>\"\",J26*(C26+D26*EF!$M$4+EF!$M$5*E26)/1000,0)","v":0},{"$f":"IF(A26<>\"\",K26*(C26+D26*EF!$M$4+EF!$M$5*E26)/1000,0)","v":0},{"$f":"IF(A26<>\"\",L26*(C26+D26*EF!$M$4+EF!$M$5*E26)/1000,0)","v":0},{"$f":"IF(A26<>\"\",M26*(C26+D26*EF!$M$4+EF!$M$5*E26)/1000,0)","v":0},{"$f":"IF(A26<>\"\",N26*(C26+D26*EF!$M$4+EF!$M$5*E26)/1000,0)","v":0},{"$f":"IF(A26<>\"\",O26*(C26+D26*EF!$M$4+EF!$M$5*E26)/1000,0)","v":0},{"$f":"IF(A26<>\"\",P26*(C26+D26*EF!$M$4+EF!$M$5*E26)/1000,0)","v":0},{"$f":"IF(A26<>\"\",Q26*(C26+D26*EF!$M$4+EF!$M$5*E26)/1000,0)","v":0},{"$f":"IF(A26<>\"\",R26*(C26+D26*EF!$M$4+EF!$M$5*E26)/1000,0)","v":0},0]
[null,null,null,null,null,null,null,null,null,null,null,null,null,null,null,null,null,null,0]
["Total Emission (tons CO2eq)",null,null,null,null,null,{"$f":"SUMIF($F$16:$F$28,$F$17,G16:G28)","v":0},0,0,0,0,0,0,0,0,0,0,0,{"$f":"SUMIF($F$12:$F$24,$F$13,S16:S28)","v":0}]

{"sheet":"SOLAR PV PHASE 4","index":28,"n_rows":33,"n_cols":18,"rows_kept":33,"cut":false,"hidden":true,"merged":[[24,1,25,1],[24,2,24,13],[24,14,25,14],[1,0,1,19],[11,1,12,1],[11,3,12,3],[11,4,12,4],[11,5,11,16],[11,17,12,17],[11,2,12,2],[19,1,19,4]]}
[]
["PHASE 4 INPUT DATA: PRODUCT USE"]
[]
[]
[]
[]
[]
[]
[]
[]
[]
[null,"Fuel","Describe","Unit","Emission Factor (tCO2eq/unit)","Fuel quantity",null,null,null,null,null,null,null,null,null,null,null,"Total"]
[null,null,null,null,null,"Jan","Feb","March","April","May","June","July","Aug","Sep","Oct","Nov","Dec"]
[null,null,null,null,null,null,null,null,null,null,null,null,null,null,null,null,null,{"$f":"SUM(F14:Q14)","v":0}]
[null,null,null,null,null,null,null,null,null,null,null,null,null,null,null,null,null,{"$f":"SUM(F15:Q15)","v":0}]
[null,null,null,null,null,null,null,null,null,null,null,null,null,null,null,null,null,{"$f":"SUM(F16:Q16)","v":0}]
[null,null,null,null,null,null,null,null,null,null,null,null,null,null,null,null,null,{"$f":"SUM(F17:Q17)","v":0}]
[null,null,null,null,null,null,null,null,null,null,null,null,null,null,null,null,null,{"$f":"SUM(F18:Q18)","v":0}]
[]
[null,"Total",null,null,null,{"$f":"SUM(F14:F19)","v":0},{"$f":"SUM(G14:G19)","v":0},0,0,0,0,0,0,0,0,0,0,0]
[]
[]
[]
[]
[null,"Fuel","Emissions from phase 1: Production and transportation of raw materials to produce products (tons CO2eq)",null,null,null,null,null,null,null,null,null,null,null,"Total"]
[null,null,"Jan","Feb","March","April","May","June","July","Aug","Sep","Oct","Nov","Dec"]
[null,{"$f":"IF(B14<>\"\",B14,\"\")","v":""},{"$f":"F14*E14","v":0},{"$f":"G14*E14","v":0},{"$f":"H14*E14","v":0},{"$f":"I14*E14","v":0},{"$f":"J14*E14","v":0},{"$f":"K14*E14","v":0},{"$f":"L14*E14","v":0},{"$f":"M14*E14","v":0},{"$f":"N14*E14","v":0},{"$f":"O14*E14","v":0},{"$f":"P14*E14","v":0},{"$f":"Q14*E14","v":0},{"$f":"SUM(C27:N27)","v":0}]
[null,{"$f":"IF(B15<>\"\",B15,\"\")","v":""},{"$f":"F15*E15","v":0},{"$f":"G15*E15","v":0},{"$f":"H15*E15","v":0},{"$f":"I15*E15","v":0},{"$f":"J15*E15","v":0},{"$f":"K15*E15","v":0},{"$f":"L15*E15","v":0},{"$f":"M15*E15","v":0},{"$f":"N15*E15","v":0},{"$f":"O15*E15","v":0},{"$f":"P15*E15","v":0},{"$f":"Q15*E15","v":0},{"$f":"SUM(C28:N28)","v":0}]
[null,{"$f":"IF(B16<>\"\",B16,\"\")","v":""},{"$f":"F16*E16","v":0},{"$f":"G16*E16","v":0},{"$f":"H16*E16","v":0},{"$f":"I16*E16","v":0},{"$f":"J16*E16","v":0},{"$f":"K16*E16","v":0},{"$f":"L16*E16","v":0},{"$f":"M16*E16","v":0},{"$f":"N16*E16","v":0},{"$f":"O16*E16","v":0},{"$f":"P16*E16","v":0},{"$f":"Q16*E16","v":0},{"$f":"SUM(C29:N29)","v":0}]
[null,{"$f":"IF(B17<>\"\",B17,\"\")","v":""},{"$f":"F17*E17","v":0},{"$f":"G17*E17","v":0},{"$f":"H17*E17","v":0},{"$f":"I17*E17","v":0},{"$f":"J17*E17","v":0},{"$f":"K17*E17","v":0},{"$f":"L17*E17","v":0},{"$f":"M17*E17","v":0},{"$f":"N17*E17","v":0},{"$f":"O17*E17","v":0},{"$f":"P17*E17","v":0},{"$f":"Q17*E17","v":0},{"$f":"SUM(C30:N30)","v":0}]
[null,{"$f":"IF(B18<>\"\",B18,\"\")","v":""},{"$f":"F18*E18","v":0},{"$f":"G18*E18","v":0},{"$f":"H18*E18","v":0},{"$f":"I18*E18","v":0},{"$f":"J18*E18","v":0},{"$f":"K18*E18","v":0},{"$f":"L18*E18","v":0},{"$f":"M18*E18","v":0},{"$f":"N18*E18","v":0},{"$f":"O18*E18","v":0},{"$f":"P18*E18","v":0},{"$f":"Q18*E18","v":0},{"$f":"SUM(C31:N31)","v":0}]
[]
[null,"Total",{"$f":"SUM(C27:C32)","v":0},0,0,0,0,0,0,0,0,0,0,0,0]

{"sheet":"SOLAR PV PHASE 5","index":29,"n_rows":33,"n_cols":18,"rows_kept":33,"cut":false,"hidden":true,"merged":[[24,1,25,1],[24,2,24,13],[24,14,25,14],[1,0,1,19],[11,1,12,1],[11,3,12,3],[11,4,12,4],[11,5,11,16],[11,17,12,17],[11,2,12,2],[19,1,19,4]]}
[]
["PHASE 5 INPUT DATA: TREATMENT AND RECYCLING"]
[]
[]
[]
[]
[]
[]
[]
[]
[]
[null,"Fuel","Describe","Unit","Emission Factor (tCO2eq/unit)","Fuel quantity",null,null,null,null,null,null,null,null,null,null,null,"Total"]
[null,null,null,null,null,"Jan","Feb","March","April","May","June","July","Aug","Sep","Oct","Nov","Dec"]
[null,null,null,null,null,null,null,null,null,null,null,null,null,null,null,null,null,{"$f":"SUM(F14:Q14)","v":0}]
[null,null,null,null,null,null,null,null,null,null,null,null,null,null,null,null,null,{"$f":"SUM(F15:Q15)","v":0}]
[null,null,null,null,null,null,null,null,null,null,null,null,null,null,null,null,null,{"$f":"SUM(F16:Q16)","v":0}]
[null,null,null,null,null,null,null,null,null,null,null,null,null,null,null,null,null,{"$f":"SUM(F17:Q17)","v":0}]
[null,null,null,null,null,null,null,null,null,null,null,null,null,null,null,null,null,{"$f":"SUM(F18:Q18)","v":0}]
[]
[null,"Total",null,null,null,{"$f":"SUM(F14:F19)","v":0},{"$f":"SUM(G14:G19)","v":0},0,0,0,0,0,0,0,0,0,0,0]
[]
[]
[]
[]
[null,"Fuel","Emissions from phase 1: Production and transportation of raw materials to produce products (tons CO2eq)",null,null,null,null,null,null,null,null,null,null,null,"Total"]
[null,null,"Jan","Feb","March","April","May","June","July","Aug","Sep","Oct","Nov","Dec"]
[null,{"$f":"IF(B14<>\"\",B14,\"\")","v":""},{"$f":"F14*E14","v":0},{"$f":"G14*E14","v":0},{"$f":"H14*E14","v":0},{"$f":"I14*E14","v":0},{"$f":"J14*E14","v":0},{"$f":"K14*E14","v":0},{"$f":"L14*E14","v":0},{"$f":"M14*E14","v":0},{"$f":"N14*E14","v":0},{"$f":"O14*E14","v":0},{"$f":"P14*E14","v":0},{"$f":"Q14*E14","v":0},{"$f":"SUM(C27:N27)","v":0}]
[null,{"$f":"IF(B15<>\"\",B15,\"\")","v":""},{"$f":"F15*E15","v":0},{"$f":"G15*E15","v":0},{"$f":"H15*E15","v":0},{"$f":"I15*E15","v":0},{"$f":"J15*E15","v":0},{"$f":"K15*E15","v":0},{"$f":"L15*E15","v":0},{"$f":"M15*E15","v":0},{"$f":"N15*E15","v":0},{"$f":"O15*E15","v":0},{"$f":"P15*E15","v":0},{"$f":"Q15*E15","v":0},{"$f":"SUM(C28:N28)","v":0}]
[null,{"$f":"IF(B16<>\"\",B16,\"\")","v":""},{"$f":"F16*E16","v":0},{"$f":"G16*E16","v":0},{"$f":"H16*E16","v":0},{"$f":"I16*E16","v":0},{"$f":"J16*E16","v":0},{"$f":"K16*E16","v":0},{"$f":"L16*E16","v":0},{"$f":"M16*E16","v":0},{"$f":"N16*E16","v":0},{"$f":"O16*E16","v":0},{"$f":"P16*E16","v":0},{"$f":"Q16*E16","v":0},{"$f":"SUM(C29:N29)","v":0}]
[null,{"$f":"IF(B17<>\"\",B17,\"\")","v":""},{"$f":"F17*E17","v":0},{"$f":"G17*E17","v":0},{"$f":"H17*E17","v":0},{"$f":"I17*E17","v":0},{"$f":"J17*E17","v":0},{"$f":"K17*E17","v":0},{"$f":"L17*E17","v":0},{"$f":"M17*E17","v":0},{"$f":"N17*E17","v":0},{"$f":"O17*E17","v":0},{"$f":"P17*E17","v":0},{"$f":"Q17*E17","v":0},{"$f":"SUM(C30:N30)","v":0}]
[null,{"$f":"IF(B18<>\"\",B18,\"\")","v":""},{"$f":"F18*E18","v":0},{"$f":"G18*E18","v":0},{"$f":"H18*E18","v":0},{"$f":"I18*E18","v":0},{"$f":"J18*E18","v":0},{"$f":"K18*E18","v":0},{"$f":"L18*E18","v":0},{"$f":"M18*E18","v":0},{"$f":"N18*E18","v":0},{"$f":"O18*E18","v":0},{"$f":"P18*E18","v":0},{"$f":"Q18*E18","v":0},{"$f":"SUM(C31:N31)","v":0}]
[]
[null,"Total",{"$f":"SUM(C27:C32)","v":0},0,0,0,0,0,0,0,0,0,0,0,0]

{"sheet":"SOLAR PV RESULT","index":30,"n_rows":68,"n_cols":15,"rows_kept":68,"cut":false,"hidden":true,"merged":[[21,14,22,14],[65,8,65,9],[66,8,66,9],[67,8,67,9],[59,8,59,9],[64,8,64,9],[60,8,60,9],[61,8,61,9],[62,8,62,9],[63,8,63,9],[21,2,21,13],[1,0,1,17],[43,0,43,1],[35,1,35,13],[26,12,26,14],[36,12,36,14],[2,1,2,13],[5,2,5,14],[7,2,7,14],[9,2,9,14],[11,2,11,14],[13,2,13,14],[15,2,15,14],[19,0,19,1],[19,2,19,4],[21,0,22,0],[21,1,22,1],[47,0,47,1],[37,0,37,1],[25,0,25,14],[27,0,27,1],[33,0,33,1],[45,0,46,1],[45,2,45,14]]}
[]
["         RESULTS OF CALCULATION OF PRODUCT'S CARBON FOOTPRINT"]
[null,"REPORT ON PRODUCT CARBON FOOTPRINT CALCULATION RESULTS"]
["A. General information"]
[]
[null,"Company name:",{"$f":"'SOLAR PV PRODUCTS'!C5:O5","v":0}]
[]
[null,"Sector:",{"$f":"'SOLAR PV PRODUCTS'!C7:O7","v":0}]
[]
[null,"Address:",{"$f":"'SOLAR PV PRODUCTS'!C9:O9","v":0}]
[]
[null,"Phone number:",{"$f":"'SOLAR PV PRODUCTS'!C11:O11","v":0}]
[]
[null,"Email:",{"$f":"'SOLAR PV PRODUCTS'!C13:O13","v":0}]
[]
[null,"Year:",{"$f":"'SOLAR PV PRODUCTS'!C15:O15","v":0}]
[]
["B. Carbon footprint calculation results"]
[]
["Product name",null,{"$f":"IF('SOLAR PV PRODUCTS'!E51<>\"\",'SOLAR PV PRODUCTS'!E51,\"\")","v":""}]
[]
["Product","Unit","Product output/revenue",null,null,null,null,null,null,null,null,null,null,null,"Total"]
[null,null,"Jan","Feb","March","April","May","June","July","Aug","Sep","Oct","Nov","Dec"]
[{"$f":"C20","v":""},{"$f":"IF(C20<>\"\",VLOOKUP(A24,'SOLAR PV PRODUCTS'!$A$27:$B$34,2,0),\"\")","v":""},{"$f":"IF($C$20<>\"\",VLOOKUP($C$20,'SOLAR PV PRODUCTS'!$A$25:$O$33,3,0),0)","v":0},{"$f":"IF($C$20<>\"\",VLOOKUP($C$20,'SOLAR PV PRODUCTS'!$A$25:$O$33,4,0),0)","v":0},{"$f":"IF($C$20<>\"\",VLOOKUP($C$20,'SOLAR PV PRODUCTS'!$A$25:$O$33,5,0),0)","v":0},{"$f":"IF($C$20<>\"\",VLOOKUP($C$20,'SOLAR PV PRODUCTS'!$A$25:$O$33,6,0),0)","v":0},{"$f":"IF($C$20<>\"\",VLOOKUP($C$20,'SOLAR PV PRODUCTS'!$A$25:$O$33,7,0),0)","v":0},{"$f":"IF($C$20<>\"\",VLOOKUP($C$20,'SOLAR PV PRODUCTS'!$A$25:$O$33,8,0),0)","v":0},{"$f":"IF($C$20<>\"\",VLOOKUP($C$20,'SOLAR PV PRODUCTS'!$A$25:$O$33,9,0),0)","v":0},{"$f":"IF($C$20<>\"\",VLOOKUP($C$20,'SOLAR PV PRODUCTS'!$A$25:$O$33,10,0),0)","v":0},{"$f":"IF($C$20<>\"\",VLOOKUP($C$20,'SOLAR PV PRODUCTS'!$A$25:$O$33,11,0),0)","v":0},{"$f":"IF($C$20<>\"\",VLOOKUP($C$20,'SOLAR PV PRODUCTS'!$A$25:$O$33,12,0),0)","v":0},{"$f":"IF($C$20<>\"\",VLOOKUP($C$20,'SOLAR PV PRODUCTS'!$A$25:$O$33,13,0),0)","v":0},{"$f":"IF($C$20<>\"\",VLOOKUP($C$20,'SOLAR PV PRODUCTS'!$A$25:$O$33,14,0),0)","v":0},{"$f":"SUM(C24:N24)","v":0}]
[]
["EMISSIONS OF PRODUCT LIFE CYCLE PHASES"]
[null,null,null,null,null,null,null,null,null,null,null,null,"Unit: tons CO2eq"]
["Stages in the product emissions life cycle",null,"Jan","Feb","March","April","May","June","July","Aug","Sep","Oct","Nov","Dec","Total "]
["Phase 1","Production and transportation of raw materials",{"$f":"'SOLAR PV PHASE 1'!C34","v":0},{"$f":"'SOLAR PV PHASE 1'!D34","v":0},{"$f":"'SOLAR PV PHASE 1'!E34","v":0},{"$f":"'SOLAR PV PHASE 1'!F34","v":0},{"$f":"'SOLAR PV PHASE 1'!G34","v":0},{"$f":"'SOLAR PV PHASE 1'!H34","v":0},{"$f":"'SOLAR PV PHASE 1'!I34","v":0},{"$f":"'SOLAR PV PHASE 1'!J34","v":0},{"$f":"'SOLAR PV PHASE 1'!K34","v":0},{"$f":"'SOLAR PV PHASE 1'!L34","v":0},{"$f":"'SOLAR PV PHASE 1'!M34","v":0},{"$f":"'SOLAR PV PHASE 1'!N34","v":0},{"$f":"SUM(C29:N29)","v":0}]
["Phase 2","Product manufacturing",{"$f":"'SOLAR PV PHASE 2'!G142+'SOLAR PV PHASE 2'!C124+'SOLAR PV PHASE 2'!C111+'SOLAR PV PHASE 2'!C103+'SOLAR PV PHASE 2'!G86+'SOLAR PV PHASE 2'!E64+'SOLAR PV PHASE 2'!H43+'SOLAR PV PHASE 2'!H24","v":0},{"$f":"'SOLAR PV PHASE 2'!H142+'SOLAR PV PHASE 2'!D124+'SOLAR PV PHASE 2'!D111+'SOLAR PV PHASE 2'!D103+'SOLAR PV PHASE 2'!H86+'SOLAR PV PHASE 2'!F64+'SOLAR PV PHASE 2'!I43+'SOLAR PV PHASE 2'!I24","v":0},{"$f":"'SOLAR PV PHASE 2'!I142+'SOLAR PV PHASE 2'!E124+'SOLAR PV PHASE 2'!E111+'SOLAR PV PHASE 2'!E103+'SOLAR PV PHASE 2'!I86+'SOLAR PV PHASE 2'!G64+'SOLAR PV PHASE 2'!J43+'SOLAR PV PHASE 2'!J24","v":0},{"$f":"'SOLAR PV PHASE 2'!J142+'SOLAR PV PHASE 2'!F124+'SOLAR PV PHASE 2'!F111+'SOLAR PV PHASE 2'!F103+'SOLAR PV PHASE 2'!J86+'SOLAR PV PHASE 2'!H64+'SOLAR PV PHASE 2'!K43+'SOLAR PV PHASE 2'!K24","v":0},{"$f":"'SOLAR PV PHASE 2'!K142+'SOLAR PV PHASE 2'!G124+'SOLAR PV PHASE 2'!G111+'SOLAR PV PHASE 2'!G103+'SOLAR PV PHASE 2'!K86+'SOLAR PV PHASE 2'!I64+'SOLAR PV PHASE 2'!L43+'SOLAR PV PHASE 2'!L24","v":0},{"$f":"'SOLAR PV PHASE 2'!L142+'SOLAR PV PHASE 2'!H124+'SOLAR PV PHASE 2'!H111+'SOLAR PV PHASE 2'!H103+'SOLAR PV PHASE 2'!L86+'SOLAR PV PHASE 2'!J64+'SOLAR PV PHASE 2'!M43+'SOLAR PV PHASE 2'!M24","v":0},{"$f":"'SOLAR PV PHASE 2'!M142+'SOLAR PV PHASE 2'!I124+'SOLAR PV PHASE 2'!I111+'SOLAR PV PHASE 2'!I103+'SOLAR PV PHASE 2'!M86+'SOLAR PV PHASE 2'!K64+'SOLAR PV PHASE 2'!N43+'SOLAR PV PHASE 2'!N24","v":0},{"$f":"'SOLAR PV PHASE 2'!N142+'SOLAR PV PHASE 2'!J124+'SOLAR PV PHASE 2'!J111+'SOLAR PV PHASE 2'!J103+'SOLAR PV PHASE 2'!N86+'SOLAR PV PHASE 2'!L64+'SOLAR PV PHASE 2'!O43+'SOLAR PV PHASE 2'!O24","v":0},{"$f":"'SOLAR PV PHASE 2'!O142+'SOLAR PV PHASE 2'!K124+'SOLAR PV PHASE 2'!K111+'SOLAR PV PHASE 2'!K103+'SOLAR PV PHASE 2'!O86+'SOLAR PV PHASE 2'!M64+'SOLAR PV PHASE 2'!P43+'SOLAR PV PHASE 2'!P24","v":0},{"$f":"'SOLAR PV PHASE 2'!P142+'SOLAR PV PHASE 2'!L124+'SOLAR PV PHASE 2'!L111+'SOLAR PV PHASE 2'!L103+'SOLAR PV PHASE 2'!P86+'SOLAR PV PHASE 2'!N64+'SOLAR PV PHASE 2'!Q43+'SOLAR PV PHASE 2'!Q24","v":0},{"$f":"'SOLAR PV PHASE 2'!Q142+'SOLAR PV PHASE 2'!M124+'SOLAR PV PHASE 2'!M111+'SOLAR PV PHASE 2'!M103+'SOLAR PV PHASE 2'!Q86+'SOLAR PV PHASE 2'!O64+'SOLAR PV PHASE 2'!R43+'SOLAR PV PHASE 2'!R24","v":0},{"$f":"'SOLAR PV PHASE 2'!R142+'SOLAR PV PHASE 2'!N124+'SOLAR PV PHASE 2'!N111+'SOLAR PV PHASE 2'!N103+'SOLAR PV PHASE 2'!R86+'SOLAR PV PHASE 2'!P64+'SOLAR PV PHASE 2'!S43+'SOLAR PV PHASE 2'!S24","v":0},{"$f":"SUM(C30:N30)","v":0}]
["Phase 3","Distribution and retail",{"$f":"'SOLAR PV PHASE 3'!G29","v":0},{"$f":"'SOLAR PV PHASE 3'!H29","v":0},{"$f":"'SOLAR PV PHASE 3'!I29","v":0},{"$f":"'SOLAR PV PHASE 3'!J29","v":0},{"$f":"'SOLAR PV PHASE 3'!K29","v":0},{"$f":"'SOLAR PV PHASE 3'!L29","v":0},{"$f":"'SOLAR PV PHASE 3'!M29","v":0},{"$f":"'SOLAR PV PHASE 3'!N29","v":0},{"$f":"'SOLAR PV PHASE 3'!O29","v":0},{"$f":"'SOLAR PV PHASE 3'!P29","v":0},{"$f":"'SOLAR PV PHASE 3'!Q29","v":0},{"$f":"'SOLAR PV PHASE 3'!R29","v":0},{"$f":"SUM(C31:N31)","v":0}]
["Phase 4","Using product",{"$f":"'SOLAR PV PHASE 4'!C33","v":0},{"$f":"'SOLAR PV PHASE 4'!D33","v":0},{"$f":"'SOLAR PV PHASE 4'!E33","v":0},{"$f":"'SOLAR PV PHASE 4'!F33","v":0},{"$f":"'SOLAR PV PHASE 4'!G33","v":0},{"$f":"'SOLAR PV PHASE 4'!H33","v":0},{"$f":"'SOLAR PV PHASE 4'!I33","v":0},{"$f":"'SOLAR PV PHASE 4'!J33","v":0},{"$f":"'SOLAR PV PHASE 4'!K33","v":0},{"$f":"'SOLAR PV PHASE 4'!L33","v":0},{"$f":"'SOLAR PV PHASE 4'!M33","v":0},{"$f":"'SOLAR PV PHASE 4'!N33","v":0},{"$f":"SUM(C32:N32)","v":0}]
["Phase 5","Processing and Recyling",{"$f":"'SOLAR PV PHASE 5'!C33","v":0},{"$f":"'SOLAR PV PHASE 5'!D33","v":0},{"$f":"'SOLAR PV PHASE 5'!E33","v":0},{"$f":"'SOLAR PV PHASE 5'!F33","v":0},{"$f":"'SOLAR PV PHASE 5'!G33","v":0},{"$f":"'SOLAR PV PHASE 5'!H33","v":0},{"$f":"'SOLAR PV PHASE 5'!I33","v":0},{"$f":"'SOLAR PV PHASE 5'!J33","v":0},{"$f":"'SOLAR PV PHASE 5'!K33","v":0},{"$f":"'SOLAR PV PHASE 5'!L33","v":0},{"$f":"'SOLAR PV PHASE 5'!M33","v":0},{"$f":"'SOLAR PV PHASE 5'!N33","v":0},{"$f":"SUM(C33:N33)","v":0}]
["Total (Tons CO2eq)",null,{"$f":"SUM(C29:C33)","v":0},{"$f":"SUM(D29:D33)","v":0},0,{"$f":"SUM(F29:F33)","v":0},0,0,0,0,0,0,0,0,{"$f":"SUM(O29:O33)","v":0}]
[]
[null,"EMISSIONS STRUCTURE BY PRODUCT LIFE CYCLE PHASES"]
[null,null,null,null,null,null,null,null,null,null,null,null,"Unit: %"]
["Stages in the product emissions life cycle",null,"Jan","Feb","March","April","May","June","July","Aug","Sep","Oct","Nov","Dec","Total"]
["Phase 1","Production and transportation of raw materials",{"$f":"IF($C$34<>0,C29/$C$34,0)","v":0},{"$f":"IF($D$34<>0,D29/$D$34,0)","v":0},{"$f":"IF($E$34<>0,E29/$E$34,0)","v":0},{"$f":"IF($F$34<>0,F29/$F$34,0)","v":0},{"$f":"IF($G$34<>0,G29/$G$34,0)","v":0},{"$f":"IF($H$34<>0,H29/$H$34,0)","v":0},{"$f":"IF($I$34<>0,I29/$I$34,0)","v":0},{"$f":"IF($J$34<>0,J29/$J$34,0)","v":0},{"$f":"IF($K$34<>0,K29/$K$34,0)","v":0},{"$f":"IF($L$34<>0,L29/$L$34,0)","v":0},{"$f":"IF($M$34<>0,M29/$M$34,0)","v":0},{"$f":"IF($N$34<>0,N29/$N$34,0)","v":0},{"$f":"IF($O$34<>0,O29/$O$34,0)","v":0}]
["Phase 2","Product manufacturing",{"$f":"IF($C$34<>0,C30/$C$34,0)","v":0},{"$f":"IF($D$34<>0,D30/$D$34,0)","v":0},{"$f":"IF($E$34<>0,E30/$E$34,0)","v":0},{"$f":"IF($F$34<>0,F30/$F$34,0)","v":0},{"$f":"IF($G$34<>0,G30/$G$34,0)","v":0},{"$f":"IF($H$34<>0,H30/$H$34,0)","v":0},{"$f":"IF($I$34<>0,I30/$I$34,0)","v":0},{"$f":"IF($J$34<>0,J30/$J$34,0)","v":0},{"$f":"IF($K$34<>0,K30/$K$34,0)","v":0},{"$f":"IF($L$34<>0,L30/$L$34,0)","v":0},{"$f":"IF($M$34<>0,M30/$M$34,0)","v":0},{"$f":"IF($N$34<>0,N30/$N$34,0)","v":0},{"$f":"IF($O$34<>0,O30/$O$34,0)","v":0}]
["Phase 3","Distribution and retail",{"$f":"IF($C$34<>0,C31/$C$34,0)","v":0},{"$f":"IF($D$34<>0,D31/$D$34,0)","v":0},{"$f":"IF($E$34<>0,E31/$E$34,0)","v":0},{"$f":"IF($F$34<>0,F31/$F$34,0)","v":0},{"$f":"IF($G$34<>0,G31/$G$34,0)","v":0},{"$f":"IF($H$34<>0,H31/$H$34,0)","v":0},{"$f":"IF($I$34<>0,I31/$I$34,0)","v":0},{"$f":"IF($J$34<>0,J31/$J$34,0)","v":0},{"$f":"IF($K$34<>0,K31/$K$34,0)","v":0},{"$f":"IF($L$34<>0,L31/$L$34,0)","v":0},{"$f":"IF($M$34<>0,M31/$M$34,0)","v":0},{"$f":"IF($N$34<>0,N31/$N$34,0)","v":0},{"$f":"IF($O$34<>0,O31/$O$34,0)","v":0}]
["Phase 4","Using product",{"$f":"IF($C$34<>0,C32/$C$34,0)","v":0},{"$f":"IF($D$34<>0,D32/$D$34,0)","v":0},{"$f":"IF($E$34<>0,E32/$E$34,0)","v":0},{"$f":"IF($F$34<>0,F32/$F$34,0)","v":0},{"$f":"IF($G$34<>0,G32/$G$34,0)","v":0},{"$f":"IF($H$34<>0,H32/$H$34,0)","v":0},{"$f":"IF($I$34<>0,I32/$I$34,0)","v":0},{"$f":"IF($J$34<>0,J32/$J$34,0)","v":0},{"$f":"IF($K$34<>0,K32/$K$34,0)","v":0},{"$f":"IF($L$34<>0,L32/$L$34,0)","v":0},{"$f":"IF($M$34<>0,M32/$M$34,0)","v":0},{"$f":"IF($N$34<>0,N32/$N$34,0)","v":0},{"$f":"IF($O$34<>0,O32/$O$34,0)","v":0}]
["Phase 5","Processing and Recyling",{"$f":"IF($C$34<>0,C33/$C$34,0)","v":0},{"$f":"IF($D$34<>0,D33/$D$34,0)","v":0},{"$f":"IF($E$34<>0,E33/$E$34,0)","v":0},{"$f":"IF($F$34<>0,F33/$F$34,0)","v":0},{"$f":"IF($G$34<>0,G33/$G$34,0)","v":0},{"$f":"IF($H$34<>0,H33/$H$34,0)","v":0},{"$f":"IF($I$34<>0,I33/$I$34,0)","v":0},{"$f":"IF($J$34<>0,J33/$J$34,0)","v":0},{"$f":"IF($K$34<>0,K33/$K$34,0)","v":0},{"$f":"IF($L$34<>0,L33/$L$34,0)","v":0},{"$f":"IF($M$34<>0,M33/$M$34,0)","v":0},{"$f":"IF($N$34<>0,N33/$N$34,0)","v":0},{"$f":"IF($O$34<>0,O33/$O$34,0)","v":0}]
["Total (Tons CO2eq)",null,{"$f":"SUM(C39:C43)","v":0},0,0,0,0,0,0,0,0,0,0,0,0]
[]
[{"$f":" \"kgCO2eq/\" & B24","v":"kgCO2eq/"},null,"EMISSIONS INTENSITY"]
[null,null,"Jan","Feb","March","April","May","June","July","Aug","Sep","Oct","Nov","Dec","Average annual emission intensity"]
["Product emission intensity",null,{"$f":"IF(C24<>0,C34/C24,0)","v":0},{"$f":"IF(D24<>0,D34/D24,0)","v":0},0,0,0,0,0,0,0,0,0,0,{"$f":"IF(O24<>0,O34/O24,0)","v":0}]
[]
[]
[]
[]
[]
[]
[]
[]
[]
[]
[null,null,null,null,null,null,null,null,null,null,"GJ"]
[null,null,null,null,null,null,null,null,{"$f":"IF(AND('SOLAR PV PHASE 2'!A13<>\"\",'SOLAR PV PHASE 2'!B13<>\"\"),'SOLAR PV PHASE 2'!A13,\"\")","v":""},null,{"$f":"IF(I60<>\"\",'SOLAR PV PHASE 2'!T13*'SOLAR PV PHASE 2'!C13,\"\")","v":""}]
[null,null,null,null,null,null,null,null,{"$f":"IF(AND('SOLAR PV PHASE 2'!A14<>\"\",'SOLAR PV PHASE 2'!B14<>\"\"),'SOLAR PV PHASE 2'!A14,\"\")","v":""},null,{"$f":"IF(I61<>\"\",'SOLAR PV PHASE 2'!T14*'SOLAR PV PHASE 2'!C14,\"\")","v":""}]
[null,null,null,null,null,null,null,null,{"$f":"IF(AND('SOLAR PV PHASE 2'!A15<>\"\",'SOLAR PV PHASE 2'!B15<>\"\"),'SOLAR PV PHASE 2'!A15,\"\")","v":""},null,{"$f":"IF(I62<>\"\",'SOLAR PV PHASE 2'!T15*'SOLAR PV PHASE 2'!C15,\"\")","v":""}]
[null,null,null,null,null,null,null,null,{"$f":"IF(AND('SOLAR PV PHASE 2'!A16<>\"\",'SOLAR PV PHASE 2'!B16<>\"\"),'SOLAR PV PHASE 2'!A16,\"\")","v":""},null,{"$f":"IF(I63<>\"\",'SOLAR PV PHASE 2'!T16*'SOLAR PV PHASE 2'!C16,\"\")","v":""}]
[null,null,null,null,null,null,null,null,{"$f":"IF(AND('SOLAR PV PHASE 2'!A17<>\"\",'SOLAR PV PHASE 2'!B17<>\"\"),'SOLAR PV PHASE 2'!A17,\"\")","v":""},null,{"$f":"IF(I64<>\"\",'SOLAR PV PHASE 2'!T17*'SOLAR PV PHASE 2'!C17,\"\")","v":""}]
[null,null,null,null,null,null,null,null,{"$f":"IF(AND('SOLAR PV PHASE 2'!A18<>\"\",'SOLAR PV PHASE 2'!B18<>\"\"),'SOLAR PV PHASE 2'!A18,\"\")","v":""},null,{"$f":"IF(I65<>\"\",'SOLAR PV PHASE 2'!T18*'SOLAR PV PHASE 2'!C18,\"\")","v":""}]
[null,null,null,null,null,null,null,null,{"$f":"IF(AND('SOLAR PV PHASE 2'!A19<>\"\",'SOLAR PV PHASE 2'!B19<>\"\"),'SOLAR PV PHASE 2'!A19,\"\")","v":""},null,{"$f":"IF(I66<>\"\",'SOLAR PV PHASE 2'!T19*'SOLAR PV PHASE 2'!C19,\"\")","v":""}]
[null,null,null,null,null,null,null,null,{"$f":"IF(AND('SOLAR PV PHASE 2'!A20<>\"\",'SOLAR PV PHASE 2'!B20<>\"\"),'SOLAR PV PHASE 2'!A20,\"\")","v":""},null,{"$f":"IF(I67<>\"\",'SOLAR PV PHASE 2'!T20*'SOLAR PV PHASE 2'!C20,\"\")","v":""}]
[null,null,null,null,null,null,null,null,{"$f":"IF(AND('SOLAR PV PHASE 2'!A21<>\"\",'SOLAR PV PHASE 2'!B21<>\"\"),'SOLAR PV PHASE 2'!A21,\"\")","v":""},null,{"$f":"IF(I68<>\"\",'SOLAR PV PHASE 2'!T21*'SOLAR PV PHASE 2'!C21,\"\")","v":""}]

{"sheet":"EF","index":31,"n_rows":276,"n_cols":18,"rows_kept":276,"cut":false,"hidden":true,"merged":[[75,1,76,1],[75,2,75,3],[76,2,76,3],[0,5,0,7],[0,10,0,12],[61,0,62,0],[61,1,62,1],[61,2,61,4],[61,5,61,7],[0,0,1,0],[0,1,1,1],[0,2,0,4]]}
["FuelID","IPCC Fuel ","ENERGY INDUSTRIES (kg/GJ) ",null,null,"MANUFACTURING INDUSTRIES AND CONSTRUCTION (kg/GJ) ",null,null,null,null,"Bảng 1: Tiềm năng ấm lên toàn cầu"]
[null,null,"CO2","CH4","N2O",null,null,null,null,null,"Tên gọi chung","Công thức hóa học","GWP*"]
[null,null,null,null,null,"CO2"," CH4"," N2O ",{"$f":"COUNTA(B4:B55)","v":51},null,"Các bon đi-ô-xít","CO2 ",1]
[1,"Crude Oil ","73.3","0.003","0.0006",73.3,3.0000000000000001E-3,5.9999999999999995E-4,null,null,"Mê tan","CH4 ",27.9]
[2,"Orimulsion","70","0.003","0.0006",77,3.0000000000000001E-3,5.9999999999999995E-4,null,null,"Nitơ ô xít","N2O ",273]
[3,"Natural Gas Liquids ",64.2,3.0000000000000001E-3,5.9999999999999995E-4,64,3.0000000000000001E-3,5.9999999999999995E-4,null,null,"Lưu huỳnh hexafluoride","SF6 ",25200]
[4,"Motor Gasoline ",69.3,3.0000000000000001E-3,5.9999999999999995E-4,69.3,3.0000000000000001E-3,5.9999999999999995E-4,null,null,"Nitơ trichloride","NF3 ",17400]
[5,"Aviation Gasoline ",69.3,3.0000000000000001E-3,5.9999999999999995E-4,69.3,3.0000000000000001E-3,5.9999999999999995E-4,null,{"$f":"COUNTA(K8:K16)","v":9},"HFC-23 (R-23)","CHF3 ",14600]
[6,"Jet Gasoline",69.3,3.0000000000000001E-3,5.9999999999999995E-4,69.3,3.0000000000000001E-3,5.9999999999999995E-4,null,null,"HFC-32 (R-32)","CH2F2 ",771]
[7,"Jet Kerosene",71.599999999999994,3.0000000000000001E-3,5.9999999999999995E-4,71.599999999999994,3.0000000000000001E-3,5.9999999999999995E-4,null,null,"HFC-134a (R-134a)","C2H2F4 ",1530]
[8,"Other Kerosene ",71.900000000000006,3.0000000000000001E-3,5.9999999999999995E-4,71.900000000000006,3.0000000000000001E-3,5.9999999999999995E-4,null,null,"HFC-227ea (R-227ea)","C3HF7 ",3600]
[9,"Shale Oil ",73.3,3.0000000000000001E-3,5.9999999999999995E-4,73.3,3.0000000000000001E-3,5.9999999999999995E-4,null,null,"HCFC-22 (R-22)","CHClF2",1960]
[10,"Gas/Diesel Oil ",74.099999999999994,3.0000000000000001E-3,5.9999999999999995E-4,74.099999999999994,3.0000000000000001E-3,5.9999999999999995E-4,null,null,"HCFC-123 (R-123)","C2HCl2F3",90.4]
[11,"Residual Fuel Oil ",77.400000000000006,3.0000000000000001E-3,5.9999999999999995E-4,77.400000000000006,3.0000000000000001E-3,5.9999999999999995E-4,null,null,"R-410A","R-32/R-125 (50/50)",2087.5]
[12,"Liquefied Petroleum Gases ",63.1,1E-3,1E-4,63.1,1E-3,1E-4,null,null,"R-404A","R-125/R-143a/R-134a (44/52/4)",3921.6]
[13,"Ethane ",61.6,1E-3,1E-4,61.6,1E-3,1E-4,null,null,"R-407C","R-32/R-125/R-134a (23/25/52)",1773.85]
[14,"Naphtha ",73.3,3.0000000000000001E-3,5.9999999999999995E-4,73.3,3.0000000000000001E-3,5.9999999999999995E-4,null,null,"Nguồn: AR6, IPCC"]
[15,"Bitumen ",80.7,3.0000000000000001E-3,5.9999999999999995E-4,80.7,3.0000000000000001E-3,5.9999999999999995E-4,null,null,"https://www.ipcc.ch/report/ar6/wg1/downloads/report/IPCC_AR6_WGI_Chapter_07_Supplementary_Material.pdf"]
[16,"Lubricants ",73.3,3.0000000000000001E-3,5.9999999999999995E-4,73.3,3.0000000000000001E-3,5.9999999999999995E-4]
[17,"Petroleum Coke",97.5,3.0000000000000001E-3,5.9999999999999995E-4,97.5,3.0000000000000001E-3,5.9999999999999995E-4,null,null,"Bảng 2: MCF của hệ thống xử lý nước thải"]
[18,"Refinery Feedstocks ",73.3,3.0000000000000001E-3,5.9999999999999995E-4,73.3,3.0000000000000001E-3,5.9999999999999995E-4,null,null,"Các biện pháp xử lý","Miêu tả","MCFj",null,"Công suất sản sinh khí mê-tan tối đa",0.25,"(kg CH4/kg COD)"]
[19,"Refinery Gas ",51.3,1E-3,1E-4,51.3,1E-3,1E-4,null,{"$f":"COUNTA(K22:K28)","v":7},"Untreated wastewater - discharged into seas, rivers and lakes",null,1]
[20,"Paraffin Waxes ",73.3,3.0000000000000001E-3,5.9999999999999995E-4,73.3,3.0000000000000001E-3,5.9999999999999995E-4,null,null,"Aerobic treatment plant - Good management",null,0.1,null,"Bùn được loại bỏ",0,"kg COD/năm"]
[21,"White Spirit and SBP ",73.3,3.0000000000000001E-3,5.9999999999999995E-4,73.3,3.0000000000000001E-3,5.9999999999999995E-4,null,null,"Aerobic treatment plant - Overload",null,0.3]
[22,"Other Petroleum Products ",73.3,3.0000000000000001E-3,5.9999999999999995E-4,73.3,3.0000000000000001E-3,5.9999999999999995E-4,null,null,"Anaerobic tank for sludge treatment","Không xem xét việc thu hồi CH4",0.8]
[23,"Anthracite",98.3,1E-3,1.5E-3,98.3,1E-3,1.5E-3,null,null,"Anaerobic tank (e.g., UASB, Fixed Adhesion Anaerobic Tank)","Không xem xét việc thu hồi CH4",0.8]
[24,"Coking Coal",94.6,1E-3,1.5E-3,94.6,1E-3,1.5E-3,null,null,"Shallow anaerobic lakes","Độ sâu <2m",0.2]
[25,"Other Bituminous Coal",94.6,1E-3,1.5E-3,94.6,1E-3,1.5E-3,null,null,"Deep anaerobic lake","Độ sâu >2m",0.8]
[26,"Sub-Bituminous Coal",96.1,1E-3,1.5E-3,96.1,1E-3,1.5E-3]
[27,"Lignite",101,1E-3,1.5E-3,101,1E-3,1.5E-3,null,null,"Nguồn: IPCC2006, Tập 5, Chương 6, Bảng 6.8"]
[28,"Oil Shale and Tar Sands ",107,1E-3,1.5E-3,107,1E-3,1.5E-3]
[29,"Brown Coal Briquettes ",97.5,1E-3,1.5E-3,97.5,1E-3,1.5E-3]
[30,"Patent Fuel",97.5,1E-3,1.5E-3,97.5,0.01,1.5E-3,null,null,"Hệ số phát thải lưới điện","tCO2/MWh"]
[31,"Coke Oven Coke and Lignite Coke",107,1E-3,1.5E-3,107,0.01,1.5E-3,null,null,"Năm",2017,2018,2019,2020,2021,2022]
[32,"Gas Coke",107,1E-3,1E-4,107,1E-3,1E-4,null,null,"Hệ số phát thải lưới điện",0.8649,0.91300000000000003,0.8458,0.80410000000000004,0.72209999999999996,0.67659999999999998]
[33,"Coal Tar ",80.7,1E-3,1.5E-3,80.7,1E-3,1.5E-3]
[34,"Gas Works Gas ",44.7,1E-3,1E-4,44.7,1E-3,1E-4]
[35,"Coke Oven Gas ",44.7,1E-3,1E-4,44.7,1E-3,1E-4]
[36,"Blast Furnace Gas ",260,1E-3,1E-4,260,1E-3,1E-4]
[37,"Oxygen Steel Furnace Gas ",172,1E-3,1E-4,172,1E-3,1E-4]
[38,"Natural Gas ",56.1,1E-3,1E-4,56.1,1E-3,1E-4]
[39,"Municipal Wastes (non-biomass fraction) ",91.7,0.03,4.0000000000000001E-3,91.7,0.03,4.0000000000000001E-3]
[40,"Industrial Wastes",143,0.03,4.0000000000000001E-3,143,0.03,4.0000000000000001E-3]
[41,"Waste Oils ",73.3,0.03,4.0000000000000001E-3,73.3,0.03,4.0000000000000001E-3]
[42,"Peat ",106,1E-3,1.5E-3,106,1E-3,1.5E-3]
[43,"Wood / Wood Waste ",112,0.03,4.0000000000000001E-3,112,0.03,4.0000000000000001E-3]
[44,"Sulphite lyes (Black Liquor) ",95.3,3.0000000000000001E-3,2E-3,95.3,3.0000000000000001E-3,2E-3]
[45,"Other Primary Solid Biomass ",100,0.03,4.0000000000000001E-3,100,0.03,4.0000000000000001E-3]
[46,"Charcoal ",112,0.03,4.0000000000000001E-3,112,0.03,4.0000000000000001E-3]
[47,"Biogasoline",70.8,3.0000000000000001E-3,5.9999999999999995E-4,70.8,3.0000000000000001E-3,5.9999999999999995E-4]
[48,"Biodiesels  ",70.8,3.0000000000000001E-3,5.9999999999999995E-4,70.8,3.0000000000000001E-3,5.9999999999999995E-4]
[49,"Other Liquid Biofuels ",79.599999999999994,3.0000000000000001E-3,5.9999999999999995E-4,79.599999999999994,3.0000000000000001E-3,5.9999999999999995E-4]
[50,"Landfill Gas ",54.6,1E-3,1E-4,54.6,1E-3,1E-4]
[51,"Sludge Gas ",54.6,1E-3,1E-4,54.6,1E-3,1E-4]
[]
[]
[]
[]
[]
[]
[null,"Giao thông vận tải"]
["FuelID","IPCC Fuel ","ENERGY INDUSTRIES (kg/GJ) ",null,null,"MANUFACTURING INDUSTRIES AND CONSTRUCTION (kg/GJ) "]
[null,null,"CO2","CH4","N2O"]
[null,null,"Mặc định","Mặc định","Mặc định","CO2"," CH4"," N2O ",{"$f":"COUNTA(B65:B74)","v":8}]
[1,"Biogasoline",70.8,3.0000000000000001E-3,5.9999999999999995E-4,70.8,3.0000000000000001E-3,5.9999999999999995E-4]
[2,"Biodiesels  ",70.8,3.0000000000000001E-3,5.9999999999999995E-4,70.8,3.0000000000000001E-3,5.9999999999999995E-4]
[3,"Motor Gasoline ",69.3,3.0000000000000001E-3,5.9999999999999995E-4,69.3,3.0000000000000001E-3,5.9999999999999995E-4]
[4,"Aviation Gasoline ",69.3,3.0000000000000001E-3,5.9999999999999995E-4,69.3,3.0000000000000001E-3,5.9999999999999995E-4]
[5,"Jet Gasoline",69.3,3.0000000000000001E-3,5.9999999999999995E-4,69.3,3.0000000000000001E-3,5.9999999999999995E-4]
[6,"Jet Kerosene",71.599999999999994,3.0000000000000001E-3,5.9999999999999995E-4,71.599999999999994,3.0000000000000001E-3,5.9999999999999995E-4]
[7,"Other Kerosene ",71.900000000000006,3.0000000000000001E-3,5.9999999999999995E-4,71.900000000000006,3.0000000000000001E-3,5.9999999999999995E-4]
[8,"Gas/Diesel Oil ",74.099999999999994,3.0000000000000001E-3,5.9999999999999995E-4,74.099999999999994,3.0000000000000001E-3,5.9999999999999995E-4]
[]
[]
[]
["Tuyệt đối","Mật độ (hơi nước)","Entanpi riêng của hơi nước"]
["Áp suất",null,"(Tổng nhiệt)"]
["(bar)","(kg/m3)","(kJ/kg)","(kcal/kg)"]
[0.02,1.492403665343402E-2,2533.64,605.15,{"$f":"COUNTA(A79:A146)","v":67}]
[0.03,2.1897650382113998E-2,2545.64,608.02]
[0.04,2.8733980805700821E-2,2554.5100000000002,610.13,"tấn"]
[0.05,3.5468539405547284E-2,2561.59,611.83000000000004,"m3"]
[0.06,4.212122488521966E-2,2567.5100000000002,613.24]
[7.0000000000000007E-2,4.8706833568749698E-2,2572.62,614.46]
[0.08,5.5233360950013806E-2,2577.11,615.53]
[0.09,6.1713157245124661E-2,2581.14,616.49]
[0.1,6.8143100511073251E-2,2584.7800000000002,617.36]
[0.2,0.13071895424836602,2609.86,623.35]
[0.3,0.19124115509657677,2625.43,627.07000000000005]
[0.4,0.25043826696719257,2636.88,629.80999999999995]
[0.5,0.30864197530864196,2645.99,631.98]
[0.6,0.3660322108345534,2653.57,633.79]
[0.7,0.42283298097251582,2660.07,635.35]
[0.8,0.47915668423574503,2665.77,636.71]
[0.9,0.53504547886570364,2670.85,637.91999999999996]
[1,0.59031877213695394,2675.43,639.02]
[1.1000000000000001,0.64557779212395094,2679.61,640.01]
[1.2,0.70028011204481799,2683.44,640.92999999999995]
[1.3,0.75471698113207553,2686.98,641.77]
[1.4,0.80906148867313921,2690.28,642.55999999999995]
[1.5,0.86281276962899045,2693.36,643.29999999999995]
[1.6,0.91659028414298815,2696.25,643.99]
[1.7,0.96993210475266745,2698.97,644.64]
[1.8,1.0235414534288638,2701.54,645.25]
[1.9,1.0764262648008611,2703.98,645.83000000000004]
[2,1.1299435028248588,2706.29,646.39]
[2.2000000000000002,1.2345679012345678,2710.6,647.41999999999996]
[2.4,1.3404825737265416,2714.55,648.36]
[2.6,1.4430014430014431,2718.17,649.22]
[2.8,1.5479876160990711,2721.54,650.03]
[3,1.6501650165016502,2724.66,650.77]
[3.5,1.9083969465648853,2731.63,652.44000000000005]
[4,2.1645021645021645,2737.63,653.87]
[4.5,2.4154589371980677,2742.88,655.13]
[5,2.6666666666666665,2747.54,656.24]
[5.5,2.9239766081871341,2751.7,657.23]
[6,3.1746031746031744,2755.46,658.13]
[6.5,3.4246575342465757,2758.87,658.94]
[7,3.6630036630036629,2761.98,659.69]
[7.5,3.9215686274509802,2764.84,660.37]
[8,4.166666666666667,2767.46,661]
[8.5,4.4052863436123344,2769.89,661.58]
[9,4.6511627906976747,2772.13,662.11]
[9.5,4.9019607843137258,2774.22,662.61]
[10,5.1546391752577314,2776.16,663.07]
[11,5.6497175141242941,2779.66,663.91]
[12,6.1349693251533743,2782.73,664.64]
[13,6.6225165562913908,2785.42,665.29]
[14,7.0921985815602842,2787.79,665.85]
[15,7.5757575757575752,2789.88,666.35]
[16,8.064516129032258,2791.73,666.79]
[17,8.5470085470085468,2793.37,667.18]
[18,9.0909090909090917,2794.81,667.53]
[19,9.5238095238095237,2796.09,667.83]
[20,10,2797.21,668.1]
[21,10.526315789473685,2798.18,668.33]
[22,10.989010989010989,2799.03,668.54]
[23,11.494252873563219,2799.77,668.71]
[24,12.048192771084336,2800.39,668.86]
[25,12.5,2800.91,668.99]
[26,12.987012987012987,2801.35,669.09]
[27,13.513513513513514,2801.69,669.17]
[28,14.084507042253522,2801.96,669.24]
[29,14.492753623188404,2802.15,669.28]
[30,14.925373134328357,2802.27,669.31]
[]
["Quá trình CN","Đơn vị","EFCO2 (kgCO2/tấn(m3))","EFCH4 (kgCH4/tấn(m3))","EFN2O (kgN2O/tấn(m3))"]
["Nitric acid production process","ton",0,0,"8"]
["The ammonia production process uses partial oxidation technology","ton",3272.5,0,0]
["Ammonia production process using reforming – natural gas","ton",{"$f":"37.5*15.3*1*44/22","v":1147.5},0,0]
["Adipic acid production process","ton","0","0","300"]
["Production process of caprolactam","ton",0,0,9]
["Glyoxal production process","ton",0,0,520]
["Glyoxylic acid production process","ton",0,0,100]
["Production of Silicon Carbide SiC","ton",2620,11.6,0]
["Production of Calcium carbide CaC","ton",1100,0,0]
["Synthetic rutile production","ton",1430,0,0]
["Production of Rutile titanium dioxide (chloride route)","ton",1340,0,0]
["Production of soda ash","ton",138,0,0]
["Natural combustion from oil production","m3",40.5,2.5000000000000001E-2,6.4000000000000005E-4]
["Leaks from oil production","m3",2.15,10.35,40.5]
["Dispersion in oil production","m3",2.4900000000000002,19.600000000000001,0]
["Leaks in gas treatment","m3",6.7500000000000004E-2,0,0]
["Natural combustion in gas processing","m3",3.5500000000000002E-3,2.3999999999999999E-6,{"$f":"3.9*10^-8","v":3.8999999999999998E-8}]
["Natural combustion in gas production","m3",1.4E-3,8.8000000000000004E-7,{"$f":"2.5*10^-8","v":2.4999999999999999E-8}]
["Dispersion in gas production","m3","0.000097","0.01219","0"]
["Dispersion in gas processing","m3",2.5000000000000001E-4,7.9000000000000001E-4,0]
[]
[]
["Loại xe",null,null,"EFCO2 (kg CO2/tấn.km)","EFCH4 (kgCH4/tấn.km)","EFN2O (kgN2O/tấn.km)"]
[{"$f":"B171&C171","v":"Vans Dieselup to 1.305 tonnes"},"Vans Diesel","up to 1.305 tonnes","0.81485","0.80449","0.00002"]
[{"$f":"B172&C172","v":"Vans Diesel1.305 to 1.74 tonnes"},"Vans Diesel","1.305 to 1.74 tonnes",0.62919999999999998,0.62278999999999995,1.0000000000000001E-5]
["Vans Diesel1.74 to 3.5 tonnes","Vans Diesel","1.74 to 3.5 tonnes",0.59231999999999996,0.58814999999999995,1.0000000000000001E-5]
["Vans DieselAverage (up to 3.5 tonnes)","Vans Diesel","Average (up to 3.5 tonnes)",0.60260999999999998,0.59794999999999998,1.0000000000000001E-5]
["Vans Petrolup to 1.305 tonnes","Vans Petrol","up to 1.305 tonnes","1.07383","1.06991","0.00128"]
["Vans Petrol1.305 to 1.74 tonnes","Vans Petrol","1.305 to 1.74 tonnes","0.71792","0.00087","0.00179"]
["Vans Petrol1.74 to 3.5 tonnes","Vans Petrol","1.74 to 3.5 tonnes",0.77388000000000001,5.9000000000000003E-4,1.2199999999999999E-3]
["Vans PetrolAverage (up to 3.5 tonnes)","Vans Petrol","Average (up to 3.5 tonnes)",0.71665000000000001,8.0999999999999996E-4,1.6800000000000001E-3]
["HGV Rigid>3.5 - 7.5 tonnes","HGV Rigid",">3.5 - 7.5 tonnes",0.48058000000000001,1E-4,6.0499999999999998E-3]
["HGV Rigid>7.5 tonnes-17 tonnes","HGV Rigid",">7.5 tonnes-17 tonnes",0.33572000000000002,6.9999999999999994E-5,4.2199999999999998E-3]
["HGV Rigid>17 tonnes","HGV Rigid",">17 tonnes",0.17913000000000001,4.0000000000000003E-5,2.2599999999999999E-3]
["HGV RigidAll rigids","HGV Rigid","All rigids",0.20516999999999999,4.0000000000000003E-5,2.5799999999999998E-3]
["HGV Articulated>3.5-33 tones","HGV Articulated",">3.5-33 tones","0.12401","0.00002","0.00223"]
["HGV Articulated >33 tones","HGV Articulated"," >33 tones",7.8750000000000001E-2,1.0000000000000001E-5,1.41E-3]
["HGV ArticulatedAll HGVs","HGV Articulated","All HGVs",0.10580000000000001,2.0000000000000002E-5,1.67E-3]
["HGV refrigerated Rigid3.5-7.5 tones","HGV refrigerated Rigid","3.5-7.5 tones",0.57330000000000003,1E-4,6.0499999999999998E-3,null,{"$f":"COUNTA(A171:A245)","v":73}]
["HGV refrigerated Rigid7.5-17 tones","HGV refrigerated Rigid","7.5-17 tones",0.40049000000000001,6.9999999999999994E-5,4.2199999999999998E-3]
["HGV refrigerated Rigid>17 tones","HGV refrigerated Rigid",">17 tones",0.21368999999999999,4.0000000000000003E-5,2.2599999999999999E-3]
["HGV refrigerated RigidAll rigids","HGV refrigerated Rigid","All rigids",0.24476000000000001,4.0000000000000003E-5,2.5799999999999998E-3]
["HGV refrigerated Articulated>3.5-33 tones","HGV refrigerated Articulated",">3.5-33 tones",0.14377000000000001,2.0000000000000002E-5,2.2300000000000002E-3]
["HGV refrigerated Articulated >33 tones","HGV refrigerated Articulated"," >33 tones",9.1289999999999996E-2,1.0000000000000001E-5,1.41E-3]
["HGV refrigerated ArticulatedAll HGVs","HGV refrigerated Articulated","All HGVs",0.12418999999999999,2.0000000000000002E-5,1.67E-3]
["RailFreight train","Rail","Freight train",2.7490000000000001E-2,2.0000000000000002E-5,3.1E-4]
["Crude tanker200,000+ dwt","Crude tanker","200,000+ dwt",2.8999999999999998E-3,9.9999999999999995E-7,3.8999999999999999E-5]
["Crude tanker120,000–199,999 dwt","Crude tanker","120,000–199,999 dwt",4.4000000000000003E-3,9.9999999999999995E-7,6.0000000000000002E-5]
["Crude tanker80,000–119,999 dwt","Crude tanker","80,000–119,999 dwt",5.9000000000000007E-3,1.9999999999999999E-6,8.0000000000000007E-5]
["Crude tanker60,000–79,999 dwt","Crude tanker","60,000–79,999 dwt",7.4999999999999997E-3,1.9999999999999999E-6,1.02E-4]
["Crude tanker10,000–59,999 dwt","Crude tanker","10,000–59,999 dwt",9.1000000000000004E-3,3.0000000000000001E-6,1.2400000000000001E-4]
["Crude tanker0–9999 dwt","Crude tanker","0–9999 dwt",3.3299999999999996E-2,1.0000000000000001E-5,4.5300000000000001E-4]
["Crude tankerAverage","Crude tanker","Average",4.5100000000000001E-3,9.9999999999999995E-7,6.0999999999999999E-5]
["Products tanker 60,000+ dwt","Products tanker ","60,000+ dwt",5.7000000000000002E-3,1.9999999999999999E-6,7.7999999999999999E-5]
["Products tanker 20,000–59,999 dwt","Products tanker ","20,000–59,999 dwt",1.03E-2,3.0000000000000001E-6,1.3999999999999999E-4]
["Products tanker 10,000–19,999 dwt","Products tanker ","10,000–19,999 dwt",1.8699999999999998E-2,6.0000000000000002E-6,2.5500000000000002E-4]
["Products tanker 5000–9999 dwt","Products tanker ","5000–9999 dwt",2.92E-2,9.0000000000000002E-6,3.9800000000000002E-4]
["Products tanker 0–4999 dwt","Products tanker ","0–4999 dwt",4.4999999999999998E-2,1.2999999999999999E-5,6.1300000000000005E-4]
["Products tanker Average","Products tanker ","Average",8.9099999999999995E-3,3.0000000000000001E-6,1.21E-4]
["Chemical tanker 20,000+ dwt","Chemical tanker ","20,000+ dwt",8.4000000000000012E-3,3.0000000000000001E-6,1.1400000000000001E-4]
["Chemical tanker 10,000–19,999 dwt","Chemical tanker ","10,000–19,999 dwt",1.0800000000000001E-2,3.0000000000000001E-6,1.47E-4]
["Chemical tanker 5000–9999 dwt","Chemical tanker ","5000–9999 dwt",1.5099999999999999E-2,5.0000000000000004E-6,2.0599999999999999E-4]
["Chemical tanker 0–4999 dwt","Chemical tanker ","0–4999 dwt",2.2200000000000001E-2,6.9999999999999999E-6,3.0200000000000002E-4]
["Chemical tanker Average","Chemical tanker ","Average",1.018E-2,3.0000000000000001E-6,1.3899999999999999E-4]
["LNG tanker200,000+ m3","LNG tanker","200,000+ m3",9.300000000000001E-3,3.0000000000000001E-6,1.27E-4]
["LNG tanker0–199,999 m3","LNG tanker","0–199,999 m3",1.4500000000000001E-2,3.9999999999999998E-6,1.9699999999999999E-4]
["LNG tankerAverage","LNG tanker","Average",1.1390000000000001E-2,3.0000000000000001E-6,1.55E-4]
["LPG Tanker50,000+ m3","LPG Tanker","50,000+ m3",8.9999999999999993E-3,3.0000000000000001E-6,1.2300000000000001E-4]
["LPG Tanker0–49,999 m3","LPG Tanker","0–49,999 m3",4.3499999999999997E-2,1.2999999999999999E-5,5.9199999999999997E-4]
["LPG TankerAverage","LPG Tanker","Average",1.0240000000000001E-2,3.0000000000000001E-6,1.3899999999999999E-4]
["Bulk carrier200,000+ dwt","Bulk carrier","200,000+ dwt",2.5000000000000001E-3,9.9999999999999995E-7,3.4E-5]
["Bulk carrier100,000–199,999 dwt","Bulk carrier","100,000–199,999 dwt",3.0000000000000001E-3,9.9999999999999995E-7,4.1E-5]
["Bulk carrier60,000–99,999 dwt","Bulk carrier","60,000–99,999 dwt",4.0999999999999995E-3,9.9999999999999995E-7,5.5999999999999999E-5]
["Bulk carrier35,000–59,999 dwt","Bulk carrier","35,000–59,999 dwt",5.7000000000000002E-3,1.9999999999999999E-6,7.7999999999999999E-5]
["Bulk carrier10,000–34,999 dwt","Bulk carrier","10,000–34,999 dwt",7.9000000000000008E-3,1.9999999999999999E-6,1.08E-4]
["Bulk carrier0–9999 dwt","Bulk carrier","0–9999 dwt",2.92E-2,9.0000000000000002E-6,3.9800000000000002E-4]
["Bulk carrierAverage","Bulk carrier","Average",3.49E-3,9.9999999999999995E-7,4.8000000000000001E-5]
["General cargo10,000+ dwt","General cargo","10,000+ dwt",1.1900000000000001E-2,3.9999999999999998E-6,1.6200000000000001E-4]
["General cargo5000–9999 dwt","General cargo","5000–9999 dwt",1.5800000000000002E-2,5.0000000000000004E-6,2.1499999999999999E-4]
["General cargo0–4999 dwt","General cargo","0–4999 dwt",1.3900000000000001E-2,3.9999999999999998E-6,1.8900000000000001E-4]
["General cargo10,000+ dwt 100+ TEU","General cargo","10,000+ dwt 100+ TEU",1.0999999999999999E-2,3.0000000000000001E-6,1.4999999999999999E-4]
["General cargo5000–9999 dwt 100+ TEU","General cargo","5000–9999 dwt 100+ TEU",1.7500000000000002E-2,5.0000000000000004E-6,2.3800000000000001E-4]
["General cargo0–4999 dwt 100+ TEU","General cargo","0–4999 dwt 100+ TEU",1.9800000000000002E-2,6.0000000000000002E-6,2.7E-4]
["General cargoAverage","General cargo","Average",1.3050000000000001E-2,3.9999999999999998E-6,1.7799999999999999E-4]
["Container ship8000+ TEU","Container ship","8000+ TEU",1.2500000000000001E-2,3.9999999999999998E-6,1.7000000000000001E-4]
["Container ship5000–7999 TEU","Container ship","5000–7999 TEU",1.66E-2,5.0000000000000004E-6,2.2599999999999999E-4]
["Container ship3000–4999 TEU","Container ship","3000–4999 TEU",1.66E-2,5.0000000000000004E-6,2.2599999999999999E-4]
["Container ship2000–2999 TEU","Container ship","2000–2999 TEU",0.02,6.0000000000000002E-6,2.72E-4]
[{"$f":"B236&C236","v":"Container ship1000–1999 TEU"},"Container ship","1000–1999 TEU",3.2100000000000004E-2,1.0000000000000001E-5,4.37E-4]
["Container ship0–999 TEU","Container ship","0–999 TEU",3.6299999999999999E-2,1.1E-5,4.9399999999999997E-4]
["Container shipAverage","Container ship","Average",1.592E-2,5.0000000000000004E-6,2.1699999999999999E-4]
["Roro-Ferry2000+ LM","Roro-Ferry","2000+ LM",4.9500000000000002E-2,1.5E-5,6.7400000000000001E-4]
["Roro-Ferry0–1999 LM","Roro-Ferry","0–1999 LM",6.0299999999999999E-2,1.8E-5,8.2100000000000001E-4]
["Roro-FerryAverage","Roro-Ferry","Average",5.0950000000000002E-2,1.5E-5,6.9399999999999996E-4]
["Large RoPax ferryAverage","Large RoPax ferry","Average","0.3715","0.000111","0.005059"]
["Refrigerated cargoAverage","Refrigerated cargo","Average",1.29E-2,3.9999999999999998E-6,1.76E-4]
[]
[]
["Vans Diesel","Vans Petrol","HGV Rigid","HGV Articulated","HGV refrigerated Rigid","HGV refrigerated Articulated","Rail","Crude tanker","Products tanker ","Chemical tanker ","LNG tanker","LPG Tanker","Bulk carrier","General cargo","Container ship","Roro-Ferry","Large RoPax ferry","Refrigerated cargo"]
["up to 1.305 tonnes","up to 1.305 tonnes",">3.5 - 7.5 tonnes",">3.5-33 tones","3.5-7.5 tones",">3.5-33 tones","Freight train","200,000+ dwt","60,000+ dwt","20,000+ dwt","200,000+ m3","50,000+ m3","200,000+ dwt","10,000+ dwt","8000+ TEU","2000+ LM","Average","Average"]
["1.305 to 1.74 tonnes","1.305 to 1.74 tonnes",">7.5 tonnes-17 tonnes"," >33 tones","7.5-17 tones"," >33 tones",null,"120,000–199,999 dwt","20,000–59,999 dwt","10,000–19,999 dwt","0–199,999 m3","0–49,999 m3","100,000–199,999 dwt","5000–9999 dwt","5000–7999 TEU","0–1999 LM"]
["1.74 to 3.5 tonnes","1.74 to 3.5 tonnes",">17 tonnes","All HGVs",">17 tones","All HGVs",null,"80,000–119,999 dwt","10,000–19,999 dwt","5000–9999 dwt","Average","Average","60,000–99,999 dwt","0–4999 dwt","3000–4999 TEU","Average"]
["Average (up to 3.5 tonnes)","Average (up to 3.5 tonnes)","All rigids",null,"All rigids",null,null,"60,000–79,999 dwt","5000–9999 dwt","0–4999 dwt",null,null,"35,000–59,999 dwt","10,000+ dwt 100+ TEU","2000–2999 TEU"]
[null,null,null,null,null,null,null,"10,000–59,999 dwt","0–4999 dwt","Average",null,null,"10,000–34,999 dwt","5000–9999 dwt 100+ TEU","1000–1999 TEU"]
[null,null,null,null,null,null,null,"0–9999 dwt","Average",null,null,null,"0–9999 dwt","0–4999 dwt 100+ TEU","0–999 TEU"]
[null,null,null,null,null,null,null,"Average",null,null,null,null,"Average","Average","Average"]
[]
[]
[]
[]
["List"]
["Vans Diesel"]
["Vans Petrol"]
["HGV Rigid"]
["HGV Articulated"]
["HGV refrigerated Rigid"]
["HGV refrigerated Articulated"]
["Rail"]
["Crude tanker"]
["Products tanker "]
["Chemical tanker "]
["LNG tanker"]
["LPG Tanker"]
["Bulk carrier"]
["General cargo"]
["Container ship"]
["Roro-Ferry"]
["Large RoPax ferry"]
["Refrigerated cargo"]

{"sheet":"unit conversion","index":32,"n_rows":270,"n_cols":7,"rows_kept":270,"cut":false,"hidden":true,"merged":[]}
[null,"FuelID","IPCC Fuel ","Unit","Gg/Unit","GJ/Gg"]
[{"$f":"C2&D2","v":"Crude Oil TOE"},1,"Crude Oil ","TOE",1,41.868000000000002,{"$f":"IF(D2=\"TOE\",41.868,IF(D2=\"mmBTU\",1.05505585262,F2))","v":41.868000000000002}]
[{"$f":"C3&D3","v":"Crude Oil mmBTU"},null,"Crude Oil ","mmBTU",1,1.05505585262,{"$f":"IF(D3=\"TOE\",41.868,IF(D3=\"mmBTU\",1.05505585262,F3))","v":1.05505585262}]
["Crude Oil ton",null,"Crude Oil ","ton",1E-3,42300,42300]
["OrimulsionTOE",2,"Orimulsion","TOE",1,41.868000000000002,41.868000000000002]
["Orimulsiontriệu m3",null,"Orimulsion","triệu m3","",27500,27500]
["Orimulsion1000 lit",null,"Orimulsion","1000 lit","",27500,27500]
["OrimulsionmmBTU",null,"Orimulsion","mmBTU",1,1.05505585262,1.05505585262]
["Orimulsionton",null,"Orimulsion","ton",1E-3,27500,27500]
["Natural Gas Liquids TOE",3,"Natural Gas Liquids ","TOE",1,41.868000000000002,41.868000000000002]
["Natural Gas Liquids triệu m3",null,"Natural Gas Liquids ","triệu m3","",44200,44200]
["Natural Gas Liquids 1000 lit",null,"Natural Gas Liquids ","1000 lit","",44200,44200]
["Natural Gas Liquids mmBTU",null,"Natural Gas Liquids ","mmBTU",1,1.05505585262,1.05505585262]
["Natural Gas Liquids ton",null,"Natural Gas Liquids ","ton",1E-3,44200,44200]
["Motor Gasoline TOE",4,"Motor Gasoline ","TOE",1,41.868000000000002,41.868000000000002]
["Motor Gasoline triệu m3",null,"Motor Gasoline ","triệu m3","",44300,44300]
["Motor Gasoline 1000 lit",null,"Motor Gasoline ","1000 lit","",44300,44300]
["Motor Gasoline mmBTU",null,"Motor Gasoline ","mmBTU",1,1.05505585262,1.05505585262]
["Motor Gasoline ton",null,"Motor Gasoline ","ton",1E-3,44300,44300]
["Aviation Gasoline TOE",5,"Aviation Gasoline ","TOE",1,41.868000000000002,41.868000000000002]
["Aviation Gasoline triệu m3",null,"Aviation Gasoline ","triệu m3","",44300,44300]
["Aviation Gasoline 1000 lit",null,"Aviation Gasoline ","1000 lit","",44300,44300]
["Aviation Gasoline mmBTU",null,"Aviation Gasoline ","mmBTU",1,1.05505585262,1.05505585262]
["Aviation Gasoline ton",null,"Aviation Gasoline ","ton",1E-3,44300,44300]
["Jet GasolineTOE",6,"Jet Gasoline","TOE",1,41.868000000000002,41.868000000000002]
["Jet Gasolinetriệu m3",null,"Jet Gasoline","triệu m3","",44300,44300]
["Jet Gasoline1000 lit",null,"Jet Gasoline","1000 lit","",44300,44300]
["Jet GasolinemmBTU",null,"Jet Gasoline","mmBTU",1,1.05505585262,1.05505585262]
["Jet Gasolineton",null,"Jet Gasoline","ton",1E-3,44300,44300]
["Jet KeroseneTOE",7,"Jet Kerosene","TOE",1,41.868000000000002,41.868000000000002]
["Jet Kerosenetriệu m3",null,"Jet Kerosene","triệu m3","",44100,44100]
["Jet Kerosene1000 lit",null,"Jet Kerosene","1000 lit","",44100,44100]
["Jet KerosenemmBTU",null,"Jet Kerosene","mmBTU",1,1.05505585262,1.05505585262]
["Jet Keroseneton",null,"Jet Kerosene","ton",1E-3,44100,44100]
["Other Kerosene TOE",8,"Other Kerosene ","TOE",1,41.868000000000002,41.868000000000002]
["Other Kerosene triệu m3",null,"Other Kerosene ","triệu m3","",43800,43800]
["Other Kerosene 1000 lit",null,"Other Kerosene ","1000 lit","",43800,43800]
["Other Kerosene mmBTU",null,"Other Kerosene ","mmBTU",1,1.05505585262,1.05505585262]
["Other Kerosene ton",null,"Other Kerosene ","ton",1E-3,43800,43800]
["Shale Oil TOE",9,"Shale Oil ","TOE",1,41.868000000000002,41.868000000000002]
["Shale Oil triệu m3",null,"Shale Oil ","triệu m3","",38100,38100]
["Shale Oil 1000 lit",null,"Shale Oil ","1000 lit","",38100,38100]
["Shale Oil mmBTU",null,"Shale Oil ","mmBTU",1,1.05505585262,1.05505585262]
["Shale Oil ton",null,"Shale Oil ","ton",1E-3,38100,38100]
["Gas/Diesel Oil TOE",10,"Gas/Diesel Oil ","TOE",1,41.868000000000002,41.868000000000002]
["Gas/Diesel Oil triệu m3",null,"Gas/Diesel Oil ","triệu m3","",43000,43000]
["Gas/Diesel Oil 1000 lit",null,"Gas/Diesel Oil ","1000 lit","",43000,43000]
["Gas/Diesel Oil mmBTU",null,"Gas/Diesel Oil ","mmBTU",1,1.05505585262,1.05505585262]
["Gas/Diesel Oil ton",null,"Gas/Diesel Oil ","ton",1E-3,43000,43000]
["Residual Fuel Oil TOE",11,"Residual Fuel Oil ","TOE",1,41.868000000000002,41.868000000000002]
["Residual Fuel Oil triệu m3",null,"Residual Fuel Oil ","triệu m3","",40400,40400]
["Residual Fuel Oil 1000 lit",null,"Residual Fuel Oil ","1000 lit","",40400,40400]
["Residual Fuel Oil mmBTU",null,"Residual Fuel Oil ","mmBTU",1,1.05505585262,1.05505585262]
["Residual Fuel Oil ton",null,"Residual Fuel Oil ","ton",1E-3,40400,40400]
["Liquefied Petroleum Gases TOE",12,"Liquefied Petroleum Gases ","TOE",1,41.868000000000002,41.868000000000002]
["Liquefied Petroleum Gases triệu m3",null,"Liquefied Petroleum Gases ","triệu m3","",47299.999999999993,47299.999999999993]
["Liquefied Petroleum Gases 1000 lit",null,"Liquefied Petroleum Gases ","1000 lit","",47299.999999999993,47299.999999999993]
["Liquefied Petroleum Gases mmBTU",null,"Liquefied Petroleum Gases ","mmBTU",1,1.05505585262,1.05505585262]
["Liquefied Petroleum Gases ton",null,"Liquefied Petroleum Gases ","ton",1E-3,47299.999999999993,47299.999999999993]
["Ethane TOE",13,"Ethane ","TOE",1,41.868000000000002,41.868000000000002]
["Ethane triệu m3",null,"Ethane ","triệu m3","",46400,46400]
["Ethane 1000 lit",null,"Ethane ","1000 lit","",46400,46400]
["Ethane mmBTU",null,"Ethane ","mmBTU",1,1.05505585262,1.05505585262]
["Ethane ton",null,"Ethane ","ton",1E-3,46400,46400]
[{"$f":"C65&D65","v":"Naphtha TOE"},14,"Naphtha ","TOE",1,41.868000000000002,{"$f":"IF(D65=\"TOE\",41.868,IF(D65=\"mmBTU\",1.05505585262,F65))","v":41.868000000000002}]
["Naphtha triệu m3",null,"Naphtha ","triệu m3","",44500,44500]
["Naphtha 1000 lit",null,"Naphtha ","1000 lit","",44500,44500]
["Naphtha mmBTU",null,"Naphtha ","mmBTU",1,1.05505585262,1.05505585262]
["Naphtha ton",null,"Naphtha ","ton",1E-3,44500,44500]
["Bitumen TOE",15,"Bitumen ","TOE",1,41.868000000000002,41.868000000000002]
["Bitumen triệu m3",null,"Bitumen ","triệu m3","",40200,40200]
["Bitumen 1000 lit",null,"Bitumen ","1000 lit","",40200,40200]
["Bitumen mmBTU",null,"Bitumen ","mmBTU",1,1.05505585262,1.05505585262]
["Bitumen ton",null,"Bitumen ","ton",1E-3,40200,40200]
["Lubricants TOE",16,"Lubricants ","TOE",1,41.868000000000002,41.868000000000002]
["Lubricants triệu m3",null,"Lubricants ","triệu m3","",40200,40200]
["Lubricants 1000 lit",null,"Lubricants ","1000 lit","",40200,40200]
["Lubricants mmBTU",null,"Lubricants ","mmBTU",1,1.05505585262,1.05505585262]
["Lubricants ton",null,"Lubricants ","ton",1E-3,40200,40200]
["Petroleum CokeTOE",17,"Petroleum Coke","TOE",1,41.868000000000002,41.868000000000002]
["Petroleum Coketriệu m3",null,"Petroleum Coke","triệu m3","",32500,32500]
["Petroleum Coke1000 lit",null,"Petroleum Coke","1000 lit","",32500,32500]
["Petroleum CokemmBTU",null,"Petroleum Coke","mmBTU",1,1.05505585262,1.05505585262]
["Petroleum Coketon",null,"Petroleum Coke","ton",1E-3,32500,32500]
["Refinery Feedstocks TOE",18,"Refinery Feedstocks ","TOE",1,41.868000000000002,41.868000000000002]
["Refinery Feedstocks triệu m3",null,"Refinery Feedstocks ","triệu m3","",43000,43000]
["Refinery Feedstocks 1000 lit",null,"Refinery Feedstocks ","1000 lit","",43000,43000]
["Refinery Feedstocks mmBTU",null,"Refinery Feedstocks ","mmBTU",1,1.05505585262,1.05505585262]
["Refinery Feedstocks ton",null,"Refinery Feedstocks ","ton",1E-3,43000,43000]
["Refinery Gas TOE",19,"Refinery Gas ","TOE",1,41.868000000000002,41.868000000000002]
["Refinery Gas triệu m3",null,"Refinery Gas ","triệu m3","",49500,49500]
["Refinery Gas 1000 lit",null,"Refinery Gas ","1000 lit","",49500,49500]
["Refinery Gas mmBTU",null,"Refinery Gas ","mmBTU",1,1.05505585262,1.05505585262]
["Refinery Gas ton",null,"Refinery Gas ","ton",1E-3,49500,49500]
["Paraffin Waxes TOE",20,"Paraffin Waxes ","TOE",1,41.868000000000002,41.868000000000002]
["Paraffin Waxes triệu m3",null,"Paraffin Waxes ","triệu m3","",40200,40200]
["Paraffin Waxes 1000 lit",null,"Paraffin Waxes ","1000 lit","",40200,40200]
["Paraffin Waxes mmBTU",null,"Paraffin Waxes ","mmBTU",1,1.05505585262,1.05505585262]
["Paraffin Waxes ton",null,"Paraffin Waxes ","ton",1E-3,40200,40200]
["White Spirit and SBP TOE",21,"White Spirit and SBP ","TOE",1,41.868000000000002,41.868000000000002]
["White Spirit and SBP triệu m3",null,"White Spirit and SBP ","triệu m3","",40200,40200]
["White Spirit and SBP 1000 lit",null,"White Spirit and SBP ","1000 lit","",40200,40200]
["White Spirit and SBP mmBTU",null,"White Spirit and SBP ","mmBTU",1,1.05505585262,1.05505585262]
["White Spirit and SBP ton",null,"White Spirit and SBP ","ton",1E-3,40200,40200]
["Other Petroleum Products TOE",22,"Other Petroleum Products ","TOE",1,41.868000000000002,41.868000000000002]
["Other Petroleum Products triệu m3",null,"Other Petroleum Products ","triệu m3","",40200,40200]
["Other Petroleum Products 1000 lit",null,"Other Petroleum Products ","1000 lit","",40200,40200]
["Other Petroleum Products mmBTU",null,"Other Petroleum Products ","mmBTU",1,1.05505585262,1.05505585262]
["Other Petroleum Products ton",null,"Other Petroleum Products ","ton",1E-3,40200,40200]
["AnthraciteTOE",23,"Anthracite","TOE",1,41.868000000000002,41.868000000000002]
["Anthracitetriệu m3",null,"Anthracite","triệu m3","",26699.999999999996,26699.999999999996]
["Anthracite1000 lit",null,"Anthracite","1000 lit","",26699.999999999996,26699.999999999996]
["AnthracitemmBTU",null,"Anthracite","mmBTU",1,1.05505585262,1.05505585262]
["Anthraciteton",null,"Anthracite","ton",1E-3,26699.999999999996,26699.999999999996]
["Coking CoalTOE",24,"Coking Coal","TOE",1,41.868000000000002,41.868000000000002]
["Coking Coaltriệu m3",null,"Coking Coal","triệu m3","",28200,28200]
["Coking Coal1000 lit",null,"Coking Coal","1000 lit","",28200,28200]
["Coking CoalmmBTU",null,"Coking Coal","mmBTU",1,1.05505585262,1.05505585262]
["Coking Coalton",null,"Coking Coal","ton",1E-3,28200,28200]
["Other Bituminous CoalTOE",25,"Other Bituminous Coal","TOE",1,41.868000000000002,41.868000000000002]
["Other Bituminous Coaltriệu m3",null,"Other Bituminous Coal","triệu m3","",25800,25800]
["Other Bituminous Coal1000 lit",null,"Other Bituminous Coal","1000 lit","",25800,25800]
["Other Bituminous CoalmmBTU",null,"Other Bituminous Coal","mmBTU",1,1.05505585262,1.05505585262]
["Other Bituminous Coalton",null,"Other Bituminous Coal","ton",1E-3,25800,25800]
["Sub-Bituminous CoalTOE",26,"Sub-Bituminous Coal","TOE",1,41.868000000000002,41.868000000000002]
["Sub-Bituminous Coaltriệu m3",null,"Sub-Bituminous Coal","triệu m3","",18900,18900]
["Sub-Bituminous Coal1000 lit",null,"Sub-Bituminous Coal","1000 lit","",18900,18900]
["Sub-Bituminous CoalmmBTU",null,"Sub-Bituminous Coal","mmBTU",1,1.05505585262,1.05505585262]
[{"$f":"C129&D129","v":"Sub-Bituminous Coalton"},null,"Sub-Bituminous Coal","ton",1E-3,18900,{"$f":"IF(D129=\"TOE\",41.868,IF(D129=\"mmBTU\",1.05505585262,F129))","v":18900}]
["LigniteTOE",27,"Lignite","TOE",1,41.868000000000002,41.868000000000002]
["Lignitetriệu m3",null,"Lignite","triệu m3","",11900,11900]
["Lignite1000 lit",null,"Lignite","1000 lit","",11900,11900]
["LignitemmBTU",null,"Lignite","mmBTU",1,1.05505585262,1.05505585262]
["Ligniteton",null,"Lignite","ton",1E-3,11900,11900]
["Oil Shale and Tar Sands TOE",28,"Oil Shale and Tar Sands ","TOE",1,41.868000000000002,41.868000000000002]
["Oil Shale and Tar Sands triệu m3",null,"Oil Shale and Tar Sands ","triệu m3","",8900,8900]
["Oil Shale and Tar Sands 1000 lit",null,"Oil Shale and Tar Sands ","1000 lit","",8900,8900]
["Oil Shale and Tar Sands mmBTU",null,"Oil Shale and Tar Sands ","mmBTU",1,1.05505585262,1.05505585262]
["Oil Shale and Tar Sands ton",null,"Oil Shale and Tar Sands ","ton",1E-3,8900,8900]
["Brown Coal Briquettes TOE",29,"Brown Coal Briquettes ","TOE",1,41.868000000000002,41.868000000000002]
["Brown Coal Briquettes triệu m3",null,"Brown Coal Briquettes ","triệu m3","",20700,20700]
["Brown Coal Briquettes 1000 lit",null,"Brown Coal Briquettes ","1000 lit","",20700,20700]
["Brown Coal Briquettes mmBTU",null,"Brown Coal Briquettes ","mmBTU",1,1.05505585262,1.05505585262]
["Brown Coal Briquettes ton",null,"Brown Coal Briquettes ","ton",1E-3,20700,20700]
["Patent FuelTOE",30,"Patent Fuel","TOE",1,41.868000000000002,41.868000000000002]
["Patent Fueltriệu m3",null,"Patent Fuel","triệu m3","",20700,20700]
["Patent Fuel1000 lit",null,"Patent Fuel","1000 lit","",20700,20700]
["Patent FuelmmBTU",null,"Patent Fuel","mmBTU",1,1.05505585262,1.05505585262]
["Patent Fuelton",null,"Patent Fuel","ton",1E-3,20700,20700]
["Coke Oven Coke and Lignite CokeTOE",31,"Coke Oven Coke and Lignite Coke","TOE",1,41.868000000000002,41.868000000000002]
["Coke Oven Coke and Lignite Coketriệu m3",null,"Coke Oven Coke and Lignite Coke","triệu m3","",28200,28200]
["Coke Oven Coke and Lignite Coke1000 lit",null,"Coke Oven Coke and Lignite Coke","1000 lit","",28200,28200]
["Coke Oven Coke and Lignite CokemmBTU",null,"Coke Oven Coke and Lignite Coke","mmBTU",1,1.05505585262,1.05505585262]
["Coke Oven Coke and Lignite Coketon",null,"Coke Oven Coke and Lignite Coke","ton",1E-3,28200,28200]
["Gas CokeTOE",32,"Gas Coke","TOE",1,41.868000000000002,41.868000000000002]
["Gas Coketriệu m3",null,"Gas Coke","triệu m3","",28200,28200]
["Gas Coke1000 lit",null,"Gas Coke","1000 lit","",28200,28200]
["Gas CokemmBTU",null,"Gas Coke","mmBTU",1,1.05505585262,1.05505585262]
["Gas Coketon",null,"Gas Coke","ton",1E-3,28200,28200]
["Coal Tar TOE",33,"Coal Tar ","TOE",1,41.868000000000002,41.868000000000002]
["Coal Tar triệu m3",null,"Coal Tar ","triệu m3","",28000,28000]
["Coal Tar 1000 lit",null,"Coal Tar ","1000 lit","",28000,28000]
["Coal Tar mmBTU",null,"Coal Tar ","mmBTU",1,1.05505585262,1.05505585262]
["Coal Tar ton",null,"Coal Tar ","ton",1E-3,28000,28000]
["Gas Works Gas TOE",34,"Gas Works Gas ","TOE",1,41.868000000000002,41.868000000000002]
["Gas Works Gas triệu m3",null,"Gas Works Gas ","triệu m3","",38700.000000000007,38700.000000000007]
["Gas Works Gas 1000 lit",null,"Gas Works Gas ","1000 lit","",38700.000000000007,38700.000000000007]
["Gas Works Gas mmBTU",null,"Gas Works Gas ","mmBTU",1,1.05505585262,1.05505585262]
["Gas Works Gas ton",null,"Gas Works Gas ","ton",1E-3,38700.000000000007,38700.000000000007]
["Coke Oven Gas TOE",35,"Coke Oven Gas ","TOE",1,41.868000000000002,41.868000000000002]
["Coke Oven Gas triệu m3",null,"Coke Oven Gas ","triệu m3","",38700.000000000007,38700.000000000007]
["Coke Oven Gas 1000 lit",null,"Coke Oven Gas ","1000 lit","",38700.000000000007,38700.000000000007]
["Coke Oven Gas mmBTU",null,"Coke Oven Gas ","mmBTU",1,1.05505585262,1.05505585262]
["Coke Oven Gas ton",null,"Coke Oven Gas ","ton",1E-3,38700.000000000007,38700.000000000007]
["Blast Furnace Gas TOE",36,"Blast Furnace Gas ","TOE",1,41.868000000000002,41.868000000000002]
["Blast Furnace Gas triệu m3",null,"Blast Furnace Gas ","triệu m3","",2470.0000000000005,2470.0000000000005]
["Blast Furnace Gas 1000 lit",null,"Blast Furnace Gas ","1000 lit","",2470.0000000000005,2470.0000000000005]
["Blast Furnace Gas mmBTU",null,"Blast Furnace Gas ","mmBTU",1,1.05505585262,1.05505585262]
["Blast Furnace Gas ton",null,"Blast Furnace Gas ","ton",1E-3,2470.0000000000005,2470.0000000000005]
["Oxygen Steel Furnace Gas TOE",37,"Oxygen Steel Furnace Gas ","TOE",1,41.868000000000002,41.868000000000002]
["Oxygen Steel Furnace Gas triệu m3",null,"Oxygen Steel Furnace Gas ","triệu m3","",7059.9999999999991,7059.9999999999991]
["Oxygen Steel Furnace Gas 1000 lit",null,"Oxygen Steel Furnace Gas ","1000 lit","",7059.9999999999991,7059.9999999999991]
["Oxygen Steel Furnace Gas mmBTU",null,"Oxygen Steel Furnace Gas ","mmBTU",1,1.05505585262,1.05505585262]
["Oxygen Steel Furnace Gas ton",null,"Oxygen Steel Furnace Gas ","ton",1E-3,7059.9999999999991,7059.9999999999991]
["Natural Gas TOE",38,"Natural Gas ","TOE",1,41.868000000000002,41.868000000000002]
["Natural Gas triệu m3",null,"Natural Gas ","triệu m3","",48000,48000]
["Natural Gas 1000 lit",null,"Natural Gas ","1000 lit","",48000,48000]
["Natural Gas mmBTU",null,"Natural Gas ","mmBTU",1,1.05505585262,1.05505585262]
["Natural Gas ton",null,"Natural Gas ","ton",1E-3,48000,48000]
["Municipal Wastes (non-biomass fraction) TOE",39,"Municipal Wastes (non-biomass fraction) ","TOE",1,41.868000000000002,41.868000000000002]
["Municipal Wastes (non-biomass fraction) triệu m3",null,"Municipal Wastes (non-biomass fraction) ","triệu m3","",10000,10000]
["Municipal Wastes (non-biomass fraction) 1000 lit",null,"Municipal Wastes (non-biomass fraction) ","1000 lit","",10000,10000]
[{"$f":"C193&D193","v":"Municipal Wastes (non-biomass fraction) mmBTU"},null,"Municipal Wastes (non-biomass fraction) ","mmBTU",1,1.05505585262,{"$f":"IF(D193=\"TOE\",41.868,IF(D193=\"mmBTU\",1.05505585262,F193))","v":1.05505585262}]
["Municipal Wastes (non-biomass fraction) ton",null,"Municipal Wastes (non-biomass fraction) ","ton",1E-3,10000,10000]
["Industrial WastesTOE",40,"Industrial Wastes","TOE",1,41.868000000000002,41.868000000000002]
["Industrial Wastestriệu m3",null,"Industrial Wastes","triệu m3","",0,0]
["Industrial Wastes1000 lit",null,"Industrial Wastes","1000 lit","",0,0]
["Industrial WastesmmBTU",null,"Industrial Wastes","mmBTU",1,1.05505585262,1.05505585262]
["Industrial Wasteston",null,"Industrial Wastes","ton",1E-3,0,0]
["Waste Oils TOE",41,"Waste Oils ","TOE",1,41.868000000000002,41.868000000000002]
["Waste Oils triệu m3",null,"Waste Oils ","triệu m3","",40200,40200]
["Waste Oils 1000 lit",null,"Waste Oils ","1000 lit","",40200,40200]
["Waste Oils mmBTU",null,"Waste Oils ","mmBTU",1,1.05505585262,1.05505585262]
["Waste Oils ton",null,"Waste Oils ","ton",1E-3,40200,40200]
["Peat TOE",42,"Peat ","TOE",1,41.868000000000002,41.868000000000002]
["Peat triệu m3",null,"Peat ","triệu m3","",9760,9760]
["Peat 1000 lit",null,"Peat ","1000 lit","",9760,9760]
["Peat mmBTU",null,"Peat ","mmBTU",1,1.05505585262,1.05505585262]
["Peat ton",null,"Peat ","ton",1E-3,9760,9760]
["Wood / Wood Waste TOE",43,"Wood / Wood Waste ","TOE",1,41.868000000000002,41.868000000000002]
["Wood / Wood Waste triệu m3",null,"Wood / Wood Waste ","triệu m3","",15600,15600]
["Wood / Wood Waste 1000 lit",null,"Wood / Wood Waste ","1000 lit","",15600,15600]
["Wood / Wood Waste mmBTU",null,"Wood / Wood Waste ","mmBTU",1,1.05505585262,1.05505585262]
["Wood / Wood Waste ton",null,"Wood / Wood Waste ","ton",1E-3,15600,15600]
["Sulphite lyes (Black Liquor) TOE",44,"Sulphite lyes (Black Liquor) ","TOE",1,41.868000000000002,41.868000000000002]
["Sulphite lyes (Black Liquor) triệu m3",null,"Sulphite lyes (Black Liquor) ","triệu m3","",11800.000000000002,11800.000000000002]
["Sulphite lyes (Black Liquor) 1000 lit",null,"Sulphite lyes (Black Liquor) ","1000 lit","",11800.000000000002,11800.000000000002]
["Sulphite lyes (Black Liquor) mmBTU",null,"Sulphite lyes (Black Liquor) ","mmBTU",1,1.05505585262,1.05505585262]
["Sulphite lyes (Black Liquor) ton",null,"Sulphite lyes (Black Liquor) ","ton",1E-3,11800.000000000002,11800.000000000002]
["Other Primary Solid Biomass TOE",45,"Other Primary Solid Biomass ","TOE",1,41.868000000000002,41.868000000000002]
["Other Primary Solid Biomass triệu m3",null,"Other Primary Solid Biomass ","triệu m3","",11600,11600]
["Other Primary Solid Biomass 1000 lit",null,"Other Primary Solid Biomass ","1000 lit","",11600,11600]
["Other Primary Solid Biomass mmBTU",null,"Other Primary Solid Biomass ","mmBTU",1,1.05505585262,1.05505585262]
["Other Primary Solid Biomass ton",null,"Other Primary Solid Biomass ","ton",1E-3,11600,11600]
["Charcoal TOE",46,"Charcoal ","TOE",1,41.868000000000002,41.868000000000002]
["Charcoal triệu m3",null,"Charcoal ","triệu m3","",29500,29500]
["Charcoal 1000 lit",null,"Charcoal ","1000 lit","",29500,29500]
["Charcoal mmBTU",null,"Charcoal ","mmBTU",1,1.05505585262,1.05505585262]
["Charcoal ton",null,"Charcoal ","ton",1E-3,29500,29500]
["BiogasolineTOE",47,"Biogasoline","TOE",1,41.868000000000002,41.868000000000002]
["Biogasolinetriệu m3",null,"Biogasoline","triệu m3","",27000,27000]
["Biogasoline1000 lit",null,"Biogasoline","1000 lit","",27000,27000]
["BiogasolinemmBTU",null,"Biogasoline","mmBTU",1,1.05505585262,1.05505585262]
["Biogasolineton",null,"Biogasoline","ton",1E-3,27000,27000]
["Biodiesels  TOE",48,"Biodiesels  ","TOE",1,41.868000000000002,41.868000000000002]
["Biodiesels  triệu m3",null,"Biodiesels  ","triệu m3","",27000,27000]
["Biodiesels  1000 lit",null,"Biodiesels  ","1000 lit","",27000,27000]
["Biodiesels  mmBTU",null,"Biodiesels  ","mmBTU",1,1.05505585262,1.05505585262]
["Biodiesels  ton",null,"Biodiesels  ","ton",1E-3,27000,27000]
["Biodiesels  TOE",null,"Biodiesels  ","TOE",1,41.868000000000002,41.868000000000002]
["Other Liquid Biofuels triệu m3",49,"Other Liquid Biofuels ","triệu m3","",27399.999999999996,27399.999999999996]
["Other Liquid Biofuels 1000 lit",null,"Other Liquid Biofuels ","1000 lit","",27399.999999999996,27399.999999999996]
["Other Liquid Biofuels mmBTU",null,"Other Liquid Biofuels ","mmBTU",1,1.05505585262,1.05505585262]
["Other Liquid Biofuels ton",null,"Other Liquid Biofuels ","ton",1E-3,27399.999999999996,27399.999999999996]
["Other Liquid Biofuels TOE",null,"Other Liquid Biofuels ","TOE",1,41.868000000000002,41.868000000000002]
["Landfill Gas triệu m3",50,"Landfill Gas ","triệu m3","",50400,50400]
["Landfill Gas 1000 lit",null,"Landfill Gas ","1000 lit","",50400,50400]
["Landfill Gas mmBTU",null,"Landfill Gas ","mmBTU",1,1.05505585262,1.05505585262]
["Landfill Gas ton",null,"Landfill Gas ","ton",1E-3,50400,50400]
["Landfill Gas TOE",null,"Landfill Gas ","TOE",1,41.868000000000002,41.868000000000002]
["Sludge Gas triệu m3",51,"Sludge Gas ","triệu m3","",50400,50400]
["Sludge Gas 1000 lit",null,"Sludge Gas ","1000 lit","",50400,50400]
["Sludge Gas mmBTU",null,"Sludge Gas ","mmBTU",1,1.05505585262,1.05505585262]
["Sludge Gas ton",null,"Sludge Gas ","ton",1E-3,50400,50400]
["Sludge Gas TOE",null,"Sludge Gas ","TOE",1,41.868000000000002,41.868000000000002]
["Other Biogas triệu m3",52,"Other Biogas ","triệu m3","",50400,50400]
[{"$f":"C257&D257","v":"Other Biogas 1000 lit"},null,"Other Biogas ","1000 lit","",50400,{"$f":"IF(D257=\"TOE\",41.868,IF(D257=\"mmBTU\",1.05505585262,F257))","v":50400}]
["Other Biogas mmBTU",null,"Other Biogas ","mmBTU",1,1.05505585262,1.05505585262]
["Other Biogas ton",null,"Other Biogas ","ton",1E-3,50400,50400]
["Other Biogas TOE",null,"Other Biogas ","TOE",1,41.868000000000002,41.868000000000002]
["Municipal Wastes (biomass fraction) triệu m3",53,"Municipal Wastes (biomass fraction) ","triệu m3","",11600,11600]
["Municipal Wastes (biomass fraction) 1000 lit",null,"Municipal Wastes (biomass fraction) ","1000 lit","",11600,11600]
["Municipal Wastes (biomass fraction) mmBTU",null,"Municipal Wastes (biomass fraction) ","mmBTU",1,1.05505585262,1.05505585262]
["aton",null,"a","ton",1E-3,"100"]
["Municipal Wastes (biomass fraction) TOE",null,"Municipal Wastes (biomass fraction) ","TOE",1,41.868000000000002,41.868000000000002]
["Anthracite Vietnamtriệu m3",59,"Anthracite Vietnam","triệu m3","",23440,23440]
["Waste Heat1000 lit",60,"Waste Heat","1000 lit","",1000000,1000000]
[]
[""]
[""]